Workbook

Sheet زبان زیر ذره‌بین
B2: تاریخ شروع | C2: 1405/07/01 | D2: =MATCH(VALUE(CONCATENATE(LEFT(C2,4),MID(C2,6,2),RIGHT(C2,2))),DATE!B2:B4747,0) -> 2742 | E2: تاریخ شروع رو حتما باید مطابق فرمتی که در راست نوشته شده درج کنین. ماه و روز رو اگه تک رقمی هست، حتما قبلش 0 بذارید. | I2: حالت مرور | K2: عادی | M2: تعداد درس در هفته
B3: تاریخ امروز | C3: =VLOOKUP(TODAY(),DATE!A1:B4747,2,FALSE) -> 14050521 | E3: آذر ماه در کانال تلگرام، طریقه سرعت دادن برای افرادی که عقب هستند و تا کنکور تمام نخواهند کرد را توضیح خواهیم دادیم. تا آن زمان با اکسل جلو بروید. | M3: =VLOOKUP(K2,DATE!$C$2:$D$8,2,FALSE) -> 7 | N3: لطفاً فقط از حالت آهسته استفاده کنید.
B4: تاریخ احتمالی پایان | C4: =MAX(O7:O120) -> 14051101 | E4: تاریخ احتمالی پایان تمام مرورها | F4: =MAX(H7:AD120) -> 14051223 | G4: برای نمایش درست فونت سری B باید نصب شده باشد.
B5: تنظیم شده بر اساس توضیحات ارائه شده در جلد اول کتاب زیر ذره بین (واژگان) | G5: yasdl.com/51348/دانلود-فونت-فارسی-b.html | J5: کانال برنامه ریزی رایگان GeneralEnglishPlan
B6: شماره درس | C6: عنوان | E6: تاریخ شروع هر درس | F6: ماکسیمم ضربدر یک لغت در این درس (ورود عدد بعد از روز هشتم) | G6: نوبت مرور | H6: 1 | I6: 2 | J6: 3 | K6: 4 | L6: 5 | M6: 6 | N6: 7 | O6: 8 | P6: 15 | Q6: 30 | R6: 60 | S6: 9 | T6: 10 | U6: 11 | V6: 12 | W6: 13 | X6: 14 | Y6: 16 | Z6: 17 | AA6: 18 | AB6: 19 | AC6: 20 | AD6: 21
B7: 1 | C7: درس یک | D7: =MATCH(E7,DATE!$B$2:$B$4747,0) -> 2742 | E7: =INDEX(DATE!$B$2:$B$4747,$D$2+B7-1) -> 14050701 | F7: 0 | G7: =IF(MAX(H7:AD7)<$C$3,1,IF(OR(H7=$C$3,I7=$C$3,J7=$C$3,K7=$C$3,L7=$C$3,M7=$C$3,N7=$C$3,O7=$C$3,P7=$C$3,Q7=$C$3,R7=$C$3,S7=$C$3,T7=$C$3,U7=$C$3,V7=$C$3,W7=$C$3,X7=$C$3,Y7=$C$3,Z7=$C$3,AA7=$C$3,AB7=$C$3,AC7=$C$3,AD7=$C$3),0,-1)) -> -1 | H7: =E7 -> 14050701 | I7: =INDEX(DATE!$B$2:$B$4747,$D7+I$6-1) -> 14050702 | J7: =INDEX(DATE!$B$2:$B$4747,$D7+J$6-1) -> 14050703 | K7: =INDEX(DATE!$B$2:$B$4747,$D7+K$6-1) -> 14050704 | L7: =INDEX(DATE!$B$2:$B$4747,$D7+L$6-1) -> 14050705 | M7: =INDEX(DATE!$B$2:$B$4747,$D7+M$6-1) -> 14050706 | N7: =INDEX(DATE!$B$2:$B$4747,$D7+N$6-1) -> 14050707 | O7: =INDEX(DATE!$B$2:$B$4747,$D7+O$6-1) -> 14050708 | P7: =INDEX(DATE!$B$2:$B$4747,$D7+P$6-1) -> 14050715 | ... R7: =INDEX(DATE!$B$2:$B$4747,$D7+R$6-1) -> 14050830 | S7: =IF($F7>S$6-9,INDEX(DATE!$B$2:$B$4747,$D7+S$6-1),"") | T7: =IF($F7>T$6-9,INDEX(DATE!$B$2:$B$4747,$D7+T$6-1),"") | U7: =IF($F7>U$6-9,INDEX(DATE!$B$2:$B$4747,$D7+U$6-1),"") | V7: =IF($F7>V$6-9,INDEX(DATE!$B$2:$B$4747,$D7+V$6-1),"") | W7: =IF($F7>W$6-9,INDEX(DATE!$B$2:$B$4747,$D7+W$6-1),"") | X7: =IF($F7>X$6-9,INDEX(DATE!$B$2:$B$4747,$D7+X$6-1),"") | Y7: =IF($F7>Y$6-9,INDEX(DATE!$B$2:$B$4747,$D7+Y$6-1),"") | Z7: =IF($F7>Z$6-9,INDEX(DATE!$B$2:$B$4747,$D7+Z$6-1),"") | ... AD7: =IF($F7>AD$6-9,INDEX(DATE!$B$2:$B$4747,$D7+AD$6-1),"") | AE7: =SUM(H7<$C$3)+SUM(I7<$C$3)+SUM(J7<$C$3)+SUM(K7<$C$3)+SUM(L7<$C$3)+SUM(M7<$C$3)+SUM(N7<$C$3)+SUM(O7<$C$3)+SUM(P7<$C$3)+SUM(Q7<$C$3)+SUM(R7<$C$3)+SUM(S7<$C$3)+SUM(T7<$C$3)+SUM(U7<$C$3)+SUM(V7<$C$3)+SUM(W7<$C$3)+SUM(X7<$C$3)+SUM(Y7<$C$3)+SUM(Z7<$C$3)+SUM(AA7<$C$3)+SUM(AB7<$C$3)+SUM(AC7<$C$3)+SUM(AD7<$C$3) -> 0 | AF7: =COUNTA(H7:AD7)-COUNTBLANK(H7:AD7) -> 11
B8: 2 | C8: درس دو | D8: =MATCH(E8,DATE!$B$2:$B$4747,0) -> 2743 | E8: =IF($K$2="عادی",INDEX(DATE!$B$2:$B$4747,$D$2+B8-1),IF($K$2="بسیار سریع",INDEX(DATE!$B$2:$B$4747,$D$2+ROUND((B8)/2,0)-1),IF($K$2="بسیار آهسته",INDEX(DATE!$B$2:$B$4747,$D$2+ROUND((B8)*2,0)-1),INDEX(DATE!$B$2:$B$4747,$D$2+(B8-QUOTIENT(B8,$M$3))*2+(IF(($D$2+(B8-QUOTIENT(B8,$M$3))*2)-2=D7,1,0))-2)))) -> 14050702 | F8: 0 | G8: =IF(MAX(H8:AD8)<$C$3,1,IF(OR(H8=$C$3,I8=$C$3,J8=$C$3,K8=$C$3,L8=$C$3,M8=$C$3,N8=$C$3,O8=$C$3,P8=$C$3,Q8=$C$3,R8=$C$3,S8=$C$3,T8=$C$3,U8=$C$3,V8=$C$3,W8=$C$3,X8=$C$3,Y8=$C$3,Z8=$C$3,AA8=$C$3,AB8=$C$3,AC8=$C$3,AD8=$C$3),0,-1)) -> -1 | H8: =E8 -> 14050702 | I8: =INDEX(DATE!$B$2:$B$4747,$D8+I$6-1) -> 14050703 | J8: =INDEX(DATE!$B$2:$B$4747,$D8+J$6-1) -> 14050704 | K8: =INDEX(DATE!$B$2:$B$4747,$D8+K$6-1) -> 14050705 | L8: =INDEX(DATE!$B$2:$B$4747,$D8+L$6-1) -> 14050706 | M8: =INDEX(DATE!$B$2:$B$4747,$D8+M$6-1) -> 14050707 | N8: =INDEX(DATE!$B$2:$B$4747,$D8+N$6-1) -> 14050708 | O8: =INDEX(DATE!$B$2:$B$4747,$D8+O$6-1) -> 14050709 | P8: =INDEX(DATE!$B$2:$B$4747,$D8+P$6-1) -> 14050716 | ... R8: =INDEX(DATE!$B$2:$B$4747,$D8+R$6-1) -> 14050901 | S8: =IF($F8>S$6-9,INDEX(DATE!$B$2:$B$4747,$D8+S$6-1),"") | T8: =IF($F8>T$6-9,INDEX(DATE!$B$2:$B$4747,$D8+T$6-1),"") | U8: =IF($F8>U$6-9,INDEX(DATE!$B$2:$B$4747,$D8+U$6-1),"") | V8: =IF($F8>V$6-9,INDEX(DATE!$B$2:$B$4747,$D8+V$6-1),"") | W8: =IF($F8>W$6-9,INDEX(DATE!$B$2:$B$4747,$D8+W$6-1),"") | X8: =IF($F8>X$6-9,INDEX(DATE!$B$2:$B$4747,$D8+X$6-1),"") | Y8: =IF($F8>Y$6-9,INDEX(DATE!$B$2:$B$4747,$D8+Y$6-1),"") | Z8: =IF($F8>Z$6-9,INDEX(DATE!$B$2:$B$4747,$D8+Z$6-1),"") | ... AD8: =IF($F8>AD$6-9,INDEX(DATE!$B$2:$B$4747,$D8+AD$6-1),"") | AE8: =SUM(H8<$C$3)+SUM(I8<$C$3)+SUM(J8<$C$3)+SUM(K8<$C$3)+SUM(L8<$C$3)+SUM(M8<$C$3)+SUM(N8<$C$3)+SUM(O8<$C$3)+SUM(P8<$C$3)+SUM(Q8<$C$3)+SUM(R8<$C$3)+SUM(S8<$C$3)+SUM(T8<$C$3)+SUM(U8<$C$3)+SUM(V8<$C$3)+SUM(W8<$C$3)+SUM(X8<$C$3)+SUM(Y8<$C$3)+SUM(Z8<$C$3)+SUM(AA8<$C$3)+SUM(AB8<$C$3)+SUM(AC8<$C$3)+SUM(AD8<$C$3) -> 0 | AF8: =COUNTA(H8:AD8)-COUNTBLANK(H8:AD8) -> 11
B9: 3 | C9: درس سه | D9: =MATCH(E9,DATE!$B$2:$B$4747,0) -> 2744 | E9: =IF($K$2="عادی",INDEX(DATE!$B$2:$B$4747,$D$2+B9-1),IF($K$2="بسیار سریع",INDEX(DATE!$B$2:$B$4747,$D$2+ROUND((B9)/2,0)-1),IF($K$2="بسیار آهسته",INDEX(DATE!$B$2:$B$4747,$D$2+ROUND((B9)*2,0)-1),INDEX(DATE!$B$2:$B$4747,$D$2+(B9-QUOTIENT(B9,$M$3))*2+(IF(($D$2+(B9-QUOTIENT(B9,$M$3))*2)-2=D8,1,0))-2)))) -> 14050703 | F9: 0 | G9: =IF(MAX(H9:AD9)<$C$3,1,IF(OR(H9=$C$3,I9=$C$3,J9=$C$3,K9=$C$3,L9=$C$3,M9=$C$3,N9=$C$3,O9=$C$3,P9=$C$3,Q9=$C$3,R9=$C$3,S9=$C$3,T9=$C$3,U9=$C$3,V9=$C$3,W9=$C$3,X9=$C$3,Y9=$C$3,Z9=$C$3,AA9=$C$3,AB9=$C$3,AC9=$C$3,AD9=$C$3),0,-1)) -> -1 | H9: =E9 -> 14050703 | I9: =INDEX(DATE!$B$2:$B$4747,$D9+I$6-1) -> 14050704 | J9: =INDEX(DATE!$B$2:$B$4747,$D9+J$6-1) -> 14050705 | K9: =INDEX(DATE!$B$2:$B$4747,$D9+K$6-1) -> 14050706 | L9: =INDEX(DATE!$B$2:$B$4747,$D9+L$6-1) -> 14050707 | M9: =INDEX(DATE!$B$2:$B$4747,$D9+M$6-1) -> 14050708 | N9: =INDEX(DATE!$B$2:$B$4747,$D9+N$6-1) -> 14050709 | O9: =INDEX(DATE!$B$2:$B$4747,$D9+O$6-1) -> 14050710 | P9: =INDEX(DATE!$B$2:$B$4747,$D9+P$6-1) -> 14050717 | ... R9: =INDEX(DATE!$B$2:$B$4747,$D9+R$6-1) -> 14050902 | S9: =IF($F9>S$6-9,INDEX(DATE!$B$2:$B$4747,$D9+S$6-1),"") | T9: =IF($F9>T$6-9,INDEX(DATE!$B$2:$B$4747,$D9+T$6-1),"") | U9: =IF($F9>U$6-9,INDEX(DATE!$B$2:$B$4747,$D9+U$6-1),"") | V9: =IF($F9>V$6-9,INDEX(DATE!$B$2:$B$4747,$D9+V$6-1),"") | W9: =IF($F9>W$6-9,INDEX(DATE!$B$2:$B$4747,$D9+W$6-1),"") | X9: =IF($F9>X$6-9,INDEX(DATE!$B$2:$B$4747,$D9+X$6-1),"") | Y9: =IF($F9>Y$6-9,INDEX(DATE!$B$2:$B$4747,$D9+Y$6-1),"") | Z9: =IF($F9>Z$6-9,INDEX(DATE!$B$2:$B$4747,$D9+Z$6-1),"") | ... AD9: =IF($F9>AD$6-9,INDEX(DATE!$B$2:$B$4747,$D9+AD$6-1),"") | AE9: =SUM(H9<$C$3)+SUM(I9<$C$3)+SUM(J9<$C$3)+SUM(K9<$C$3)+SUM(L9<$C$3)+SUM(M9<$C$3)+SUM(N9<$C$3)+SUM(O9<$C$3)+SUM(P9<$C$3)+SUM(Q9<$C$3)+SUM(R9<$C$3)+SUM(S9<$C$3)+SUM(T9<$C$3)+SUM(U9<$C$3)+SUM(V9<$C$3)+SUM(W9<$C$3)+SUM(X9<$C$3)+SUM(Y9<$C$3)+SUM(Z9<$C$3)+SUM(AA9<$C$3)+SUM(AB9<$C$3)+SUM(AC9<$C$3)+SUM(AD9<$C$3) -> 0 | AF9: =COUNTA(H9:AD9)-COUNTBLANK(H9:AD9) -> 11
B10: 4 | C10: درس چهار | D10: =MATCH(E10,DATE!$B$2:$B$4747,0) -> 2745 | E10: =IF($K$2="عادی",INDEX(DATE!$B$2:$B$4747,$D$2+B10-1),IF($K$2="بسیار سریع",INDEX(DATE!$B$2:$B$4747,$D$2+ROUND((B10)/2,0)-1),IF($K$2="بسیار آهسته",INDEX(DATE!$B$2:$B$4747,$D$2+ROUND((B10)*2,0)-1),INDEX(DATE!$B$2:$B$4747,$D$2+(B10-QUOTIENT(B10,$M$3))*2+(IF(($D$2+(B10-QUOTIENT(B10,$M$3))*2)-2=D9,1,0))-2)))) -> 14050704 | F10: 0 | G10: =IF(MAX(H10:AD10)<$C$3,1,IF(OR(H10=$C$3,I10=$C$3,J10=$C$3,K10=$C$3,L10=$C$3,M10=$C$3,N10=$C$3,O10=$C$3,P10=$C$3,Q10=$C$3,R10=$C$3,S10=$C$3,T10=$C$3,U10=$C$3,V10=$C$3,W10=$C$3,X10=$C$3,Y10=$C$3,Z10=$C$3,AA10=$C$3,AB10=$C$3,AC10=$C$3,AD10=$C$3),0,-1)) -> -1 | H10: =E10 -> 14050704 | I10: =INDEX(DATE!$B$2:$B$4747,$D10+I$6-1) -> 14050705 | J10: =INDEX(DATE!$B$2:$B$4747,$D10+J$6-1) -> 14050706 | K10: =INDEX(DATE!$B$2:$B$4747,$D10+K$6-1) -> 14050707 | L10: =INDEX(DATE!$B$2:$B$4747,$D10+L$6-1) -> 14050708 | M10: =INDEX(DATE!$B$2:$B$4747,$D10+M$6-1) -> 14050709 | N10: =INDEX(DATE!$B$2:$B$4747,$D10+N$6-1) -> 14050710 | O10: =INDEX(DATE!$B$2:$B$4747,$D10+O$6-1) -> 14050711 | P10: =INDEX(DATE!$B$2:$B$4747,$D10+P$6-1) -> 14050718 | ... R10: =INDEX(DATE!$B$2:$B$4747,$D10+R$6-1) -> 14050903 | S10: =IF($F10>S$6-9,INDEX(DATE!$B$2:$B$4747,$D10+S$6-1),"") | T10: =IF($F10>T$6-9,INDEX(DATE!$B$2:$B$4747,$D10+T$6-1),"") | U10: =IF($F10>U$6-9,INDEX(DATE!$B$2:$B$4747,$D10+U$6-1),"") | V10: =IF($F10>V$6-9,INDEX(DATE!$B$2:$B$4747,$D10+V$6-1),"") | W10: =IF($F10>W$6-9,INDEX(DATE!$B$2:$B$4747,$D10+W$6-1),"") | X10: =IF($F10>X$6-9,INDEX(DATE!$B$2:$B$4747,$D10+X$6-1),"") | Y10: =IF($F10>Y$6-9,INDEX(DATE!$B$2:$B$4747,$D10+Y$6-1),"") | Z10: =IF($F10>Z$6-9,INDEX(DATE!$B$2:$B$4747,$D10+Z$6-1),"") | ... AD10: =IF($F10>AD$6-9,INDEX(DATE!$B$2:$B$4747,$D10+AD$6-1),"") | AE10: =SUM(H10<$C$3)+SUM(I10<$C$3)+SUM(J10<$C$3)+SUM(K10<$C$3)+SUM(L10<$C$3)+SUM(M10<$C$3)+SUM(N10<$C$3)+SUM(O10<$C$3)+SUM(P10<$C$3)+SUM(Q10<$C$3)+SUM(R10<$C$3)+SUM(S10<$C$3)+SUM(T10<$C$3)+SUM(U10<$C$3)+SUM(V10<$C$3)+SUM(W10<$C$3)+SUM(X10<$C$3)+SUM(Y10<$C$3)+SUM(Z10<$C$3)+SUM(AA10<$C$3)+SUM(AB10<$C$3)+SUM(AC10<$C$3)+SUM(AD10<$C$3) -> 0 | AF10: =COUNTA(H10:AD10)-COUNTBLANK(H10:AD10) -> 11
B11: 5 | C11: درس پنج | D11: =MATCH(E11,DATE!$B$2:$B$4747,0) -> 2746 | E11: =IF($K$2="عادی",INDEX(DATE!$B$2:$B$4747,$D$2+B11-1),IF($K$2="بسیار سریع",INDEX(DATE!$B$2:$B$4747,$D$2+ROUND((B11)/2,0)-1),IF($K$2="بسیار آهسته",INDEX(DATE!$B$2:$B$4747,$D$2+ROUND((B11)*2,0)-1),INDEX(DATE!$B$2:$B$4747,$D$2+(B11-QUOTIENT(B11,$M$3))*2+(IF(($D$2+(B11-QUOTIENT(B11,$M$3))*2)-2=D10,1,0))-2)))) -> 14050705 | F11: 0 | G11: =IF(MAX(H11:AD11)<$C$3,1,IF(OR(H11=$C$3,I11=$C$3,J11=$C$3,K11=$C$3,L11=$C$3,M11=$C$3,N11=$C$3,O11=$C$3,P11=$C$3,Q11=$C$3,R11=$C$3,S11=$C$3,T11=$C$3,U11=$C$3,V11=$C$3,W11=$C$3,X11=$C$3,Y11=$C$3,Z11=$C$3,AA11=$C$3,AB11=$C$3,AC11=$C$3,AD11=$C$3),0,-1)) -> -1 | H11: =E11 -> 14050705 | I11: =INDEX(DATE!$B$2:$B$4747,$D11+I$6-1) -> 14050706 | J11: =INDEX(DATE!$B$2:$B$4747,$D11+J$6-1) -> 14050707 | K11: =INDEX(DATE!$B$2:$B$4747,$D11+K$6-1) -> 14050708 | L11: =INDEX(DATE!$B$2:$B$4747,$D11+L$6-1) -> 14050709 | M11: =INDEX(DATE!$B$2:$B$4747,$D11+M$6-1) -> 14050710 | N11: =INDEX(DATE!$B$2:$B$4747,$D11+N$6-1) -> 14050711 | O11: =INDEX(DATE!$B$2:$B$4747,$D11+O$6-1) -> 14050712 | P11: =INDEX(DATE!$B$2:$B$4747,$D11+P$6-1) -> 14050719 | ... R11: =INDEX(DATE!$B$2:$B$4747,$D11+R$6-1) -> 14050904 | S11: =IF($F11>S$6-9,INDEX(DATE!$B$2:$B$4747,$D11+S$6-1),"") | T11: =IF($F11>T$6-9,INDEX(DATE!$B$2:$B$4747,$D11+T$6-1),"") | U11: =IF($F11>U$6-9,INDEX(DATE!$B$2:$B$4747,$D11+U$6-1),"") | V11: =IF($F11>V$6-9,INDEX(DATE!$B$2:$B$4747,$D11+V$6-1),"") | W11: =IF($F11>W$6-9,INDEX(DATE!$B$2:$B$4747,$D11+W$6-1),"") | X11: =IF($F11>X$6-9,INDEX(DATE!$B$2:$B$4747,$D11+X$6-1),"") | Y11: =IF($F11>Y$6-9,INDEX(DATE!$B$2:$B$4747,$D11+Y$6-1),"") | Z11: =IF($F11>Z$6-9,INDEX(DATE!$B$2:$B$4747,$D11+Z$6-1),"") | ... AD11: =IF($F11>AD$6-9,INDEX(DATE!$B$2:$B$4747,$D11+AD$6-1),"") | AE11: =SUM(H11<$C$3)+SUM(I11<$C$3)+SUM(J11<$C$3)+SUM(K11<$C$3)+SUM(L11<$C$3)+SUM(M11<$C$3)+SUM(N11<$C$3)+SUM(O11<$C$3)+SUM(P11<$C$3)+SUM(Q11<$C$3)+SUM(R11<$C$3)+SUM(S11<$C$3)+SUM(T11<$C$3)+SUM(U11<$C$3)+SUM(V11<$C$3)+SUM(W11<$C$3)+SUM(X11<$C$3)+SUM(Y11<$C$3)+SUM(Z11<$C$3)+SUM(AA11<$C$3)+SUM(AB11<$C$3)+SUM(AC11<$C$3)+SUM(AD11<$C$3) -> 0 | AF11: =COUNTA(H11:AD11)-COUNTBLANK(H11:AD11) -> 11
B12: 6 | C12: درس شش | D12: =MATCH(E12,DATE!$B$2:$B$4747,0) -> 2747 | E12: =IF($K$2="عادی",INDEX(DATE!$B$2:$B$4747,$D$2+B12-1),IF($K$2="بسیار سریع",INDEX(DATE!$B$2:$B$4747,$D$2+ROUND((B12)/2,0)-1),IF($K$2="بسیار آهسته",INDEX(DATE!$B$2:$B$4747,$D$2+ROUND((B12)*2,0)-1),INDEX(DATE!$B$2:$B$4747,$D$2+(B12-QUOTIENT(B12,$M$3))*2+(IF(($D$2+(B12-QUOTIENT(B12,$M$3))*2)-2=D11,1,0))-2)))) -> 14050706 | F12: 0 | G12: =IF(MAX(H12:AD12)<$C$3,1,IF(OR(H12=$C$3,I12=$C$3,J12=$C$3,K12=$C$3,L12=$C$3,M12=$C$3,N12=$C$3,O12=$C$3,P12=$C$3,Q12=$C$3,R12=$C$3,S12=$C$3,T12=$C$3,U12=$C$3,V12=$C$3,W12=$C$3,X12=$C$3,Y12=$C$3,Z12=$C$3,AA12=$C$3,AB12=$C$3,AC12=$C$3,AD12=$C$3),0,-1)) -> -1 | H12: =E12 -> 14050706 | I12: =INDEX(DATE!$B$2:$B$4747,$D12+I$6-1) -> 14050707 | J12: =INDEX(DATE!$B$2:$B$4747,$D12+J$6-1) -> 14050708 | K12: =INDEX(DATE!$B$2:$B$4747,$D12+K$6-1) -> 14050709 | L12: =INDEX(DATE!$B$2:$B$4747,$D12+L$6-1) -> 14050710 | M12: =INDEX(DATE!$B$2:$B$4747,$D12+M$6-1) -> 14050711 | N12: =INDEX(DATE!$B$2:$B$4747,$D12+N$6-1) -> 14050712 | O12: =INDEX(DATE!$B$2:$B$4747,$D12+O$6-1) -> 14050713 | P12: =INDEX(DATE!$B$2:$B$4747,$D12+P$6-1) -> 14050720 | ... R12: =INDEX(DATE!$B$2:$B$4747,$D12+R$6-1) -> 14050905 | S12: =IF($F12>S$6-9,INDEX(DATE!$B$2:$B$4747,$D12+S$6-1),"") | T12: =IF($F12>T$6-9,INDEX(DATE!$B$2:$B$4747,$D12+T$6-1),"") | U12: =IF($F12>U$6-9,INDEX(DATE!$B$2:$B$4747,$D12+U$6-1),"") | V12: =IF($F12>V$6-9,INDEX(DATE!$B$2:$B$4747,$D12+V$6-1),"") | W12: =IF($F12>W$6-9,INDEX(DATE!$B$2:$B$4747,$D12+W$6-1),"") | X12: =IF($F12>X$6-9,INDEX(DATE!$B$2:$B$4747,$D12+X$6-1),"") | Y12: =IF($F12>Y$6-9,INDEX(DATE!$B$2:$B$4747,$D12+Y$6-1),"") | Z12: =IF($F12>Z$6-9,INDEX(DATE!$B$2:$B$4747,$D12+Z$6-1),"") | ... AD12: =IF($F12>AD$6-9,INDEX(DATE!$B$2:$B$4747,$D12+AD$6-1),"") | AE12: =SUM(H12<$C$3)+SUM(I12<$C$3)+SUM(J12<$C$3)+SUM(K12<$C$3)+SUM(L12<$C$3)+SUM(M12<$C$3)+SUM(N12<$C$3)+SUM(O12<$C$3)+SUM(P12<$C$3)+SUM(Q12<$C$3)+SUM(R12<$C$3)+SUM(S12<$C$3)+SUM(T12<$C$3)+SUM(U12<$C$3)+SUM(V12<$C$3)+SUM(W12<$C$3)+SUM(X12<$C$3)+SUM(Y12<$C$3)+SUM(Z12<$C$3)+SUM(AA12<$C$3)+SUM(AB12<$C$3)+SUM(AC12<$C$3)+SUM(AD12<$C$3) -> 0 | AF12: =COUNTA(H12:AD12)-COUNTBLANK(H12:AD12) -> 11
B13: 7 | C13: درس هفت | D13: =MATCH(E13,DATE!$B$2:$B$4747,0) -> 2748 | E13: =IF($K$2="عادی",INDEX(DATE!$B$2:$B$4747,$D$2+B13-1),IF($K$2="بسیار سریع",INDEX(DATE!$B$2:$B$4747,$D$2+ROUND((B13)/2,0)-1),IF($K$2="بسیار آهسته",INDEX(DATE!$B$2:$B$4747,$D$2+ROUND((B13)*2,0)-1),INDEX(DATE!$B$2:$B$4747,$D$2+(B13-QUOTIENT(B13,$M$3))*2+(IF(($D$2+(B13-QUOTIENT(B13,$M$3))*2)-2=D12,1,0))-2)))) -> 14050707 | F13: 0 | G13: =IF(MAX(H13:AD13)<$C$3,1,IF(OR(H13=$C$3,I13=$C$3,J13=$C$3,K13=$C$3,L13=$C$3,M13=$C$3,N13=$C$3,O13=$C$3,P13=$C$3,Q13=$C$3,R13=$C$3,S13=$C$3,T13=$C$3,U13=$C$3,V13=$C$3,W13=$C$3,X13=$C$3,Y13=$C$3,Z13=$C$3,AA13=$C$3,AB13=$C$3,AC13=$C$3,AD13=$C$3),0,-1)) -> -1 | H13: =E13 -> 14050707 | I13: =INDEX(DATE!$B$2:$B$4747,$D13+I$6-1) -> 14050708 | J13: =INDEX(DATE!$B$2:$B$4747,$D13+J$6-1) -> 14050709 | K13: =INDEX(DATE!$B$2:$B$4747,$D13+K$6-1) -> 14050710 | L13: =INDEX(DATE!$B$2:$B$4747,$D13+L$6-1) -> 14050711 | M13: =INDEX(DATE!$B$2:$B$4747,$D13+M$6-1) -> 14050712 | N13: =INDEX(DATE!$B$2:$B$4747,$D13+N$6-1) -> 14050713 | O13: =INDEX(DATE!$B$2:$B$4747,$D13+O$6-1) -> 14050714 | P13: =INDEX(DATE!$B$2:$B$4747,$D13+P$6-1) -> 14050721 | ... R13: =INDEX(DATE!$B$2:$B$4747,$D13+R$6-1) -> 14050906 | S13: =IF($F13>S$6-9,INDEX(DATE!$B$2:$B$4747,$D13+S$6-1),"") | T13: =IF($F13>T$6-9,INDEX(DATE!$B$2:$B$4747,$D13+T$6-1),"") | U13: =IF($F13>U$6-9,INDEX(DATE!$B$2:$B$4747,$D13+U$6-1),"") | V13: =IF($F13>V$6-9,INDEX(DATE!$B$2:$B$4747,$D13+V$6-1),"") | W13: =IF($F13>W$6-9,INDEX(DATE!$B$2:$B$4747,$D13+W$6-1),"") | X13: =IF($F13>X$6-9,INDEX(DATE!$B$2:$B$4747,$D13+X$6-1),"") | Y13: =IF($F13>Y$6-9,INDEX(DATE!$B$2:$B$4747,$D13+Y$6-1),"") | Z13: =IF($F13>Z$6-9,INDEX(DATE!$B$2:$B$4747,$D13+Z$6-1),"") | ... AD13: =IF($F13>AD$6-9,INDEX(DATE!$B$2:$B$4747,$D13+AD$6-1),"") | AE13: =SUM(H13<$C$3)+SUM(I13<$C$3)+SUM(J13<$C$3)+SUM(K13<$C$3)+SUM(L13<$C$3)+SUM(M13<$C$3)+SUM(N13<$C$3)+SUM(O13<$C$3)+SUM(P13<$C$3)+SUM(Q13<$C$3)+SUM(R13<$C$3)+SUM(S13<$C$3)+SUM(T13<$C$3)+SUM(U13<$C$3)+SUM(V13<$C$3)+SUM(W13<$C$3)+SUM(X13<$C$3)+SUM(Y13<$C$3)+SUM(Z13<$C$3)+SUM(AA13<$C$3)+SUM(AB13<$C$3)+SUM(AC13<$C$3)+SUM(AD13<$C$3) -> 0 | AF13: =COUNTA(H13:AD13)-COUNTBLANK(H13:AD13) -> 11
B14: 8 | C14: درس هشت | D14: =MATCH(E14,DATE!$B$2:$B$4747,0) -> 2749 | E14: =IF($K$2="عادی",INDEX(DATE!$B$2:$B$4747,$D$2+B14-1),IF($K$2="بسیار سریع",INDEX(DATE!$B$2:$B$4747,$D$2+ROUND((B14)/2,0)-1),IF($K$2="بسیار آهسته",INDEX(DATE!$B$2:$B$4747,$D$2+ROUND((B14)*2,0)-1),INDEX(DATE!$B$2:$B$4747,$D$2+(B14-QUOTIENT(B14,$M$3))*2+(IF(($D$2+(B14-QUOTIENT(B14,$M$3))*2)-2=D13,1,0))-2)))) -> 14050708 | F14: 0 | G14: =IF(MAX(H14:AD14)<$C$3,1,IF(OR(H14=$C$3,I14=$C$3,J14=$C$3,K14=$C$3,L14=$C$3,M14=$C$3,N14=$C$3,O14=$C$3,P14=$C$3,Q14=$C$3,R14=$C$3,S14=$C$3,T14=$C$3,U14=$C$3,V14=$C$3,W14=$C$3,X14=$C$3,Y14=$C$3,Z14=$C$3,AA14=$C$3,AB14=$C$3,AC14=$C$3,AD14=$C$3),0,-1)) -> -1 | H14: =E14 -> 14050708 | I14: =INDEX(DATE!$B$2:$B$4747,$D14+I$6-1) -> 14050709 | J14: =INDEX(DATE!$B$2:$B$4747,$D14+J$6-1) -> 14050710 | K14: =INDEX(DATE!$B$2:$B$4747,$D14+K$6-1) -> 14050711 | L14: =INDEX(DATE!$B$2:$B$4747,$D14+L$6-1) -> 14050712 | M14: =INDEX(DATE!$B$2:$B$4747,$D14+M$6-1) -> 14050713 | N14: =INDEX(DATE!$B$2:$B$4747,$D14+N$6-1) -> 14050714 | O14: =INDEX(DATE!$B$2:$B$4747,$D14+O$6-1) -> 14050715 | P14: =INDEX(DATE!$B$2:$B$4747,$D14+P$6-1) -> 14050722 | ... R14: =INDEX(DATE!$B$2:$B$4747,$D14+R$6-1) -> 14050907 | S14: =IF($F14>S$6-9,INDEX(DATE!$B$2:$B$4747,$D14+S$6-1),"") | T14: =IF($F14>T$6-9,INDEX(DATE!$B$2:$B$4747,$D14+T$6-1),"") | U14: =IF($F14>U$6-9,INDEX(DATE!$B$2:$B$4747,$D14+U$6-1),"") | V14: =IF($F14>V$6-9,INDEX(DATE!$B$2:$B$4747,$D14+V$6-1),"") | W14: =IF($F14>W$6-9,INDEX(DATE!$B$2:$B$4747,$D14+W$6-1),"") | X14: =IF($F14>X$6-9,INDEX(DATE!$B$2:$B$4747,$D14+X$6-1),"") | Y14: =IF($F14>Y$6-9,INDEX(DATE!$B$2:$B$4747,$D14+Y$6-1),"") | Z14: =IF($F14>Z$6-9,INDEX(DATE!$B$2:$B$4747,$D14+Z$6-1),"") | ... AD14: =IF($F14>AD$6-9,INDEX(DATE!$B$2:$B$4747,$D14+AD$6-1),"") | AE14: =SUM(H14<$C$3)+SUM(I14<$C$3)+SUM(J14<$C$3)+SUM(K14<$C$3)+SUM(L14<$C$3)+SUM(M14<$C$3)+SUM(N14<$C$3)+SUM(O14<$C$3)+SUM(P14<$C$3)+SUM(Q14<$C$3)+SUM(R14<$C$3)+SUM(S14<$C$3)+SUM(T14<$C$3)+SUM(U14<$C$3)+SUM(V14<$C$3)+SUM(W14<$C$3)+SUM(X14<$C$3)+SUM(Y14<$C$3)+SUM(Z14<$C$3)+SUM(AA14<$C$3)+SUM(AB14<$C$3)+SUM(AC14<$C$3)+SUM(AD14<$C$3) -> 0 | AF14: =COUNTA(H14:AD14)-COUNTBLANK(H14:AD14) -> 11
B15: 9 | C15: درس نه | D15: =MATCH(E15,DATE!$B$2:$B$4747,0) -> 2750 | E15: =IF($K$2="عادی",INDEX(DATE!$B$2:$B$4747,$D$2+B15-1),IF($K$2="بسیار سریع",INDEX(DATE!$B$2:$B$4747,$D$2+ROUND((B15)/2,0)-1),IF($K$2="بسیار آهسته",INDEX(DATE!$B$2:$B$4747,$D$2+ROUND((B15)*2,0)-1),INDEX(DATE!$B$2:$B$4747,$D$2+(B15-QUOTIENT(B15,$M$3))*2+(IF(($D$2+(B15-QUOTIENT(B15,$M$3))*2)-2=D14,1,0))-2)))) -> 14050709 | F15: 0 | G15: =IF(MAX(H15:AD15)<$C$3,1,IF(OR(H15=$C$3,I15=$C$3,J15=$C$3,K15=$C$3,L15=$C$3,M15=$C$3,N15=$C$3,O15=$C$3,P15=$C$3,Q15=$C$3,R15=$C$3,S15=$C$3,T15=$C$3,U15=$C$3,V15=$C$3,W15=$C$3,X15=$C$3,Y15=$C$3,Z15=$C$3,AA15=$C$3,AB15=$C$3,AC15=$C$3,AD15=$C$3),0,-1)) -> -1 | H15: =E15 -> 14050709 | I15: =INDEX(DATE!$B$2:$B$4747,$D15+I$6-1) -> 14050710 | J15: =INDEX(DATE!$B$2:$B$4747,$D15+J$6-1) -> 14050711 | K15: =INDEX(DATE!$B$2:$B$4747,$D15+K$6-1) -> 14050712 | L15: =INDEX(DATE!$B$2:$B$4747,$D15+L$6-1) -> 14050713 | M15: =INDEX(DATE!$B$2:$B$4747,$D15+M$6-1) -> 14050714 | N15: =INDEX(DATE!$B$2:$B$4747,$D15+N$6-1) -> 14050715 | O15: =INDEX(DATE!$B$2:$B$4747,$D15+O$6-1) -> 14050716 | P15: =INDEX(DATE!$B$2:$B$4747,$D15+P$6-1) -> 14050723 | ... R15: =INDEX(DATE!$B$2:$B$4747,$D15+R$6-1) -> 14050908 | S15: =IF($F15>S$6-9,INDEX(DATE!$B$2:$B$4747,$D15+S$6-1),"") | T15: =IF($F15>T$6-9,INDEX(DATE!$B$2:$B$4747,$D15+T$6-1),"") | U15: =IF($F15>U$6-9,INDEX(DATE!$B$2:$B$4747,$D15+U$6-1),"") | V15: =IF($F15>V$6-9,INDEX(DATE!$B$2:$B$4747,$D15+V$6-1),"") | W15: =IF($F15>W$6-9,INDEX(DATE!$B$2:$B$4747,$D15+W$6-1),"") | X15: =IF($F15>X$6-9,INDEX(DATE!$B$2:$B$4747,$D15+X$6-1),"") | Y15: =IF($F15>Y$6-9,INDEX(DATE!$B$2:$B$4747,$D15+Y$6-1),"") | Z15: =IF($F15>Z$6-9,INDEX(DATE!$B$2:$B$4747,$D15+Z$6-1),"") | ... AD15: =IF($F15>AD$6-9,INDEX(DATE!$B$2:$B$4747,$D15+AD$6-1),"") | AE15: =SUM(H15<$C$3)+SUM(I15<$C$3)+SUM(J15<$C$3)+SUM(K15<$C$3)+SUM(L15<$C$3)+SUM(M15<$C$3)+SUM(N15<$C$3)+SUM(O15<$C$3)+SUM(P15<$C$3)+SUM(Q15<$C$3)+SUM(R15<$C$3)+SUM(S15<$C$3)+SUM(T15<$C$3)+SUM(U15<$C$3)+SUM(V15<$C$3)+SUM(W15<$C$3)+SUM(X15<$C$3)+SUM(Y15<$C$3)+SUM(Z15<$C$3)+SUM(AA15<$C$3)+SUM(AB15<$C$3)+SUM(AC15<$C$3)+SUM(AD15<$C$3) -> 0 | AF15: =COUNTA(H15:AD15)-COUNTBLANK(H15:AD15) -> 11
B16: 10 | C16: درس ده | D16: =MATCH(E16,DATE!$B$2:$B$4747,0) -> 2751 | E16: =IF($K$2="عادی",INDEX(DATE!$B$2:$B$4747,$D$2+B16-1),IF($K$2="بسیار سریع",INDEX(DATE!$B$2:$B$4747,$D$2+ROUND((B16)/2,0)-1),IF($K$2="بسیار آهسته",INDEX(DATE!$B$2:$B$4747,$D$2+ROUND((B16)*2,0)-1),INDEX(DATE!$B$2:$B$4747,$D$2+(B16-QUOTIENT(B16,$M$3))*2+(IF(($D$2+(B16-QUOTIENT(B16,$M$3))*2)-2=D15,1,0))-2)))) -> 14050710 | F16: 0 | G16: =IF(MAX(H16:AD16)<$C$3,1,IF(OR(H16=$C$3,I16=$C$3,J16=$C$3,K16=$C$3,L16=$C$3,M16=$C$3,N16=$C$3,O16=$C$3,P16=$C$3,Q16=$C$3,R16=$C$3,S16=$C$3,T16=$C$3,U16=$C$3,V16=$C$3,W16=$C$3,X16=$C$3,Y16=$C$3,Z16=$C$3,AA16=$C$3,AB16=$C$3,AC16=$C$3,AD16=$C$3),0,-1)) -> -1 | H16: =E16 -> 14050710 | I16: =INDEX(DATE!$B$2:$B$4747,$D16+I$6-1) -> 14050711 | J16: =INDEX(DATE!$B$2:$B$4747,$D16+J$6-1) -> 14050712 | K16: =INDEX(DATE!$B$2:$B$4747,$D16+K$6-1) -> 14050713 | L16: =INDEX(DATE!$B$2:$B$4747,$D16+L$6-1) -> 14050714 | M16: =INDEX(DATE!$B$2:$B$4747,$D16+M$6-1) -> 14050715 | N16: =INDEX(DATE!$B$2:$B$4747,$D16+N$6-1) -> 14050716 | O16: =INDEX(DATE!$B$2:$B$4747,$D16+O$6-1) -> 14050717 | P16: =INDEX(DATE!$B$2:$B$4747,$D16+P$6-1) -> 14050724 | ... R16: =INDEX(DATE!$B$2:$B$4747,$D16+R$6-1) -> 14050909 | S16: =IF($F16>S$6-9,INDEX(DATE!$B$2:$B$4747,$D16+S$6-1),"") | T16: =IF($F16>T$6-9,INDEX(DATE!$B$2:$B$4747,$D16+T$6-1),"") | U16: =IF($F16>U$6-9,INDEX(DATE!$B$2:$B$4747,$D16+U$6-1),"") | V16: =IF($F16>V$6-9,INDEX(DATE!$B$2:$B$4747,$D16+V$6-1),"") | W16: =IF($F16>W$6-9,INDEX(DATE!$B$2:$B$4747,$D16+W$6-1),"") | X16: =IF($F16>X$6-9,INDEX(DATE!$B$2:$B$4747,$D16+X$6-1),"") | Y16: =IF($F16>Y$6-9,INDEX(DATE!$B$2:$B$4747,$D16+Y$6-1),"") | Z16: =IF($F16>Z$6-9,INDEX(DATE!$B$2:$B$4747,$D16+Z$6-1),"") | ... AD16: =IF($F16>AD$6-9,INDEX(DATE!$B$2:$B$4747,$D16+AD$6-1),"") | AE16: =SUM(H16<$C$3)+SUM(I16<$C$3)+SUM(J16<$C$3)+SUM(K16<$C$3)+SUM(L16<$C$3)+SUM(M16<$C$3)+SUM(N16<$C$3)+SUM(O16<$C$3)+SUM(P16<$C$3)+SUM(Q16<$C$3)+SUM(R16<$C$3)+SUM(S16<$C$3)+SUM(T16<$C$3)+SUM(U16<$C$3)+SUM(V16<$C$3)+SUM(W16<$C$3)+SUM(X16<$C$3)+SUM(Y16<$C$3)+SUM(Z16<$C$3)+SUM(AA16<$C$3)+SUM(AB16<$C$3)+SUM(AC16<$C$3)+SUM(AD16<$C$3) -> 0 | AF16: =COUNTA(H16:AD16)-COUNTBLANK(H16:AD16) -> 11
B17: 11 | C17: درس یازده | D17: =MATCH(E17,DATE!$B$2:$B$4747,0) -> 2752 | E17: =IF($K$2="عادی",INDEX(DATE!$B$2:$B$4747,$D$2+B17-1),IF($K$2="بسیار سریع",INDEX(DATE!$B$2:$B$4747,$D$2+ROUND((B17)/2,0)-1),IF($K$2="بسیار آهسته",INDEX(DATE!$B$2:$B$4747,$D$2+ROUND((B17)*2,0)-1),INDEX(DATE!$B$2:$B$4747,$D$2+(B17-QUOTIENT(B17,$M$3))*2+(IF(($D$2+(B17-QUOTIENT(B17,$M$3))*2)-2=D16,1,0))-2)))) -> 14050711 | F17: 0 | G17: =IF(MAX(H17:AD17)<$C$3,1,IF(OR(H17=$C$3,I17=$C$3,J17=$C$3,K17=$C$3,L17=$C$3,M17=$C$3,N17=$C$3,O17=$C$3,P17=$C$3,Q17=$C$3,R17=$C$3,S17=$C$3,T17=$C$3,U17=$C$3,V17=$C$3,W17=$C$3,X17=$C$3,Y17=$C$3,Z17=$C$3,AA17=$C$3,AB17=$C$3,AC17=$C$3,AD17=$C$3),0,-1)) -> -1 | H17: =E17 -> 14050711 | I17: =INDEX(DATE!$B$2:$B$4747,$D17+I$6-1) -> 14050712 | J17: =INDEX(DATE!$B$2:$B$4747,$D17+J$6-1) -> 14050713 | K17: =INDEX(DATE!$B$2:$B$4747,$D17+K$6-1) -> 14050714 | L17: =INDEX(DATE!$B$2:$B$4747,$D17+L$6-1) -> 14050715 | M17: =INDEX(DATE!$B$2:$B$4747,$D17+M$6-1) -> 14050716 | N17: =INDEX(DATE!$B$2:$B$4747,$D17+N$6-1) -> 14050717 | O17: =INDEX(DATE!$B$2:$B$4747,$D17+O$6-1) -> 14050718 | P17: =INDEX(DATE!$B$2:$B$4747,$D17+P$6-1) -> 14050725 | ... R17: =INDEX(DATE!$B$2:$B$4747,$D17+R$6-1) -> 14050910 | S17: =IF($F17>S$6-9,INDEX(DATE!$B$2:$B$4747,$D17+S$6-1),"") | T17: =IF($F17>T$6-9,INDEX(DATE!$B$2:$B$4747,$D17+T$6-1),"") | U17: =IF($F17>U$6-9,INDEX(DATE!$B$2:$B$4747,$D17+U$6-1),"") | V17: =IF($F17>V$6-9,INDEX(DATE!$B$2:$B$4747,$D17+V$6-1),"") | W17: =IF($F17>W$6-9,INDEX(DATE!$B$2:$B$4747,$D17+W$6-1),"") | X17: =IF($F17>X$6-9,INDEX(DATE!$B$2:$B$4747,$D17+X$6-1),"") | Y17: =IF($F17>Y$6-9,INDEX(DATE!$B$2:$B$4747,$D17+Y$6-1),"") | Z17: =IF($F17>Z$6-9,INDEX(DATE!$B$2:$B$4747,$D17+Z$6-1),"") | ... AD17: =IF($F17>AD$6-9,INDEX(DATE!$B$2:$B$4747,$D17+AD$6-1),"") | AE17: =SUM(H17<$C$3)+SUM(I17<$C$3)+SUM(J17<$C$3)+SUM(K17<$C$3)+SUM(L17<$C$3)+SUM(M17<$C$3)+SUM(N17<$C$3)+SUM(O17<$C$3)+SUM(P17<$C$3)+SUM(Q17<$C$3)+SUM(R17<$C$3)+SUM(S17<$C$3)+SUM(T17<$C$3)+SUM(U17<$C$3)+SUM(V17<$C$3)+SUM(W17<$C$3)+SUM(X17<$C$3)+SUM(Y17<$C$3)+SUM(Z17<$C$3)+SUM(AA17<$C$3)+SUM(AB17<$C$3)+SUM(AC17<$C$3)+SUM(AD17<$C$3) -> 0 | AF17: =COUNTA(H17:AD17)-COUNTBLANK(H17:AD17) -> 11
B18: 12 | C18: درس دوازده | D18: =MATCH(E18,DATE!$B$2:$B$4747,0) -> 2753 | E18: =IF($K$2="عادی",INDEX(DATE!$B$2:$B$4747,$D$2+B18-1),IF($K$2="بسیار سریع",INDEX(DATE!$B$2:$B$4747,$D$2+ROUND((B18)/2,0)-1),IF($K$2="بسیار آهسته",INDEX(DATE!$B$2:$B$4747,$D$2+ROUND((B18)*2,0)-1),INDEX(DATE!$B$2:$B$4747,$D$2+(B18-QUOTIENT(B18,$M$3))*2+(IF(($D$2+(B18-QUOTIENT(B18,$M$3))*2)-2=D17,1,0))-2)))) -> 14050712 | F18: 0 | G18: =IF(MAX(H18:AD18)<$C$3,1,IF(OR(H18=$C$3,I18=$C$3,J18=$C$3,K18=$C$3,L18=$C$3,M18=$C$3,N18=$C$3,O18=$C$3,P18=$C$3,Q18=$C$3,R18=$C$3,S18=$C$3,T18=$C$3,U18=$C$3,V18=$C$3,W18=$C$3,X18=$C$3,Y18=$C$3,Z18=$C$3,AA18=$C$3,AB18=$C$3,AC18=$C$3,AD18=$C$3),0,-1)) -> -1 | H18: =E18 -> 14050712 | I18: =INDEX(DATE!$B$2:$B$4747,$D18+I$6-1) -> 14050713 | J18: =INDEX(DATE!$B$2:$B$4747,$D18+J$6-1) -> 14050714 | K18: =INDEX(DATE!$B$2:$B$4747,$D18+K$6-1) -> 14050715 | L18: =INDEX(DATE!$B$2:$B$4747,$D18+L$6-1) -> 14050716 | M18: =INDEX(DATE!$B$2:$B$4747,$D18+M$6-1) -> 14050717 | N18: =INDEX(DATE!$B$2:$B$4747,$D18+N$6-1) -> 14050718 | O18: =INDEX(DATE!$B$2:$B$4747,$D18+O$6-1) -> 14050719 | P18: =INDEX(DATE!$B$2:$B$4747,$D18+P$6-1) -> 14050726 | ... R18: =INDEX(DATE!$B$2:$B$4747,$D18+R$6-1) -> 14050911 | S18: =IF($F18>S$6-9,INDEX(DATE!$B$2:$B$4747,$D18+S$6-1),"") | T18: =IF($F18>T$6-9,INDEX(DATE!$B$2:$B$4747,$D18+T$6-1),"") | U18: =IF($F18>U$6-9,INDEX(DATE!$B$2:$B$4747,$D18+U$6-1),"") | V18: =IF($F18>V$6-9,INDEX(DATE!$B$2:$B$4747,$D18+V$6-1),"") | W18: =IF($F18>W$6-9,INDEX(DATE!$B$2:$B$4747,$D18+W$6-1),"") | X18: =IF($F18>X$6-9,INDEX(DATE!$B$2:$B$4747,$D18+X$6-1),"") | Y18: =IF($F18>Y$6-9,INDEX(DATE!$B$2:$B$4747,$D18+Y$6-1),"") | Z18: =IF($F18>Z$6-9,INDEX(DATE!$B$2:$B$4747,$D18+Z$6-1),"") | ... AD18: =IF($F18>AD$6-9,INDEX(DATE!$B$2:$B$4747,$D18+AD$6-1),"") | AE18: =SUM(H18<$C$3)+SUM(I18<$C$3)+SUM(J18<$C$3)+SUM(K18<$C$3)+SUM(L18<$C$3)+SUM(M18<$C$3)+SUM(N18<$C$3)+SUM(O18<$C$3)+SUM(P18<$C$3)+SUM(Q18<$C$3)+SUM(R18<$C$3)+SUM(S18<$C$3)+SUM(T18<$C$3)+SUM(U18<$C$3)+SUM(V18<$C$3)+SUM(W18<$C$3)+SUM(X18<$C$3)+SUM(Y18<$C$3)+SUM(Z18<$C$3)+SUM(AA18<$C$3)+SUM(AB18<$C$3)+SUM(AC18<$C$3)+SUM(AD18<$C$3) -> 0 | AF18: =COUNTA(H18:AD18)-COUNTBLANK(H18:AD18) -> 11
B19: 13 | C19: درس سیزده | D19: =MATCH(E19,DATE!$B$2:$B$4747,0) -> 2754 | E19: =IF($K$2="عادی",INDEX(DATE!$B$2:$B$4747,$D$2+B19-1),IF($K$2="بسیار سریع",INDEX(DATE!$B$2:$B$4747,$D$2+ROUND((B19)/2,0)-1),IF($K$2="بسیار آهسته",INDEX(DATE!$B$2:$B$4747,$D$2+ROUND((B19)*2,0)-1),INDEX(DATE!$B$2:$B$4747,$D$2+(B19-QUOTIENT(B19,$M$3))*2+(IF(($D$2+(B19-QUOTIENT(B19,$M$3))*2)-2=D18,1,0))-2)))) -> 14050713 | F19: 0 | G19: =IF(MAX(H19:AD19)<$C$3,1,IF(OR(H19=$C$3,I19=$C$3,J19=$C$3,K19=$C$3,L19=$C$3,M19=$C$3,N19=$C$3,O19=$C$3,P19=$C$3,Q19=$C$3,R19=$C$3,S19=$C$3,T19=$C$3,U19=$C$3,V19=$C$3,W19=$C$3,X19=$C$3,Y19=$C$3,Z19=$C$3,AA19=$C$3,AB19=$C$3,AC19=$C$3,AD19=$C$3),0,-1)) -> -1 | H19: =E19 -> 14050713 | I19: =INDEX(DATE!$B$2:$B$4747,$D19+I$6-1) -> 14050714 | J19: =INDEX(DATE!$B$2:$B$4747,$D19+J$6-1) -> 14050715 | K19: =INDEX(DATE!$B$2:$B$4747,$D19+K$6-1) -> 14050716 | L19: =INDEX(DATE!$B$2:$B$4747,$D19+L$6-1) -> 14050717 | M19: =INDEX(DATE!$B$2:$B$4747,$D19+M$6-1) -> 14050718 | N19: =INDEX(DATE!$B$2:$B$4747,$D19+N$6-1) -> 14050719 | O19: =INDEX(DATE!$B$2:$B$4747,$D19+O$6-1) -> 14050720 | P19: =INDEX(DATE!$B$2:$B$4747,$D19+P$6-1) -> 14050727 | ... R19: =INDEX(DATE!$B$2:$B$4747,$D19+R$6-1) -> 14050912 | S19: =IF($F19>S$6-9,INDEX(DATE!$B$2:$B$4747,$D19+S$6-1),"") | T19: =IF($F19>T$6-9,INDEX(DATE!$B$2:$B$4747,$D19+T$6-1),"") | U19: =IF($F19>U$6-9,INDEX(DATE!$B$2:$B$4747,$D19+U$6-1),"") | V19: =IF($F19>V$6-9,INDEX(DATE!$B$2:$B$4747,$D19+V$6-1),"") | W19: =IF($F19>W$6-9,INDEX(DATE!$B$2:$B$4747,$D19+W$6-1),"") | X19: =IF($F19>X$6-9,INDEX(DATE!$B$2:$B$4747,$D19+X$6-1),"") | Y19: =IF($F19>Y$6-9,INDEX(DATE!$B$2:$B$4747,$D19+Y$6-1),"") | Z19: =IF($F19>Z$6-9,INDEX(DATE!$B$2:$B$4747,$D19+Z$6-1),"") | ... AD19: =IF($F19>AD$6-9,INDEX(DATE!$B$2:$B$4747,$D19+AD$6-1),"") | AE19: =SUM(H19<$C$3)+SUM(I19<$C$3)+SUM(J19<$C$3)+SUM(K19<$C$3)+SUM(L19<$C$3)+SUM(M19<$C$3)+SUM(N19<$C$3)+SUM(O19<$C$3)+SUM(P19<$C$3)+SUM(Q19<$C$3)+SUM(R19<$C$3)+SUM(S19<$C$3)+SUM(T19<$C$3)+SUM(U19<$C$3)+SUM(V19<$C$3)+SUM(W19<$C$3)+SUM(X19<$C$3)+SUM(Y19<$C$3)+SUM(Z19<$C$3)+SUM(AA19<$C$3)+SUM(AB19<$C$3)+SUM(AC19<$C$3)+SUM(AD19<$C$3) -> 0 | AF19: =COUNTA(H19:AD19)-COUNTBLANK(H19:AD19) -> 11
B20: 14 | C20: درس چهارده (تست) | D20: =MATCH(E20,DATE!$B$2:$B$4747,0) -> 2755 | E20: =IF($K$2="عادی",INDEX(DATE!$B$2:$B$4747,$D$2+B20-1),IF($K$2="بسیار سریع",INDEX(DATE!$B$2:$B$4747,$D$2+ROUND((B20)/2,0)-1),IF($K$2="بسیار آهسته",INDEX(DATE!$B$2:$B$4747,$D$2+ROUND((B20)*2,0)-1),INDEX(DATE!$B$2:$B$4747,$D$2+(B20-QUOTIENT(B20,$M$3))*2+(IF(($D$2+(B20-QUOTIENT(B20,$M$3))*2)-2=D19,1,0))-2)))) -> 14050714 | G20: =IF(MAX(H20:AD20)<$C$3,1,IF(OR(H20=$C$3,I20=$C$3,J20=$C$3,K20=$C$3,L20=$C$3,M20=$C$3,N20=$C$3,O20=$C$3,P20=$C$3,Q20=$C$3,R20=$C$3,S20=$C$3,T20=$C$3,U20=$C$3,V20=$C$3,W20=$C$3,X20=$C$3,Y20=$C$3,Z20=$C$3,AA20=$C$3,AB20=$C$3,AC20=$C$3,AD20=$C$3),0,-1)) -> -1 | H20: =E20 -> 14050714 | I20: 1 | J20: 1 | K20: 1 | L20: 1 | M20: 1 | N20: 1 | O20: 1 | P20: 1 | Q20: 1 | R20: 1 | S20: =IF($F20>S$6-9,INDEX(DATE!$B$2:$B$4747,$D20+S$6-1),"") | T20: =IF($F20>T$6-9,INDEX(DATE!$B$2:$B$4747,$D20+T$6-1),"") | U20: =IF($F20>U$6-9,INDEX(DATE!$B$2:$B$4747,$D20+U$6-1),"") | V20: =IF($F20>V$6-9,INDEX(DATE!$B$2:$B$4747,$D20+V$6-1),"") | W20: =IF($F20>W$6-9,INDEX(DATE!$B$2:$B$4747,$D20+W$6-1),"") | X20: =IF($F20>X$6-9,INDEX(DATE!$B$2:$B$4747,$D20+X$6-1),"") | Y20: =IF($F20>Y$6-9,INDEX(DATE!$B$2:$B$4747,$D20+Y$6-1),"") | Z20: =IF($F20>Z$6-9,INDEX(DATE!$B$2:$B$4747,$D20+Z$6-1),"") | ... AD20: =IF($F20>AD$6-9,INDEX(DATE!$B$2:$B$4747,$D20+AD$6-1),"") | AE20: =SUM(H20<$C$3)+SUM(I20<$C$3)+SUM(J20<$C$3)+SUM(K20<$C$3)+SUM(L20<$C$3)+SUM(M20<$C$3)+SUM(N20<$C$3)+SUM(O20<$C$3)+SUM(P20<$C$3)+SUM(Q20<$C$3)+SUM(R20<$C$3)+SUM(S20<$C$3)+SUM(T20<$C$3)+SUM(U20<$C$3)+SUM(V20<$C$3)+SUM(W20<$C$3)+SUM(X20<$C$3)+SUM(Y20<$C$3)+SUM(Z20<$C$3)+SUM(AA20<$C$3)+SUM(AB20<$C$3)+SUM(AC20<$C$3)+SUM(AD20<$C$3)-10 -> 0 | AF20: =COUNTA(H20:AD20)-COUNTBLANK(H20:AD20)-10 -> 1
B21: 15 | C21: درس پانزده | D21: =MATCH(E21,DATE!$B$2:$B$4747,0) -> 2756 | E21: =IF($K$2="عادی",INDEX(DATE!$B$2:$B$4747,$D$2+B21-1),IF($K$2="بسیار سریع",INDEX(DATE!$B$2:$B$4747,$D$2+ROUND((B21)/2,0)-1),IF($K$2="بسیار آهسته",INDEX(DATE!$B$2:$B$4747,$D$2+ROUND((B21)*2,0)-1),INDEX(DATE!$B$2:$B$4747,$D$2+(B21-QUOTIENT(B21,$M$3))*2+(IF(($D$2+(B21-QUOTIENT(B21,$M$3))*2)-2=D20,1,0))-2)))) -> 14050715 | F21: 0 | G21: =IF(MAX(H21:AD21)<$C$3,1,IF(OR(H21=$C$3,I21=$C$3,J21=$C$3,K21=$C$3,L21=$C$3,M21=$C$3,N21=$C$3,O21=$C$3,P21=$C$3,Q21=$C$3,R21=$C$3,S21=$C$3,T21=$C$3,U21=$C$3,V21=$C$3,W21=$C$3,X21=$C$3,Y21=$C$3,Z21=$C$3,AA21=$C$3,AB21=$C$3,AC21=$C$3,AD21=$C$3),0,-1)) -> -1 | H21: =E21 -> 14050715 | I21: =INDEX(DATE!$B$2:$B$4747,$D21+I$6-1) -> 14050716 | J21: =INDEX(DATE!$B$2:$B$4747,$D21+J$6-1) -> 14050717 | K21: =INDEX(DATE!$B$2:$B$4747,$D21+K$6-1) -> 14050718 | L21: =INDEX(DATE!$B$2:$B$4747,$D21+L$6-1) -> 14050719 | M21: =INDEX(DATE!$B$2:$B$4747,$D21+M$6-1) -> 14050720 | N21: =INDEX(DATE!$B$2:$B$4747,$D21+N$6-1) -> 14050721 | O21: =INDEX(DATE!$B$2:$B$4747,$D21+O$6-1) -> 14050722 | P21: =INDEX(DATE!$B$2:$B$4747,$D21+P$6-1) -> 14050729 | ... R21: =INDEX(DATE!$B$2:$B$4747,$D21+R$6-1) -> 14050914 | S21: =IF($F21>S$6-9,INDEX(DATE!$B$2:$B$4747,$D21+S$6-1),"") | T21: =IF($F21>T$6-9,INDEX(DATE!$B$2:$B$4747,$D21+T$6-1),"") | U21: =IF($F21>U$6-9,INDEX(DATE!$B$2:$B$4747,$D21+U$6-1),"") | V21: =IF($F21>V$6-9,INDEX(DATE!$B$2:$B$4747,$D21+V$6-1),"") | W21: =IF($F21>W$6-9,INDEX(DATE!$B$2:$B$4747,$D21+W$6-1),"") | X21: =IF($F21>X$6-9,INDEX(DATE!$B$2:$B$4747,$D21+X$6-1),"") | Y21: =IF($F21>Y$6-9,INDEX(DATE!$B$2:$B$4747,$D21+Y$6-1),"") | Z21: =IF($F21>Z$6-9,INDEX(DATE!$B$2:$B$4747,$D21+Z$6-1),"") | ... AD21: =IF($F21>AD$6-9,INDEX(DATE!$B$2:$B$4747,$D21+AD$6-1),"") | AE21: =SUM(H21<$C$3)+SUM(I21<$C$3)+SUM(J21<$C$3)+SUM(K21<$C$3)+SUM(L21<$C$3)+SUM(M21<$C$3)+SUM(N21<$C$3)+SUM(O21<$C$3)+SUM(P21<$C$3)+SUM(Q21<$C$3)+SUM(R21<$C$3)+SUM(S21<$C$3)+SUM(T21<$C$3)+SUM(U21<$C$3)+SUM(V21<$C$3)+SUM(W21<$C$3)+SUM(X21<$C$3)+SUM(Y21<$C$3)+SUM(Z21<$C$3)+SUM(AA21<$C$3)+SUM(AB21<$C$3)+SUM(AC21<$C$3)+SUM(AD21<$C$3) -> 0 | AF21: =COUNTA(H21:AD21)-COUNTBLANK(H21:AD21) -> 11
B22: 16 | C22: درس شانزده | D22: =MATCH(E22,DATE!$B$2:$B$4747,0) -> 2757 | E22: =IF($K$2="عادی",INDEX(DATE!$B$2:$B$4747,$D$2+B22-1),IF($K$2="بسیار سریع",INDEX(DATE!$B$2:$B$4747,$D$2+ROUND((B22)/2,0)-1),IF($K$2="بسیار آهسته",INDEX(DATE!$B$2:$B$4747,$D$2+ROUND((B22)*2,0)-1),INDEX(DATE!$B$2:$B$4747,$D$2+(B22-QUOTIENT(B22,$M$3))*2+(IF(($D$2+(B22-QUOTIENT(B22,$M$3))*2)-2=D21,1,0))-2)))) -> 14050716 | F22: 0 | G22: =IF(MAX(H22:AD22)<$C$3,1,IF(OR(H22=$C$3,I22=$C$3,J22=$C$3,K22=$C$3,L22=$C$3,M22=$C$3,N22=$C$3,O22=$C$3,P22=$C$3,Q22=$C$3,R22=$C$3,S22=$C$3,T22=$C$3,U22=$C$3,V22=$C$3,W22=$C$3,X22=$C$3,Y22=$C$3,Z22=$C$3,AA22=$C$3,AB22=$C$3,AC22=$C$3,AD22=$C$3),0,-1)) -> -1 | H22: =E22 -> 14050716 | I22: =INDEX(DATE!$B$2:$B$4747,$D22+I$6-1) -> 14050717 | J22: =INDEX(DATE!$B$2:$B$4747,$D22+J$6-1) -> 14050718 | K22: =INDEX(DATE!$B$2:$B$4747,$D22+K$6-1) -> 14050719 | L22: =INDEX(DATE!$B$2:$B$4747,$D22+L$6-1) -> 14050720 | M22: =INDEX(DATE!$B$2:$B$4747,$D22+M$6-1) -> 14050721 | N22: =INDEX(DATE!$B$2:$B$4747,$D22+N$6-1) -> 14050722 | O22: =INDEX(DATE!$B$2:$B$4747,$D22+O$6-1) -> 14050723 | P22: =INDEX(DATE!$B$2:$B$4747,$D22+P$6-1) -> 14050730 | ... R22: =INDEX(DATE!$B$2:$B$4747,$D22+R$6-1) -> 14050915 | S22: =IF($F22>S$6-9,INDEX(DATE!$B$2:$B$4747,$D22+S$6-1),"") | T22: =IF($F22>T$6-9,INDEX(DATE!$B$2:$B$4747,$D22+T$6-1),"") | U22: =IF($F22>U$6-9,INDEX(DATE!$B$2:$B$4747,$D22+U$6-1),"") | V22: =IF($F22>V$6-9,INDEX(DATE!$B$2:$B$4747,$D22+V$6-1),"") | W22: =IF($F22>W$6-9,INDEX(DATE!$B$2:$B$4747,$D22+W$6-1),"") | X22: =IF($F22>X$6-9,INDEX(DATE!$B$2:$B$4747,$D22+X$6-1),"") | Y22: =IF($F22>Y$6-9,INDEX(DATE!$B$2:$B$4747,$D22+Y$6-1),"") | Z22: =IF($F22>Z$6-9,INDEX(DATE!$B$2:$B$4747,$D22+Z$6-1),"") | ... AD22: =IF($F22>AD$6-9,INDEX(DATE!$B$2:$B$4747,$D22+AD$6-1),"") | AE22: =SUM(H22<$C$3)+SUM(I22<$C$3)+SUM(J22<$C$3)+SUM(K22<$C$3)+SUM(L22<$C$3)+SUM(M22<$C$3)+SUM(N22<$C$3)+SUM(O22<$C$3)+SUM(P22<$C$3)+SUM(Q22<$C$3)+SUM(R22<$C$3)+SUM(S22<$C$3)+SUM(T22<$C$3)+SUM(U22<$C$3)+SUM(V22<$C$3)+SUM(W22<$C$3)+SUM(X22<$C$3)+SUM(Y22<$C$3)+SUM(Z22<$C$3)+SUM(AA22<$C$3)+SUM(AB22<$C$3)+SUM(AC22<$C$3)+SUM(AD22<$C$3) -> 0 | AF22: =COUNTA(H22:AD22)-COUNTBLANK(H22:AD22) -> 11
B23: 17 | C23: درس هفده | D23: =MATCH(E23,DATE!$B$2:$B$4747,0) -> 2758 | E23: =IF($K$2="عادی",INDEX(DATE!$B$2:$B$4747,$D$2+B23-1),IF($K$2="بسیار سریع",INDEX(DATE!$B$2:$B$4747,$D$2+ROUND((B23)/2,0)-1),IF($K$2="بسیار آهسته",INDEX(DATE!$B$2:$B$4747,$D$2+ROUND((B23)*2,0)-1),INDEX(DATE!$B$2:$B$4747,$D$2+(B23-QUOTIENT(B23,$M$3))*2+(IF(($D$2+(B23-QUOTIENT(B23,$M$3))*2)-2=D22,1,0))-2)))) -> 14050717 | F23: 0 | G23: =IF(MAX(H23:AD23)<$C$3,1,IF(OR(H23=$C$3,I23=$C$3,J23=$C$3,K23=$C$3,L23=$C$3,M23=$C$3,N23=$C$3,O23=$C$3,P23=$C$3,Q23=$C$3,R23=$C$3,S23=$C$3,T23=$C$3,U23=$C$3,V23=$C$3,W23=$C$3,X23=$C$3,Y23=$C$3,Z23=$C$3,AA23=$C$3,AB23=$C$3,AC23=$C$3,AD23=$C$3),0,-1)) -> -1 | H23: =E23 -> 14050717 | I23: =INDEX(DATE!$B$2:$B$4747,$D23+I$6-1) -> 14050718 | J23: =INDEX(DATE!$B$2:$B$4747,$D23+J$6-1) -> 14050719 | K23: =INDEX(DATE!$B$2:$B$4747,$D23+K$6-1) -> 14050720 | L23: =INDEX(DATE!$B$2:$B$4747,$D23+L$6-1) -> 14050721 | M23: =INDEX(DATE!$B$2:$B$4747,$D23+M$6-1) -> 14050722 | N23: =INDEX(DATE!$B$2:$B$4747,$D23+N$6-1) -> 14050723 | O23: =INDEX(DATE!$B$2:$B$4747,$D23+O$6-1) -> 14050724 | P23: =INDEX(DATE!$B$2:$B$4747,$D23+P$6-1) -> 14050801 | ... R23: =INDEX(DATE!$B$2:$B$4747,$D23+R$6-1) -> 14050916 | S23: =IF($F23>S$6-9,INDEX(DATE!$B$2:$B$4747,$D23+S$6-1),"") | T23: =IF($F23>T$6-9,INDEX(DATE!$B$2:$B$4747,$D23+T$6-1),"") | U23: =IF($F23>U$6-9,INDEX(DATE!$B$2:$B$4747,$D23+U$6-1),"") | V23: =IF($F23>V$6-9,INDEX(DATE!$B$2:$B$4747,$D23+V$6-1),"") | W23: =IF($F23>W$6-9,INDEX(DATE!$B$2:$B$4747,$D23+W$6-1),"") | X23: =IF($F23>X$6-9,INDEX(DATE!$B$2:$B$4747,$D23+X$6-1),"") | Y23: =IF($F23>Y$6-9,INDEX(DATE!$B$2:$B$4747,$D23+Y$6-1),"") | Z23: =IF($F23>Z$6-9,INDEX(DATE!$B$2:$B$4747,$D23+Z$6-1),"") | ... AD23: =IF($F23>AD$6-9,INDEX(DATE!$B$2:$B$4747,$D23+AD$6-1),"") | AE23: =SUM(H23<$C$3)+SUM(I23<$C$3)+SUM(J23<$C$3)+SUM(K23<$C$3)+SUM(L23<$C$3)+SUM(M23<$C$3)+SUM(N23<$C$3)+SUM(O23<$C$3)+SUM(P23<$C$3)+SUM(Q23<$C$3)+SUM(R23<$C$3)+SUM(S23<$C$3)+SUM(T23<$C$3)+SUM(U23<$C$3)+SUM(V23<$C$3)+SUM(W23<$C$3)+SUM(X23<$C$3)+SUM(Y23<$C$3)+SUM(Z23<$C$3)+SUM(AA23<$C$3)+SUM(AB23<$C$3)+SUM(AC23<$C$3)+SUM(AD23<$C$3) -> 0 | AF23: =COUNTA(H23:AD23)-COUNTBLANK(H23:AD23) -> 11
B24: 18 | C24: درس هیجده | D24: =MATCH(E24,DATE!$B$2:$B$4747,0) -> 2759 | E24: =IF($K$2="عادی",INDEX(DATE!$B$2:$B$4747,$D$2+B24-1),IF($K$2="بسیار سریع",INDEX(DATE!$B$2:$B$4747,$D$2+ROUND((B24)/2,0)-1),IF($K$2="بسیار آهسته",INDEX(DATE!$B$2:$B$4747,$D$2+ROUND((B24)*2,0)-1),INDEX(DATE!$B$2:$B$4747,$D$2+(B24-QUOTIENT(B24,$M$3))*2+(IF(($D$2+(B24-QUOTIENT(B24,$M$3))*2)-2=D23,1,0))-2)))) -> 14050718 | F24: 0 | G24: =IF(MAX(H24:AD24)<$C$3,1,IF(OR(H24=$C$3,I24=$C$3,J24=$C$3,K24=$C$3,L24=$C$3,M24=$C$3,N24=$C$3,O24=$C$3,P24=$C$3,Q24=$C$3,R24=$C$3,S24=$C$3,T24=$C$3,U24=$C$3,V24=$C$3,W24=$C$3,X24=$C$3,Y24=$C$3,Z24=$C$3,AA24=$C$3,AB24=$C$3,AC24=$C$3,AD24=$C$3),0,-1)) -> -1 | H24: =E24 -> 14050718 | I24: =INDEX(DATE!$B$2:$B$4747,$D24+I$6-1) -> 14050719 | J24: =INDEX(DATE!$B$2:$B$4747,$D24+J$6-1) -> 14050720 | K24: =INDEX(DATE!$B$2:$B$4747,$D24+K$6-1) -> 14050721 | L24: =INDEX(DATE!$B$2:$B$4747,$D24+L$6-1) -> 14050722 | M24: =INDEX(DATE!$B$2:$B$4747,$D24+M$6-1) -> 14050723 | N24: =INDEX(DATE!$B$2:$B$4747,$D24+N$6-1) -> 14050724 | O24: =INDEX(DATE!$B$2:$B$4747,$D24+O$6-1) -> 14050725 | P24: =INDEX(DATE!$B$2:$B$4747,$D24+P$6-1) -> 14050802 | ... R24: =INDEX(DATE!$B$2:$B$4747,$D24+R$6-1) -> 14050917 | S24: =IF($F24>S$6-9,INDEX(DATE!$B$2:$B$4747,$D24+S$6-1),"") | T24: =IF($F24>T$6-9,INDEX(DATE!$B$2:$B$4747,$D24+T$6-1),"") | U24: =IF($F24>U$6-9,INDEX(DATE!$B$2:$B$4747,$D24+U$6-1),"") | V24: =IF($F24>V$6-9,INDEX(DATE!$B$2:$B$4747,$D24+V$6-1),"") | W24: =IF($F24>W$6-9,INDEX(DATE!$B$2:$B$4747,$D24+W$6-1),"") | X24: =IF($F24>X$6-9,INDEX(DATE!$B$2:$B$4747,$D24+X$6-1),"") | Y24: =IF($F24>Y$6-9,INDEX(DATE!$B$2:$B$4747,$D24+Y$6-1),"") | Z24: =IF($F24>Z$6-9,INDEX(DATE!$B$2:$B$4747,$D24+Z$6-1),"") | ... AD24: =IF($F24>AD$6-9,INDEX(DATE!$B$2:$B$4747,$D24+AD$6-1),"") | AE24: =SUM(H24<$C$3)+SUM(I24<$C$3)+SUM(J24<$C$3)+SUM(K24<$C$3)+SUM(L24<$C$3)+SUM(M24<$C$3)+SUM(N24<$C$3)+SUM(O24<$C$3)+SUM(P24<$C$3)+SUM(Q24<$C$3)+SUM(R24<$C$3)+SUM(S24<$C$3)+SUM(T24<$C$3)+SUM(U24<$C$3)+SUM(V24<$C$3)+SUM(W24<$C$3)+SUM(X24<$C$3)+SUM(Y24<$C$3)+SUM(Z24<$C$3)+SUM(AA24<$C$3)+SUM(AB24<$C$3)+SUM(AC24<$C$3)+SUM(AD24<$C$3) -> 0 | AF24: =COUNTA(H24:AD24)-COUNTBLANK(H24:AD24) -> 11
B25: 19 | C25: درس نوزده | D25: =MATCH(E25,DATE!$B$2:$B$4747,0) -> 2760 | E25: =IF($K$2="عادی",INDEX(DATE!$B$2:$B$4747,$D$2+B25-1),IF($K$2="بسیار سریع",INDEX(DATE!$B$2:$B$4747,$D$2+ROUND((B25)/2,0)-1),IF($K$2="بسیار آهسته",INDEX(DATE!$B$2:$B$4747,$D$2+ROUND((B25)*2,0)-1),INDEX(DATE!$B$2:$B$4747,$D$2+(B25-QUOTIENT(B25,$M$3))*2+(IF(($D$2+(B25-QUOTIENT(B25,$M$3))*2)-2=D24,1,0))-2)))) -> 14050719 | F25: 0 | G25: =IF(MAX(H25:AD25)<$C$3,1,IF(OR(H25=$C$3,I25=$C$3,J25=$C$3,K25=$C$3,L25=$C$3,M25=$C$3,N25=$C$3,O25=$C$3,P25=$C$3,Q25=$C$3,R25=$C$3,S25=$C$3,T25=$C$3,U25=$C$3,V25=$C$3,W25=$C$3,X25=$C$3,Y25=$C$3,Z25=$C$3,AA25=$C$3,AB25=$C$3,AC25=$C$3,AD25=$C$3),0,-1)) -> -1 | H25: =E25 -> 14050719 | I25: =INDEX(DATE!$B$2:$B$4747,$D25+I$6-1) -> 14050720 | J25: =INDEX(DATE!$B$2:$B$4747,$D25+J$6-1) -> 14050721 | K25: =INDEX(DATE!$B$2:$B$4747,$D25+K$6-1) -> 14050722 | L25: =INDEX(DATE!$B$2:$B$4747,$D25+L$6-1) -> 14050723 | M25: =INDEX(DATE!$B$2:$B$4747,$D25+M$6-1) -> 14050724 | N25: =INDEX(DATE!$B$2:$B$4747,$D25+N$6-1) -> 14050725 | O25: =INDEX(DATE!$B$2:$B$4747,$D25+O$6-1) -> 14050726 | P25: =INDEX(DATE!$B$2:$B$4747,$D25+P$6-1) -> 14050803 | ... R25: =INDEX(DATE!$B$2:$B$4747,$D25+R$6-1) -> 14050918 | S25: =IF($F25>S$6-9,INDEX(DATE!$B$2:$B$4747,$D25+S$6-1),"") | T25: =IF($F25>T$6-9,INDEX(DATE!$B$2:$B$4747,$D25+T$6-1),"") | U25: =IF($F25>U$6-9,INDEX(DATE!$B$2:$B$4747,$D25+U$6-1),"") | V25: =IF($F25>V$6-9,INDEX(DATE!$B$2:$B$4747,$D25+V$6-1),"") | W25: =IF($F25>W$6-9,INDEX(DATE!$B$2:$B$4747,$D25+W$6-1),"") | X25: =IF($F25>X$6-9,INDEX(DATE!$B$2:$B$4747,$D25+X$6-1),"") | Y25: =IF($F25>Y$6-9,INDEX(DATE!$B$2:$B$4747,$D25+Y$6-1),"") | Z25: =IF($F25>Z$6-9,INDEX(DATE!$B$2:$B$4747,$D25+Z$6-1),"") | ... AD25: =IF($F25>AD$6-9,INDEX(DATE!$B$2:$B$4747,$D25+AD$6-1),"") | AE25: =SUM(H25<$C$3)+SUM(I25<$C$3)+SUM(J25<$C$3)+SUM(K25<$C$3)+SUM(L25<$C$3)+SUM(M25<$C$3)+SUM(N25<$C$3)+SUM(O25<$C$3)+SUM(P25<$C$3)+SUM(Q25<$C$3)+SUM(R25<$C$3)+SUM(S25<$C$3)+SUM(T25<$C$3)+SUM(U25<$C$3)+SUM(V25<$C$3)+SUM(W25<$C$3)+SUM(X25<$C$3)+SUM(Y25<$C$3)+SUM(Z25<$C$3)+SUM(AA25<$C$3)+SUM(AB25<$C$3)+SUM(AC25<$C$3)+SUM(AD25<$C$3) -> 0 | AF25: =COUNTA(H25:AD25)-COUNTBLANK(H25:AD25) -> 11
B26: 20 | C26: درس بیست | D26: =MATCH(E26,DATE!$B$2:$B$4747,0) -> 2761 | E26: =IF($K$2="عادی",INDEX(DATE!$B$2:$B$4747,$D$2+B26-1),IF($K$2="بسیار سریع",INDEX(DATE!$B$2:$B$4747,$D$2+ROUND((B26)/2,0)-1),IF($K$2="بسیار آهسته",INDEX(DATE!$B$2:$B$4747,$D$2+ROUND((B26)*2,0)-1),INDEX(DATE!$B$2:$B$4747,$D$2+(B26-QUOTIENT(B26,$M$3))*2+(IF(($D$2+(B26-QUOTIENT(B26,$M$3))*2)-2=D25,1,0))-2)))) -> 14050720 | F26: 0 | G26: =IF(MAX(H26:AD26)<$C$3,1,IF(OR(H26=$C$3,I26=$C$3,J26=$C$3,K26=$C$3,L26=$C$3,M26=$C$3,N26=$C$3,O26=$C$3,P26=$C$3,Q26=$C$3,R26=$C$3,S26=$C$3,T26=$C$3,U26=$C$3,V26=$C$3,W26=$C$3,X26=$C$3,Y26=$C$3,Z26=$C$3,AA26=$C$3,AB26=$C$3,AC26=$C$3,AD26=$C$3),0,-1)) -> -1 | H26: =E26 -> 14050720 | I26: =INDEX(DATE!$B$2:$B$4747,$D26+I$6-1) -> 14050721 | J26: =INDEX(DATE!$B$2:$B$4747,$D26+J$6-1) -> 14050722 | K26: =INDEX(DATE!$B$2:$B$4747,$D26+K$6-1) -> 14050723 | L26: =INDEX(DATE!$B$2:$B$4747,$D26+L$6-1) -> 14050724 | M26: =INDEX(DATE!$B$2:$B$4747,$D26+M$6-1) -> 14050725 | N26: =INDEX(DATE!$B$2:$B$4747,$D26+N$6-1) -> 14050726 | O26: =INDEX(DATE!$B$2:$B$4747,$D26+O$6-1) -> 14050727 | P26: =INDEX(DATE!$B$2:$B$4747,$D26+P$6-1) -> 14050804 | ... R26: =INDEX(DATE!$B$2:$B$4747,$D26+R$6-1) -> 14050919 | S26: =IF($F26>S$6-9,INDEX(DATE!$B$2:$B$4747,$D26+S$6-1),"") | T26: =IF($F26>T$6-9,INDEX(DATE!$B$2:$B$4747,$D26+T$6-1),"") | U26: =IF($F26>U$6-9,INDEX(DATE!$B$2:$B$4747,$D26+U$6-1),"") | V26: =IF($F26>V$6-9,INDEX(DATE!$B$2:$B$4747,$D26+V$6-1),"") | W26: =IF($F26>W$6-9,INDEX(DATE!$B$2:$B$4747,$D26+W$6-1),"") | X26: =IF($F26>X$6-9,INDEX(DATE!$B$2:$B$4747,$D26+X$6-1),"") | Y26: =IF($F26>Y$6-9,INDEX(DATE!$B$2:$B$4747,$D26+Y$6-1),"") | Z26: =IF($F26>Z$6-9,INDEX(DATE!$B$2:$B$4747,$D26+Z$6-1),"") | ... AD26: =IF($F26>AD$6-9,INDEX(DATE!$B$2:$B$4747,$D26+AD$6-1),"") | AE26: =SUM(H26<$C$3)+SUM(I26<$C$3)+SUM(J26<$C$3)+SUM(K26<$C$3)+SUM(L26<$C$3)+SUM(M26<$C$3)+SUM(N26<$C$3)+SUM(O26<$C$3)+SUM(P26<$C$3)+SUM(Q26<$C$3)+SUM(R26<$C$3)+SUM(S26<$C$3)+SUM(T26<$C$3)+SUM(U26<$C$3)+SUM(V26<$C$3)+SUM(W26<$C$3)+SUM(X26<$C$3)+SUM(Y26<$C$3)+SUM(Z26<$C$3)+SUM(AA26<$C$3)+SUM(AB26<$C$3)+SUM(AC26<$C$3)+SUM(AD26<$C$3) -> 0 | AF26: =COUNTA(H26:AD26)-COUNTBLANK(H26:AD26) -> 11
B27: 21 | C27: درس بیست و یک | D27: =MATCH(E27,DATE!$B$2:$B$4747,0) -> 2762 | E27: =IF($K$2="عادی",INDEX(DATE!$B$2:$B$4747,$D$2+B27-1),IF($K$2="بسیار سریع",INDEX(DATE!$B$2:$B$4747,$D$2+ROUND((B27)/2,0)-1),IF($K$2="بسیار آهسته",INDEX(DATE!$B$2:$B$4747,$D$2+ROUND((B27)*2,0)-1),INDEX(DATE!$B$2:$B$4747,$D$2+(B27-QUOTIENT(B27,$M$3))*2+(IF(($D$2+(B27-QUOTIENT(B27,$M$3))*2)-2=D26,1,0))-2)))) -> 14050721 | F27: 0 | G27: =IF(MAX(H27:AD27)<$C$3,1,IF(OR(H27=$C$3,I27=$C$3,J27=$C$3,K27=$C$3,L27=$C$3,M27=$C$3,N27=$C$3,O27=$C$3,P27=$C$3,Q27=$C$3,R27=$C$3,S27=$C$3,T27=$C$3,U27=$C$3,V27=$C$3,W27=$C$3,X27=$C$3,Y27=$C$3,Z27=$C$3,AA27=$C$3,AB27=$C$3,AC27=$C$3,AD27=$C$3),0,-1)) -> -1 | H27: =E27 -> 14050721 | I27: =INDEX(DATE!$B$2:$B$4747,$D27+I$6-1) -> 14050722 | J27: =INDEX(DATE!$B$2:$B$4747,$D27+J$6-1) -> 14050723 | K27: =INDEX(DATE!$B$2:$B$4747,$D27+K$6-1) -> 14050724 | L27: =INDEX(DATE!$B$2:$B$4747,$D27+L$6-1) -> 14050725 | M27: =INDEX(DATE!$B$2:$B$4747,$D27+M$6-1) -> 14050726 | N27: =INDEX(DATE!$B$2:$B$4747,$D27+N$6-1) -> 14050727 | O27: =INDEX(DATE!$B$2:$B$4747,$D27+O$6-1) -> 14050728 | P27: =INDEX(DATE!$B$2:$B$4747,$D27+P$6-1) -> 14050805 | ... R27: =INDEX(DATE!$B$2:$B$4747,$D27+R$6-1) -> 14050920 | S27: =IF($F27>S$6-9,INDEX(DATE!$B$2:$B$4747,$D27+S$6-1),"") | T27: =IF($F27>T$6-9,INDEX(DATE!$B$2:$B$4747,$D27+T$6-1),"") | U27: =IF($F27>U$6-9,INDEX(DATE!$B$2:$B$4747,$D27+U$6-1),"") | V27: =IF($F27>V$6-9,INDEX(DATE!$B$2:$B$4747,$D27+V$6-1),"") | W27: =IF($F27>W$6-9,INDEX(DATE!$B$2:$B$4747,$D27+W$6-1),"") | X27: =IF($F27>X$6-9,INDEX(DATE!$B$2:$B$4747,$D27+X$6-1),"") | Y27: =IF($F27>Y$6-9,INDEX(DATE!$B$2:$B$4747,$D27+Y$6-1),"") | Z27: =IF($F27>Z$6-9,INDEX(DATE!$B$2:$B$4747,$D27+Z$6-1),"") | ... AD27: =IF($F27>AD$6-9,INDEX(DATE!$B$2:$B$4747,$D27+AD$6-1),"") | AE27: =SUM(H27<$C$3)+SUM(I27<$C$3)+SUM(J27<$C$3)+SUM(K27<$C$3)+SUM(L27<$C$3)+SUM(M27<$C$3)+SUM(N27<$C$3)+SUM(O27<$C$3)+SUM(P27<$C$3)+SUM(Q27<$C$3)+SUM(R27<$C$3)+SUM(S27<$C$3)+SUM(T27<$C$3)+SUM(U27<$C$3)+SUM(V27<$C$3)+SUM(W27<$C$3)+SUM(X27<$C$3)+SUM(Y27<$C$3)+SUM(Z27<$C$3)+SUM(AA27<$C$3)+SUM(AB27<$C$3)+SUM(AC27<$C$3)+SUM(AD27<$C$3) -> 0 | AF27: =COUNTA(H27:AD27)-COUNTBLANK(H27:AD27) -> 11
B28: 22 | C28: درس بیست و دو | D28: =MATCH(E28,DATE!$B$2:$B$4747,0) -> 2763 | E28: =IF($K$2="عادی",INDEX(DATE!$B$2:$B$4747,$D$2+B28-1),IF($K$2="بسیار سریع",INDEX(DATE!$B$2:$B$4747,$D$2+ROUND((B28)/2,0)-1),IF($K$2="بسیار آهسته",INDEX(DATE!$B$2:$B$4747,$D$2+ROUND((B28)*2,0)-1),INDEX(DATE!$B$2:$B$4747,$D$2+(B28-QUOTIENT(B28,$M$3))*2+(IF(($D$2+(B28-QUOTIENT(B28,$M$3))*2)-2=D27,1,0))-2)))) -> 14050722 | F28: 0 | G28: =IF(MAX(H28:AD28)<$C$3,1,IF(OR(H28=$C$3,I28=$C$3,J28=$C$3,K28=$C$3,L28=$C$3,M28=$C$3,N28=$C$3,O28=$C$3,P28=$C$3,Q28=$C$3,R28=$C$3,S28=$C$3,T28=$C$3,U28=$C$3,V28=$C$3,W28=$C$3,X28=$C$3,Y28=$C$3,Z28=$C$3,AA28=$C$3,AB28=$C$3,AC28=$C$3,AD28=$C$3),0,-1)) -> -1 | H28: =E28 -> 14050722 | I28: =INDEX(DATE!$B$2:$B$4747,$D28+I$6-1) -> 14050723 | J28: =INDEX(DATE!$B$2:$B$4747,$D28+J$6-1) -> 14050724 | K28: =INDEX(DATE!$B$2:$B$4747,$D28+K$6-1) -> 14050725 | L28: =INDEX(DATE!$B$2:$B$4747,$D28+L$6-1) -> 14050726 | M28: =INDEX(DATE!$B$2:$B$4747,$D28+M$6-1) -> 14050727 | N28: =INDEX(DATE!$B$2:$B$4747,$D28+N$6-1) -> 14050728 | O28: =INDEX(DATE!$B$2:$B$4747,$D28+O$6-1) -> 14050729 | P28: =INDEX(DATE!$B$2:$B$4747,$D28+P$6-1) -> 14050806 | ... R28: =INDEX(DATE!$B$2:$B$4747,$D28+R$6-1) -> 14050921 | S28: =IF($F28>S$6-9,INDEX(DATE!$B$2:$B$4747,$D28+S$6-1),"") | T28: =IF($F28>T$6-9,INDEX(DATE!$B$2:$B$4747,$D28+T$6-1),"") | U28: =IF($F28>U$6-9,INDEX(DATE!$B$2:$B$4747,$D28+U$6-1),"") | V28: =IF($F28>V$6-9,INDEX(DATE!$B$2:$B$4747,$D28+V$6-1),"") | W28: =IF($F28>W$6-9,INDEX(DATE!$B$2:$B$4747,$D28+W$6-1),"") | X28: =IF($F28>X$6-9,INDEX(DATE!$B$2:$B$4747,$D28+X$6-1),"") | Y28: =IF($F28>Y$6-9,INDEX(DATE!$B$2:$B$4747,$D28+Y$6-1),"") | Z28: =IF($F28>Z$6-9,INDEX(DATE!$B$2:$B$4747,$D28+Z$6-1),"") | ... AD28: =IF($F28>AD$6-9,INDEX(DATE!$B$2:$B$4747,$D28+AD$6-1),"") | AE28: =SUM(H28<$C$3)+SUM(I28<$C$3)+SUM(J28<$C$3)+SUM(K28<$C$3)+SUM(L28<$C$3)+SUM(M28<$C$3)+SUM(N28<$C$3)+SUM(O28<$C$3)+SUM(P28<$C$3)+SUM(Q28<$C$3)+SUM(R28<$C$3)+SUM(S28<$C$3)+SUM(T28<$C$3)+SUM(U28<$C$3)+SUM(V28<$C$3)+SUM(W28<$C$3)+SUM(X28<$C$3)+SUM(Y28<$C$3)+SUM(Z28<$C$3)+SUM(AA28<$C$3)+SUM(AB28<$C$3)+SUM(AC28<$C$3)+SUM(AD28<$C$3) -> 0 | AF28: =COUNTA(H28:AD28)-COUNTBLANK(H28:AD28) -> 11
B29: 23 | C29: درس بیست و سه | D29: =MATCH(E29,DATE!$B$2:$B$4747,0) -> 2764 | E29: =IF($K$2="عادی",INDEX(DATE!$B$2:$B$4747,$D$2+B29-1),IF($K$2="بسیار سریع",INDEX(DATE!$B$2:$B$4747,$D$2+ROUND((B29)/2,0)-1),IF($K$2="بسیار آهسته",INDEX(DATE!$B$2:$B$4747,$D$2+ROUND((B29)*2,0)-1),INDEX(DATE!$B$2:$B$4747,$D$2+(B29-QUOTIENT(B29,$M$3))*2+(IF(($D$2+(B29-QUOTIENT(B29,$M$3))*2)-2=D28,1,0))-2)))) -> 14050723 | F29: 0 | G29: =IF(MAX(H29:AD29)<$C$3,1,IF(OR(H29=$C$3,I29=$C$3,J29=$C$3,K29=$C$3,L29=$C$3,M29=$C$3,N29=$C$3,O29=$C$3,P29=$C$3,Q29=$C$3,R29=$C$3,S29=$C$3,T29=$C$3,U29=$C$3,V29=$C$3,W29=$C$3,X29=$C$3,Y29=$C$3,Z29=$C$3,AA29=$C$3,AB29=$C$3,AC29=$C$3,AD29=$C$3),0,-1)) -> -1 | H29: =E29 -> 14050723 | I29: =INDEX(DATE!$B$2:$B$4747,$D29+I$6-1) -> 14050724 | J29: =INDEX(DATE!$B$2:$B$4747,$D29+J$6-1) -> 14050725 | K29: =INDEX(DATE!$B$2:$B$4747,$D29+K$6-1) -> 14050726 | L29: =INDEX(DATE!$B$2:$B$4747,$D29+L$6-1) -> 14050727 | M29: =INDEX(DATE!$B$2:$B$4747,$D29+M$6-1) -> 14050728 | N29: =INDEX(DATE!$B$2:$B$4747,$D29+N$6-1) -> 14050729 | O29: =INDEX(DATE!$B$2:$B$4747,$D29+O$6-1) -> 14050730 | P29: =INDEX(DATE!$B$2:$B$4747,$D29+P$6-1) -> 14050807 | ... R29: =INDEX(DATE!$B$2:$B$4747,$D29+R$6-1) -> 14050922 | S29: =IF($F29>S$6-9,INDEX(DATE!$B$2:$B$4747,$D29+S$6-1),"") | T29: =IF($F29>T$6-9,INDEX(DATE!$B$2:$B$4747,$D29+T$6-1),"") | U29: =IF($F29>U$6-9,INDEX(DATE!$B$2:$B$4747,$D29+U$6-1),"") | V29: =IF($F29>V$6-9,INDEX(DATE!$B$2:$B$4747,$D29+V$6-1),"") | W29: =IF($F29>W$6-9,INDEX(DATE!$B$2:$B$4747,$D29+W$6-1),"") | X29: =IF($F29>X$6-9,INDEX(DATE!$B$2:$B$4747,$D29+X$6-1),"") | Y29: =IF($F29>Y$6-9,INDEX(DATE!$B$2:$B$4747,$D29+Y$6-1),"") | Z29: =IF($F29>Z$6-9,INDEX(DATE!$B$2:$B$4747,$D29+Z$6-1),"") | ... AD29: =IF($F29>AD$6-9,INDEX(DATE!$B$2:$B$4747,$D29+AD$6-1),"") | AE29: =SUM(H29<$C$3)+SUM(I29<$C$3)+SUM(J29<$C$3)+SUM(K29<$C$3)+SUM(L29<$C$3)+SUM(M29<$C$3)+SUM(N29<$C$3)+SUM(O29<$C$3)+SUM(P29<$C$3)+SUM(Q29<$C$3)+SUM(R29<$C$3)+SUM(S29<$C$3)+SUM(T29<$C$3)+SUM(U29<$C$3)+SUM(V29<$C$3)+SUM(W29<$C$3)+SUM(X29<$C$3)+SUM(Y29<$C$3)+SUM(Z29<$C$3)+SUM(AA29<$C$3)+SUM(AB29<$C$3)+SUM(AC29<$C$3)+SUM(AD29<$C$3) -> 0 | AF29: =COUNTA(H29:AD29)-COUNTBLANK(H29:AD29) -> 11
B30: 24 | C30: درس بیست و چهار | D30: =MATCH(E30,DATE!$B$2:$B$4747,0) -> 2765 | E30: =IF($K$2="عادی",INDEX(DATE!$B$2:$B$4747,$D$2+B30-1),IF($K$2="بسیار سریع",INDEX(DATE!$B$2:$B$4747,$D$2+ROUND((B30)/2,0)-1),IF($K$2="بسیار آهسته",INDEX(DATE!$B$2:$B$4747,$D$2+ROUND((B30)*2,0)-1),INDEX(DATE!$B$2:$B$4747,$D$2+(B30-QUOTIENT(B30,$M$3))*2+(IF(($D$2+(B30-QUOTIENT(B30,$M$3))*2)-2=D29,1,0))-2)))) -> 14050724 | F30: 0 | G30: =IF(MAX(H30:AD30)<$C$3,1,IF(OR(H30=$C$3,I30=$C$3,J30=$C$3,K30=$C$3,L30=$C$3,M30=$C$3,N30=$C$3,O30=$C$3,P30=$C$3,Q30=$C$3,R30=$C$3,S30=$C$3,T30=$C$3,U30=$C$3,V30=$C$3,W30=$C$3,X30=$C$3,Y30=$C$3,Z30=$C$3,AA30=$C$3,AB30=$C$3,AC30=$C$3,AD30=$C$3),0,-1)) -> -1 | H30: =E30 -> 14050724 | I30: =INDEX(DATE!$B$2:$B$4747,$D30+I$6-1) -> 14050725 | J30: =INDEX(DATE!$B$2:$B$4747,$D30+J$6-1) -> 14050726 | K30: =INDEX(DATE!$B$2:$B$4747,$D30+K$6-1) -> 14050727 | L30: =INDEX(DATE!$B$2:$B$4747,$D30+L$6-1) -> 14050728 | M30: =INDEX(DATE!$B$2:$B$4747,$D30+M$6-1) -> 14050729 | N30: =INDEX(DATE!$B$2:$B$4747,$D30+N$6-1) -> 14050730 | O30: =INDEX(DATE!$B$2:$B$4747,$D30+O$6-1) -> 14050801 | P30: =INDEX(DATE!$B$2:$B$4747,$D30+P$6-1) -> 14050808 | ... R30: =INDEX(DATE!$B$2:$B$4747,$D30+R$6-1) -> 14050923 | S30: =IF($F30>S$6-9,INDEX(DATE!$B$2:$B$4747,$D30+S$6-1),"") | T30: =IF($F30>T$6-9,INDEX(DATE!$B$2:$B$4747,$D30+T$6-1),"") | U30: =IF($F30>U$6-9,INDEX(DATE!$B$2:$B$4747,$D30+U$6-1),"") | V30: =IF($F30>V$6-9,INDEX(DATE!$B$2:$B$4747,$D30+V$6-1),"") | W30: =IF($F30>W$6-9,INDEX(DATE!$B$2:$B$4747,$D30+W$6-1),"") | X30: =IF($F30>X$6-9,INDEX(DATE!$B$2:$B$4747,$D30+X$6-1),"") | Y30: =IF($F30>Y$6-9,INDEX(DATE!$B$2:$B$4747,$D30+Y$6-1),"") | Z30: =IF($F30>Z$6-9,INDEX(DATE!$B$2:$B$4747,$D30+Z$6-1),"") | ... AD30: =IF($F30>AD$6-9,INDEX(DATE!$B$2:$B$4747,$D30+AD$6-1),"") | AE30: =SUM(H30<$C$3)+SUM(I30<$C$3)+SUM(J30<$C$3)+SUM(K30<$C$3)+SUM(L30<$C$3)+SUM(M30<$C$3)+SUM(N30<$C$3)+SUM(O30<$C$3)+SUM(P30<$C$3)+SUM(Q30<$C$3)+SUM(R30<$C$3)+SUM(S30<$C$3)+SUM(T30<$C$3)+SUM(U30<$C$3)+SUM(V30<$C$3)+SUM(W30<$C$3)+SUM(X30<$C$3)+SUM(Y30<$C$3)+SUM(Z30<$C$3)+SUM(AA30<$C$3)+SUM(AB30<$C$3)+SUM(AC30<$C$3)+SUM(AD30<$C$3) -> 0 | AF30: =COUNTA(H30:AD30)-COUNTBLANK(H30:AD30) -> 11
B31: 25 | C31: درس بیست و پنج | D31: =MATCH(E31,DATE!$B$2:$B$4747,0) -> 2766 | E31: =IF($K$2="عادی",INDEX(DATE!$B$2:$B$4747,$D$2+B31-1),IF($K$2="بسیار سریع",INDEX(DATE!$B$2:$B$4747,$D$2+ROUND((B31)/2,0)-1),IF($K$2="بسیار آهسته",INDEX(DATE!$B$2:$B$4747,$D$2+ROUND((B31)*2,0)-1),INDEX(DATE!$B$2:$B$4747,$D$2+(B31-QUOTIENT(B31,$M$3))*2+(IF(($D$2+(B31-QUOTIENT(B31,$M$3))*2)-2=D30,1,0))-2)))) -> 14050725 | F31: 0 | G31: =IF(MAX(H31:AD31)<$C$3,1,IF(OR(H31=$C$3,I31=$C$3,J31=$C$3,K31=$C$3,L31=$C$3,M31=$C$3,N31=$C$3,O31=$C$3,P31=$C$3,Q31=$C$3,R31=$C$3,S31=$C$3,T31=$C$3,U31=$C$3,V31=$C$3,W31=$C$3,X31=$C$3,Y31=$C$3,Z31=$C$3,AA31=$C$3,AB31=$C$3,AC31=$C$3,AD31=$C$3),0,-1)) -> -1 | H31: =E31 -> 14050725 | I31: =INDEX(DATE!$B$2:$B$4747,$D31+I$6-1) -> 14050726 | J31: =INDEX(DATE!$B$2:$B$4747,$D31+J$6-1) -> 14050727 | K31: =INDEX(DATE!$B$2:$B$4747,$D31+K$6-1) -> 14050728 | L31: =INDEX(DATE!$B$2:$B$4747,$D31+L$6-1) -> 14050729 | M31: =INDEX(DATE!$B$2:$B$4747,$D31+M$6-1) -> 14050730 | N31: =INDEX(DATE!$B$2:$B$4747,$D31+N$6-1) -> 14050801 | O31: =INDEX(DATE!$B$2:$B$4747,$D31+O$6-1) -> 14050802 | P31: =INDEX(DATE!$B$2:$B$4747,$D31+P$6-1) -> 14050809 | ... R31: =INDEX(DATE!$B$2:$B$4747,$D31+R$6-1) -> 14050924 | S31: =IF($F31>S$6-9,INDEX(DATE!$B$2:$B$4747,$D31+S$6-1),"") | T31: =IF($F31>T$6-9,INDEX(DATE!$B$2:$B$4747,$D31+T$6-1),"") | U31: =IF($F31>U$6-9,INDEX(DATE!$B$2:$B$4747,$D31+U$6-1),"") | V31: =IF($F31>V$6-9,INDEX(DATE!$B$2:$B$4747,$D31+V$6-1),"") | W31: =IF($F31>W$6-9,INDEX(DATE!$B$2:$B$4747,$D31+W$6-1),"") | X31: =IF($F31>X$6-9,INDEX(DATE!$B$2:$B$4747,$D31+X$6-1),"") | Y31: =IF($F31>Y$6-9,INDEX(DATE!$B$2:$B$4747,$D31+Y$6-1),"") | Z31: =IF($F31>Z$6-9,INDEX(DATE!$B$2:$B$4747,$D31+Z$6-1),"") | ... AD31: =IF($F31>AD$6-9,INDEX(DATE!$B$2:$B$4747,$D31+AD$6-1),"") | AE31: =SUM(H31<$C$3)+SUM(I31<$C$3)+SUM(J31<$C$3)+SUM(K31<$C$3)+SUM(L31<$C$3)+SUM(M31<$C$3)+SUM(N31<$C$3)+SUM(O31<$C$3)+SUM(P31<$C$3)+SUM(Q31<$C$3)+SUM(R31<$C$3)+SUM(S31<$C$3)+SUM(T31<$C$3)+SUM(U31<$C$3)+SUM(V31<$C$3)+SUM(W31<$C$3)+SUM(X31<$C$3)+SUM(Y31<$C$3)+SUM(Z31<$C$3)+SUM(AA31<$C$3)+SUM(AB31<$C$3)+SUM(AC31<$C$3)+SUM(AD31<$C$3) -> 0 | AF31: =COUNTA(H31:AD31)-COUNTBLANK(H31:AD31) -> 11
B32: 26 | C32: درس بیست و شش | D32: =MATCH(E32,DATE!$B$2:$B$4747,0) -> 2767 | E32: =IF($K$2="عادی",INDEX(DATE!$B$2:$B$4747,$D$2+B32-1),IF($K$2="بسیار سریع",INDEX(DATE!$B$2:$B$4747,$D$2+ROUND((B32)/2,0)-1),IF($K$2="بسیار آهسته",INDEX(DATE!$B$2:$B$4747,$D$2+ROUND((B32)*2,0)-1),INDEX(DATE!$B$2:$B$4747,$D$2+(B32-QUOTIENT(B32,$M$3))*2+(IF(($D$2+(B32-QUOTIENT(B32,$M$3))*2)-2=D31,1,0))-2)))) -> 14050726 | F32: 0 | G32: =IF(MAX(H32:AD32)<$C$3,1,IF(OR(H32=$C$3,I32=$C$3,J32=$C$3,K32=$C$3,L32=$C$3,M32=$C$3,N32=$C$3,O32=$C$3,P32=$C$3,Q32=$C$3,R32=$C$3,S32=$C$3,T32=$C$3,U32=$C$3,V32=$C$3,W32=$C$3,X32=$C$3,Y32=$C$3,Z32=$C$3,AA32=$C$3,AB32=$C$3,AC32=$C$3,AD32=$C$3),0,-1)) -> -1 | H32: =E32 -> 14050726 | I32: =INDEX(DATE!$B$2:$B$4747,$D32+I$6-1) -> 14050727 | J32: =INDEX(DATE!$B$2:$B$4747,$D32+J$6-1) -> 14050728 | K32: =INDEX(DATE!$B$2:$B$4747,$D32+K$6-1) -> 14050729 | L32: =INDEX(DATE!$B$2:$B$4747,$D32+L$6-1) -> 14050730 | M32: =INDEX(DATE!$B$2:$B$4747,$D32+M$6-1) -> 14050801 | N32: =INDEX(DATE!$B$2:$B$4747,$D32+N$6-1) -> 14050802 | O32: =INDEX(DATE!$B$2:$B$4747,$D32+O$6-1) -> 14050803 | P32: =INDEX(DATE!$B$2:$B$4747,$D32+P$6-1) -> 14050810 | ... R32: =INDEX(DATE!$B$2:$B$4747,$D32+R$6-1) -> 14050925 | S32: =IF($F32>S$6-9,INDEX(DATE!$B$2:$B$4747,$D32+S$6-1),"") | T32: =IF($F32>T$6-9,INDEX(DATE!$B$2:$B$4747,$D32+T$6-1),"") | U32: =IF($F32>U$6-9,INDEX(DATE!$B$2:$B$4747,$D32+U$6-1),"") | V32: =IF($F32>V$6-9,INDEX(DATE!$B$2:$B$4747,$D32+V$6-1),"") | W32: =IF($F32>W$6-9,INDEX(DATE!$B$2:$B$4747,$D32+W$6-1),"") | X32: =IF($F32>X$6-9,INDEX(DATE!$B$2:$B$4747,$D32+X$6-1),"") | Y32: =IF($F32>Y$6-9,INDEX(DATE!$B$2:$B$4747,$D32+Y$6-1),"") | Z32: =IF($F32>Z$6-9,INDEX(DATE!$B$2:$B$4747,$D32+Z$6-1),"") | ... AD32: =IF($F32>AD$6-9,INDEX(DATE!$B$2:$B$4747,$D32+AD$6-1),"") | AE32: =SUM(H32<$C$3)+SUM(I32<$C$3)+SUM(J32<$C$3)+SUM(K32<$C$3)+SUM(L32<$C$3)+SUM(M32<$C$3)+SUM(N32<$C$3)+SUM(O32<$C$3)+SUM(P32<$C$3)+SUM(Q32<$C$3)+SUM(R32<$C$3)+SUM(S32<$C$3)+SUM(T32<$C$3)+SUM(U32<$C$3)+SUM(V32<$C$3)+SUM(W32<$C$3)+SUM(X32<$C$3)+SUM(Y32<$C$3)+SUM(Z32<$C$3)+SUM(AA32<$C$3)+SUM(AB32<$C$3)+SUM(AC32<$C$3)+SUM(AD32<$C$3) -> 0 | AF32: =COUNTA(H32:AD32)-COUNTBLANK(H32:AD32) -> 11
B33: 27 | C33: درس بیست و هفت | D33: =MATCH(E33,DATE!$B$2:$B$4747,0) -> 2768 | E33: =IF($K$2="عادی",INDEX(DATE!$B$2:$B$4747,$D$2+B33-1),IF($K$2="بسیار سریع",INDEX(DATE!$B$2:$B$4747,$D$2+ROUND((B33)/2,0)-1),IF($K$2="بسیار آهسته",INDEX(DATE!$B$2:$B$4747,$D$2+ROUND((B33)*2,0)-1),INDEX(DATE!$B$2:$B$4747,$D$2+(B33-QUOTIENT(B33,$M$3))*2+(IF(($D$2+(B33-QUOTIENT(B33,$M$3))*2)-2=D32,1,0))-2)))) -> 14050727 | F33: 0 | G33: =IF(MAX(H33:AD33)<$C$3,1,IF(OR(H33=$C$3,I33=$C$3,J33=$C$3,K33=$C$3,L33=$C$3,M33=$C$3,N33=$C$3,O33=$C$3,P33=$C$3,Q33=$C$3,R33=$C$3,S33=$C$3,T33=$C$3,U33=$C$3,V33=$C$3,W33=$C$3,X33=$C$3,Y33=$C$3,Z33=$C$3,AA33=$C$3,AB33=$C$3,AC33=$C$3,AD33=$C$3),0,-1)) -> -1 | H33: =E33 -> 14050727 | I33: =INDEX(DATE!$B$2:$B$4747,$D33+I$6-1) -> 14050728 | J33: =INDEX(DATE!$B$2:$B$4747,$D33+J$6-1) -> 14050729 | K33: =INDEX(DATE!$B$2:$B$4747,$D33+K$6-1) -> 14050730 | L33: =INDEX(DATE!$B$2:$B$4747,$D33+L$6-1) -> 14050801 | M33: =INDEX(DATE!$B$2:$B$4747,$D33+M$6-1) -> 14050802 | N33: =INDEX(DATE!$B$2:$B$4747,$D33+N$6-1) -> 14050803 | O33: =INDEX(DATE!$B$2:$B$4747,$D33+O$6-1) -> 14050804 | P33: =INDEX(DATE!$B$2:$B$4747,$D33+P$6-1) -> 14050811 | ... R33: =INDEX(DATE!$B$2:$B$4747,$D33+R$6-1) -> 14050926 | S33: =IF($F33>S$6-9,INDEX(DATE!$B$2:$B$4747,$D33+S$6-1),"") | T33: =IF($F33>T$6-9,INDEX(DATE!$B$2:$B$4747,$D33+T$6-1),"") | U33: =IF($F33>U$6-9,INDEX(DATE!$B$2:$B$4747,$D33+U$6-1),"") | V33: =IF($F33>V$6-9,INDEX(DATE!$B$2:$B$4747,$D33+V$6-1),"") | W33: =IF($F33>W$6-9,INDEX(DATE!$B$2:$B$4747,$D33+W$6-1),"") | X33: =IF($F33>X$6-9,INDEX(DATE!$B$2:$B$4747,$D33+X$6-1),"") | Y33: =IF($F33>Y$6-9,INDEX(DATE!$B$2:$B$4747,$D33+Y$6-1),"") | Z33: =IF($F33>Z$6-9,INDEX(DATE!$B$2:$B$4747,$D33+Z$6-1),"") | ... AD33: =IF($F33>AD$6-9,INDEX(DATE!$B$2:$B$4747,$D33+AD$6-1),"") | AE33: =SUM(H33<$C$3)+SUM(I33<$C$3)+SUM(J33<$C$3)+SUM(K33<$C$3)+SUM(L33<$C$3)+SUM(M33<$C$3)+SUM(N33<$C$3)+SUM(O33<$C$3)+SUM(P33<$C$3)+SUM(Q33<$C$3)+SUM(R33<$C$3)+SUM(S33<$C$3)+SUM(T33<$C$3)+SUM(U33<$C$3)+SUM(V33<$C$3)+SUM(W33<$C$3)+SUM(X33<$C$3)+SUM(Y33<$C$3)+SUM(Z33<$C$3)+SUM(AA33<$C$3)+SUM(AB33<$C$3)+SUM(AC33<$C$3)+SUM(AD33<$C$3) -> 0 | AF33: =COUNTA(H33:AD33)-COUNTBLANK(H33:AD33) -> 11
