Workbook

Sheet زبان زیر ذره‌بین
B2: تاریخ شروع | C2: 1405/07/01 | D2: =MATCH(VALUE(CONCATENATE(LEFT(C2,4),MID(C2,6,2),RIGHT(C2,2))),DATE!B2:B4747,0) -> 2742 | E2: تاریخ شروع رو حتما باید مطابق فرمتی که در راست نوشته شده درج کنین. ماه و روز رو اگه تک رقمی هست، حتما قبلش 0 بذارید. | I2: حالت مرور | K2: عادی | M2: تعداد درس در هفته
B3: تاریخ امروز | C3: =VLOOKUP(TODAY(),DATE!A1:B4747,2,FALSE) -> 14050521 | E3: آذر ماه در کانال تلگرام، طریقه سرعت دادن برای افرادی که عقب هستند و تا کنکور تمام نخواهند کرد را توضیح خواهیم دادیم. تا آن زمان با اکسل جلو بروید. | M3: =VLOOKUP(K2,DATE!$C$2:$D$8,2,FALSE) -> 7 | N3: لطفاً فقط از حالت آهسته استفاده کنید.
B4: تاریخ احتمالی پایان | C4: =MAX(O7:O120) -> 14051101 | E4: تاریخ احتمالی پایان تمام مرورها | F4: =MAX(H7:AD120) -> 14051223 | G4: برای نمایش درست فونت سری B باید نصب شده باشد.
B5: تنظیم شده بر اساس توضیحات ارائه شده در جلد اول کتاب زیر ذره بین (واژگان) | G5: yasdl.com/51348/دانلود-فونت-فارسی-b.html | J5: کانال برنامه ریزی رایگان GeneralEnglishPlan
B6: شماره درس | C6: عنوان | E6: تاریخ شروع هر درس | F6: ماکسیمم ضربدر یک لغت در این درس (ورود عدد بعد از روز هشتم) | G6: نوبت مرور | H6: 1 | I6: 2 | J6: 3 | K6: 4 | L6: 5 | M6: 6 | N6: 7 | O6: 8 | P6: 15 | Q6: 30 | R6: 60 | S6: 9 | T6: 10 | U6: 11 | V6: 12 | W6: 13 | X6: 14 | Y6: 16 | Z6: 17 | AA6: 18 | AB6: 19 | AC6: 20 | AD6: 21
B7: 1 | C7: درس یک | D7: =MATCH(E7,DATE!$B$2:$B$4747,0) -> 2742 | E7: =INDEX(DATE!$B$2:$B$4747,$D$2+B7-1) -> 14050701 | F7: 0 | G7: =IF(MAX(H7:AD7)<$C$3,1,IF(OR(H7=$C$3,I7=$C$3,J7=$C$3,K7=$C$3,L7=$C$3,M7=$C$3,N7=$C$3,O7=$C$3,P7=$C$3,Q7=$C$3,R7=$C$3,S7=$C$3,T7=$C$3,U7=$C$3,V7=$C$3,W7=$C$3,X7=$C$3,Y7=$C$3,Z7=$C$3,AA7=$C$3,AB7=$C$3,AC7=$C$3,AD7=$C$3),0,-1)) -> -1 | H7: =E7 -> 14050701 | I7: =INDEX(DATE!$B$2:$B$4747,$D7+I$6-1) -> 14050702 | J7: =INDEX(DATE!$B$2:$B$4747,$D7+J$6-1) -> 14050703 | K7: =INDEX(DATE!$B$2:$B$4747,$D7+K$6-1) -> 14050704 | L7: =INDEX(DATE!$B$2:$B$4747,$D7+L$6-1) -> 14050705 | M7: =INDEX(DATE!$B$2:$B$4747,$D7+M$6-1) -> 14050706 | N7: =INDEX(DATE!$B$2:$B$4747,$D7+N$6-1) -> 14050707 | O7: =INDEX(DATE!$B$2:$B$4747,$D7+O$6-1) -> 14050708 | P7: =INDEX(DATE!$B$2:$B$4747,$D7+P$6-1) -> 14050715 | ... R7: =INDEX(DATE!$B$2:$B$4747,$D7+R$6-1) -> 14050830 | S7: =IF($F7>S$6-9,INDEX(DATE!$B$2:$B$4747,$D7+S$6-1),"") | T7: =IF($F7>T$6-9,INDEX(DATE!$B$2:$B$4747,$D7+T$6-1),"") | U7: =IF($F7>U$6-9,INDEX(DATE!$B$2:$B$4747,$D7+U$6-1),"") | V7: =IF($F7>V$6-9,INDEX(DATE!$B$2:$B$4747,$D7+V$6-1),"") | W7: =IF($F7>W$6-9,INDEX(DATE!$B$2:$B$4747,$D7+W$6-1),"") | X7: =IF($F7>X$6-9,INDEX(DATE!$B$2:$B$4747,$D7+X$6-1),"") | Y7: =IF($F7>Y$6-9,INDEX(DATE!$B$2:$B$4747,$D7+Y$6-1),"") | Z7: =IF($F7>Z$6-9,INDEX(DATE!$B$2:$B$4747,$D7+Z$6-1),"") | ... AD7: =IF($F7>AD$6-9,INDEX(DATE!$B$2:$B$4747,$D7+AD$6-1),"") | AE7: =SUM(H7<$C$3)+SUM(I7<$C$3)+SUM(J7<$C$3)+SUM(K7<$C$3)+SUM(L7<$C$3)+SUM(M7<$C$3)+SUM(N7<$C$3)+SUM(O7<$C$3)+SUM(P7<$C$3)+SUM(Q7<$C$3)+SUM(R7<$C$3)+SUM(S7<$C$3)+SUM(T7<$C$3)+SUM(U7<$C$3)+SUM(V7<$C$3)+SUM(W7<$C$3)+SUM(X7<$C$3)+SUM(Y7<$C$3)+SUM(Z7<$C$3)+SUM(AA7<$C$3)+SUM(AB7<$C$3)+SUM(AC7<$C$3)+SUM(AD7<$C$3) -> 0 | AF7: =COUNTA(H7:AD7)-COUNTBLANK(H7:AD7) -> 11
B8: 2 | C8: درس دو | D8: =MATCH(E8,DATE!$B$2:$B$4747,0) -> 2743 | E8: =IF($K$2="عادی",INDEX(DATE!$B$2:$B$4747,$D$2+B8-1),IF($K$2="بسیار سریع",INDEX(DATE!$B$2:$B$4747,$D$2+ROUND((B8)/2,0)-1),IF($K$2="بسیار آهسته",INDEX(DATE!$B$2:$B$4747,$D$2+ROUND((B8)*2,0)-1),INDEX(DATE!$B$2:$B$4747,$D$2+(B8-QUOTIENT(B8,$M$3))*2+(IF(($D$2+(B8-QUOTIENT(B8,$M$3))*2)-2=D7,1,0))-2)))) -> 14050702 | F8: 0 | G8: =IF(MAX(H8:AD8)<$C$3,1,IF(OR(H8=$C$3,I8=$C$3,J8=$C$3,K8=$C$3,L8=$C$3,M8=$C$3,N8=$C$3,O8=$C$3,P8=$C$3,Q8=$C$3,R8=$C$3,S8=$C$3,T8=$C$3,U8=$C$3,V8=$C$3,W8=$C$3,X8=$C$3,Y8=$C$3,Z8=$C$3,AA8=$C$3,AB8=$C$3,AC8=$C$3,AD8=$C$3),0,-1)) -> -1 | H8: =E8 -> 14050702 | I8: =INDEX(DATE!$B$2:$B$4747,$D8+I$6-1) -> 14050703 | J8: =INDEX(DATE!$B$2:$B$4747,$D8+J$6-1) -> 14050704 | K8: =INDEX(DATE!$B$2:$B$4747,$D8+K$6-1) -> 14050705 | L8: =INDEX(DATE!$B$2:$B$4747,$D8+L$6-1) -> 14050706 | M8: =INDEX(DATE!$B$2:$B$4747,$D8+M$6-1) -> 14050707 | N8: =INDEX(DATE!$B$2:$B$4747,$D8+N$6-1) -> 14050708 | O8: =INDEX(DATE!$B$2:$B$4747,$D8+O$6-1) -> 14050709 | P8: =INDEX(DATE!$B$2:$B$4747,$D8+P$6-1) -> 14050716 | ... R8: =INDEX(DATE!$B$2:$B$4747,$D8+R$6-1) -> 14050901 | S8: =IF($F8>S$6-9,INDEX(DATE!$B$2:$B$4747,$D8+S$6-1),"") | T8: =IF($F8>T$6-9,INDEX(DATE!$B$2:$B$4747,$D8+T$6-1),"") | U8: =IF($F8>U$6-9,INDEX(DATE!$B$2:$B$4747,$D8+U$6-1),"") | V8: =IF($F8>V$6-9,INDEX(DATE!$B$2:$B$4747,$D8+V$6-1),"") | W8: =IF($F8>W$6-9,INDEX(DATE!$B$2:$B$4747,$D8+W$6-1),"") | X8: =IF($F8>X$6-9,INDEX(DATE!$B$2:$B$4747,$D8+X$6-1),"") | Y8: =IF($F8>Y$6-9,INDEX(DATE!$B$2:$B$4747,$D8+Y$6-1),"") | Z8: =IF($F8>Z$6-9,INDEX(DATE!$B$2:$B$4747,$D8+Z$6-1),"") | ... AD8: =IF($F8>AD$6-9,INDEX(DATE!$B$2:$B$4747,$D8+AD$6-1),"") | AE8: =SUM(H8<$C$3)+SUM(I8<$C$3)+SUM(J8<$C$3)+SUM(K8<$C$3)+SUM(L8<$C$3)+SUM(M8<$C$3)+SUM(N8<$C$3)+SUM(O8<$C$3)+SUM(P8<$C$3)+SUM(Q8<$C$3)+SUM(R8<$C$3)+SUM(S8<$C$3)+SUM(T8<$C$3)+SUM(U8<$C$3)+SUM(V8<$C$3)+SUM(W8<$C$3)+SUM(X8<$C$3)+SUM(Y8<$C$3)+SUM(Z8<$C$3)+SUM(AA8<$C$3)+SUM(AB8<$C$3)+SUM(AC8<$C$3)+SUM(AD8<$C$3) -> 0 | AF8: =COUNTA(H8:AD8)-COUNTBLANK(H8:AD8) -> 11
B9: 3 | C9: درس سه | D9: =MATCH(E9,DATE!$B$2:$B$4747,0) -> 2744 | E9: =IF($K$2="عادی",INDEX(DATE!$B$2:$B$4747,$D$2+B9-1),IF($K$2="بسیار سریع",INDEX(DATE!$B$2:$B$4747,$D$2+ROUND((B9)/2,0)-1),IF($K$2="بسیار آهسته",INDEX(DATE!$B$2:$B$4747,$D$2+ROUND((B9)*2,0)-1),INDEX(DATE!$B$2:$B$4747,$D$2+(B9-QUOTIENT(B9,$M$3))*2+(IF(($D$2+(B9-QUOTIENT(B9,$M$3))*2)-2=D8,1,0))-2)))) -> 14050703 | F9: 0 | G9: =IF(MAX(H9:AD9)<$C$3,1,IF(OR(H9=$C$3,I9=$C$3,J9=$C$3,K9=$C$3,L9=$C$3,M9=$C$3,N9=$C$3,O9=$C$3,P9=$C$3,Q9=$C$3,R9=$C$3,S9=$C$3,T9=$C$3,U9=$C$3,V9=$C$3,W9=$C$3,X9=$C$3,Y9=$C$3,Z9=$C$3,AA9=$C$3,AB9=$C$3,AC9=$C$3,AD9=$C$3),0,-1)) -> -1 | H9: =E9 -> 14050703 | I9: =INDEX(DATE!$B$2:$B$4747,$D9+I$6-1) -> 14050704 | J9: =INDEX(DATE!$B$2:$B$4747,$D9+J$6-1) -> 14050705 | K9: =INDEX(DATE!$B$2:$B$4747,$D9+K$6-1) -> 14050706 | L9: =INDEX(DATE!$B$2:$B$4747,$D9+L$6-1) -> 14050707 | M9: =INDEX(DATE!$B$2:$B$4747,$D9+M$6-1) -> 14050708 | N9: =INDEX(DATE!$B$2:$B$4747,$D9+N$6-1) -> 14050709 | O9: =INDEX(DATE!$B$2:$B$4747,$D9+O$6-1) -> 14050710 | P9: =INDEX(DATE!$B$2:$B$4747,$D9+P$6-1) -> 14050717 | ... R9: =INDEX(DATE!$B$2:$B$4747,$D9+R$6-1) -> 14050902 | S9: =IF($F9>S$6-9,INDEX(DATE!$B$2:$B$4747,$D9+S$6-1),"") | T9: =IF($F9>T$6-9,INDEX(DATE!$B$2:$B$4747,$D9+T$6-1),"") | U9: =IF($F9>U$6-9,INDEX(DATE!$B$2:$B$4747,$D9+U$6-1),"") | V9: =IF($F9>V$6-9,INDEX(DATE!$B$2:$B$4747,$D9+V$6-1),"") | W9: =IF($F9>W$6-9,INDEX(DATE!$B$2:$B$4747,$D9+W$6-1),"") | X9: =IF($F9>X$6-9,INDEX(DATE!$B$2:$B$4747,$D9+X$6-1),"") | Y9: =IF($F9>Y$6-9,INDEX(DATE!$B$2:$B$4747,$D9+Y$6-1),"") | Z9: =IF($F9>Z$6-9,INDEX(DATE!$B$2:$B$4747,$D9+Z$6-1),"") | ... AD9: =IF($F9>AD$6-9,INDEX(DATE!$B$2:$B$4747,$D9+AD$6-1),"") | AE9: =SUM(H9<$C$3)+SUM(I9<$C$3)+SUM(J9<$C$3)+SUM(K9<$C$3)+SUM(L9<$C$3)+SUM(M9<$C$3)+SUM(N9<$C$3)+SUM(O9<$C$3)+SUM(P9<$C$3)+SUM(Q9<$C$3)+SUM(R9<$C$3)+SUM(S9<$C$3)+SUM(T9<$C$3)+SUM(U9<$C$3)+SUM(V9<$C$3)+SUM(W9<$C$3)+SUM(X9<$C$3)+SUM(Y9<$C$3)+SUM(Z9<$C$3)+SUM(AA9<$C$3)+SUM(AB9<$C$3)+SUM(AC9<$C$3)+SUM(AD9<$C$3) -> 0 | AF9: =COUNTA(H9:AD9)-COUNTBLANK(H9:AD9) -> 11
B10: 4 | C10: درس چهار | D10: =MATCH(E10,DATE!$B$2:$B$4747,0) -> 2745 | E10: =IF($K$2="عادی",INDEX(DATE!$B$2:$B$4747,$D$2+B10-1),IF($K$2="بسیار سریع",INDEX(DATE!$B$2:$B$4747,$D$2+ROUND((B10)/2,0)-1),IF($K$2="بسیار آهسته",INDEX(DATE!$B$2:$B$4747,$D$2+ROUND((B10)*2,0)-1),INDEX(DATE!$B$2:$B$4747,$D$2+(B10-QUOTIENT(B10,$M$3))*2+(IF(($D$2+(B10-QUOTIENT(B10,$M$3))*2)-2=D9,1,0))-2)))) -> 14050704 | F10: 0 | G10: =IF(MAX(H10:AD10)<$C$3,1,IF(OR(H10=$C$3,I10=$C$3,J10=$C$3,K10=$C$3,L10=$C$3,M10=$C$3,N10=$C$3,O10=$C$3,P10=$C$3,Q10=$C$3,R10=$C$3,S10=$C$3,T10=$C$3,U10=$C$3,V10=$C$3,W10=$C$3,X10=$C$3,Y10=$C$3,Z10=$C$3,AA10=$C$3,AB10=$C$3,AC10=$C$3,AD10=$C$3),0,-1)) -> -1 | H10: =E10 -> 14050704 | I10: =INDEX(DATE!$B$2:$B$4747,$D10+I$6-1) -> 14050705 | J10: =INDEX(DATE!$B$2:$B$4747,$D10+J$6-1) -> 14050706 | K10: =INDEX(DATE!$B$2:$B$4747,$D10+K$6-1) -> 14050707 | L10: =INDEX(DATE!$B$2:$B$4747,$D10+L$6-1) -> 14050708 | M10: =INDEX(DATE!$B$2:$B$4747,$D10+M$6-1) -> 14050709 | N10: =INDEX(DATE!$B$2:$B$4747,$D10+N$6-1) -> 14050710 | O10: =INDEX(DATE!$B$2:$B$4747,$D10+O$6-1) -> 14050711 | P10: =INDEX(DATE!$B$2:$B$4747,$D10+P$6-1) -> 14050718 | ... R10: =INDEX(DATE!$B$2:$B$4747,$D10+R$6-1) -> 14050903 | S10: =IF($F10>S$6-9,INDEX(DATE!$B$2:$B$4747,$D10+S$6-1),"") | T10: =IF($F10>T$6-9,INDEX(DATE!$B$2:$B$4747,$D10+T$6-1),"") | U10: =IF($F10>U$6-9,INDEX(DATE!$B$2:$B$4747,$D10+U$6-1),"") | V10: =IF($F10>V$6-9,INDEX(DATE!$B$2:$B$4747,$D10+V$6-1),"") | W10: =IF($F10>W$6-9,INDEX(DATE!$B$2:$B$4747,$D10+W$6-1),"") | X10: =IF($F10>X$6-9,INDEX(DATE!$B$2:$B$4747,$D10+X$6-1),"") | Y10: =IF($F10>Y$6-9,INDEX(DATE!$B$2:$B$4747,$D10+Y$6-1),"") | Z10: =IF($F10>Z$6-9,INDEX(DATE!$B$2:$B$4747,$D10+Z$6-1),"") | ... AD10: =IF($F10>AD$6-9,INDEX(DATE!$B$2:$B$4747,$D10+AD$6-1),"") | AE10: =SUM(H10<$C$3)+SUM(I10<$C$3)+SUM(J10<$C$3)+SUM(K10<$C$3)+SUM(L10<$C$3)+SUM(M10<$C$3)+SUM(N10<$C$3)+SUM(O10<$C$3)+SUM(P10<$C$3)+SUM(Q10<$C$3)+SUM(R10<$C$3)+SUM(S10<$C$3)+SUM(T10<$C$3)+SUM(U10<$C$3)+SUM(V10<$C$3)+SUM(W10<$C$3)+SUM(X10<$C$3)+SUM(Y10<$C$3)+SUM(Z10<$C$3)+SUM(AA10<$C$3)+SUM(AB10<$C$3)+SUM(AC10<$C$3)+SUM(AD10<$C$3) -> 0 | AF10: =COUNTA(H10:AD10)-COUNTBLANK(H10:AD10) -> 11
B11: 5 | C11: درس پنج | D11: =MATCH(E11,DATE!$B$2:$B$4747,0) -> 2746 | E11: =IF($K$2="عادی",INDEX(DATE!$B$2:$B$4747,$D$2+B11-1),IF($K$2="بسیار سریع",INDEX(DATE!$B$2:$B$4747,$D$2+ROUND((B11)/2,0)-1),IF($K$2="بسیار آهسته",INDEX(DATE!$B$2:$B$4747,$D$2+ROUND((B11)*2,0)-1),INDEX(DATE!$B$2:$B$4747,$D$2+(B11-QUOTIENT(B11,$M$3))*2+(IF(($D$2+(B11-QUOTIENT(B11,$M$3))*2)-2=D10,1,0))-2)))) -> 14050705 | F11: 0 | G11: =IF(MAX(H11:AD11)<$C$3,1,IF(OR(H11=$C$3,I11=$C$3,J11=$C$3,K11=$C$3,L11=$C$3,M11=$C$3,N11=$C$3,O11=$C$3,P11=$C$3,Q11=$C$3,R11=$C$3,S11=$C$3,T11=$C$3,U11=$C$3,V11=$C$3,W11=$C$3,X11=$C$3,Y11=$C$3,Z11=$C$3,AA11=$C$3,AB11=$C$3,AC11=$C$3,AD11=$C$3),0,-1)) -> -1 | H11: =E11 -> 14050705 | I11: =INDEX(DATE!$B$2:$B$4747,$D11+I$6-1) -> 14050706 | J11: =INDEX(DATE!$B$2:$B$4747,$D11+J$6-1) -> 14050707 | K11: =INDEX(DATE!$B$2:$B$4747,$D11+K$6-1) -> 14050708 | L11: =INDEX(DATE!$B$2:$B$4747,$D11+L$6-1) -> 14050709 | M11: =INDEX(DATE!$B$2:$B$4747,$D11+M$6-1) -> 14050710 | N11: =INDEX(DATE!$B$2:$B$4747,$D11+N$6-1) -> 14050711 | O11: =INDEX(DATE!$B$2:$B$4747,$D11+O$6-1) -> 14050712 | P11: =INDEX(DATE!$B$2:$B$4747,$D11+P$6-1) -> 14050719 | ... R11: =INDEX(DATE!$B$2:$B$4747,$D11+R$6-1) -> 14050904 | S11: =IF($F11>S$6-9,INDEX(DATE!$B$2:$B$4747,$D11+S$6-1),"") | T11: =IF($F11>T$6-9,INDEX(DATE!$B$2:$B$4747,$D11+T$6-1),"") | U11: =IF($F11>U$6-9,INDEX(DATE!$B$2:$B$4747,$D11+U$6-1),"") | V11: =IF($F11>V$6-9,INDEX(DATE!$B$2:$B$4747,$D11+V$6-1),"") | W11: =IF($F11>W$6-9,INDEX(DATE!$B$2:$B$4747,$D11+W$6-1),"") | X11: =IF($F11>X$6-9,INDEX(DATE!$B$2:$B$4747,$D11+X$6-1),"") | Y11: =IF($F11>Y$6-9,INDEX(DATE!$B$2:$B$4747,$D11+Y$6-1),"") | Z11: =IF($F11>Z$6-9,INDEX(DATE!$B$2:$B$4747,$D11+Z$6-1),"") | ... AD11: =IF($F11>AD$6-9,INDEX(DATE!$B$2:$B$4747,$D11+AD$6-1),"") | AE11: =SUM(H11<$C$3)+SUM(I11<$C$3)+SUM(J11<$C$3)+SUM(K11<$C$3)+SUM(L11<$C$3)+SUM(M11<$C$3)+SUM(N11<$C$3)+SUM(O11<$C$3)+SUM(P11<$C$3)+SUM(Q11<$C$3)+SUM(R11<$C$3)+SUM(S11<$C$3)+SUM(T11<$C$3)+SUM(U11<$C$3)+SUM(V11<$C$3)+SUM(W11<$C$3)+SUM(X11<$C$3)+SUM(Y11<$C$3)+SUM(Z11<$C$3)+SUM(AA11<$C$3)+SUM(AB11<$C$3)+SUM(AC11<$C$3)+SUM(AD11<$C$3) -> 0 | AF11: =COUNTA(H11:AD11)-COUNTBLANK(H11:AD11) -> 11
B12: 6 | C12: درس شش | D12: =MATCH(E12,DATE!$B$2:$B$4747,0) -> 2747 | E12: =IF($K$2="عادی",INDEX(DATE!$B$2:$B$4747,$D$2+B12-1),IF($K$2="بسیار سریع",INDEX(DATE!$B$2:$B$4747,$D$2+ROUND((B12)/2,0)-1),IF($K$2="بسیار آهسته",INDEX(DATE!$B$2:$B$4747,$D$2+ROUND((B12)*2,0)-1),INDEX(DATE!$B$2:$B$4747,$D$2+(B12-QUOTIENT(B12,$M$3))*2+(IF(($D$2+(B12-QUOTIENT(B12,$M$3))*2)-2=D11,1,0))-2)))) -> 14050706 | F12: 0 | G12: =IF(MAX(H12:AD12)<$C$3,1,IF(OR(H12=$C$3,I12=$C$3,J12=$C$3,K12=$C$3,L12=$C$3,M12=$C$3,N12=$C$3,O12=$C$3,P12=$C$3,Q12=$C$3,R12=$C$3,S12=$C$3,T12=$C$3,U12=$C$3,V12=$C$3,W12=$C$3,X12=$C$3,Y12=$C$3,Z12=$C$3,AA12=$C$3,AB12=$C$3,AC12=$C$3,AD12=$C$3),0,-1)) -> -1 | H12: =E12 -> 14050706 | I12: =INDEX(DATE!$B$2:$B$4747,$D12+I$6-1) -> 14050707 | J12: =INDEX(DATE!$B$2:$B$4747,$D12+J$6-1) -> 14050708 | K12: =INDEX(DATE!$B$2:$B$4747,$D12+K$6-1) -> 14050709 | L12: =INDEX(DATE!$B$2:$B$4747,$D12+L$6-1) -> 14050710 | M12: =INDEX(DATE!$B$2:$B$4747,$D12+M$6-1) -> 14050711 | N12: =INDEX(DATE!$B$2:$B$4747,$D12+N$6-1) -> 14050712 | O12: =INDEX(DATE!$B$2:$B$4747,$D12+O$6-1) -> 14050713 | P12: =INDEX(DATE!$B$2:$B$4747,$D12+P$6-1) -> 14050720 | ... R12: =INDEX(DATE!$B$2:$B$4747,$D12+R$6-1) -> 14050905 | S12: =IF($F12>S$6-9,INDEX(DATE!$B$2:$B$4747,$D12+S$6-1),"") | T12: =IF($F12>T$6-9,INDEX(DATE!$B$2:$B$4747,$D12+T$6-1),"") | U12: =IF($F12>U$6-9,INDEX(DATE!$B$2:$B$4747,$D12+U$6-1),"") | V12: =IF($F12>V$6-9,INDEX(DATE!$B$2:$B$4747,$D12+V$6-1),"") | W12: =IF($F12>W$6-9,INDEX(DATE!$B$2:$B$4747,$D12+W$6-1),"") | X12: =IF($F12>X$6-9,INDEX(DATE!$B$2:$B$4747,$D12+X$6-1),"") | Y12: =IF($F12>Y$6-9,INDEX(DATE!$B$2:$B$4747,$D12+Y$6-1),"") | Z12: =IF($F12>Z$6-9,INDEX(DATE!$B$2:$B$4747,$D12+Z$6-1),"") | ... AD12: =IF($F12>AD$6-9,INDEX(DATE!$B$2:$B$4747,$D12+AD$6-1),"") | AE12: =SUM(H12<$C$3)+SUM(I12<$C$3)+SUM(J12<$C$3)+SUM(K12<$C$3)+SUM(L12<$C$3)+SUM(M12<$C$3)+SUM(N12<$C$3)+SUM(O12<$C$3)+SUM(P12<$C$3)+SUM(Q12<$C$3)+SUM(R12<$C$3)+SUM(S12<$C$3)+SUM(T12<$C$3)+SUM(U12<$C$3)+SUM(V12<$C$3)+SUM(W12<$C$3)+SUM(X12<$C$3)+SUM(Y12<$C$3)+SUM(Z12<$C$3)+SUM(AA12<$C$3)+SUM(AB12<$C$3)+SUM(AC12<$C$3)+SUM(AD12<$C$3) -> 0 | AF12: =COUNTA(H12:AD12)-COUNTBLANK(H12:AD12) -> 11
B13: 7 | C13: درس هفت | D13: =MATCH(E13,DATE!$B$2:$B$4747,0) -> 2748 | E13: =IF($K$2="عادی",INDEX(DATE!$B$2:$B$4747,$D$2+B13-1),IF($K$2="بسیار سریع",INDEX(DATE!$B$2:$B$4747,$D$2+ROUND((B13)/2,0)-1),IF($K$2="بسیار آهسته",INDEX(DATE!$B$2:$B$4747,$D$2+ROUND((B13)*2,0)-1),INDEX(DATE!$B$2:$B$4747,$D$2+(B13-QUOTIENT(B13,$M$3))*2+(IF(($D$2+(B13-QUOTIENT(B13,$M$3))*2)-2=D12,1,0))-2)))) -> 14050707 | F13: 0 | G13: =IF(MAX(H13:AD13)<$C$3,1,IF(OR(H13=$C$3,I13=$C$3,J13=$C$3,K13=$C$3,L13=$C$3,M13=$C$3,N13=$C$3,O13=$C$3,P13=$C$3,Q13=$C$3,R13=$C$3,S13=$C$3,T13=$C$3,U13=$C$3,V13=$C$3,W13=$C$3,X13=$C$3,Y13=$C$3,Z13=$C$3,AA13=$C$3,AB13=$C$3,AC13=$C$3,AD13=$C$3),0,-1)) -> -1 | H13: =E13 -> 14050707 | I13: =INDEX(DATE!$B$2:$B$4747,$D13+I$6-1) -> 14050708 | J13: =INDEX(DATE!$B$2:$B$4747,$D13+J$6-1) -> 14050709 | K13: =INDEX(DATE!$B$2:$B$4747,$D13+K$6-1) -> 14050710 | L13: =INDEX(DATE!$B$2:$B$4747,$D13+L$6-1) -> 14050711 | M13: =INDEX(DATE!$B$2:$B$4747,$D13+M$6-1) -> 14050712 | N13: =INDEX(DATE!$B$2:$B$4747,$D13+N$6-1) -> 14050713 | O13: =INDEX(DATE!$B$2:$B$4747,$D13+O$6-1) -> 14050714 | P13: =INDEX(DATE!$B$2:$B$4747,$D13+P$6-1) -> 14050721 | ... R13: =INDEX(DATE!$B$2:$B$4747,$D13+R$6-1) -> 14050906 | S13: =IF($F13>S$6-9,INDEX(DATE!$B$2:$B$4747,$D13+S$6-1),"") | T13: =IF($F13>T$6-9,INDEX(DATE!$B$2:$B$4747,$D13+T$6-1),"") | U13: =IF($F13>U$6-9,INDEX(DATE!$B$2:$B$4747,$D13+U$6-1),"") | V13: =IF($F13>V$6-9,INDEX(DATE!$B$2:$B$4747,$D13+V$6-1),"") | W13: =IF($F13>W$6-9,INDEX(DATE!$B$2:$B$4747,$D13+W$6-1),"") | X13: =IF($F13>X$6-9,INDEX(DATE!$B$2:$B$4747,$D13+X$6-1),"") | Y13: =IF($F13>Y$6-9,INDEX(DATE!$B$2:$B$4747,$D13+Y$6-1),"") | Z13: =IF($F13>Z$6-9,INDEX(DATE!$B$2:$B$4747,$D13+Z$6-1),"") | ... AD13: =IF($F13>AD$6-9,INDEX(DATE!$B$2:$B$4747,$D13+AD$6-1),"") | AE13: =SUM(H13<$C$3)+SUM(I13<$C$3)+SUM(J13<$C$3)+SUM(K13<$C$3)+SUM(L13<$C$3)+SUM(M13<$C$3)+SUM(N13<$C$3)+SUM(O13<$C$3)+SUM(P13<$C$3)+SUM(Q13<$C$3)+SUM(R13<$C$3)+SUM(S13<$C$3)+SUM(T13<$C$3)+SUM(U13<$C$3)+SUM(V13<$C$3)+SUM(W13<$C$3)+SUM(X13<$C$3)+SUM(Y13<$C$3)+SUM(Z13<$C$3)+SUM(AA13<$C$3)+SUM(AB13<$C$3)+SUM(AC13<$C$3)+SUM(AD13<$C$3) -> 0 | AF13: =COUNTA(H13:AD13)-COUNTBLANK(H13:AD13) -> 11
B14: 8 | C14: درس هشت | D14: =MATCH(E14,DATE!$B$2:$B$4747,0) -> 2749 | E14: =IF($K$2="عادی",INDEX(DATE!$B$2:$B$4747,$D$2+B14-1),IF($K$2="بسیار سریع",INDEX(DATE!$B$2:$B$4747,$D$2+ROUND((B14)/2,0)-1),IF($K$2="بسیار آهسته",INDEX(DATE!$B$2:$B$4747,$D$2+ROUND((B14)*2,0)-1),INDEX(DATE!$B$2:$B$4747,$D$2+(B14-QUOTIENT(B14,$M$3))*2+(IF(($D$2+(B14-QUOTIENT(B14,$M$3))*2)-2=D13,1,0))-2)))) -> 14050708 | F14: 0 | G14: =IF(MAX(H14:AD14)<$C$3,1,IF(OR(H14=$C$3,I14=$C$3,J14=$C$3,K14=$C$3,L14=$C$3,M14=$C$3,N14=$C$3,O14=$C$3,P14=$C$3,Q14=$C$3,R14=$C$3,S14=$C$3,T14=$C$3,U14=$C$3,V14=$C$3,W14=$C$3,X14=$C$3,Y14=$C$3,Z14=$C$3,AA14=$C$3,AB14=$C$3,AC14=$C$3,AD14=$C$3),0,-1)) -> -1 | H14: =E14 -> 14050708 | I14: =INDEX(DATE!$B$2:$B$4747,$D14+I$6-1) -> 14050709 | J14: =INDEX(DATE!$B$2:$B$4747,$D14+J$6-1) -> 14050710 | K14: =INDEX(DATE!$B$2:$B$4747,$D14+K$6-1) -> 14050711 | L14: =INDEX(DATE!$B$2:$B$4747,$D14+L$6-1) -> 14050712 | M14: =INDEX(DATE!$B$2:$B$4747,$D14+M$6-1) -> 14050713 | N14: =INDEX(DATE!$B$2:$B$4747,$D14+N$6-1) -> 14050714 | O14: =INDEX(DATE!$B$2:$B$4747,$D14+O$6-1) -> 14050715 | P14: =INDEX(DATE!$B$2:$B$4747,$D14+P$6-1) -> 14050722 | ... R14: =INDEX(DATE!$B$2:$B$4747,$D14+R$6-1) -> 14050907 | S14: =IF($F14>S$6-9,INDEX(DATE!$B$2:$B$4747,$D14+S$6-1),"") | T14: =IF($F14>T$6-9,INDEX(DATE!$B$2:$B$4747,$D14+T$6-1),"") | U14: =IF($F14>U$6-9,INDEX(DATE!$B$2:$B$4747,$D14+U$6-1),"") | V14: =IF($F14>V$6-9,INDEX(DATE!$B$2:$B$4747,$D14+V$6-1),"") | W14: =IF($F14>W$6-9,INDEX(DATE!$B$2:$B$4747,$D14+W$6-1),"") | X14: =IF($F14>X$6-9,INDEX(DATE!$B$2:$B$4747,$D14+X$6-1),"") | Y14: =IF($F14>Y$6-9,INDEX(DATE!$B$2:$B$4747,$D14+Y$6-1),"") | Z14: =IF($F14>Z$6-9,INDEX(DATE!$B$2:$B$4747,$D14+Z$6-1),"") | ... AD14: =IF($F14>AD$6-9,INDEX(DATE!$B$2:$B$4747,$D14+AD$6-1),"") | AE14: =SUM(H14<$C$3)+SUM(I14<$C$3)+SUM(J14<$C$3)+SUM(K14<$C$3)+SUM(L14<$C$3)+SUM(M14<$C$3)+SUM(N14<$C$3)+SUM(O14<$C$3)+SUM(P14<$C$3)+SUM(Q14<$C$3)+SUM(R14<$C$3)+SUM(S14<$C$3)+SUM(T14<$C$3)+SUM(U14<$C$3)+SUM(V14<$C$3)+SUM(W14<$C$3)+SUM(X14<$C$3)+SUM(Y14<$C$3)+SUM(Z14<$C$3)+SUM(AA14<$C$3)+SUM(AB14<$C$3)+SUM(AC14<$C$3)+SUM(AD14<$C$3) -> 0 | AF14: =COUNTA(H14:AD14)-COUNTBLANK(H14:AD14) -> 11
B15: 9 | C15: درس نه | D15: =MATCH(E15,DATE!$B$2:$B$4747,0) -> 2750 | E15: =IF($K$2="عادی",INDEX(DATE!$B$2:$B$4747,$D$2+B15-1),IF($K$2="بسیار سریع",INDEX(DATE!$B$2:$B$4747,$D$2+ROUND((B15)/2,0)-1),IF($K$2="بسیار آهسته",INDEX(DATE!$B$2:$B$4747,$D$2+ROUND((B15)*2,0)-1),INDEX(DATE!$B$2:$B$4747,$D$2+(B15-QUOTIENT(B15,$M$3))*2+(IF(($D$2+(B15-QUOTIENT(B15,$M$3))*2)-2=D14,1,0))-2)))) -> 14050709 | F15: 0 | G15: =IF(MAX(H15:AD15)<$C$3,1,IF(OR(H15=$C$3,I15=$C$3,J15=$C$3,K15=$C$3,L15=$C$3,M15=$C$3,N15=$C$3,O15=$C$3,P15=$C$3,Q15=$C$3,R15=$C$3,S15=$C$3,T15=$C$3,U15=$C$3,V15=$C$3,W15=$C$3,X15=$C$3,Y15=$C$3,Z15=$C$3,AA15=$C$3,AB15=$C$3,AC15=$C$3,AD15=$C$3),0,-1)) -> -1 | H15: =E15 -> 14050709 | I15: =INDEX(DATE!$B$2:$B$4747,$D15+I$6-1) -> 14050710 | J15: =INDEX(DATE!$B$2:$B$4747,$D15+J$6-1) -> 14050711 | K15: =INDEX(DATE!$B$2:$B$4747,$D15+K$6-1) -> 14050712 | L15: =INDEX(DATE!$B$2:$B$4747,$D15+L$6-1) -> 14050713 | M15: =INDEX(DATE!$B$2:$B$4747,$D15+M$6-1) -> 14050714 | N15: =INDEX(DATE!$B$2:$B$4747,$D15+N$6-1) -> 14050715 | O15: =INDEX(DATE!$B$2:$B$4747,$D15+O$6-1) -> 14050716 | P15: =INDEX(DATE!$B$2:$B$4747,$D15+P$6-1) -> 14050723 | ... R15: =INDEX(DATE!$B$2:$B$4747,$D15+R$6-1) -> 14050908 | S15: =IF($F15>S$6-9,INDEX(DATE!$B$2:$B$4747,$D15+S$6-1),"") | T15: =IF($F15>T$6-9,INDEX(DATE!$B$2:$B$4747,$D15+T$6-1),"") | U15: =IF($F15>U$6-9,INDEX(DATE!$B$2:$B$4747,$D15+U$6-1),"") | V15: =IF($F15>V$6-9,INDEX(DATE!$B$2:$B$4747,$D15+V$6-1),"") | W15: =IF($F15>W$6-9,INDEX(DATE!$B$2:$B$4747,$D15+W$6-1),"") | X15: =IF($F15>X$6-9,INDEX(DATE!$B$2:$B$4747,$D15+X$6-1),"") | Y15: =IF($F15>Y$6-9,INDEX(DATE!$B$2:$B$4747,$D15+Y$6-1),"") | Z15: =IF($F15>Z$6-9,INDEX(DATE!$B$2:$B$4747,$D15+Z$6-1),"") | ... AD15: =IF($F15>AD$6-9,INDEX(DATE!$B$2:$B$4747,$D15+AD$6-1),"") | AE15: =SUM(H15<$C$3)+SUM(I15<$C$3)+SUM(J15<$C$3)+SUM(K15<$C$3)+SUM(L15<$C$3)+SUM(M15<$C$3)+SUM(N15<$C$3)+SUM(O15<$C$3)+SUM(P15<$C$3)+SUM(Q15<$C$3)+SUM(R15<$C$3)+SUM(S15<$C$3)+SUM(T15<$C$3)+SUM(U15<$C$3)+SUM(V15<$C$3)+SUM(W15<$C$3)+SUM(X15<$C$3)+SUM(Y15<$C$3)+SUM(Z15<$C$3)+SUM(AA15<$C$3)+SUM(AB15<$C$3)+SUM(AC15<$C$3)+SUM(AD15<$C$3) -> 0 | AF15: =COUNTA(H15:AD15)-COUNTBLANK(H15:AD15) -> 11
B16: 10 | C16: درس ده | D16: =MATCH(E16,DATE!$B$2:$B$4747,0) -> 2751 | E16: =IF($K$2="عادی",INDEX(DATE!$B$2:$B$4747,$D$2+B16-1),IF($K$2="بسیار سریع",INDEX(DATE!$B$2:$B$4747,$D$2+ROUND((B16)/2,0)-1),IF($K$2="بسیار آهسته",INDEX(DATE!$B$2:$B$4747,$D$2+ROUND((B16)*2,0)-1),INDEX(DATE!$B$2:$B$4747,$D$2+(B16-QUOTIENT(B16,$M$3))*2+(IF(($D$2+(B16-QUOTIENT(B16,$M$3))*2)-2=D15,1,0))-2)))) -> 14050710 | F16: 0 | G16: =IF(MAX(H16:AD16)<$C$3,1,IF(OR(H16=$C$3,I16=$C$3,J16=$C$3,K16=$C$3,L16=$C$3,M16=$C$3,N16=$C$3,O16=$C$3,P16=$C$3,Q16=$C$3,R16=$C$3,S16=$C$3,T16=$C$3,U16=$C$3,V16=$C$3,W16=$C$3,X16=$C$3,Y16=$C$3,Z16=$C$3,AA16=$C$3,AB16=$C$3,AC16=$C$3,AD16=$C$3),0,-1)) -> -1 | H16: =E16 -> 14050710 | I16: =INDEX(DATE!$B$2:$B$4747,$D16+I$6-1) -> 14050711 | J16: =INDEX(DATE!$B$2:$B$4747,$D16+J$6-1) -> 14050712 | K16: =INDEX(DATE!$B$2:$B$4747,$D16+K$6-1) -> 14050713 | L16: =INDEX(DATE!$B$2:$B$4747,$D16+L$6-1) -> 14050714 | M16: =INDEX(DATE!$B$2:$B$4747,$D16+M$6-1) -> 14050715 | N16: =INDEX(DATE!$B$2:$B$4747,$D16+N$6-1) -> 14050716 | O16: =INDEX(DATE!$B$2:$B$4747,$D16+O$6-1) -> 14050717 | P16: =INDEX(DATE!$B$2:$B$4747,$D16+P$6-1) -> 14050724 | ... R16: =INDEX(DATE!$B$2:$B$4747,$D16+R$6-1) -> 14050909 | S16: =IF($F16>S$6-9,INDEX(DATE!$B$2:$B$4747,$D16+S$6-1),"") | T16: =IF($F16>T$6-9,INDEX(DATE!$B$2:$B$4747,$D16+T$6-1),"") | U16: =IF($F16>U$6-9,INDEX(DATE!$B$2:$B$4747,$D16+U$6-1),"") | V16: =IF($F16>V$6-9,INDEX(DATE!$B$2:$B$4747,$D16+V$6-1),"") | W16: =IF($F16>W$6-9,INDEX(DATE!$B$2:$B$4747,$D16+W$6-1),"") | X16: =IF($F16>X$6-9,INDEX(DATE!$B$2:$B$4747,$D16+X$6-1),"") | Y16: =IF($F16>Y$6-9,INDEX(DATE!$B$2:$B$4747,$D16+Y$6-1),"") | Z16: =IF($F16>Z$6-9,INDEX(DATE!$B$2:$B$4747,$D16+Z$6-1),"") | ... AD16: =IF($F16>AD$6-9,INDEX(DATE!$B$2:$B$4747,$D16+AD$6-1),"") | AE16: =SUM(H16<$C$3)+SUM(I16<$C$3)+SUM(J16<$C$3)+SUM(K16<$C$3)+SUM(L16<$C$3)+SUM(M16<$C$3)+SUM(N16<$C$3)+SUM(O16<$C$3)+SUM(P16<$C$3)+SUM(Q16<$C$3)+SUM(R16<$C$3)+SUM(S16<$C$3)+SUM(T16<$C$3)+SUM(U16<$C$3)+SUM(V16<$C$3)+SUM(W16<$C$3)+SUM(X16<$C$3)+SUM(Y16<$C$3)+SUM(Z16<$C$3)+SUM(AA16<$C$3)+SUM(AB16<$C$3)+SUM(AC16<$C$3)+SUM(AD16<$C$3) -> 0 | AF16: =COUNTA(H16:AD16)-COUNTBLANK(H16:AD16) -> 11
B17: 11 | C17: درس یازده | D17: =MATCH(E17,DATE!$B$2:$B$4747,0) -> 2752 | E17: =IF($K$2="عادی",INDEX(DATE!$B$2:$B$4747,$D$2+B17-1),IF($K$2="بسیار سریع",INDEX(DATE!$B$2:$B$4747,$D$2+ROUND((B17)/2,0)-1),IF($K$2="بسیار آهسته",INDEX(DATE!$B$2:$B$4747,$D$2+ROUND((B17)*2,0)-1),INDEX(DATE!$B$2:$B$4747,$D$2+(B17-QUOTIENT(B17,$M$3))*2+(IF(($D$2+(B17-QUOTIENT(B17,$M$3))*2)-2=D16,1,0))-2)))) -> 14050711 | F17: 0 | G17: =IF(MAX(H17:AD17)<$C$3,1,IF(OR(H17=$C$3,I17=$C$3,J17=$C$3,K17=$C$3,L17=$C$3,M17=$C$3,N17=$C$3,O17=$C$3,P17=$C$3,Q17=$C$3,R17=$C$3,S17=$C$3,T17=$C$3,U17=$C$3,V17=$C$3,W17=$C$3,X17=$C$3,Y17=$C$3,Z17=$C$3,AA17=$C$3,AB17=$C$3,AC17=$C$3,AD17=$C$3),0,-1)) -> -1 | H17: =E17 -> 14050711 | I17: =INDEX(DATE!$B$2:$B$4747,$D17+I$6-1) -> 14050712 | J17: =INDEX(DATE!$B$2:$B$4747,$D17+J$6-1) -> 14050713 | K17: =INDEX(DATE!$B$2:$B$4747,$D17+K$6-1) -> 14050714 | L17: =INDEX(DATE!$B$2:$B$4747,$D17+L$6-1) -> 14050715 | M17: =INDEX(DATE!$B$2:$B$4747,$D17+M$6-1) -> 14050716 | N17: =INDEX(DATE!$B$2:$B$4747,$D17+N$6-1) -> 14050717 | O17: =INDEX(DATE!$B$2:$B$4747,$D17+O$6-1) -> 14050718 | P17: =INDEX(DATE!$B$2:$B$4747,$D17+P$6-1) -> 14050725 | ... R17: =INDEX(DATE!$B$2:$B$4747,$D17+R$6-1) -> 14050910 | S17: =IF($F17>S$6-9,INDEX(DATE!$B$2:$B$4747,$D17+S$6-1),"") | T17: =IF($F17>T$6-9,INDEX(DATE!$B$2:$B$4747,$D17+T$6-1),"") | U17: =IF($F17>U$6-9,INDEX(DATE!$B$2:$B$4747,$D17+U$6-1),"") | V17: =IF($F17>V$6-9,INDEX(DATE!$B$2:$B$4747,$D17+V$6-1),"") | W17: =IF($F17>W$6-9,INDEX(DATE!$B$2:$B$4747,$D17+W$6-1),"") | X17: =IF($F17>X$6-9,INDEX(DATE!$B$2:$B$4747,$D17+X$6-1),"") | Y17: =IF($F17>Y$6-9,INDEX(DATE!$B$2:$B$4747,$D17+Y$6-1),"") | Z17: =IF($F17>Z$6-9,INDEX(DATE!$B$2:$B$4747,$D17+Z$6-1),"") | ... AD17: =IF($F17>AD$6-9,INDEX(DATE!$B$2:$B$4747,$D17+AD$6-1),"") | AE17: =SUM(H17<$C$3)+SUM(I17<$C$3)+SUM(J17<$C$3)+SUM(K17<$C$3)+SUM(L17<$C$3)+SUM(M17<$C$3)+SUM(N17<$C$3)+SUM(O17<$C$3)+SUM(P17<$C$3)+SUM(Q17<$C$3)+SUM(R17<$C$3)+SUM(S17<$C$3)+SUM(T17<$C$3)+SUM(U17<$C$3)+SUM(V17<$C$3)+SUM(W17<$C$3)+SUM(X17<$C$3)+SUM(Y17<$C$3)+SUM(Z17<$C$3)+SUM(AA17<$C$3)+SUM(AB17<$C$3)+SUM(AC17<$C$3)+SUM(AD17<$C$3) -> 0 | AF17: =COUNTA(H17:AD17)-COUNTBLANK(H17:AD17) -> 11
B18: 12 | C18: درس دوازده | D18: =MATCH(E18,DATE!$B$2:$B$4747,0) -> 2753 | E18: =IF($K$2="عادی",INDEX(DATE!$B$2:$B$4747,$D$2+B18-1),IF($K$2="بسیار سریع",INDEX(DATE!$B$2:$B$4747,$D$2+ROUND((B18)/2,0)-1),IF($K$2="بسیار آهسته",INDEX(DATE!$B$2:$B$4747,$D$2+ROUND((B18)*2,0)-1),INDEX(DATE!$B$2:$B$4747,$D$2+(B18-QUOTIENT(B18,$M$3))*2+(IF(($D$2+(B18-QUOTIENT(B18,$M$3))*2)-2=D17,1,0))-2)))) -> 14050712 | F18: 0 | G18: =IF(MAX(H18:AD18)<$C$3,1,IF(OR(H18=$C$3,I18=$C$3,J18=$C$3,K18=$C$3,L18=$C$3,M18=$C$3,N18=$C$3,O18=$C$3,P18=$C$3,Q18=$C$3,R18=$C$3,S18=$C$3,T18=$C$3,U18=$C$3,V18=$C$3,W18=$C$3,X18=$C$3,Y18=$C$3,Z18=$C$3,AA18=$C$3,AB18=$C$3,AC18=$C$3,AD18=$C$3),0,-1)) -> -1 | H18: =E18 -> 14050712 | I18: =INDEX(DATE!$B$2:$B$4747,$D18+I$6-1) -> 14050713 | J18: =INDEX(DATE!$B$2:$B$4747,$D18+J$6-1) -> 14050714 | K18: =INDEX(DATE!$B$2:$B$4747,$D18+K$6-1) -> 14050715 | L18: =INDEX(DATE!$B$2:$B$4747,$D18+L$6-1) -> 14050716 | M18: =INDEX(DATE!$B$2:$B$4747,$D18+M$6-1) -> 14050717 | N18: =INDEX(DATE!$B$2:$B$4747,$D18+N$6-1) -> 14050718 | O18: =INDEX(DATE!$B$2:$B$4747,$D18+O$6-1) -> 14050719 | P18: =INDEX(DATE!$B$2:$B$4747,$D18+P$6-1) -> 14050726 | ... R18: =INDEX(DATE!$B$2:$B$4747,$D18+R$6-1) -> 14050911 | S18: =IF($F18>S$6-9,INDEX(DATE!$B$2:$B$4747,$D18+S$6-1),"") | T18: =IF($F18>T$6-9,INDEX(DATE!$B$2:$B$4747,$D18+T$6-1),"") | U18: =IF($F18>U$6-9,INDEX(DATE!$B$2:$B$4747,$D18+U$6-1),"") | V18: =IF($F18>V$6-9,INDEX(DATE!$B$2:$B$4747,$D18+V$6-1),"") | W18: =IF($F18>W$6-9,INDEX(DATE!$B$2:$B$4747,$D18+W$6-1),"") | X18: =IF($F18>X$6-9,INDEX(DATE!$B$2:$B$4747,$D18+X$6-1),"") | Y18: =IF($F18>Y$6-9,INDEX(DATE!$B$2:$B$4747,$D18+Y$6-1),"") | Z18: =IF($F18>Z$6-9,INDEX(DATE!$B$2:$B$4747,$D18+Z$6-1),"") | ... AD18: =IF($F18>AD$6-9,INDEX(DATE!$B$2:$B$4747,$D18+AD$6-1),"") | AE18: =SUM(H18<$C$3)+SUM(I18<$C$3)+SUM(J18<$C$3)+SUM(K18<$C$3)+SUM(L18<$C$3)+SUM(M18<$C$3)+SUM(N18<$C$3)+SUM(O18<$C$3)+SUM(P18<$C$3)+SUM(Q18<$C$3)+SUM(R18<$C$3)+SUM(S18<$C$3)+SUM(T18<$C$3)+SUM(U18<$C$3)+SUM(V18<$C$3)+SUM(W18<$C$3)+SUM(X18<$C$3)+SUM(Y18<$C$3)+SUM(Z18<$C$3)+SUM(AA18<$C$3)+SUM(AB18<$C$3)+SUM(AC18<$C$3)+SUM(AD18<$C$3) -> 0 | AF18: =COUNTA(H18:AD18)-COUNTBLANK(H18:AD18) -> 11
B19: 13 | C19: درس سیزده | D19: =MATCH(E19,DATE!$B$2:$B$4747,0) -> 2754 | E19: =IF($K$2="عادی",INDEX(DATE!$B$2:$B$4747,$D$2+B19-1),IF($K$2="بسیار سریع",INDEX(DATE!$B$2:$B$4747,$D$2+ROUND((B19)/2,0)-1),IF($K$2="بسیار آهسته",INDEX(DATE!$B$2:$B$4747,$D$2+ROUND((B19)*2,0)-1),INDEX(DATE!$B$2:$B$4747,$D$2+(B19-QUOTIENT(B19,$M$3))*2+(IF(($D$2+(B19-QUOTIENT(B19,$M$3))*2)-2=D18,1,0))-2)))) -> 14050713 | F19: 0 | G19: =IF(MAX(H19:AD19)<$C$3,1,IF(OR(H19=$C$3,I19=$C$3,J19=$C$3,K19=$C$3,L19=$C$3,M19=$C$3,N19=$C$3,O19=$C$3,P19=$C$3,Q19=$C$3,R19=$C$3,S19=$C$3,T19=$C$3,U19=$C$3,V19=$C$3,W19=$C$3,X19=$C$3,Y19=$C$3,Z19=$C$3,AA19=$C$3,AB19=$C$3,AC19=$C$3,AD19=$C$3),0,-1)) -> -1 | H19: =E19 -> 14050713 | I19: =INDEX(DATE!$B$2:$B$4747,$D19+I$6-1) -> 14050714 | J19: =INDEX(DATE!$B$2:$B$4747,$D19+J$6-1) -> 14050715 | K19: =INDEX(DATE!$B$2:$B$4747,$D19+K$6-1) -> 14050716 | L19: =INDEX(DATE!$B$2:$B$4747,$D19+L$6-1) -> 14050717 | M19: =INDEX(DATE!$B$2:$B$4747,$D19+M$6-1) -> 14050718 | N19: =INDEX(DATE!$B$2:$B$4747,$D19+N$6-1) -> 14050719 | O19: =INDEX(DATE!$B$2:$B$4747,$D19+O$6-1) -> 14050720 | P19: =INDEX(DATE!$B$2:$B$4747,$D19+P$6-1) -> 14050727 | ... R19: =INDEX(DATE!$B$2:$B$4747,$D19+R$6-1) -> 14050912 | S19: =IF($F19>S$6-9,INDEX(DATE!$B$2:$B$4747,$D19+S$6-1),"") | T19: =IF($F19>T$6-9,INDEX(DATE!$B$2:$B$4747,$D19+T$6-1),"") | U19: =IF($F19>U$6-9,INDEX(DATE!$B$2:$B$4747,$D19+U$6-1),"") | V19: =IF($F19>V$6-9,INDEX(DATE!$B$2:$B$4747,$D19+V$6-1),"") | W19: =IF($F19>W$6-9,INDEX(DATE!$B$2:$B$4747,$D19+W$6-1),"") | X19: =IF($F19>X$6-9,INDEX(DATE!$B$2:$B$4747,$D19+X$6-1),"") | Y19: =IF($F19>Y$6-9,INDEX(DATE!$B$2:$B$4747,$D19+Y$6-1),"") | Z19: =IF($F19>Z$6-9,INDEX(DATE!$B$2:$B$4747,$D19+Z$6-1),"") | ... AD19: =IF($F19>AD$6-9,INDEX(DATE!$B$2:$B$4747,$D19+AD$6-1),"") | AE19: =SUM(H19<$C$3)+SUM(I19<$C$3)+SUM(J19<$C$3)+SUM(K19<$C$3)+SUM(L19<$C$3)+SUM(M19<$C$3)+SUM(N19<$C$3)+SUM(O19<$C$3)+SUM(P19<$C$3)+SUM(Q19<$C$3)+SUM(R19<$C$3)+SUM(S19<$C$3)+SUM(T19<$C$3)+SUM(U19<$C$3)+SUM(V19<$C$3)+SUM(W19<$C$3)+SUM(X19<$C$3)+SUM(Y19<$C$3)+SUM(Z19<$C$3)+SUM(AA19<$C$3)+SUM(AB19<$C$3)+SUM(AC19<$C$3)+SUM(AD19<$C$3) -> 0 | AF19: =COUNTA(H19:AD19)-COUNTBLANK(H19:AD19) -> 11
B20: 14 | C20: درس چهارده (تست) | D20: =MATCH(E20,DATE!$B$2:$B$4747,0) -> 2755 | E20: =IF($K$2="عادی",INDEX(DATE!$B$2:$B$4747,$D$2+B20-1),IF($K$2="بسیار سریع",INDEX(DATE!$B$2:$B$4747,$D$2+ROUND((B20)/2,0)-1),IF($K$2="بسیار آهسته",INDEX(DATE!$B$2:$B$4747,$D$2+ROUND((B20)*2,0)-1),INDEX(DATE!$B$2:$B$4747,$D$2+(B20-QUOTIENT(B20,$M$3))*2+(IF(($D$2+(B20-QUOTIENT(B20,$M$3))*2)-2=D19,1,0))-2)))) -> 14050714 | G20: =IF(MAX(H20:AD20)<$C$3,1,IF(OR(H20=$C$3,I20=$C$3,J20=$C$3,K20=$C$3,L20=$C$3,M20=$C$3,N20=$C$3,O20=$C$3,P20=$C$3,Q20=$C$3,R20=$C$3,S20=$C$3,T20=$C$3,U20=$C$3,V20=$C$3,W20=$C$3,X20=$C$3,Y20=$C$3,Z20=$C$3,AA20=$C$3,AB20=$C$3,AC20=$C$3,AD20=$C$3),0,-1)) -> -1 | H20: =E20 -> 14050714 | I20: 1 | J20: 1 | K20: 1 | L20: 1 | M20: 1 | N20: 1 | O20: 1 | P20: 1 | Q20: 1 | R20: 1 | S20: =IF($F20>S$6-9,INDEX(DATE!$B$2:$B$4747,$D20+S$6-1),"") | T20: =IF($F20>T$6-9,INDEX(DATE!$B$2:$B$4747,$D20+T$6-1),"") | U20: =IF($F20>U$6-9,INDEX(DATE!$B$2:$B$4747,$D20+U$6-1),"") | V20: =IF($F20>V$6-9,INDEX(DATE!$B$2:$B$4747,$D20+V$6-1),"") | W20: =IF($F20>W$6-9,INDEX(DATE!$B$2:$B$4747,$D20+W$6-1),"") | X20: =IF($F20>X$6-9,INDEX(DATE!$B$2:$B$4747,$D20+X$6-1),"") | Y20: =IF($F20>Y$6-9,INDEX(DATE!$B$2:$B$4747,$D20+Y$6-1),"") | Z20: =IF($F20>Z$6-9,INDEX(DATE!$B$2:$B$4747,$D20+Z$6-1),"") | ... AD20: =IF($F20>AD$6-9,INDEX(DATE!$B$2:$B$4747,$D20+AD$6-1),"") | AE20: =SUM(H20<$C$3)+SUM(I20<$C$3)+SUM(J20<$C$3)+SUM(K20<$C$3)+SUM(L20<$C$3)+SUM(M20<$C$3)+SUM(N20<$C$3)+SUM(O20<$C$3)+SUM(P20<$C$3)+SUM(Q20<$C$3)+SUM(R20<$C$3)+SUM(S20<$C$3)+SUM(T20<$C$3)+SUM(U20<$C$3)+SUM(V20<$C$3)+SUM(W20<$C$3)+SUM(X20<$C$3)+SUM(Y20<$C$3)+SUM(Z20<$C$3)+SUM(AA20<$C$3)+SUM(AB20<$C$3)+SUM(AC20<$C$3)+SUM(AD20<$C$3)-10 -> 0 | AF20: =COUNTA(H20:AD20)-COUNTBLANK(H20:AD20)-10 -> 1
B21: 15 | C21: درس پانزده | D21: =MATCH(E21,DATE!$B$2:$B$4747,0) -> 2756 | E21: =IF($K$2="عادی",INDEX(DATE!$B$2:$B$4747,$D$2+B21-1),IF($K$2="بسیار سریع",INDEX(DATE!$B$2:$B$4747,$D$2+ROUND((B21)/2,0)-1),IF($K$2="بسیار آهسته",INDEX(DATE!$B$2:$B$4747,$D$2+ROUND((B21)*2,0)-1),INDEX(DATE!$B$2:$B$4747,$D$2+(B21-QUOTIENT(B21,$M$3))*2+(IF(($D$2+(B21-QUOTIENT(B21,$M$3))*2)-2=D20,1,0))-2)))) -> 14050715 | F21: 0 | G21: =IF(MAX(H21:AD21)<$C$3,1,IF(OR(H21=$C$3,I21=$C$3,J21=$C$3,K21=$C$3,L21=$C$3,M21=$C$3,N21=$C$3,O21=$C$3,P21=$C$3,Q21=$C$3,R21=$C$3,S21=$C$3,T21=$C$3,U21=$C$3,V21=$C$3,W21=$C$3,X21=$C$3,Y21=$C$3,Z21=$C$3,AA21=$C$3,AB21=$C$3,AC21=$C$3,AD21=$C$3),0,-1)) -> -1 | H21: =E21 -> 14050715 | I21: =INDEX(DATE!$B$2:$B$4747,$D21+I$6-1) -> 14050716 | J21: =INDEX(DATE!$B$2:$B$4747,$D21+J$6-1) -> 14050717 | K21: =INDEX(DATE!$B$2:$B$4747,$D21+K$6-1) -> 14050718 | L21: =INDEX(DATE!$B$2:$B$4747,$D21+L$6-1) -> 14050719 | M21: =INDEX(DATE!$B$2:$B$4747,$D21+M$6-1) -> 14050720 | N21: =INDEX(DATE!$B$2:$B$4747,$D21+N$6-1) -> 14050721 | O21: =INDEX(DATE!$B$2:$B$4747,$D21+O$6-1) -> 14050722 | P21: =INDEX(DATE!$B$2:$B$4747,$D21+P$6-1) -> 14050729 | ... R21: =INDEX(DATE!$B$2:$B$4747,$D21+R$6-1) -> 14050914 | S21: =IF($F21>S$6-9,INDEX(DATE!$B$2:$B$4747,$D21+S$6-1),"") | T21: =IF($F21>T$6-9,INDEX(DATE!$B$2:$B$4747,$D21+T$6-1),"") | U21: =IF($F21>U$6-9,INDEX(DATE!$B$2:$B$4747,$D21+U$6-1),"") | V21: =IF($F21>V$6-9,INDEX(DATE!$B$2:$B$4747,$D21+V$6-1),"") | W21: =IF($F21>W$6-9,INDEX(DATE!$B$2:$B$4747,$D21+W$6-1),"") | X21: =IF($F21>X$6-9,INDEX(DATE!$B$2:$B$4747,$D21+X$6-1),"") | Y21: =IF($F21>Y$6-9,INDEX(DATE!$B$2:$B$4747,$D21+Y$6-1),"") | Z21: =IF($F21>Z$6-9,INDEX(DATE!$B$2:$B$4747,$D21+Z$6-1),"") | ... AD21: =IF($F21>AD$6-9,INDEX(DATE!$B$2:$B$4747,$D21+AD$6-1),"") | AE21: =SUM(H21<$C$3)+SUM(I21<$C$3)+SUM(J21<$C$3)+SUM(K21<$C$3)+SUM(L21<$C$3)+SUM(M21<$C$3)+SUM(N21<$C$3)+SUM(O21<$C$3)+SUM(P21<$C$3)+SUM(Q21<$C$3)+SUM(R21<$C$3)+SUM(S21<$C$3)+SUM(T21<$C$3)+SUM(U21<$C$3)+SUM(V21<$C$3)+SUM(W21<$C$3)+SUM(X21<$C$3)+SUM(Y21<$C$3)+SUM(Z21<$C$3)+SUM(AA21<$C$3)+SUM(AB21<$C$3)+SUM(AC21<$C$3)+SUM(AD21<$C$3) -> 0 | AF21: =COUNTA(H21:AD21)-COUNTBLANK(H21:AD21) -> 11
B22: 16 | C22: درس شانزده | D22: =MATCH(E22,DATE!$B$2:$B$4747,0) -> 2757 | E22: =IF($K$2="عادی",INDEX(DATE!$B$2:$B$4747,$D$2+B22-1),IF($K$2="بسیار سریع",INDEX(DATE!$B$2:$B$4747,$D$2+ROUND((B22)/2,0)-1),IF($K$2="بسیار آهسته",INDEX(DATE!$B$2:$B$4747,$D$2+ROUND((B22)*2,0)-1),INDEX(DATE!$B$2:$B$4747,$D$2+(B22-QUOTIENT(B22,$M$3))*2+(IF(($D$2+(B22-QUOTIENT(B22,$M$3))*2)-2=D21,1,0))-2)))) -> 14050716 | F22: 0 | G22: =IF(MAX(H22:AD22)<$C$3,1,IF(OR(H22=$C$3,I22=$C$3,J22=$C$3,K22=$C$3,L22=$C$3,M22=$C$3,N22=$C$3,O22=$C$3,P22=$C$3,Q22=$C$3,R22=$C$3,S22=$C$3,T22=$C$3,U22=$C$3,V22=$C$3,W22=$C$3,X22=$C$3,Y22=$C$3,Z22=$C$3,AA22=$C$3,AB22=$C$3,AC22=$C$3,AD22=$C$3),0,-1)) -> -1 | H22: =E22 -> 14050716 | I22: =INDEX(DATE!$B$2:$B$4747,$D22+I$6-1) -> 14050717 | J22: =INDEX(DATE!$B$2:$B$4747,$D22+J$6-1) -> 14050718 | K22: =INDEX(DATE!$B$2:$B$4747,$D22+K$6-1) -> 14050719 | L22: =INDEX(DATE!$B$2:$B$4747,$D22+L$6-1) -> 14050720 | M22: =INDEX(DATE!$B$2:$B$4747,$D22+M$6-1) -> 14050721 | N22: =INDEX(DATE!$B$2:$B$4747,$D22+N$6-1) -> 14050722 | O22: =INDEX(DATE!$B$2:$B$4747,$D22+O$6-1) -> 14050723 | P22: =INDEX(DATE!$B$2:$B$4747,$D22+P$6-1) -> 14050730 | ... R22: =INDEX(DATE!$B$2:$B$4747,$D22+R$6-1) -> 14050915 | S22: =IF($F22>S$6-9,INDEX(DATE!$B$2:$B$4747,$D22+S$6-1),"") | T22: =IF($F22>T$6-9,INDEX(DATE!$B$2:$B$4747,$D22+T$6-1),"") | U22: =IF($F22>U$6-9,INDEX(DATE!$B$2:$B$4747,$D22+U$6-1),"") | V22: =IF($F22>V$6-9,INDEX(DATE!$B$2:$B$4747,$D22+V$6-1),"") | W22: =IF($F22>W$6-9,INDEX(DATE!$B$2:$B$4747,$D22+W$6-1),"") | X22: =IF($F22>X$6-9,INDEX(DATE!$B$2:$B$4747,$D22+X$6-1),"") | Y22: =IF($F22>Y$6-9,INDEX(DATE!$B$2:$B$4747,$D22+Y$6-1),"") | Z22: =IF($F22>Z$6-9,INDEX(DATE!$B$2:$B$4747,$D22+Z$6-1),"") | ... AD22: =IF($F22>AD$6-9,INDEX(DATE!$B$2:$B$4747,$D22+AD$6-1),"") | AE22: =SUM(H22<$C$3)+SUM(I22<$C$3)+SUM(J22<$C$3)+SUM(K22<$C$3)+SUM(L22<$C$3)+SUM(M22<$C$3)+SUM(N22<$C$3)+SUM(O22<$C$3)+SUM(P22<$C$3)+SUM(Q22<$C$3)+SUM(R22<$C$3)+SUM(S22<$C$3)+SUM(T22<$C$3)+SUM(U22<$C$3)+SUM(V22<$C$3)+SUM(W22<$C$3)+SUM(X22<$C$3)+SUM(Y22<$C$3)+SUM(Z22<$C$3)+SUM(AA22<$C$3)+SUM(AB22<$C$3)+SUM(AC22<$C$3)+SUM(AD22<$C$3) -> 0 | AF22: =COUNTA(H22:AD22)-COUNTBLANK(H22:AD22) -> 11
B23: 17 | C23: درس هفده | D23: =MATCH(E23,DATE!$B$2:$B$4747,0) -> 2758 | E23: =IF($K$2="عادی",INDEX(DATE!$B$2:$B$4747,$D$2+B23-1),IF($K$2="بسیار سریع",INDEX(DATE!$B$2:$B$4747,$D$2+ROUND((B23)/2,0)-1),IF($K$2="بسیار آهسته",INDEX(DATE!$B$2:$B$4747,$D$2+ROUND((B23)*2,0)-1),INDEX(DATE!$B$2:$B$4747,$D$2+(B23-QUOTIENT(B23,$M$3))*2+(IF(($D$2+(B23-QUOTIENT(B23,$M$3))*2)-2=D22,1,0))-2)))) -> 14050717 | F23: 0 | G23: =IF(MAX(H23:AD23)<$C$3,1,IF(OR(H23=$C$3,I23=$C$3,J23=$C$3,K23=$C$3,L23=$C$3,M23=$C$3,N23=$C$3,O23=$C$3,P23=$C$3,Q23=$C$3,R23=$C$3,S23=$C$3,T23=$C$3,U23=$C$3,V23=$C$3,W23=$C$3,X23=$C$3,Y23=$C$3,Z23=$C$3,AA23=$C$3,AB23=$C$3,AC23=$C$3,AD23=$C$3),0,-1)) -> -1 | H23: =E23 -> 14050717 | I23: =INDEX(DATE!$B$2:$B$4747,$D23+I$6-1) -> 14050718 | J23: =INDEX(DATE!$B$2:$B$4747,$D23+J$6-1) -> 14050719 | K23: =INDEX(DATE!$B$2:$B$4747,$D23+K$6-1) -> 14050720 | L23: =INDEX(DATE!$B$2:$B$4747,$D23+L$6-1) -> 14050721 | M23: =INDEX(DATE!$B$2:$B$4747,$D23+M$6-1) -> 14050722 | N23: =INDEX(DATE!$B$2:$B$4747,$D23+N$6-1) -> 14050723 | O23: =INDEX(DATE!$B$2:$B$4747,$D23+O$6-1) -> 14050724 | P23: =INDEX(DATE!$B$2:$B$4747,$D23+P$6-1) -> 14050801 | ... R23: =INDEX(DATE!$B$2:$B$4747,$D23+R$6-1) -> 14050916 | S23: =IF($F23>S$6-9,INDEX(DATE!$B$2:$B$4747,$D23+S$6-1),"") | T23: =IF($F23>T$6-9,INDEX(DATE!$B$2:$B$4747,$D23+T$6-1),"") | U23: =IF($F23>U$6-9,INDEX(DATE!$B$2:$B$4747,$D23+U$6-1),"") | V23: =IF($F23>V$6-9,INDEX(DATE!$B$2:$B$4747,$D23+V$6-1),"") | W23: =IF($F23>W$6-9,INDEX(DATE!$B$2:$B$4747,$D23+W$6-1),"") | X23: =IF($F23>X$6-9,INDEX(DATE!$B$2:$B$4747,$D23+X$6-1),"") | Y23: =IF($F23>Y$6-9,INDEX(DATE!$B$2:$B$4747,$D23+Y$6-1),"") | Z23: =IF($F23>Z$6-9,INDEX(DATE!$B$2:$B$4747,$D23+Z$6-1),"") | ... AD23: =IF($F23>AD$6-9,INDEX(DATE!$B$2:$B$4747,$D23+AD$6-1),"") | AE23: =SUM(H23<$C$3)+SUM(I23<$C$3)+SUM(J23<$C$3)+SUM(K23<$C$3)+SUM(L23<$C$3)+SUM(M23<$C$3)+SUM(N23<$C$3)+SUM(O23<$C$3)+SUM(P23<$C$3)+SUM(Q23<$C$3)+SUM(R23<$C$3)+SUM(S23<$C$3)+SUM(T23<$C$3)+SUM(U23<$C$3)+SUM(V23<$C$3)+SUM(W23<$C$3)+SUM(X23<$C$3)+SUM(Y23<$C$3)+SUM(Z23<$C$3)+SUM(AA23<$C$3)+SUM(AB23<$C$3)+SUM(AC23<$C$3)+SUM(AD23<$C$3) -> 0 | AF23: =COUNTA(H23:AD23)-COUNTBLANK(H23:AD23) -> 11
B24: 18 | C24: درس هیجده | D24: =MATCH(E24,DATE!$B$2:$B$4747,0) -> 2759 | E24: =IF($K$2="عادی",INDEX(DATE!$B$2:$B$4747,$D$2+B24-1),IF($K$2="بسیار سریع",INDEX(DATE!$B$2:$B$4747,$D$2+ROUND((B24)/2,0)-1),IF($K$2="بسیار آهسته",INDEX(DATE!$B$2:$B$4747,$D$2+ROUND((B24)*2,0)-1),INDEX(DATE!$B$2:$B$4747,$D$2+(B24-QUOTIENT(B24,$M$3))*2+(IF(($D$2+(B24-QUOTIENT(B24,$M$3))*2)-2=D23,1,0))-2)))) -> 14050718 | F24: 0 | G24: =IF(MAX(H24:AD24)<$C$3,1,IF(OR(H24=$C$3,I24=$C$3,J24=$C$3,K24=$C$3,L24=$C$3,M24=$C$3,N24=$C$3,O24=$C$3,P24=$C$3,Q24=$C$3,R24=$C$3,S24=$C$3,T24=$C$3,U24=$C$3,V24=$C$3,W24=$C$3,X24=$C$3,Y24=$C$3,Z24=$C$3,AA24=$C$3,AB24=$C$3,AC24=$C$3,AD24=$C$3),0,-1)) -> -1 | H24: =E24 -> 14050718 | I24: =INDEX(DATE!$B$2:$B$4747,$D24+I$6-1) -> 14050719 | J24: =INDEX(DATE!$B$2:$B$4747,$D24+J$6-1) -> 14050720 | K24: =INDEX(DATE!$B$2:$B$4747,$D24+K$6-1) -> 14050721 | L24: =INDEX(DATE!$B$2:$B$4747,$D24+L$6-1) -> 14050722 | M24: =INDEX(DATE!$B$2:$B$4747,$D24+M$6-1) -> 14050723 | N24: =INDEX(DATE!$B$2:$B$4747,$D24+N$6-1) -> 14050724 | O24: =INDEX(DATE!$B$2:$B$4747,$D24+O$6-1) -> 14050725 | P24: =INDEX(DATE!$B$2:$B$4747,$D24+P$6-1) -> 14050802 | ... R24: =INDEX(DATE!$B$2:$B$4747,$D24+R$6-1) -> 14050917 | S24: =IF($F24>S$6-9,INDEX(DATE!$B$2:$B$4747,$D24+S$6-1),"") | T24: =IF($F24>T$6-9,INDEX(DATE!$B$2:$B$4747,$D24+T$6-1),"") | U24: =IF($F24>U$6-9,INDEX(DATE!$B$2:$B$4747,$D24+U$6-1),"") | V24: =IF($F24>V$6-9,INDEX(DATE!$B$2:$B$4747,$D24+V$6-1),"") | W24: =IF($F24>W$6-9,INDEX(DATE!$B$2:$B$4747,$D24+W$6-1),"") | X24: =IF($F24>X$6-9,INDEX(DATE!$B$2:$B$4747,$D24+X$6-1),"") | Y24: =IF($F24>Y$6-9,INDEX(DATE!$B$2:$B$4747,$D24+Y$6-1),"") | Z24: =IF($F24>Z$6-9,INDEX(DATE!$B$2:$B$4747,$D24+Z$6-1),"") | ... AD24: =IF($F24>AD$6-9,INDEX(DATE!$B$2:$B$4747,$D24+AD$6-1),"") | AE24: =SUM(H24<$C$3)+SUM(I24<$C$3)+SUM(J24<$C$3)+SUM(K24<$C$3)+SUM(L24<$C$3)+SUM(M24<$C$3)+SUM(N24<$C$3)+SUM(O24<$C$3)+SUM(P24<$C$3)+SUM(Q24<$C$3)+SUM(R24<$C$3)+SUM(S24<$C$3)+SUM(T24<$C$3)+SUM(U24<$C$3)+SUM(V24<$C$3)+SUM(W24<$C$3)+SUM(X24<$C$3)+SUM(Y24<$C$3)+SUM(Z24<$C$3)+SUM(AA24<$C$3)+SUM(AB24<$C$3)+SUM(AC24<$C$3)+SUM(AD24<$C$3) -> 0 | AF24: =COUNTA(H24:AD24)-COUNTBLANK(H24:AD24) -> 11
B25: 19 | C25: درس نوزده | D25: =MATCH(E25,DATE!$B$2:$B$4747,0) -> 2760 | E25: =IF($K$2="عادی",INDEX(DATE!$B$2:$B$4747,$D$2+B25-1),IF($K$2="بسیار سریع",INDEX(DATE!$B$2:$B$4747,$D$2+ROUND((B25)/2,0)-1),IF($K$2="بسیار آهسته",INDEX(DATE!$B$2:$B$4747,$D$2+ROUND((B25)*2,0)-1),INDEX(DATE!$B$2:$B$4747,$D$2+(B25-QUOTIENT(B25,$M$3))*2+(IF(($D$2+(B25-QUOTIENT(B25,$M$3))*2)-2=D24,1,0))-2)))) -> 14050719 | F25: 0 | G25: =IF(MAX(H25:AD25)<$C$3,1,IF(OR(H25=$C$3,I25=$C$3,J25=$C$3,K25=$C$3,L25=$C$3,M25=$C$3,N25=$C$3,O25=$C$3,P25=$C$3,Q25=$C$3,R25=$C$3,S25=$C$3,T25=$C$3,U25=$C$3,V25=$C$3,W25=$C$3,X25=$C$3,Y25=$C$3,Z25=$C$3,AA25=$C$3,AB25=$C$3,AC25=$C$3,AD25=$C$3),0,-1)) -> -1 | H25: =E25 -> 14050719 | I25: =INDEX(DATE!$B$2:$B$4747,$D25+I$6-1) -> 14050720 | J25: =INDEX(DATE!$B$2:$B$4747,$D25+J$6-1) -> 14050721 | K25: =INDEX(DATE!$B$2:$B$4747,$D25+K$6-1) -> 14050722 | L25: =INDEX(DATE!$B$2:$B$4747,$D25+L$6-1) -> 14050723 | M25: =INDEX(DATE!$B$2:$B$4747,$D25+M$6-1) -> 14050724 | N25: =INDEX(DATE!$B$2:$B$4747,$D25+N$6-1) -> 14050725 | O25: =INDEX(DATE!$B$2:$B$4747,$D25+O$6-1) -> 14050726 | P25: =INDEX(DATE!$B$2:$B$4747,$D25+P$6-1) -> 14050803 | ... R25: =INDEX(DATE!$B$2:$B$4747,$D25+R$6-1) -> 14050918 | S25: =IF($F25>S$6-9,INDEX(DATE!$B$2:$B$4747,$D25+S$6-1),"") | T25: =IF($F25>T$6-9,INDEX(DATE!$B$2:$B$4747,$D25+T$6-1),"") | U25: =IF($F25>U$6-9,INDEX(DATE!$B$2:$B$4747,$D25+U$6-1),"") | V25: =IF($F25>V$6-9,INDEX(DATE!$B$2:$B$4747,$D25+V$6-1),"") | W25: =IF($F25>W$6-9,INDEX(DATE!$B$2:$B$4747,$D25+W$6-1),"") | X25: =IF($F25>X$6-9,INDEX(DATE!$B$2:$B$4747,$D25+X$6-1),"") | Y25: =IF($F25>Y$6-9,INDEX(DATE!$B$2:$B$4747,$D25+Y$6-1),"") | Z25: =IF($F25>Z$6-9,INDEX(DATE!$B$2:$B$4747,$D25+Z$6-1),"") | ... AD25: =IF($F25>AD$6-9,INDEX(DATE!$B$2:$B$4747,$D25+AD$6-1),"") | AE25: =SUM(H25<$C$3)+SUM(I25<$C$3)+SUM(J25<$C$3)+SUM(K25<$C$3)+SUM(L25<$C$3)+SUM(M25<$C$3)+SUM(N25<$C$3)+SUM(O25<$C$3)+SUM(P25<$C$3)+SUM(Q25<$C$3)+SUM(R25<$C$3)+SUM(S25<$C$3)+SUM(T25<$C$3)+SUM(U25<$C$3)+SUM(V25<$C$3)+SUM(W25<$C$3)+SUM(X25<$C$3)+SUM(Y25<$C$3)+SUM(Z25<$C$3)+SUM(AA25<$C$3)+SUM(AB25<$C$3)+SUM(AC25<$C$3)+SUM(AD25<$C$3) -> 0 | AF25: =COUNTA(H25:AD25)-COUNTBLANK(H25:AD25) -> 11
B26: 20 | C26: درس بیست | D26: =MATCH(E26,DATE!$B$2:$B$4747,0) -> 2761 | E26: =IF($K$2="عادی",INDEX(DATE!$B$2:$B$4747,$D$2+B26-1),IF($K$2="بسیار سریع",INDEX(DATE!$B$2:$B$4747,$D$2+ROUND((B26)/2,0)-1),IF($K$2="بسیار آهسته",INDEX(DATE!$B$2:$B$4747,$D$2+ROUND((B26)*2,0)-1),INDEX(DATE!$B$2:$B$4747,$D$2+(B26-QUOTIENT(B26,$M$3))*2+(IF(($D$2+(B26-QUOTIENT(B26,$M$3))*2)-2=D25,1,0))-2)))) -> 14050720 | F26: 0 | G26: =IF(MAX(H26:AD26)<$C$3,1,IF(OR(H26=$C$3,I26=$C$3,J26=$C$3,K26=$C$3,L26=$C$3,M26=$C$3,N26=$C$3,O26=$C$3,P26=$C$3,Q26=$C$3,R26=$C$3,S26=$C$3,T26=$C$3,U26=$C$3,V26=$C$3,W26=$C$3,X26=$C$3,Y26=$C$3,Z26=$C$3,AA26=$C$3,AB26=$C$3,AC26=$C$3,AD26=$C$3),0,-1)) -> -1 | H26: =E26 -> 14050720 | I26: =INDEX(DATE!$B$2:$B$4747,$D26+I$6-1) -> 14050721 | J26: =INDEX(DATE!$B$2:$B$4747,$D26+J$6-1) -> 14050722 | K26: =INDEX(DATE!$B$2:$B$4747,$D26+K$6-1) -> 14050723 | L26: =INDEX(DATE!$B$2:$B$4747,$D26+L$6-1) -> 14050724 | M26: =INDEX(DATE!$B$2:$B$4747,$D26+M$6-1) -> 14050725 | N26: =INDEX(DATE!$B$2:$B$4747,$D26+N$6-1) -> 14050726 | O26: =INDEX(DATE!$B$2:$B$4747,$D26+O$6-1) -> 14050727 | P26: =INDEX(DATE!$B$2:$B$4747,$D26+P$6-1) -> 14050804 | ... R26: =INDEX(DATE!$B$2:$B$4747,$D26+R$6-1) -> 14050919 | S26: =IF($F26>S$6-9,INDEX(DATE!$B$2:$B$4747,$D26+S$6-1),"") | T26: =IF($F26>T$6-9,INDEX(DATE!$B$2:$B$4747,$D26+T$6-1),"") | U26: =IF($F26>U$6-9,INDEX(DATE!$B$2:$B$4747,$D26+U$6-1),"") | V26: =IF($F26>V$6-9,INDEX(DATE!$B$2:$B$4747,$D26+V$6-1),"") | W26: =IF($F26>W$6-9,INDEX(DATE!$B$2:$B$4747,$D26+W$6-1),"") | X26: =IF($F26>X$6-9,INDEX(DATE!$B$2:$B$4747,$D26+X$6-1),"") | Y26: =IF($F26>Y$6-9,INDEX(DATE!$B$2:$B$4747,$D26+Y$6-1),"") | Z26: =IF($F26>Z$6-9,INDEX(DATE!$B$2:$B$4747,$D26+Z$6-1),"") | ... AD26: =IF($F26>AD$6-9,INDEX(DATE!$B$2:$B$4747,$D26+AD$6-1),"") | AE26: =SUM(H26<$C$3)+SUM(I26<$C$3)+SUM(J26<$C$3)+SUM(K26<$C$3)+SUM(L26<$C$3)+SUM(M26<$C$3)+SUM(N26<$C$3)+SUM(O26<$C$3)+SUM(P26<$C$3)+SUM(Q26<$C$3)+SUM(R26<$C$3)+SUM(S26<$C$3)+SUM(T26<$C$3)+SUM(U26<$C$3)+SUM(V26<$C$3)+SUM(W26<$C$3)+SUM(X26<$C$3)+SUM(Y26<$C$3)+SUM(Z26<$C$3)+SUM(AA26<$C$3)+SUM(AB26<$C$3)+SUM(AC26<$C$3)+SUM(AD26<$C$3) -> 0 | AF26: =COUNTA(H26:AD26)-COUNTBLANK(H26:AD26) -> 11
B27: 21 | C27: درس بیست و یک | D27: =MATCH(E27,DATE!$B$2:$B$4747,0) -> 2762 | E27: =IF($K$2="عادی",INDEX(DATE!$B$2:$B$4747,$D$2+B27-1),IF($K$2="بسیار سریع",INDEX(DATE!$B$2:$B$4747,$D$2+ROUND((B27)/2,0)-1),IF($K$2="بسیار آهسته",INDEX(DATE!$B$2:$B$4747,$D$2+ROUND((B27)*2,0)-1),INDEX(DATE!$B$2:$B$4747,$D$2+(B27-QUOTIENT(B27,$M$3))*2+(IF(($D$2+(B27-QUOTIENT(B27,$M$3))*2)-2=D26,1,0))-2)))) -> 14050721 | F27: 0 | G27: =IF(MAX(H27:AD27)<$C$3,1,IF(OR(H27=$C$3,I27=$C$3,J27=$C$3,K27=$C$3,L27=$C$3,M27=$C$3,N27=$C$3,O27=$C$3,P27=$C$3,Q27=$C$3,R27=$C$3,S27=$C$3,T27=$C$3,U27=$C$3,V27=$C$3,W27=$C$3,X27=$C$3,Y27=$C$3,Z27=$C$3,AA27=$C$3,AB27=$C$3,AC27=$C$3,AD27=$C$3),0,-1)) -> -1 | H27: =E27 -> 14050721 | I27: =INDEX(DATE!$B$2:$B$4747,$D27+I$6-1) -> 14050722 | J27: =INDEX(DATE!$B$2:$B$4747,$D27+J$6-1) -> 14050723 | K27: =INDEX(DATE!$B$2:$B$4747,$D27+K$6-1) -> 14050724 | L27: =INDEX(DATE!$B$2:$B$4747,$D27+L$6-1) -> 14050725 | M27: =INDEX(DATE!$B$2:$B$4747,$D27+M$6-1) -> 14050726 | N27: =INDEX(DATE!$B$2:$B$4747,$D27+N$6-1) -> 14050727 | O27: =INDEX(DATE!$B$2:$B$4747,$D27+O$6-1) -> 14050728 | P27: =INDEX(DATE!$B$2:$B$4747,$D27+P$6-1) -> 14050805 | ... R27: =INDEX(DATE!$B$2:$B$4747,$D27+R$6-1) -> 14050920 | S27: =IF($F27>S$6-9,INDEX(DATE!$B$2:$B$4747,$D27+S$6-1),"") | T27: =IF($F27>T$6-9,INDEX(DATE!$B$2:$B$4747,$D27+T$6-1),"") | U27: =IF($F27>U$6-9,INDEX(DATE!$B$2:$B$4747,$D27+U$6-1),"") | V27: =IF($F27>V$6-9,INDEX(DATE!$B$2:$B$4747,$D27+V$6-1),"") | W27: =IF($F27>W$6-9,INDEX(DATE!$B$2:$B$4747,$D27+W$6-1),"") | X27: =IF($F27>X$6-9,INDEX(DATE!$B$2:$B$4747,$D27+X$6-1),"") | Y27: =IF($F27>Y$6-9,INDEX(DATE!$B$2:$B$4747,$D27+Y$6-1),"") | Z27: =IF($F27>Z$6-9,INDEX(DATE!$B$2:$B$4747,$D27+Z$6-1),"") | ... AD27: =IF($F27>AD$6-9,INDEX(DATE!$B$2:$B$4747,$D27+AD$6-1),"") | AE27: =SUM(H27<$C$3)+SUM(I27<$C$3)+SUM(J27<$C$3)+SUM(K27<$C$3)+SUM(L27<$C$3)+SUM(M27<$C$3)+SUM(N27<$C$3)+SUM(O27<$C$3)+SUM(P27<$C$3)+SUM(Q27<$C$3)+SUM(R27<$C$3)+SUM(S27<$C$3)+SUM(T27<$C$3)+SUM(U27<$C$3)+SUM(V27<$C$3)+SUM(W27<$C$3)+SUM(X27<$C$3)+SUM(Y27<$C$3)+SUM(Z27<$C$3)+SUM(AA27<$C$3)+SUM(AB27<$C$3)+SUM(AC27<$C$3)+SUM(AD27<$C$3) -> 0 | AF27: =COUNTA(H27:AD27)-COUNTBLANK(H27:AD27) -> 11
B28: 22 | C28: درس بیست و دو | D28: =MATCH(E28,DATE!$B$2:$B$4747,0) -> 2763 | E28: =IF($K$2="عادی",INDEX(DATE!$B$2:$B$4747,$D$2+B28-1),IF($K$2="بسیار سریع",INDEX(DATE!$B$2:$B$4747,$D$2+ROUND((B28)/2,0)-1),IF($K$2="بسیار آهسته",INDEX(DATE!$B$2:$B$4747,$D$2+ROUND((B28)*2,0)-1),INDEX(DATE!$B$2:$B$4747,$D$2+(B28-QUOTIENT(B28,$M$3))*2+(IF(($D$2+(B28-QUOTIENT(B28,$M$3))*2)-2=D27,1,0))-2)))) -> 14050722 | F28: 0 | G28: =IF(MAX(H28:AD28)<$C$3,1,IF(OR(H28=$C$3,I28=$C$3,J28=$C$3,K28=$C$3,L28=$C$3,M28=$C$3,N28=$C$3,O28=$C$3,P28=$C$3,Q28=$C$3,R28=$C$3,S28=$C$3,T28=$C$3,U28=$C$3,V28=$C$3,W28=$C$3,X28=$C$3,Y28=$C$3,Z28=$C$3,AA28=$C$3,AB28=$C$3,AC28=$C$3,AD28=$C$3),0,-1)) -> -1 | H28: =E28 -> 14050722 | I28: =INDEX(DATE!$B$2:$B$4747,$D28+I$6-1) -> 14050723 | J28: =INDEX(DATE!$B$2:$B$4747,$D28+J$6-1) -> 14050724 | K28: =INDEX(DATE!$B$2:$B$4747,$D28+K$6-1) -> 14050725 | L28: =INDEX(DATE!$B$2:$B$4747,$D28+L$6-1) -> 14050726 | M28: =INDEX(DATE!$B$2:$B$4747,$D28+M$6-1) -> 14050727 | N28: =INDEX(DATE!$B$2:$B$4747,$D28+N$6-1) -> 14050728 | O28: =INDEX(DATE!$B$2:$B$4747,$D28+O$6-1) -> 14050729 | P28: =INDEX(DATE!$B$2:$B$4747,$D28+P$6-1) -> 14050806 | ... R28: =INDEX(DATE!$B$2:$B$4747,$D28+R$6-1) -> 14050921 | S28: =IF($F28>S$6-9,INDEX(DATE!$B$2:$B$4747,$D28+S$6-1),"") | T28: =IF($F28>T$6-9,INDEX(DATE!$B$2:$B$4747,$D28+T$6-1),"") | U28: =IF($F28>U$6-9,INDEX(DATE!$B$2:$B$4747,$D28+U$6-1),"") | V28: =IF($F28>V$6-9,INDEX(DATE!$B$2:$B$4747,$D28+V$6-1),"") | W28: =IF($F28>W$6-9,INDEX(DATE!$B$2:$B$4747,$D28+W$6-1),"") | X28: =IF($F28>X$6-9,INDEX(DATE!$B$2:$B$4747,$D28+X$6-1),"") | Y28: =IF($F28>Y$6-9,INDEX(DATE!$B$2:$B$4747,$D28+Y$6-1),"") | Z28: =IF($F28>Z$6-9,INDEX(DATE!$B$2:$B$4747,$D28+Z$6-1),"") | ... AD28: =IF($F28>AD$6-9,INDEX(DATE!$B$2:$B$4747,$D28+AD$6-1),"") | AE28: =SUM(H28<$C$3)+SUM(I28<$C$3)+SUM(J28<$C$3)+SUM(K28<$C$3)+SUM(L28<$C$3)+SUM(M28<$C$3)+SUM(N28<$C$3)+SUM(O28<$C$3)+SUM(P28<$C$3)+SUM(Q28<$C$3)+SUM(R28<$C$3)+SUM(S28<$C$3)+SUM(T28<$C$3)+SUM(U28<$C$3)+SUM(V28<$C$3)+SUM(W28<$C$3)+SUM(X28<$C$3)+SUM(Y28<$C$3)+SUM(Z28<$C$3)+SUM(AA28<$C$3)+SUM(AB28<$C$3)+SUM(AC28<$C$3)+SUM(AD28<$C$3) -> 0 | AF28: =COUNTA(H28:AD28)-COUNTBLANK(H28:AD28) -> 11
B29: 23 | C29: درس بیست و سه | D29: =MATCH(E29,DATE!$B$2:$B$4747,0) -> 2764 | E29: =IF($K$2="عادی",INDEX(DATE!$B$2:$B$4747,$D$2+B29-1),IF($K$2="بسیار سریع",INDEX(DATE!$B$2:$B$4747,$D$2+ROUND((B29)/2,0)-1),IF($K$2="بسیار آهسته",INDEX(DATE!$B$2:$B$4747,$D$2+ROUND((B29)*2,0)-1),INDEX(DATE!$B$2:$B$4747,$D$2+(B29-QUOTIENT(B29,$M$3))*2+(IF(($D$2+(B29-QUOTIENT(B29,$M$3))*2)-2=D28,1,0))-2)))) -> 14050723 | F29: 0 | G29: =IF(MAX(H29:AD29)<$C$3,1,IF(OR(H29=$C$3,I29=$C$3,J29=$C$3,K29=$C$3,L29=$C$3,M29=$C$3,N29=$C$3,O29=$C$3,P29=$C$3,Q29=$C$3,R29=$C$3,S29=$C$3,T29=$C$3,U29=$C$3,V29=$C$3,W29=$C$3,X29=$C$3,Y29=$C$3,Z29=$C$3,AA29=$C$3,AB29=$C$3,AC29=$C$3,AD29=$C$3),0,-1)) -> -1 | H29: =E29 -> 14050723 | I29: =INDEX(DATE!$B$2:$B$4747,$D29+I$6-1) -> 14050724 | J29: =INDEX(DATE!$B$2:$B$4747,$D29+J$6-1) -> 14050725 | K29: =INDEX(DATE!$B$2:$B$4747,$D29+K$6-1) -> 14050726 | L29: =INDEX(DATE!$B$2:$B$4747,$D29+L$6-1) -> 14050727 | M29: =INDEX(DATE!$B$2:$B$4747,$D29+M$6-1) -> 14050728 | N29: =INDEX(DATE!$B$2:$B$4747,$D29+N$6-1) -> 14050729 | O29: =INDEX(DATE!$B$2:$B$4747,$D29+O$6-1) -> 14050730 | P29: =INDEX(DATE!$B$2:$B$4747,$D29+P$6-1) -> 14050807 | ... R29: =INDEX(DATE!$B$2:$B$4747,$D29+R$6-1) -> 14050922 | S29: =IF($F29>S$6-9,INDEX(DATE!$B$2:$B$4747,$D29+S$6-1),"") | T29: =IF($F29>T$6-9,INDEX(DATE!$B$2:$B$4747,$D29+T$6-1),"") | U29: =IF($F29>U$6-9,INDEX(DATE!$B$2:$B$4747,$D29+U$6-1),"") | V29: =IF($F29>V$6-9,INDEX(DATE!$B$2:$B$4747,$D29+V$6-1),"") | W29: =IF($F29>W$6-9,INDEX(DATE!$B$2:$B$4747,$D29+W$6-1),"") | X29: =IF($F29>X$6-9,INDEX(DATE!$B$2:$B$4747,$D29+X$6-1),"") | Y29: =IF($F29>Y$6-9,INDEX(DATE!$B$2:$B$4747,$D29+Y$6-1),"") | Z29: =IF($F29>Z$6-9,INDEX(DATE!$B$2:$B$4747,$D29+Z$6-1),"") | ... AD29: =IF($F29>AD$6-9,INDEX(DATE!$B$2:$B$4747,$D29+AD$6-1),"") | AE29: =SUM(H29<$C$3)+SUM(I29<$C$3)+SUM(J29<$C$3)+SUM(K29<$C$3)+SUM(L29<$C$3)+SUM(M29<$C$3)+SUM(N29<$C$3)+SUM(O29<$C$3)+SUM(P29<$C$3)+SUM(Q29<$C$3)+SUM(R29<$C$3)+SUM(S29<$C$3)+SUM(T29<$C$3)+SUM(U29<$C$3)+SUM(V29<$C$3)+SUM(W29<$C$3)+SUM(X29<$C$3)+SUM(Y29<$C$3)+SUM(Z29<$C$3)+SUM(AA29<$C$3)+SUM(AB29<$C$3)+SUM(AC29<$C$3)+SUM(AD29<$C$3) -> 0 | AF29: =COUNTA(H29:AD29)-COUNTBLANK(H29:AD29) -> 11
B30: 24 | C30: درس بیست و چهار | D30: =MATCH(E30,DATE!$B$2:$B$4747,0) -> 2765 | E30: =IF($K$2="عادی",INDEX(DATE!$B$2:$B$4747,$D$2+B30-1),IF($K$2="بسیار سریع",INDEX(DATE!$B$2:$B$4747,$D$2+ROUND((B30)/2,0)-1),IF($K$2="بسیار آهسته",INDEX(DATE!$B$2:$B$4747,$D$2+ROUND((B30)*2,0)-1),INDEX(DATE!$B$2:$B$4747,$D$2+(B30-QUOTIENT(B30,$M$3))*2+(IF(($D$2+(B30-QUOTIENT(B30,$M$3))*2)-2=D29,1,0))-2)))) -> 14050724 | F30: 0 | G30: =IF(MAX(H30:AD30)<$C$3,1,IF(OR(H30=$C$3,I30=$C$3,J30=$C$3,K30=$C$3,L30=$C$3,M30=$C$3,N30=$C$3,O30=$C$3,P30=$C$3,Q30=$C$3,R30=$C$3,S30=$C$3,T30=$C$3,U30=$C$3,V30=$C$3,W30=$C$3,X30=$C$3,Y30=$C$3,Z30=$C$3,AA30=$C$3,AB30=$C$3,AC30=$C$3,AD30=$C$3),0,-1)) -> -1 | H30: =E30 -> 14050724 | I30: =INDEX(DATE!$B$2:$B$4747,$D30+I$6-1) -> 14050725 | J30: =INDEX(DATE!$B$2:$B$4747,$D30+J$6-1) -> 14050726 | K30: =INDEX(DATE!$B$2:$B$4747,$D30+K$6-1) -> 14050727 | L30: =INDEX(DATE!$B$2:$B$4747,$D30+L$6-1) -> 14050728 | M30: =INDEX(DATE!$B$2:$B$4747,$D30+M$6-1) -> 14050729 | N30: =INDEX(DATE!$B$2:$B$4747,$D30+N$6-1) -> 14050730 | O30: =INDEX(DATE!$B$2:$B$4747,$D30+O$6-1) -> 14050801 | P30: =INDEX(DATE!$B$2:$B$4747,$D30+P$6-1) -> 14050808 | ... R30: =INDEX(DATE!$B$2:$B$4747,$D30+R$6-1) -> 14050923 | S30: =IF($F30>S$6-9,INDEX(DATE!$B$2:$B$4747,$D30+S$6-1),"") | T30: =IF($F30>T$6-9,INDEX(DATE!$B$2:$B$4747,$D30+T$6-1),"") | U30: =IF($F30>U$6-9,INDEX(DATE!$B$2:$B$4747,$D30+U$6-1),"") | V30: =IF($F30>V$6-9,INDEX(DATE!$B$2:$B$4747,$D30+V$6-1),"") | W30: =IF($F30>W$6-9,INDEX(DATE!$B$2:$B$4747,$D30+W$6-1),"") | X30: =IF($F30>X$6-9,INDEX(DATE!$B$2:$B$4747,$D30+X$6-1),"") | Y30: =IF($F30>Y$6-9,INDEX(DATE!$B$2:$B$4747,$D30+Y$6-1),"") | Z30: =IF($F30>Z$6-9,INDEX(DATE!$B$2:$B$4747,$D30+Z$6-1),"") | ... AD30: =IF($F30>AD$6-9,INDEX(DATE!$B$2:$B$4747,$D30+AD$6-1),"") | AE30: =SUM(H30<$C$3)+SUM(I30<$C$3)+SUM(J30<$C$3)+SUM(K30<$C$3)+SUM(L30<$C$3)+SUM(M30<$C$3)+SUM(N30<$C$3)+SUM(O30<$C$3)+SUM(P30<$C$3)+SUM(Q30<$C$3)+SUM(R30<$C$3)+SUM(S30<$C$3)+SUM(T30<$C$3)+SUM(U30<$C$3)+SUM(V30<$C$3)+SUM(W30<$C$3)+SUM(X30<$C$3)+SUM(Y30<$C$3)+SUM(Z30<$C$3)+SUM(AA30<$C$3)+SUM(AB30<$C$3)+SUM(AC30<$C$3)+SUM(AD30<$C$3) -> 0 | AF30: =COUNTA(H30:AD30)-COUNTBLANK(H30:AD30) -> 11
B31: 25 | C31: درس بیست و پنج | D31: =MATCH(E31,DATE!$B$2:$B$4747,0) -> 2766 | E31: =IF($K$2="عادی",INDEX(DATE!$B$2:$B$4747,$D$2+B31-1),IF($K$2="بسیار سریع",INDEX(DATE!$B$2:$B$4747,$D$2+ROUND((B31)/2,0)-1),IF($K$2="بسیار آهسته",INDEX(DATE!$B$2:$B$4747,$D$2+ROUND((B31)*2,0)-1),INDEX(DATE!$B$2:$B$4747,$D$2+(B31-QUOTIENT(B31,$M$3))*2+(IF(($D$2+(B31-QUOTIENT(B31,$M$3))*2)-2=D30,1,0))-2)))) -> 14050725 | F31: 0 | G31: =IF(MAX(H31:AD31)<$C$3,1,IF(OR(H31=$C$3,I31=$C$3,J31=$C$3,K31=$C$3,L31=$C$3,M31=$C$3,N31=$C$3,O31=$C$3,P31=$C$3,Q31=$C$3,R31=$C$3,S31=$C$3,T31=$C$3,U31=$C$3,V31=$C$3,W31=$C$3,X31=$C$3,Y31=$C$3,Z31=$C$3,AA31=$C$3,AB31=$C$3,AC31=$C$3,AD31=$C$3),0,-1)) -> -1 | H31: =E31 -> 14050725 | I31: =INDEX(DATE!$B$2:$B$4747,$D31+I$6-1) -> 14050726 | J31: =INDEX(DATE!$B$2:$B$4747,$D31+J$6-1) -> 14050727 | K31: =INDEX(DATE!$B$2:$B$4747,$D31+K$6-1) -> 14050728 | L31: =INDEX(DATE!$B$2:$B$4747,$D31+L$6-1) -> 14050729 | M31: =INDEX(DATE!$B$2:$B$4747,$D31+M$6-1) -> 14050730 | N31: =INDEX(DATE!$B$2:$B$4747,$D31+N$6-1) -> 14050801 | O31: =INDEX(DATE!$B$2:$B$4747,$D31+O$6-1) -> 14050802 | P31: =INDEX(DATE!$B$2:$B$4747,$D31+P$6-1) -> 14050809 | ... R31: =INDEX(DATE!$B$2:$B$4747,$D31+R$6-1) -> 14050924 | S31: =IF($F31>S$6-9,INDEX(DATE!$B$2:$B$4747,$D31+S$6-1),"") | T31: =IF($F31>T$6-9,INDEX(DATE!$B$2:$B$4747,$D31+T$6-1),"") | U31: =IF($F31>U$6-9,INDEX(DATE!$B$2:$B$4747,$D31+U$6-1),"") | V31: =IF($F31>V$6-9,INDEX(DATE!$B$2:$B$4747,$D31+V$6-1),"") | W31: =IF($F31>W$6-9,INDEX(DATE!$B$2:$B$4747,$D31+W$6-1),"") | X31: =IF($F31>X$6-9,INDEX(DATE!$B$2:$B$4747,$D31+X$6-1),"") | Y31: =IF($F31>Y$6-9,INDEX(DATE!$B$2:$B$4747,$D31+Y$6-1),"") | Z31: =IF($F31>Z$6-9,INDEX(DATE!$B$2:$B$4747,$D31+Z$6-1),"") | ... AD31: =IF($F31>AD$6-9,INDEX(DATE!$B$2:$B$4747,$D31+AD$6-1),"") | AE31: =SUM(H31<$C$3)+SUM(I31<$C$3)+SUM(J31<$C$3)+SUM(K31<$C$3)+SUM(L31<$C$3)+SUM(M31<$C$3)+SUM(N31<$C$3)+SUM(O31<$C$3)+SUM(P31<$C$3)+SUM(Q31<$C$3)+SUM(R31<$C$3)+SUM(S31<$C$3)+SUM(T31<$C$3)+SUM(U31<$C$3)+SUM(V31<$C$3)+SUM(W31<$C$3)+SUM(X31<$C$3)+SUM(Y31<$C$3)+SUM(Z31<$C$3)+SUM(AA31<$C$3)+SUM(AB31<$C$3)+SUM(AC31<$C$3)+SUM(AD31<$C$3) -> 0 | AF31: =COUNTA(H31:AD31)-COUNTBLANK(H31:AD31) -> 11
B32: 26 | C32: درس بیست و شش | D32: =MATCH(E32,DATE!$B$2:$B$4747,0) -> 2767 | E32: =IF($K$2="عادی",INDEX(DATE!$B$2:$B$4747,$D$2+B32-1),IF($K$2="بسیار سریع",INDEX(DATE!$B$2:$B$4747,$D$2+ROUND((B32)/2,0)-1),IF($K$2="بسیار آهسته",INDEX(DATE!$B$2:$B$4747,$D$2+ROUND((B32)*2,0)-1),INDEX(DATE!$B$2:$B$4747,$D$2+(B32-QUOTIENT(B32,$M$3))*2+(IF(($D$2+(B32-QUOTIENT(B32,$M$3))*2)-2=D31,1,0))-2)))) -> 14050726 | F32: 0 | G32: =IF(MAX(H32:AD32)<$C$3,1,IF(OR(H32=$C$3,I32=$C$3,J32=$C$3,K32=$C$3,L32=$C$3,M32=$C$3,N32=$C$3,O32=$C$3,P32=$C$3,Q32=$C$3,R32=$C$3,S32=$C$3,T32=$C$3,U32=$C$3,V32=$C$3,W32=$C$3,X32=$C$3,Y32=$C$3,Z32=$C$3,AA32=$C$3,AB32=$C$3,AC32=$C$3,AD32=$C$3),0,-1)) -> -1 | H32: =E32 -> 14050726 | I32: =INDEX(DATE!$B$2:$B$4747,$D32+I$6-1) -> 14050727 | J32: =INDEX(DATE!$B$2:$B$4747,$D32+J$6-1) -> 14050728 | K32: =INDEX(DATE!$B$2:$B$4747,$D32+K$6-1) -> 14050729 | L32: =INDEX(DATE!$B$2:$B$4747,$D32+L$6-1) -> 14050730 | M32: =INDEX(DATE!$B$2:$B$4747,$D32+M$6-1) -> 14050801 | N32: =INDEX(DATE!$B$2:$B$4747,$D32+N$6-1) -> 14050802 | O32: =INDEX(DATE!$B$2:$B$4747,$D32+O$6-1) -> 14050803 | P32: =INDEX(DATE!$B$2:$B$4747,$D32+P$6-1) -> 14050810 | ... R32: =INDEX(DATE!$B$2:$B$4747,$D32+R$6-1) -> 14050925 | S32: =IF($F32>S$6-9,INDEX(DATE!$B$2:$B$4747,$D32+S$6-1),"") | T32: =IF($F32>T$6-9,INDEX(DATE!$B$2:$B$4747,$D32+T$6-1),"") | U32: =IF($F32>U$6-9,INDEX(DATE!$B$2:$B$4747,$D32+U$6-1),"") | V32: =IF($F32>V$6-9,INDEX(DATE!$B$2:$B$4747,$D32+V$6-1),"") | W32: =IF($F32>W$6-9,INDEX(DATE!$B$2:$B$4747,$D32+W$6-1),"") | X32: =IF($F32>X$6-9,INDEX(DATE!$B$2:$B$4747,$D32+X$6-1),"") | Y32: =IF($F32>Y$6-9,INDEX(DATE!$B$2:$B$4747,$D32+Y$6-1),"") | Z32: =IF($F32>Z$6-9,INDEX(DATE!$B$2:$B$4747,$D32+Z$6-1),"") | ... AD32: =IF($F32>AD$6-9,INDEX(DATE!$B$2:$B$4747,$D32+AD$6-1),"") | AE32: =SUM(H32<$C$3)+SUM(I32<$C$3)+SUM(J32<$C$3)+SUM(K32<$C$3)+SUM(L32<$C$3)+SUM(M32<$C$3)+SUM(N32<$C$3)+SUM(O32<$C$3)+SUM(P32<$C$3)+SUM(Q32<$C$3)+SUM(R32<$C$3)+SUM(S32<$C$3)+SUM(T32<$C$3)+SUM(U32<$C$3)+SUM(V32<$C$3)+SUM(W32<$C$3)+SUM(X32<$C$3)+SUM(Y32<$C$3)+SUM(Z32<$C$3)+SUM(AA32<$C$3)+SUM(AB32<$C$3)+SUM(AC32<$C$3)+SUM(AD32<$C$3) -> 0 | AF32: =COUNTA(H32:AD32)-COUNTBLANK(H32:AD32) -> 11
B33: 27 | C33: درس بیست و هفت | D33: =MATCH(E33,DATE!$B$2:$B$4747,0) -> 2768 | E33: =IF($K$2="عادی",INDEX(DATE!$B$2:$B$4747,$D$2+B33-1),IF($K$2="بسیار سریع",INDEX(DATE!$B$2:$B$4747,$D$2+ROUND((B33)/2,0)-1),IF($K$2="بسیار آهسته",INDEX(DATE!$B$2:$B$4747,$D$2+ROUND((B33)*2,0)-1),INDEX(DATE!$B$2:$B$4747,$D$2+(B33-QUOTIENT(B33,$M$3))*2+(IF(($D$2+(B33-QUOTIENT(B33,$M$3))*2)-2=D32,1,0))-2)))) -> 14050727 | F33: 0 | G33: =IF(MAX(H33:AD33)<$C$3,1,IF(OR(H33=$C$3,I33=$C$3,J33=$C$3,K33=$C$3,L33=$C$3,M33=$C$3,N33=$C$3,O33=$C$3,P33=$C$3,Q33=$C$3,R33=$C$3,S33=$C$3,T33=$C$3,U33=$C$3,V33=$C$3,W33=$C$3,X33=$C$3,Y33=$C$3,Z33=$C$3,AA33=$C$3,AB33=$C$3,AC33=$C$3,AD33=$C$3),0,-1)) -> -1 | H33: =E33 -> 14050727 | I33: =INDEX(DATE!$B$2:$B$4747,$D33+I$6-1) -> 14050728 | J33: =INDEX(DATE!$B$2:$B$4747,$D33+J$6-1) -> 14050729 | K33: =INDEX(DATE!$B$2:$B$4747,$D33+K$6-1) -> 14050730 | L33: =INDEX(DATE!$B$2:$B$4747,$D33+L$6-1) -> 14050801 | M33: =INDEX(DATE!$B$2:$B$4747,$D33+M$6-1) -> 14050802 | N33: =INDEX(DATE!$B$2:$B$4747,$D33+N$6-1) -> 14050803 | O33: =INDEX(DATE!$B$2:$B$4747,$D33+O$6-1) -> 14050804 | P33: =INDEX(DATE!$B$2:$B$4747,$D33+P$6-1) -> 14050811 | ... R33: =INDEX(DATE!$B$2:$B$4747,$D33+R$6-1) -> 14050926 | S33: =IF($F33>S$6-9,INDEX(DATE!$B$2:$B$4747,$D33+S$6-1),"") | T33: =IF($F33>T$6-9,INDEX(DATE!$B$2:$B$4747,$D33+T$6-1),"") | U33: =IF($F33>U$6-9,INDEX(DATE!$B$2:$B$4747,$D33+U$6-1),"") | V33: =IF($F33>V$6-9,INDEX(DATE!$B$2:$B$4747,$D33+V$6-1),"") | W33: =IF($F33>W$6-9,INDEX(DATE!$B$2:$B$4747,$D33+W$6-1),"") | X33: =IF($F33>X$6-9,INDEX(DATE!$B$2:$B$4747,$D33+X$6-1),"") | Y33: =IF($F33>Y$6-9,INDEX(DATE!$B$2:$B$4747,$D33+Y$6-1),"") | Z33: =IF($F33>Z$6-9,INDEX(DATE!$B$2:$B$4747,$D33+Z$6-1),"") | ... AD33: =IF($F33>AD$6-9,INDEX(DATE!$B$2:$B$4747,$D33+AD$6-1),"") | AE33: =SUM(H33<$C$3)+SUM(I33<$C$3)+SUM(J33<$C$3)+SUM(K33<$C$3)+SUM(L33<$C$3)+SUM(M33<$C$3)+SUM(N33<$C$3)+SUM(O33<$C$3)+SUM(P33<$C$3)+SUM(Q33<$C$3)+SUM(R33<$C$3)+SUM(S33<$C$3)+SUM(T33<$C$3)+SUM(U33<$C$3)+SUM(V33<$C$3)+SUM(W33<$C$3)+SUM(X33<$C$3)+SUM(Y33<$C$3)+SUM(Z33<$C$3)+SUM(AA33<$C$3)+SUM(AB33<$C$3)+SUM(AC33<$C$3)+SUM(AD33<$C$3) -> 0 | AF33: =COUNTA(H33:AD33)-COUNTBLANK(H33:AD33) -> 11
B34: 28 | C34: درس بیست و هشت (تست) | D34: =MATCH(E34,DATE!$B$2:$B$4747,0) -> 2769 | E34: =IF($K$2="عادی",INDEX(DATE!$B$2:$B$4747,$D$2+B34-1),IF($K$2="بسیار سریع",INDEX(DATE!$B$2:$B$4747,$D$2+ROUND((B34)/2,0)-1),IF($K$2="بسیار آهسته",INDEX(DATE!$B$2:$B$4747,$D$2+ROUND((B34)*2,0)-1),INDEX(DATE!$B$2:$B$4747,$D$2+(B34-QUOTIENT(B34,$M$3))*2+(IF(($D$2+(B34-QUOTIENT(B34,$M$3))*2)-2=D33,1,0))-2)))) -> 14050728 | G34: =IF(MAX(H34:AD34)<$C$3,1,IF(OR(H34=$C$3,I34=$C$3,J34=$C$3,K34=$C$3,L34=$C$3,M34=$C$3,N34=$C$3,O34=$C$3,P34=$C$3,Q34=$C$3,R34=$C$3,S34=$C$3,T34=$C$3,U34=$C$3,V34=$C$3,W34=$C$3,X34=$C$3,Y34=$C$3,Z34=$C$3,AA34=$C$3,AB34=$C$3,AC34=$C$3,AD34=$C$3),0,-1)) -> -1 | H34: =E34 -> 14050728 | I34: 1 | J34: 1 | K34: 1 | L34: 1 | M34: 1 | N34: 1 | O34: 1 | P34: 1 | Q34: 1 | R34: 1 | S34: =IF($F34>S$6-9,INDEX(DATE!$B$2:$B$4747,$D34+S$6-1),"") | T34: =IF($F34>T$6-9,INDEX(DATE!$B$2:$B$4747,$D34+T$6-1),"") | U34: =IF($F34>U$6-9,INDEX(DATE!$B$2:$B$4747,$D34+U$6-1),"") | V34: =IF($F34>V$6-9,INDEX(DATE!$B$2:$B$4747,$D34+V$6-1),"") | W34: =IF($F34>W$6-9,INDEX(DATE!$B$2:$B$4747,$D34+W$6-1),"") | X34: =IF($F34>X$6-9,INDEX(DATE!$B$2:$B$4747,$D34+X$6-1),"") | Y34: =IF($F34>Y$6-9,INDEX(DATE!$B$2:$B$4747,$D34+Y$6-1),"") | Z34: =IF($F34>Z$6-9,INDEX(DATE!$B$2:$B$4747,$D34+Z$6-1),"") | ... AD34: =IF($F34>AD$6-9,INDEX(DATE!$B$2:$B$4747,$D34+AD$6-1),"") | AE34: =SUM(H34<$C$3)+SUM(I34<$C$3)+SUM(J34<$C$3)+SUM(K34<$C$3)+SUM(L34<$C$3)+SUM(M34<$C$3)+SUM(N34<$C$3)+SUM(O34<$C$3)+SUM(P34<$C$3)+SUM(Q34<$C$3)+SUM(R34<$C$3)+SUM(S34<$C$3)+SUM(T34<$C$3)+SUM(U34<$C$3)+SUM(V34<$C$3)+SUM(W34<$C$3)+SUM(X34<$C$3)+SUM(Y34<$C$3)+SUM(Z34<$C$3)+SUM(AA34<$C$3)+SUM(AB34<$C$3)+SUM(AC34<$C$3)+SUM(AD34<$C$3)-10 -> 0 | AF34: =COUNTA(H34:AD34)-COUNTBLANK(H34:AD34)-10 -> 1
B35: 29 | C35: درس بیست و نه | D35: =MATCH(E35,DATE!$B$2:$B$4747,0) -> 2770 | E35: =IF($K$2="عادی",INDEX(DATE!$B$2:$B$4747,$D$2+B35-1),IF($K$2="بسیار سریع",INDEX(DATE!$B$2:$B$4747,$D$2+ROUND((B35)/2,0)-1),IF($K$2="بسیار آهسته",INDEX(DATE!$B$2:$B$4747,$D$2+ROUND((B35)*2,0)-1),INDEX(DATE!$B$2:$B$4747,$D$2+(B35-QUOTIENT(B35,$M$3))*2+(IF(($D$2+(B35-QUOTIENT(B35,$M$3))*2)-2=D34,1,0))-2)))) -> 14050729 | F35: 0 | G35: =IF(MAX(H35:AD35)<$C$3,1,IF(OR(H35=$C$3,I35=$C$3,J35=$C$3,K35=$C$3,L35=$C$3,M35=$C$3,N35=$C$3,O35=$C$3,P35=$C$3,Q35=$C$3,R35=$C$3,S35=$C$3,T35=$C$3,U35=$C$3,V35=$C$3,W35=$C$3,X35=$C$3,Y35=$C$3,Z35=$C$3,AA35=$C$3,AB35=$C$3,AC35=$C$3,AD35=$C$3),0,-1)) -> -1 | H35: =E35 -> 14050729 | I35: =INDEX(DATE!$B$2:$B$4747,$D35+I$6-1) -> 14050730 | J35: =INDEX(DATE!$B$2:$B$4747,$D35+J$6-1) -> 14050801 | K35: =INDEX(DATE!$B$2:$B$4747,$D35+K$6-1) -> 14050802 | L35: =INDEX(DATE!$B$2:$B$4747,$D35+L$6-1) -> 14050803 | M35: =INDEX(DATE!$B$2:$B$4747,$D35+M$6-1) -> 14050804 | N35: =INDEX(DATE!$B$2:$B$4747,$D35+N$6-1) -> 14050805 | O35: =INDEX(DATE!$B$2:$B$4747,$D35+O$6-1) -> 14050806 | P35: =INDEX(DATE!$B$2:$B$4747,$D35+P$6-1) -> 14050813 | ... R35: =INDEX(DATE!$B$2:$B$4747,$D35+R$6-1) -> 14050928 | S35: =IF($F35>S$6-9,INDEX(DATE!$B$2:$B$4747,$D35+S$6-1),"") | T35: =IF($F35>T$6-9,INDEX(DATE!$B$2:$B$4747,$D35+T$6-1),"") | U35: =IF($F35>U$6-9,INDEX(DATE!$B$2:$B$4747,$D35+U$6-1),"") | V35: =IF($F35>V$6-9,INDEX(DATE!$B$2:$B$4747,$D35+V$6-1),"") | W35: =IF($F35>W$6-9,INDEX(DATE!$B$2:$B$4747,$D35+W$6-1),"") | X35: =IF($F35>X$6-9,INDEX(DATE!$B$2:$B$4747,$D35+X$6-1),"") | Y35: =IF($F35>Y$6-9,INDEX(DATE!$B$2:$B$4747,$D35+Y$6-1),"") | Z35: =IF($F35>Z$6-9,INDEX(DATE!$B$2:$B$4747,$D35+Z$6-1),"") | ... AD35: =IF($F35>AD$6-9,INDEX(DATE!$B$2:$B$4747,$D35+AD$6-1),"") | AE35: =SUM(H35<$C$3)+SUM(I35<$C$3)+SUM(J35<$C$3)+SUM(K35<$C$3)+SUM(L35<$C$3)+SUM(M35<$C$3)+SUM(N35<$C$3)+SUM(O35<$C$3)+SUM(P35<$C$3)+SUM(Q35<$C$3)+SUM(R35<$C$3)+SUM(S35<$C$3)+SUM(T35<$C$3)+SUM(U35<$C$3)+SUM(V35<$C$3)+SUM(W35<$C$3)+SUM(X35<$C$3)+SUM(Y35<$C$3)+SUM(Z35<$C$3)+SUM(AA35<$C$3)+SUM(AB35<$C$3)+SUM(AC35<$C$3)+SUM(AD35<$C$3) -> 0 | AF35: =COUNTA(H35:AD35)-COUNTBLANK(H35:AD35) -> 11
B36: 30 | C36: درس سی | D36: =MATCH(E36,DATE!$B$2:$B$4747,0) -> 2771 | E36: =IF($K$2="عادی",INDEX(DATE!$B$2:$B$4747,$D$2+B36-1),IF($K$2="بسیار سریع",INDEX(DATE!$B$2:$B$4747,$D$2+ROUND((B36)/2,0)-1),IF($K$2="بسیار آهسته",INDEX(DATE!$B$2:$B$4747,$D$2+ROUND((B36)*2,0)-1),INDEX(DATE!$B$2:$B$4747,$D$2+(B36-QUOTIENT(B36,$M$3))*2+(IF(($D$2+(B36-QUOTIENT(B36,$M$3))*2)-2=D35,1,0))-2)))) -> 14050730 | F36: 0 | G36: =IF(MAX(H36:AD36)<$C$3,1,IF(OR(H36=$C$3,I36=$C$3,J36=$C$3,K36=$C$3,L36=$C$3,M36=$C$3,N36=$C$3,O36=$C$3,P36=$C$3,Q36=$C$3,R36=$C$3,S36=$C$3,T36=$C$3,U36=$C$3,V36=$C$3,W36=$C$3,X36=$C$3,Y36=$C$3,Z36=$C$3,AA36=$C$3,AB36=$C$3,AC36=$C$3,AD36=$C$3),0,-1)) -> -1 | H36: =E36 -> 14050730 | I36: =INDEX(DATE!$B$2:$B$4747,$D36+I$6-1) -> 14050801 | J36: =INDEX(DATE!$B$2:$B$4747,$D36+J$6-1) -> 14050802 | K36: =INDEX(DATE!$B$2:$B$4747,$D36+K$6-1) -> 14050803 | L36: =INDEX(DATE!$B$2:$B$4747,$D36+L$6-1) -> 14050804 | M36: =INDEX(DATE!$B$2:$B$4747,$D36+M$6-1) -> 14050805 | N36: =INDEX(DATE!$B$2:$B$4747,$D36+N$6-1) -> 14050806 | O36: =INDEX(DATE!$B$2:$B$4747,$D36+O$6-1) -> 14050807 | P36: =INDEX(DATE!$B$2:$B$4747,$D36+P$6-1) -> 14050814 | ... R36: =INDEX(DATE!$B$2:$B$4747,$D36+R$6-1) -> 14050929 | S36: =IF($F36>S$6-9,INDEX(DATE!$B$2:$B$4747,$D36+S$6-1),"") | T36: =IF($F36>T$6-9,INDEX(DATE!$B$2:$B$4747,$D36+T$6-1),"") | U36: =IF($F36>U$6-9,INDEX(DATE!$B$2:$B$4747,$D36+U$6-1),"") | V36: =IF($F36>V$6-9,INDEX(DATE!$B$2:$B$4747,$D36+V$6-1),"") | W36: =IF($F36>W$6-9,INDEX(DATE!$B$2:$B$4747,$D36+W$6-1),"") | X36: =IF($F36>X$6-9,INDEX(DATE!$B$2:$B$4747,$D36+X$6-1),"") | Y36: =IF($F36>Y$6-9,INDEX(DATE!$B$2:$B$4747,$D36+Y$6-1),"") | Z36: =IF($F36>Z$6-9,INDEX(DATE!$B$2:$B$4747,$D36+Z$6-1),"") | ... AD36: =IF($F36>AD$6-9,INDEX(DATE!$B$2:$B$4747,$D36+AD$6-1),"") | AE36: =SUM(H36<$C$3)+SUM(I36<$C$3)+SUM(J36<$C$3)+SUM(K36<$C$3)+SUM(L36<$C$3)+SUM(M36<$C$3)+SUM(N36<$C$3)+SUM(O36<$C$3)+SUM(P36<$C$3)+SUM(Q36<$C$3)+SUM(R36<$C$3)+SUM(S36<$C$3)+SUM(T36<$C$3)+SUM(U36<$C$3)+SUM(V36<$C$3)+SUM(W36<$C$3)+SUM(X36<$C$3)+SUM(Y36<$C$3)+SUM(Z36<$C$3)+SUM(AA36<$C$3)+SUM(AB36<$C$3)+SUM(AC36<$C$3)+SUM(AD36<$C$3) -> 0 | AF36: =COUNTA(H36:AD36)-COUNTBLANK(H36:AD36) -> 11
B37: 31 | C37: درس سی و یک | D37: =MATCH(E37,DATE!$B$2:$B$4747,0) -> 2772 | E37: =IF($K$2="عادی",INDEX(DATE!$B$2:$B$4747,$D$2+B37-1),IF($K$2="بسیار سریع",INDEX(DATE!$B$2:$B$4747,$D$2+ROUND((B37)/2,0)-1),IF($K$2="بسیار آهسته",INDEX(DATE!$B$2:$B$4747,$D$2+ROUND((B37)*2,0)-1),INDEX(DATE!$B$2:$B$4747,$D$2+(B37-QUOTIENT(B37,$M$3))*2+(IF(($D$2+(B37-QUOTIENT(B37,$M$3))*2)-2=D36,1,0))-2)))) -> 14050801 | F37: 0 | G37: =IF(MAX(H37:AD37)<$C$3,1,IF(OR(H37=$C$3,I37=$C$3,J37=$C$3,K37=$C$3,L37=$C$3,M37=$C$3,N37=$C$3,O37=$C$3,P37=$C$3,Q37=$C$3,R37=$C$3,S37=$C$3,T37=$C$3,U37=$C$3,V37=$C$3,W37=$C$3,X37=$C$3,Y37=$C$3,Z37=$C$3,AA37=$C$3,AB37=$C$3,AC37=$C$3,AD37=$C$3),0,-1)) -> -1 | H37: =E37 -> 14050801 | I37: =INDEX(DATE!$B$2:$B$4747,$D37+I$6-1) -> 14050802 | J37: =INDEX(DATE!$B$2:$B$4747,$D37+J$6-1) -> 14050803 | K37: =INDEX(DATE!$B$2:$B$4747,$D37+K$6-1) -> 14050804 | L37: =INDEX(DATE!$B$2:$B$4747,$D37+L$6-1) -> 14050805 | M37: =INDEX(DATE!$B$2:$B$4747,$D37+M$6-1) -> 14050806 | N37: =INDEX(DATE!$B$2:$B$4747,$D37+N$6-1) -> 14050807 | O37: =INDEX(DATE!$B$2:$B$4747,$D37+O$6-1) -> 14050808 | P37: =INDEX(DATE!$B$2:$B$4747,$D37+P$6-1) -> 14050815 | ... R37: =INDEX(DATE!$B$2:$B$4747,$D37+R$6-1) -> 14050930 | S37: =IF($F37>S$6-9,INDEX(DATE!$B$2:$B$4747,$D37+S$6-1),"") | T37: =IF($F37>T$6-9,INDEX(DATE!$B$2:$B$4747,$D37+T$6-1),"") | U37: =IF($F37>U$6-9,INDEX(DATE!$B$2:$B$4747,$D37+U$6-1),"") | V37: =IF($F37>V$6-9,INDEX(DATE!$B$2:$B$4747,$D37+V$6-1),"") | W37: =IF($F37>W$6-9,INDEX(DATE!$B$2:$B$4747,$D37+W$6-1),"") | X37: =IF($F37>X$6-9,INDEX(DATE!$B$2:$B$4747,$D37+X$6-1),"") | Y37: =IF($F37>Y$6-9,INDEX(DATE!$B$2:$B$4747,$D37+Y$6-1),"") | Z37: =IF($F37>Z$6-9,INDEX(DATE!$B$2:$B$4747,$D37+Z$6-1),"") | ... AD37: =IF($F37>AD$6-9,INDEX(DATE!$B$2:$B$4747,$D37+AD$6-1),"") | AE37: =SUM(H37<$C$3)+SUM(I37<$C$3)+SUM(J37<$C$3)+SUM(K37<$C$3)+SUM(L37<$C$3)+SUM(M37<$C$3)+SUM(N37<$C$3)+SUM(O37<$C$3)+SUM(P37<$C$3)+SUM(Q37<$C$3)+SUM(R37<$C$3)+SUM(S37<$C$3)+SUM(T37<$C$3)+SUM(U37<$C$3)+SUM(V37<$C$3)+SUM(W37<$C$3)+SUM(X37<$C$3)+SUM(Y37<$C$3)+SUM(Z37<$C$3)+SUM(AA37<$C$3)+SUM(AB37<$C$3)+SUM(AC37<$C$3)+SUM(AD37<$C$3) -> 0 | AF37: =COUNTA(H37:AD37)-COUNTBLANK(H37:AD37) -> 11
B38: 32 | C38: درس سی و دو | D38: =MATCH(E38,DATE!$B$2:$B$4747,0) -> 2773 | E38: =IF($K$2="عادی",INDEX(DATE!$B$2:$B$4747,$D$2+B38-1),IF($K$2="بسیار سریع",INDEX(DATE!$B$2:$B$4747,$D$2+ROUND((B38)/2,0)-1),IF($K$2="بسیار آهسته",INDEX(DATE!$B$2:$B$4747,$D$2+ROUND((B38)*2,0)-1),INDEX(DATE!$B$2:$B$4747,$D$2+(B38-QUOTIENT(B38,$M$3))*2+(IF(($D$2+(B38-QUOTIENT(B38,$M$3))*2)-2=D37,1,0))-2)))) -> 14050802 | F38: 0 | G38: =IF(MAX(H38:AD38)<$C$3,1,IF(OR(H38=$C$3,I38=$C$3,J38=$C$3,K38=$C$3,L38=$C$3,M38=$C$3,N38=$C$3,O38=$C$3,P38=$C$3,Q38=$C$3,R38=$C$3,S38=$C$3,T38=$C$3,U38=$C$3,V38=$C$3,W38=$C$3,X38=$C$3,Y38=$C$3,Z38=$C$3,AA38=$C$3,AB38=$C$3,AC38=$C$3,AD38=$C$3),0,-1)) -> -1 | H38: =E38 -> 14050802 | I38: =INDEX(DATE!$B$2:$B$4747,$D38+I$6-1) -> 14050803 | J38: =INDEX(DATE!$B$2:$B$4747,$D38+J$6-1) -> 14050804 | K38: =INDEX(DATE!$B$2:$B$4747,$D38+K$6-1) -> 14050805 | L38: =INDEX(DATE!$B$2:$B$4747,$D38+L$6-1) -> 14050806 | M38: =INDEX(DATE!$B$2:$B$4747,$D38+M$6-1) -> 14050807 | N38: =INDEX(DATE!$B$2:$B$4747,$D38+N$6-1) -> 14050808 | O38: =INDEX(DATE!$B$2:$B$4747,$D38+O$6-1) -> 14050809 | P38: =INDEX(DATE!$B$2:$B$4747,$D38+P$6-1) -> 14050816 | ... R38: =INDEX(DATE!$B$2:$B$4747,$D38+R$6-1) -> 14051001 | S38: =IF($F38>S$6-9,INDEX(DATE!$B$2:$B$4747,$D38+S$6-1),"") | T38: =IF($F38>T$6-9,INDEX(DATE!$B$2:$B$4747,$D38+T$6-1),"") | U38: =IF($F38>U$6-9,INDEX(DATE!$B$2:$B$4747,$D38+U$6-1),"") | V38: =IF($F38>V$6-9,INDEX(DATE!$B$2:$B$4747,$D38+V$6-1),"") | W38: =IF($F38>W$6-9,INDEX(DATE!$B$2:$B$4747,$D38+W$6-1),"") | X38: =IF($F38>X$6-9,INDEX(DATE!$B$2:$B$4747,$D38+X$6-1),"") | Y38: =IF($F38>Y$6-9,INDEX(DATE!$B$2:$B$4747,$D38+Y$6-1),"") | Z38: =IF($F38>Z$6-9,INDEX(DATE!$B$2:$B$4747,$D38+Z$6-1),"") | ... AD38: =IF($F38>AD$6-9,INDEX(DATE!$B$2:$B$4747,$D38+AD$6-1),"") | AE38: =SUM(H38<$C$3)+SUM(I38<$C$3)+SUM(J38<$C$3)+SUM(K38<$C$3)+SUM(L38<$C$3)+SUM(M38<$C$3)+SUM(N38<$C$3)+SUM(O38<$C$3)+SUM(P38<$C$3)+SUM(Q38<$C$3)+SUM(R38<$C$3)+SUM(S38<$C$3)+SUM(T38<$C$3)+SUM(U38<$C$3)+SUM(V38<$C$3)+SUM(W38<$C$3)+SUM(X38<$C$3)+SUM(Y38<$C$3)+SUM(Z38<$C$3)+SUM(AA38<$C$3)+SUM(AB38<$C$3)+SUM(AC38<$C$3)+SUM(AD38<$C$3) -> 0 | AF38: =COUNTA(H38:AD38)-COUNTBLANK(H38:AD38) -> 11
B39: 33 | C39: درس سی و سه | D39: =MATCH(E39,DATE!$B$2:$B$4747,0) -> 2774 | E39: =IF($K$2="عادی",INDEX(DATE!$B$2:$B$4747,$D$2+B39-1),IF($K$2="بسیار سریع",INDEX(DATE!$B$2:$B$4747,$D$2+ROUND((B39)/2,0)-1),IF($K$2="بسیار آهسته",INDEX(DATE!$B$2:$B$4747,$D$2+ROUND((B39)*2,0)-1),INDEX(DATE!$B$2:$B$4747,$D$2+(B39-QUOTIENT(B39,$M$3))*2+(IF(($D$2+(B39-QUOTIENT(B39,$M$3))*2)-2=D38,1,0))-2)))) -> 14050803 | F39: 0 | G39: =IF(MAX(H39:AD39)<$C$3,1,IF(OR(H39=$C$3,I39=$C$3,J39=$C$3,K39=$C$3,L39=$C$3,M39=$C$3,N39=$C$3,O39=$C$3,P39=$C$3,Q39=$C$3,R39=$C$3,S39=$C$3,T39=$C$3,U39=$C$3,V39=$C$3,W39=$C$3,X39=$C$3,Y39=$C$3,Z39=$C$3,AA39=$C$3,AB39=$C$3,AC39=$C$3,AD39=$C$3),0,-1)) -> -1 | H39: =E39 -> 14050803 | I39: =INDEX(DATE!$B$2:$B$4747,$D39+I$6-1) -> 14050804 | J39: =INDEX(DATE!$B$2:$B$4747,$D39+J$6-1) -> 14050805 | K39: =INDEX(DATE!$B$2:$B$4747,$D39+K$6-1) -> 14050806 | L39: =INDEX(DATE!$B$2:$B$4747,$D39+L$6-1) -> 14050807 | M39: =INDEX(DATE!$B$2:$B$4747,$D39+M$6-1) -> 14050808 | N39: =INDEX(DATE!$B$2:$B$4747,$D39+N$6-1) -> 14050809 | O39: =INDEX(DATE!$B$2:$B$4747,$D39+O$6-1) -> 14050810 | P39: =INDEX(DATE!$B$2:$B$4747,$D39+P$6-1) -> 14050817 | ... R39: =INDEX(DATE!$B$2:$B$4747,$D39+R$6-1) -> 14051002 | S39: =IF($F39>S$6-9,INDEX(DATE!$B$2:$B$4747,$D39+S$6-1),"") | T39: =IF($F39>T$6-9,INDEX(DATE!$B$2:$B$4747,$D39+T$6-1),"") | U39: =IF($F39>U$6-9,INDEX(DATE!$B$2:$B$4747,$D39+U$6-1),"") | V39: =IF($F39>V$6-9,INDEX(DATE!$B$2:$B$4747,$D39+V$6-1),"") | W39: =IF($F39>W$6-9,INDEX(DATE!$B$2:$B$4747,$D39+W$6-1),"") | X39: =IF($F39>X$6-9,INDEX(DATE!$B$2:$B$4747,$D39+X$6-1),"") | Y39: =IF($F39>Y$6-9,INDEX(DATE!$B$2:$B$4747,$D39+Y$6-1),"") | Z39: =IF($F39>Z$6-9,INDEX(DATE!$B$2:$B$4747,$D39+Z$6-1),"") | ... AD39: =IF($F39>AD$6-9,INDEX(DATE!$B$2:$B$4747,$D39+AD$6-1),"") | AE39: =SUM(H39<$C$3)+SUM(I39<$C$3)+SUM(J39<$C$3)+SUM(K39<$C$3)+SUM(L39<$C$3)+SUM(M39<$C$3)+SUM(N39<$C$3)+SUM(O39<$C$3)+SUM(P39<$C$3)+SUM(Q39<$C$3)+SUM(R39<$C$3)+SUM(S39<$C$3)+SUM(T39<$C$3)+SUM(U39<$C$3)+SUM(V39<$C$3)+SUM(W39<$C$3)+SUM(X39<$C$3)+SUM(Y39<$C$3)+SUM(Z39<$C$3)+SUM(AA39<$C$3)+SUM(AB39<$C$3)+SUM(AC39<$C$3)+SUM(AD39<$C$3) -> 0 | AF39: =COUNTA(H39:AD39)-COUNTBLANK(H39:AD39) -> 11
B40: 34 | C40: درس سی و چهار | D40: =MATCH(E40,DATE!$B$2:$B$4747,0) -> 2775 | E40: =IF($K$2="عادی",INDEX(DATE!$B$2:$B$4747,$D$2+B40-1),IF($K$2="بسیار سریع",INDEX(DATE!$B$2:$B$4747,$D$2+ROUND((B40)/2,0)-1),IF($K$2="بسیار آهسته",INDEX(DATE!$B$2:$B$4747,$D$2+ROUND((B40)*2,0)-1),INDEX(DATE!$B$2:$B$4747,$D$2+(B40-QUOTIENT(B40,$M$3))*2+(IF(($D$2+(B40-QUOTIENT(B40,$M$3))*2)-2=D39,1,0))-2)))) -> 14050804 | F40: 0 | G40: =IF(MAX(H40:AD40)<$C$3,1,IF(OR(H40=$C$3,I40=$C$3,J40=$C$3,K40=$C$3,L40=$C$3,M40=$C$3,N40=$C$3,O40=$C$3,P40=$C$3,Q40=$C$3,R40=$C$3,S40=$C$3,T40=$C$3,U40=$C$3,V40=$C$3,W40=$C$3,X40=$C$3,Y40=$C$3,Z40=$C$3,AA40=$C$3,AB40=$C$3,AC40=$C$3,AD40=$C$3),0,-1)) -> -1 | H40: =E40 -> 14050804 | I40: =INDEX(DATE!$B$2:$B$4747,$D40+I$6-1) -> 14050805 | J40: =INDEX(DATE!$B$2:$B$4747,$D40+J$6-1) -> 14050806 | K40: =INDEX(DATE!$B$2:$B$4747,$D40+K$6-1) -> 14050807 | L40: =INDEX(DATE!$B$2:$B$4747,$D40+L$6-1) -> 14050808 | M40: =INDEX(DATE!$B$2:$B$4747,$D40+M$6-1) -> 14050809 | N40: =INDEX(DATE!$B$2:$B$4747,$D40+N$6-1) -> 14050810 | O40: =INDEX(DATE!$B$2:$B$4747,$D40+O$6-1) -> 14050811 | P40: =INDEX(DATE!$B$2:$B$4747,$D40+P$6-1) -> 14050818 | ... R40: =INDEX(DATE!$B$2:$B$4747,$D40+R$6-1) -> 14051003 | S40: =IF($F40>S$6-9,INDEX(DATE!$B$2:$B$4747,$D40+S$6-1),"") | T40: =IF($F40>T$6-9,INDEX(DATE!$B$2:$B$4747,$D40+T$6-1),"") | U40: =IF($F40>U$6-9,INDEX(DATE!$B$2:$B$4747,$D40+U$6-1),"") | V40: =IF($F40>V$6-9,INDEX(DATE!$B$2:$B$4747,$D40+V$6-1),"") | W40: =IF($F40>W$6-9,INDEX(DATE!$B$2:$B$4747,$D40+W$6-1),"") | X40: =IF($F40>X$6-9,INDEX(DATE!$B$2:$B$4747,$D40+X$6-1),"") | Y40: =IF($F40>Y$6-9,INDEX(DATE!$B$2:$B$4747,$D40+Y$6-1),"") | Z40: =IF($F40>Z$6-9,INDEX(DATE!$B$2:$B$4747,$D40+Z$6-1),"") | ... AD40: =IF($F40>AD$6-9,INDEX(DATE!$B$2:$B$4747,$D40+AD$6-1),"") | AE40: =SUM(H40<$C$3)+SUM(I40<$C$3)+SUM(J40<$C$3)+SUM(K40<$C$3)+SUM(L40<$C$3)+SUM(M40<$C$3)+SUM(N40<$C$3)+SUM(O40<$C$3)+SUM(P40<$C$3)+SUM(Q40<$C$3)+SUM(R40<$C$3)+SUM(S40<$C$3)+SUM(T40<$C$3)+SUM(U40<$C$3)+SUM(V40<$C$3)+SUM(W40<$C$3)+SUM(X40<$C$3)+SUM(Y40<$C$3)+SUM(Z40<$C$3)+SUM(AA40<$C$3)+SUM(AB40<$C$3)+SUM(AC40<$C$3)+SUM(AD40<$C$3) -> 0 | AF40: =COUNTA(H40:AD40)-COUNTBLANK(H40:AD40) -> 11
B41: 35 | C41: درس سی و پنج | D41: =MATCH(E41,DATE!$B$2:$B$4747,0) -> 2776 | E41: =IF($K$2="عادی",INDEX(DATE!$B$2:$B$4747,$D$2+B41-1),IF($K$2="بسیار سریع",INDEX(DATE!$B$2:$B$4747,$D$2+ROUND((B41)/2,0)-1),IF($K$2="بسیار آهسته",INDEX(DATE!$B$2:$B$4747,$D$2+ROUND((B41)*2,0)-1),INDEX(DATE!$B$2:$B$4747,$D$2+(B41-QUOTIENT(B41,$M$3))*2+(IF(($D$2+(B41-QUOTIENT(B41,$M$3))*2)-2=D40,1,0))-2)))) -> 14050805 | F41: 0 | G41: =IF(MAX(H41:AD41)<$C$3,1,IF(OR(H41=$C$3,I41=$C$3,J41=$C$3,K41=$C$3,L41=$C$3,M41=$C$3,N41=$C$3,O41=$C$3,P41=$C$3,Q41=$C$3,R41=$C$3,S41=$C$3,T41=$C$3,U41=$C$3,V41=$C$3,W41=$C$3,X41=$C$3,Y41=$C$3,Z41=$C$3,AA41=$C$3,AB41=$C$3,AC41=$C$3,AD41=$C$3),0,-1)) -> -1 | H41: =E41 -> 14050805 | I41: =INDEX(DATE!$B$2:$B$4747,$D41+I$6-1) -> 14050806 | J41: =INDEX(DATE!$B$2:$B$4747,$D41+J$6-1) -> 14050807 | K41: =INDEX(DATE!$B$2:$B$4747,$D41+K$6-1) -> 14050808 | L41: =INDEX(DATE!$B$2:$B$4747,$D41+L$6-1) -> 14050809 | M41: =INDEX(DATE!$B$2:$B$4747,$D41+M$6-1) -> 14050810 | N41: =INDEX(DATE!$B$2:$B$4747,$D41+N$6-1) -> 14050811 | O41: =INDEX(DATE!$B$2:$B$4747,$D41+O$6-1) -> 14050812 | P41: =INDEX(DATE!$B$2:$B$4747,$D41+P$6-1) -> 14050819 | ... R41: =INDEX(DATE!$B$2:$B$4747,$D41+R$6-1) -> 14051004 | S41: =IF($F41>S$6-9,INDEX(DATE!$B$2:$B$4747,$D41+S$6-1),"") | T41: =IF($F41>T$6-9,INDEX(DATE!$B$2:$B$4747,$D41+T$6-1),"") | U41: =IF($F41>U$6-9,INDEX(DATE!$B$2:$B$4747,$D41+U$6-1),"") | V41: =IF($F41>V$6-9,INDEX(DATE!$B$2:$B$4747,$D41+V$6-1),"") | W41: =IF($F41>W$6-9,INDEX(DATE!$B$2:$B$4747,$D41+W$6-1),"") | X41: =IF($F41>X$6-9,INDEX(DATE!$B$2:$B$4747,$D41+X$6-1),"") | Y41: =IF($F41>Y$6-9,INDEX(DATE!$B$2:$B$4747,$D41+Y$6-1),"") | Z41: =IF($F41>Z$6-9,INDEX(DATE!$B$2:$B$4747,$D41+Z$6-1),"") | ... AD41: =IF($F41>AD$6-9,INDEX(DATE!$B$2:$B$4747,$D41+AD$6-1),"") | AE41: =SUM(H41<$C$3)+SUM(I41<$C$3)+SUM(J41<$C$3)+SUM(K41<$C$3)+SUM(L41<$C$3)+SUM(M41<$C$3)+SUM(N41<$C$3)+SUM(O41<$C$3)+SUM(P41<$C$3)+SUM(Q41<$C$3)+SUM(R41<$C$3)+SUM(S41<$C$3)+SUM(T41<$C$3)+SUM(U41<$C$3)+SUM(V41<$C$3)+SUM(W41<$C$3)+SUM(X41<$C$3)+SUM(Y41<$C$3)+SUM(Z41<$C$3)+SUM(AA41<$C$3)+SUM(AB41<$C$3)+SUM(AC41<$C$3)+SUM(AD41<$C$3) -> 0 | AF41: =COUNTA(H41:AD41)-COUNTBLANK(H41:AD41) -> 11
B42: 36 | C42: درس سی و شش | D42: =MATCH(E42,DATE!$B$2:$B$4747,0) -> 2777 | E42: =IF($K$2="عادی",INDEX(DATE!$B$2:$B$4747,$D$2+B42-1),IF($K$2="بسیار سریع",INDEX(DATE!$B$2:$B$4747,$D$2+ROUND((B42)/2,0)-1),IF($K$2="بسیار آهسته",INDEX(DATE!$B$2:$B$4747,$D$2+ROUND((B42)*2,0)-1),INDEX(DATE!$B$2:$B$4747,$D$2+(B42-QUOTIENT(B42,$M$3))*2+(IF(($D$2+(B42-QUOTIENT(B42,$M$3))*2)-2=D41,1,0))-2)))) -> 14050806 | F42: 0 | G42: =IF(MAX(H42:AD42)<$C$3,1,IF(OR(H42=$C$3,I42=$C$3,J42=$C$3,K42=$C$3,L42=$C$3,M42=$C$3,N42=$C$3,O42=$C$3,P42=$C$3,Q42=$C$3,R42=$C$3,S42=$C$3,T42=$C$3,U42=$C$3,V42=$C$3,W42=$C$3,X42=$C$3,Y42=$C$3,Z42=$C$3,AA42=$C$3,AB42=$C$3,AC42=$C$3,AD42=$C$3),0,-1)) -> -1 | H42: =E42 -> 14050806 | I42: =INDEX(DATE!$B$2:$B$4747,$D42+I$6-1) -> 14050807 | J42: =INDEX(DATE!$B$2:$B$4747,$D42+J$6-1) -> 14050808 | K42: =INDEX(DATE!$B$2:$B$4747,$D42+K$6-1) -> 14050809 | L42: =INDEX(DATE!$B$2:$B$4747,$D42+L$6-1) -> 14050810 | M42: =INDEX(DATE!$B$2:$B$4747,$D42+M$6-1) -> 14050811 | N42: =INDEX(DATE!$B$2:$B$4747,$D42+N$6-1) -> 14050812 | O42: =INDEX(DATE!$B$2:$B$4747,$D42+O$6-1) -> 14050813 | P42: =INDEX(DATE!$B$2:$B$4747,$D42+P$6-1) -> 14050820 | ... R42: =INDEX(DATE!$B$2:$B$4747,$D42+R$6-1) -> 14051005 | S42: =IF($F42>S$6-9,INDEX(DATE!$B$2:$B$4747,$D42+S$6-1),"") | T42: =IF($F42>T$6-9,INDEX(DATE!$B$2:$B$4747,$D42+T$6-1),"") | U42: =IF($F42>U$6-9,INDEX(DATE!$B$2:$B$4747,$D42+U$6-1),"") | V42: =IF($F42>V$6-9,INDEX(DATE!$B$2:$B$4747,$D42+V$6-1),"") | W42: =IF($F42>W$6-9,INDEX(DATE!$B$2:$B$4747,$D42+W$6-1),"") | X42: =IF($F42>X$6-9,INDEX(DATE!$B$2:$B$4747,$D42+X$6-1),"") | Y42: =IF($F42>Y$6-9,INDEX(DATE!$B$2:$B$4747,$D42+Y$6-1),"") | Z42: =IF($F42>Z$6-9,INDEX(DATE!$B$2:$B$4747,$D42+Z$6-1),"") | ... AD42: =IF($F42>AD$6-9,INDEX(DATE!$B$2:$B$4747,$D42+AD$6-1),"") | AE42: =SUM(H42<$C$3)+SUM(I42<$C$3)+SUM(J42<$C$3)+SUM(K42<$C$3)+SUM(L42<$C$3)+SUM(M42<$C$3)+SUM(N42<$C$3)+SUM(O42<$C$3)+SUM(P42<$C$3)+SUM(Q42<$C$3)+SUM(R42<$C$3)+SUM(S42<$C$3)+SUM(T42<$C$3)+SUM(U42<$C$3)+SUM(V42<$C$3)+SUM(W42<$C$3)+SUM(X42<$C$3)+SUM(Y42<$C$3)+SUM(Z42<$C$3)+SUM(AA42<$C$3)+SUM(AB42<$C$3)+SUM(AC42<$C$3)+SUM(AD42<$C$3) -> 0 | AF42: =COUNTA(H42:AD42)-COUNTBLANK(H42:AD42) -> 11
B43: 37 | C43: درس سی و هفت | D43: =MATCH(E43,DATE!$B$2:$B$4747,0) -> 2778 | E43: =IF($K$2="عادی",INDEX(DATE!$B$2:$B$4747,$D$2+B43-1),IF($K$2="بسیار سریع",INDEX(DATE!$B$2:$B$4747,$D$2+ROUND((B43)/2,0)-1),IF($K$2="بسیار آهسته",INDEX(DATE!$B$2:$B$4747,$D$2+ROUND((B43)*2,0)-1),INDEX(DATE!$B$2:$B$4747,$D$2+(B43-QUOTIENT(B43,$M$3))*2+(IF(($D$2+(B43-QUOTIENT(B43,$M$3))*2)-2=D42,1,0))-2)))) -> 14050807 | F43: 0 | G43: =IF(MAX(H43:AD43)<$C$3,1,IF(OR(H43=$C$3,I43=$C$3,J43=$C$3,K43=$C$3,L43=$C$3,M43=$C$3,N43=$C$3,O43=$C$3,P43=$C$3,Q43=$C$3,R43=$C$3,S43=$C$3,T43=$C$3,U43=$C$3,V43=$C$3,W43=$C$3,X43=$C$3,Y43=$C$3,Z43=$C$3,AA43=$C$3,AB43=$C$3,AC43=$C$3,AD43=$C$3),0,-1)) -> -1 | H43: =E43 -> 14050807 | I43: =INDEX(DATE!$B$2:$B$4747,$D43+I$6-1) -> 14050808 | J43: =INDEX(DATE!$B$2:$B$4747,$D43+J$6-1) -> 14050809 | K43: =INDEX(DATE!$B$2:$B$4747,$D43+K$6-1) -> 14050810 | L43: =INDEX(DATE!$B$2:$B$4747,$D43+L$6-1) -> 14050811 | M43: =INDEX(DATE!$B$2:$B$4747,$D43+M$6-1) -> 14050812 | N43: =INDEX(DATE!$B$2:$B$4747,$D43+N$6-1) -> 14050813 | O43: =INDEX(DATE!$B$2:$B$4747,$D43+O$6-1) -> 14050814 | P43: =INDEX(DATE!$B$2:$B$4747,$D43+P$6-1) -> 14050821 | ... R43: =INDEX(DATE!$B$2:$B$4747,$D43+R$6-1) -> 14051006 | S43: =IF($F43>S$6-9,INDEX(DATE!$B$2:$B$4747,$D43+S$6-1),"") | T43: =IF($F43>T$6-9,INDEX(DATE!$B$2:$B$4747,$D43+T$6-1),"") | U43: =IF($F43>U$6-9,INDEX(DATE!$B$2:$B$4747,$D43+U$6-1),"") | V43: =IF($F43>V$6-9,INDEX(DATE!$B$2:$B$4747,$D43+V$6-1),"") | W43: =IF($F43>W$6-9,INDEX(DATE!$B$2:$B$4747,$D43+W$6-1),"") | X43: =IF($F43>X$6-9,INDEX(DATE!$B$2:$B$4747,$D43+X$6-1),"") | Y43: =IF($F43>Y$6-9,INDEX(DATE!$B$2:$B$4747,$D43+Y$6-1),"") | Z43: =IF($F43>Z$6-9,INDEX(DATE!$B$2:$B$4747,$D43+Z$6-1),"") | ... AD43: =IF($F43>AD$6-9,INDEX(DATE!$B$2:$B$4747,$D43+AD$6-1),"") | AE43: =SUM(H43<$C$3)+SUM(I43<$C$3)+SUM(J43<$C$3)+SUM(K43<$C$3)+SUM(L43<$C$3)+SUM(M43<$C$3)+SUM(N43<$C$3)+SUM(O43<$C$3)+SUM(P43<$C$3)+SUM(Q43<$C$3)+SUM(R43<$C$3)+SUM(S43<$C$3)+SUM(T43<$C$3)+SUM(U43<$C$3)+SUM(V43<$C$3)+SUM(W43<$C$3)+SUM(X43<$C$3)+SUM(Y43<$C$3)+SUM(Z43<$C$3)+SUM(AA43<$C$3)+SUM(AB43<$C$3)+SUM(AC43<$C$3)+SUM(AD43<$C$3) -> 0 | AF43: =COUNTA(H43:AD43)-COUNTBLANK(H43:AD43) -> 11
B44: 38 | C44: درس سی و هشت | D44: =MATCH(E44,DATE!$B$2:$B$4747,0) -> 2779 | E44: =IF($K$2="عادی",INDEX(DATE!$B$2:$B$4747,$D$2+B44-1),IF($K$2="بسیار سریع",INDEX(DATE!$B$2:$B$4747,$D$2+ROUND((B44)/2,0)-1),IF($K$2="بسیار آهسته",INDEX(DATE!$B$2:$B$4747,$D$2+ROUND((B44)*2,0)-1),INDEX(DATE!$B$2:$B$4747,$D$2+(B44-QUOTIENT(B44,$M$3))*2+(IF(($D$2+(B44-QUOTIENT(B44,$M$3))*2)-2=D43,1,0))-2)))) -> 14050808 | F44: 0 | G44: =IF(MAX(H44:AD44)<$C$3,1,IF(OR(H44=$C$3,I44=$C$3,J44=$C$3,K44=$C$3,L44=$C$3,M44=$C$3,N44=$C$3,O44=$C$3,P44=$C$3,Q44=$C$3,R44=$C$3,S44=$C$3,T44=$C$3,U44=$C$3,V44=$C$3,W44=$C$3,X44=$C$3,Y44=$C$3,Z44=$C$3,AA44=$C$3,AB44=$C$3,AC44=$C$3,AD44=$C$3),0,-1)) -> -1 | H44: =E44 -> 14050808 | I44: =INDEX(DATE!$B$2:$B$4747,$D44+I$6-1) -> 14050809 | J44: =INDEX(DATE!$B$2:$B$4747,$D44+J$6-1) -> 14050810 | K44: =INDEX(DATE!$B$2:$B$4747,$D44+K$6-1) -> 14050811 | L44: =INDEX(DATE!$B$2:$B$4747,$D44+L$6-1) -> 14050812 | M44: =INDEX(DATE!$B$2:$B$4747,$D44+M$6-1) -> 14050813 | N44: =INDEX(DATE!$B$2:$B$4747,$D44+N$6-1) -> 14050814 | O44: =INDEX(DATE!$B$2:$B$4747,$D44+O$6-1) -> 14050815 | P44: =INDEX(DATE!$B$2:$B$4747,$D44+P$6-1) -> 14050822 | ... R44: =INDEX(DATE!$B$2:$B$4747,$D44+R$6-1) -> 14051007 | S44: =IF($F44>S$6-9,INDEX(DATE!$B$2:$B$4747,$D44+S$6-1),"") | T44: =IF($F44>T$6-9,INDEX(DATE!$B$2:$B$4747,$D44+T$6-1),"") | U44: =IF($F44>U$6-9,INDEX(DATE!$B$2:$B$4747,$D44+U$6-1),"") | V44: =IF($F44>V$6-9,INDEX(DATE!$B$2:$B$4747,$D44+V$6-1),"") | W44: =IF($F44>W$6-9,INDEX(DATE!$B$2:$B$4747,$D44+W$6-1),"") | X44: =IF($F44>X$6-9,INDEX(DATE!$B$2:$B$4747,$D44+X$6-1),"") | Y44: =IF($F44>Y$6-9,INDEX(DATE!$B$2:$B$4747,$D44+Y$6-1),"") | Z44: =IF($F44>Z$6-9,INDEX(DATE!$B$2:$B$4747,$D44+Z$6-1),"") | ... AD44: =IF($F44>AD$6-9,INDEX(DATE!$B$2:$B$4747,$D44+AD$6-1),"") | AE44: =SUM(H44<$C$3)+SUM(I44<$C$3)+SUM(J44<$C$3)+SUM(K44<$C$3)+SUM(L44<$C$3)+SUM(M44<$C$3)+SUM(N44<$C$3)+SUM(O44<$C$3)+SUM(P44<$C$3)+SUM(Q44<$C$3)+SUM(R44<$C$3)+SUM(S44<$C$3)+SUM(T44<$C$3)+SUM(U44<$C$3)+SUM(V44<$C$3)+SUM(W44<$C$3)+SUM(X44<$C$3)+SUM(Y44<$C$3)+SUM(Z44<$C$3)+SUM(AA44<$C$3)+SUM(AB44<$C$3)+SUM(AC44<$C$3)+SUM(AD44<$C$3) -> 0 | AF44: =COUNTA(H44:AD44)-COUNTBLANK(H44:AD44) -> 11
B45: 39 | C45: درس سی و نه | D45: =MATCH(E45,DATE!$B$2:$B$4747,0) -> 2780 | E45: =IF($K$2="عادی",INDEX(DATE!$B$2:$B$4747,$D$2+B45-1),IF($K$2="بسیار سریع",INDEX(DATE!$B$2:$B$4747,$D$2+ROUND((B45)/2,0)-1),IF($K$2="بسیار آهسته",INDEX(DATE!$B$2:$B$4747,$D$2+ROUND((B45)*2,0)-1),INDEX(DATE!$B$2:$B$4747,$D$2+(B45-QUOTIENT(B45,$M$3))*2+(IF(($D$2+(B45-QUOTIENT(B45,$M$3))*2)-2=D44,1,0))-2)))) -> 14050809 | F45: 0 | G45: =IF(MAX(H45:AD45)<$C$3,1,IF(OR(H45=$C$3,I45=$C$3,J45=$C$3,K45=$C$3,L45=$C$3,M45=$C$3,N45=$C$3,O45=$C$3,P45=$C$3,Q45=$C$3,R45=$C$3,S45=$C$3,T45=$C$3,U45=$C$3,V45=$C$3,W45=$C$3,X45=$C$3,Y45=$C$3,Z45=$C$3,AA45=$C$3,AB45=$C$3,AC45=$C$3,AD45=$C$3),0,-1)) -> -1 | H45: =E45 -> 14050809 | I45: =INDEX(DATE!$B$2:$B$4747,$D45+I$6-1) -> 14050810 | J45: =INDEX(DATE!$B$2:$B$4747,$D45+J$6-1) -> 14050811 | K45: =INDEX(DATE!$B$2:$B$4747,$D45+K$6-1) -> 14050812 | L45: =INDEX(DATE!$B$2:$B$4747,$D45+L$6-1) -> 14050813 | M45: =INDEX(DATE!$B$2:$B$4747,$D45+M$6-1) -> 14050814 | N45: =INDEX(DATE!$B$2:$B$4747,$D45+N$6-1) -> 14050815 | O45: =INDEX(DATE!$B$2:$B$4747,$D45+O$6-1) -> 14050816 | P45: =INDEX(DATE!$B$2:$B$4747,$D45+P$6-1) -> 14050823 | ... R45: =INDEX(DATE!$B$2:$B$4747,$D45+R$6-1) -> 14051008 | S45: =IF($F45>S$6-9,INDEX(DATE!$B$2:$B$4747,$D45+S$6-1),"") | T45: =IF($F45>T$6-9,INDEX(DATE!$B$2:$B$4747,$D45+T$6-1),"") | U45: =IF($F45>U$6-9,INDEX(DATE!$B$2:$B$4747,$D45+U$6-1),"") | V45: =IF($F45>V$6-9,INDEX(DATE!$B$2:$B$4747,$D45+V$6-1),"") | W45: =IF($F45>W$6-9,INDEX(DATE!$B$2:$B$4747,$D45+W$6-1),"") | X45: =IF($F45>X$6-9,INDEX(DATE!$B$2:$B$4747,$D45+X$6-1),"") | Y45: =IF($F45>Y$6-9,INDEX(DATE!$B$2:$B$4747,$D45+Y$6-1),"") | Z45: =IF($F45>Z$6-9,INDEX(DATE!$B$2:$B$4747,$D45+Z$6-1),"") | ... AD45: =IF($F45>AD$6-9,INDEX(DATE!$B$2:$B$4747,$D45+AD$6-1),"") | AE45: =SUM(H45<$C$3)+SUM(I45<$C$3)+SUM(J45<$C$3)+SUM(K45<$C$3)+SUM(L45<$C$3)+SUM(M45<$C$3)+SUM(N45<$C$3)+SUM(O45<$C$3)+SUM(P45<$C$3)+SUM(Q45<$C$3)+SUM(R45<$C$3)+SUM(S45<$C$3)+SUM(T45<$C$3)+SUM(U45<$C$3)+SUM(V45<$C$3)+SUM(W45<$C$3)+SUM(X45<$C$3)+SUM(Y45<$C$3)+SUM(Z45<$C$3)+SUM(AA45<$C$3)+SUM(AB45<$C$3)+SUM(AC45<$C$3)+SUM(AD45<$C$3) -> 0 | AF45: =COUNTA(H45:AD45)-COUNTBLANK(H45:AD45) -> 11
B46: 40 | C46: درس چهل | D46: =MATCH(E46,DATE!$B$2:$B$4747,0) -> 2781 | E46: =IF($K$2="عادی",INDEX(DATE!$B$2:$B$4747,$D$2+B46-1),IF($K$2="بسیار سریع",INDEX(DATE!$B$2:$B$4747,$D$2+ROUND((B46)/2,0)-1),IF($K$2="بسیار آهسته",INDEX(DATE!$B$2:$B$4747,$D$2+ROUND((B46)*2,0)-1),INDEX(DATE!$B$2:$B$4747,$D$2+(B46-QUOTIENT(B46,$M$3))*2+(IF(($D$2+(B46-QUOTIENT(B46,$M$3))*2)-2=D45,1,0))-2)))) -> 14050810 | F46: 0 | G46: =IF(MAX(H46:AD46)<$C$3,1,IF(OR(H46=$C$3,I46=$C$3,J46=$C$3,K46=$C$3,L46=$C$3,M46=$C$3,N46=$C$3,O46=$C$3,P46=$C$3,Q46=$C$3,R46=$C$3,S46=$C$3,T46=$C$3,U46=$C$3,V46=$C$3,W46=$C$3,X46=$C$3,Y46=$C$3,Z46=$C$3,AA46=$C$3,AB46=$C$3,AC46=$C$3,AD46=$C$3),0,-1)) -> -1 | H46: =E46 -> 14050810 | I46: =INDEX(DATE!$B$2:$B$4747,$D46+I$6-1) -> 14050811 | J46: =INDEX(DATE!$B$2:$B$4747,$D46+J$6-1) -> 14050812 | K46: =INDEX(DATE!$B$2:$B$4747,$D46+K$6-1) -> 14050813 | L46: =INDEX(DATE!$B$2:$B$4747,$D46+L$6-1) -> 14050814 | M46: =INDEX(DATE!$B$2:$B$4747,$D46+M$6-1) -> 14050815 | N46: =INDEX(DATE!$B$2:$B$4747,$D46+N$6-1) -> 14050816 | O46: =INDEX(DATE!$B$2:$B$4747,$D46+O$6-1) -> 14050817 | P46: =INDEX(DATE!$B$2:$B$4747,$D46+P$6-1) -> 14050824 | ... R46: =INDEX(DATE!$B$2:$B$4747,$D46+R$6-1) -> 14051009 | S46: =IF($F46>S$6-9,INDEX(DATE!$B$2:$B$4747,$D46+S$6-1),"") | T46: =IF($F46>T$6-9,INDEX(DATE!$B$2:$B$4747,$D46+T$6-1),"") | U46: =IF($F46>U$6-9,INDEX(DATE!$B$2:$B$4747,$D46+U$6-1),"") | V46: =IF($F46>V$6-9,INDEX(DATE!$B$2:$B$4747,$D46+V$6-1),"") | W46: =IF($F46>W$6-9,INDEX(DATE!$B$2:$B$4747,$D46+W$6-1),"") | X46: =IF($F46>X$6-9,INDEX(DATE!$B$2:$B$4747,$D46+X$6-1),"") | Y46: =IF($F46>Y$6-9,INDEX(DATE!$B$2:$B$4747,$D46+Y$6-1),"") | Z46: =IF($F46>Z$6-9,INDEX(DATE!$B$2:$B$4747,$D46+Z$6-1),"") | ... AD46: =IF($F46>AD$6-9,INDEX(DATE!$B$2:$B$4747,$D46+AD$6-1),"") | AE46: =SUM(H46<$C$3)+SUM(I46<$C$3)+SUM(J46<$C$3)+SUM(K46<$C$3)+SUM(L46<$C$3)+SUM(M46<$C$3)+SUM(N46<$C$3)+SUM(O46<$C$3)+SUM(P46<$C$3)+SUM(Q46<$C$3)+SUM(R46<$C$3)+SUM(S46<$C$3)+SUM(T46<$C$3)+SUM(U46<$C$3)+SUM(V46<$C$3)+SUM(W46<$C$3)+SUM(X46<$C$3)+SUM(Y46<$C$3)+SUM(Z46<$C$3)+SUM(AA46<$C$3)+SUM(AB46<$C$3)+SUM(AC46<$C$3)+SUM(AD46<$C$3) -> 0 | AF46: =COUNTA(H46:AD46)-COUNTBLANK(H46:AD46) -> 11
B47: 41 | C47: درس چهل و یک | D47: =MATCH(E47,DATE!$B$2:$B$4747,0) -> 2782 | E47: =IF($K$2="عادی",INDEX(DATE!$B$2:$B$4747,$D$2+B47-1),IF($K$2="بسیار سریع",INDEX(DATE!$B$2:$B$4747,$D$2+ROUND((B47)/2,0)-1),IF($K$2="بسیار آهسته",INDEX(DATE!$B$2:$B$4747,$D$2+ROUND((B47)*2,0)-1),INDEX(DATE!$B$2:$B$4747,$D$2+(B47-QUOTIENT(B47,$M$3))*2+(IF(($D$2+(B47-QUOTIENT(B47,$M$3))*2)-2=D46,1,0))-2)))) -> 14050811 | F47: 0 | G47: =IF(MAX(H47:AD47)<$C$3,1,IF(OR(H47=$C$3,I47=$C$3,J47=$C$3,K47=$C$3,L47=$C$3,M47=$C$3,N47=$C$3,O47=$C$3,P47=$C$3,Q47=$C$3,R47=$C$3,S47=$C$3,T47=$C$3,U47=$C$3,V47=$C$3,W47=$C$3,X47=$C$3,Y47=$C$3,Z47=$C$3,AA47=$C$3,AB47=$C$3,AC47=$C$3,AD47=$C$3),0,-1)) -> -1 | H47: =E47 -> 14050811 | I47: =INDEX(DATE!$B$2:$B$4747,$D47+I$6-1) -> 14050812 | J47: =INDEX(DATE!$B$2:$B$4747,$D47+J$6-1) -> 14050813 | K47: =INDEX(DATE!$B$2:$B$4747,$D47+K$6-1) -> 14050814 | L47: =INDEX(DATE!$B$2:$B$4747,$D47+L$6-1) -> 14050815 | M47: =INDEX(DATE!$B$2:$B$4747,$D47+M$6-1) -> 14050816 | N47: =INDEX(DATE!$B$2:$B$4747,$D47+N$6-1) -> 14050817 | O47: =INDEX(DATE!$B$2:$B$4747,$D47+O$6-1) -> 14050818 | P47: =INDEX(DATE!$B$2:$B$4747,$D47+P$6-1) -> 14050825 | ... R47: =INDEX(DATE!$B$2:$B$4747,$D47+R$6-1) -> 14051010 | S47: =IF($F47>S$6-9,INDEX(DATE!$B$2:$B$4747,$D47+S$6-1),"") | T47: =IF($F47>T$6-9,INDEX(DATE!$B$2:$B$4747,$D47+T$6-1),"") | U47: =IF($F47>U$6-9,INDEX(DATE!$B$2:$B$4747,$D47+U$6-1),"") | V47: =IF($F47>V$6-9,INDEX(DATE!$B$2:$B$4747,$D47+V$6-1),"") | W47: =IF($F47>W$6-9,INDEX(DATE!$B$2:$B$4747,$D47+W$6-1),"") | X47: =IF($F47>X$6-9,INDEX(DATE!$B$2:$B$4747,$D47+X$6-1),"") | Y47: =IF($F47>Y$6-9,INDEX(DATE!$B$2:$B$4747,$D47+Y$6-1),"") | Z47: =IF($F47>Z$6-9,INDEX(DATE!$B$2:$B$4747,$D47+Z$6-1),"") | ... AD47: =IF($F47>AD$6-9,INDEX(DATE!$B$2:$B$4747,$D47+AD$6-1),"") | AE47: =SUM(H47<$C$3)+SUM(I47<$C$3)+SUM(J47<$C$3)+SUM(K47<$C$3)+SUM(L47<$C$3)+SUM(M47<$C$3)+SUM(N47<$C$3)+SUM(O47<$C$3)+SUM(P47<$C$3)+SUM(Q47<$C$3)+SUM(R47<$C$3)+SUM(S47<$C$3)+SUM(T47<$C$3)+SUM(U47<$C$3)+SUM(V47<$C$3)+SUM(W47<$C$3)+SUM(X47<$C$3)+SUM(Y47<$C$3)+SUM(Z47<$C$3)+SUM(AA47<$C$3)+SUM(AB47<$C$3)+SUM(AC47<$C$3)+SUM(AD47<$C$3) -> 0 | AF47: =COUNTA(H47:AD47)-COUNTBLANK(H47:AD47) -> 11
B48: 42 | C48: درس چهل و دو (تست) | D48: =MATCH(E48,DATE!$B$2:$B$4747,0) -> 2783 | E48: =IF($K$2="عادی",INDEX(DATE!$B$2:$B$4747,$D$2+B48-1),IF($K$2="بسیار سریع",INDEX(DATE!$B$2:$B$4747,$D$2+ROUND((B48)/2,0)-1),IF($K$2="بسیار آهسته",INDEX(DATE!$B$2:$B$4747,$D$2+ROUND((B48)*2,0)-1),INDEX(DATE!$B$2:$B$4747,$D$2+(B48-QUOTIENT(B48,$M$3))*2+(IF(($D$2+(B48-QUOTIENT(B48,$M$3))*2)-2=D47,1,0))-2)))) -> 14050812 | G48: =IF(MAX(H48:AD48)<$C$3,1,IF(OR(H48=$C$3,I48=$C$3,J48=$C$3,K48=$C$3,L48=$C$3,M48=$C$3,N48=$C$3,O48=$C$3,P48=$C$3,Q48=$C$3,R48=$C$3,S48=$C$3,T48=$C$3,U48=$C$3,V48=$C$3,W48=$C$3,X48=$C$3,Y48=$C$3,Z48=$C$3,AA48=$C$3,AB48=$C$3,AC48=$C$3,AD48=$C$3),0,-1)) -> -1 | H48: =E48 -> 14050812 | I48: 1 | J48: 1 | K48: 1 | L48: 1 | M48: 1 | N48: 1 | O48: 1 | P48: 1 | Q48: 1 | R48: 1 | S48: =IF($F48>S$6-9,INDEX(DATE!$B$2:$B$4747,$D48+S$6-1),"") | T48: =IF($F48>T$6-9,INDEX(DATE!$B$2:$B$4747,$D48+T$6-1),"") | U48: =IF($F48>U$6-9,INDEX(DATE!$B$2:$B$4747,$D48+U$6-1),"") | V48: =IF($F48>V$6-9,INDEX(DATE!$B$2:$B$4747,$D48+V$6-1),"") | W48: =IF($F48>W$6-9,INDEX(DATE!$B$2:$B$4747,$D48+W$6-1),"") | X48: =IF($F48>X$6-9,INDEX(DATE!$B$2:$B$4747,$D48+X$6-1),"") | Y48: =IF($F48>Y$6-9,INDEX(DATE!$B$2:$B$4747,$D48+Y$6-1),"") | Z48: =IF($F48>Z$6-9,INDEX(DATE!$B$2:$B$4747,$D48+Z$6-1),"") | ... AD48: =IF($F48>AD$6-9,INDEX(DATE!$B$2:$B$4747,$D48+AD$6-1),"") | AE48: =SUM(H48<$C$3)+SUM(I48<$C$3)+SUM(J48<$C$3)+SUM(K48<$C$3)+SUM(L48<$C$3)+SUM(M48<$C$3)+SUM(N48<$C$3)+SUM(O48<$C$3)+SUM(P48<$C$3)+SUM(Q48<$C$3)+SUM(R48<$C$3)+SUM(S48<$C$3)+SUM(T48<$C$3)+SUM(U48<$C$3)+SUM(V48<$C$3)+SUM(W48<$C$3)+SUM(X48<$C$3)+SUM(Y48<$C$3)+SUM(Z48<$C$3)+SUM(AA48<$C$3)+SUM(AB48<$C$3)+SUM(AC48<$C$3)+SUM(AD48<$C$3)-10 -> 0 | AF48: =COUNTA(H48:AD48)-COUNTBLANK(H48:AD48)-10 -> 1
B49: 43 | C49: درس چهل و سه | D49: =MATCH(E49,DATE!$B$2:$B$4747,0) -> 2784 | E49: =IF($K$2="عادی",INDEX(DATE!$B$2:$B$4747,$D$2+B49-1),IF($K$2="بسیار سریع",INDEX(DATE!$B$2:$B$4747,$D$2+ROUND((B49)/2,0)-1),IF($K$2="بسیار آهسته",INDEX(DATE!$B$2:$B$4747,$D$2+ROUND((B49)*2,0)-1),INDEX(DATE!$B$2:$B$4747,$D$2+(B49-QUOTIENT(B49,$M$3))*2+(IF(($D$2+(B49-QUOTIENT(B49,$M$3))*2)-2=D48,1,0))-2)))) -> 14050813 | F49: 0 | G49: =IF(MAX(H49:AD49)<$C$3,1,IF(OR(H49=$C$3,I49=$C$3,J49=$C$3,K49=$C$3,L49=$C$3,M49=$C$3,N49=$C$3,O49=$C$3,P49=$C$3,Q49=$C$3,R49=$C$3,S49=$C$3,T49=$C$3,U49=$C$3,V49=$C$3,W49=$C$3,X49=$C$3,Y49=$C$3,Z49=$C$3,AA49=$C$3,AB49=$C$3,AC49=$C$3,AD49=$C$3),0,-1)) -> -1 | H49: =E49 -> 14050813 | I49: =INDEX(DATE!$B$2:$B$4747,$D49+I$6-1) -> 14050814 | J49: =INDEX(DATE!$B$2:$B$4747,$D49+J$6-1) -> 14050815 | K49: =INDEX(DATE!$B$2:$B$4747,$D49+K$6-1) -> 14050816 | L49: =INDEX(DATE!$B$2:$B$4747,$D49+L$6-1) -> 14050817 | M49: =INDEX(DATE!$B$2:$B$4747,$D49+M$6-1) -> 14050818 | N49: =INDEX(DATE!$B$2:$B$4747,$D49+N$6-1) -> 14050819 | O49: =INDEX(DATE!$B$2:$B$4747,$D49+O$6-1) -> 14050820 | P49: =INDEX(DATE!$B$2:$B$4747,$D49+P$6-1) -> 14050827 | ... R49: =INDEX(DATE!$B$2:$B$4747,$D49+R$6-1) -> 14051012 | S49: =IF($F49>S$6-9,INDEX(DATE!$B$2:$B$4747,$D49+S$6-1),"") | T49: =IF($F49>T$6-9,INDEX(DATE!$B$2:$B$4747,$D49+T$6-1),"") | U49: =IF($F49>U$6-9,INDEX(DATE!$B$2:$B$4747,$D49+U$6-1),"") | V49: =IF($F49>V$6-9,INDEX(DATE!$B$2:$B$4747,$D49+V$6-1),"") | W49: =IF($F49>W$6-9,INDEX(DATE!$B$2:$B$4747,$D49+W$6-1),"") | X49: =IF($F49>X$6-9,INDEX(DATE!$B$2:$B$4747,$D49+X$6-1),"") | Y49: =IF($F49>Y$6-9,INDEX(DATE!$B$2:$B$4747,$D49+Y$6-1),"") | Z49: =IF($F49>Z$6-9,INDEX(DATE!$B$2:$B$4747,$D49+Z$6-1),"") | ... AD49: =IF($F49>AD$6-9,INDEX(DATE!$B$2:$B$4747,$D49+AD$6-1),"") | AE49: =SUM(H49<$C$3)+SUM(I49<$C$3)+SUM(J49<$C$3)+SUM(K49<$C$3)+SUM(L49<$C$3)+SUM(M49<$C$3)+SUM(N49<$C$3)+SUM(O49<$C$3)+SUM(P49<$C$3)+SUM(Q49<$C$3)+SUM(R49<$C$3)+SUM(S49<$C$3)+SUM(T49<$C$3)+SUM(U49<$C$3)+SUM(V49<$C$3)+SUM(W49<$C$3)+SUM(X49<$C$3)+SUM(Y49<$C$3)+SUM(Z49<$C$3)+SUM(AA49<$C$3)+SUM(AB49<$C$3)+SUM(AC49<$C$3)+SUM(AD49<$C$3) -> 0 | AF49: =COUNTA(H49:AD49)-COUNTBLANK(H49:AD49) -> 11
B50: 44 | C50: درس چهل و چهار | D50: =MATCH(E50,DATE!$B$2:$B$4747,0) -> 2785 | E50: =IF($K$2="عادی",INDEX(DATE!$B$2:$B$4747,$D$2+B50-1),IF($K$2="بسیار سریع",INDEX(DATE!$B$2:$B$4747,$D$2+ROUND((B50)/2,0)-1),IF($K$2="بسیار آهسته",INDEX(DATE!$B$2:$B$4747,$D$2+ROUND((B50)*2,0)-1),INDEX(DATE!$B$2:$B$4747,$D$2+(B50-QUOTIENT(B50,$M$3))*2+(IF(($D$2+(B50-QUOTIENT(B50,$M$3))*2)-2=D49,1,0))-2)))) -> 14050814 | F50: 0 | G50: =IF(MAX(H50:AD50)<$C$3,1,IF(OR(H50=$C$3,I50=$C$3,J50=$C$3,K50=$C$3,L50=$C$3,M50=$C$3,N50=$C$3,O50=$C$3,P50=$C$3,Q50=$C$3,R50=$C$3,S50=$C$3,T50=$C$3,U50=$C$3,V50=$C$3,W50=$C$3,X50=$C$3,Y50=$C$3,Z50=$C$3,AA50=$C$3,AB50=$C$3,AC50=$C$3,AD50=$C$3),0,-1)) -> -1 | H50: =E50 -> 14050814 | I50: =INDEX(DATE!$B$2:$B$4747,$D50+I$6-1) -> 14050815 | J50: =INDEX(DATE!$B$2:$B$4747,$D50+J$6-1) -> 14050816 | K50: =INDEX(DATE!$B$2:$B$4747,$D50+K$6-1) -> 14050817 | L50: =INDEX(DATE!$B$2:$B$4747,$D50+L$6-1) -> 14050818 | M50: =INDEX(DATE!$B$2:$B$4747,$D50+M$6-1) -> 14050819 | N50: =INDEX(DATE!$B$2:$B$4747,$D50+N$6-1) -> 14050820 | O50: =INDEX(DATE!$B$2:$B$4747,$D50+O$6-1) -> 14050821 | P50: =INDEX(DATE!$B$2:$B$4747,$D50+P$6-1) -> 14050828 | ... R50: =INDEX(DATE!$B$2:$B$4747,$D50+R$6-1) -> 14051013 | S50: =IF($F50>S$6-9,INDEX(DATE!$B$2:$B$4747,$D50+S$6-1),"") | T50: =IF($F50>T$6-9,INDEX(DATE!$B$2:$B$4747,$D50+T$6-1),"") | U50: =IF($F50>U$6-9,INDEX(DATE!$B$2:$B$4747,$D50+U$6-1),"") | V50: =IF($F50>V$6-9,INDEX(DATE!$B$2:$B$4747,$D50+V$6-1),"") | W50: =IF($F50>W$6-9,INDEX(DATE!$B$2:$B$4747,$D50+W$6-1),"") | X50: =IF($F50>X$6-9,INDEX(DATE!$B$2:$B$4747,$D50+X$6-1),"") | Y50: =IF($F50>Y$6-9,INDEX(DATE!$B$2:$B$4747,$D50+Y$6-1),"") | Z50: =IF($F50>Z$6-9,INDEX(DATE!$B$2:$B$4747,$D50+Z$6-1),"") | ... AD50: =IF($F50>AD$6-9,INDEX(DATE!$B$2:$B$4747,$D50+AD$6-1),"") | AE50: =SUM(H50<$C$3)+SUM(I50<$C$3)+SUM(J50<$C$3)+SUM(K50<$C$3)+SUM(L50<$C$3)+SUM(M50<$C$3)+SUM(N50<$C$3)+SUM(O50<$C$3)+SUM(P50<$C$3)+SUM(Q50<$C$3)+SUM(R50<$C$3)+SUM(S50<$C$3)+SUM(T50<$C$3)+SUM(U50<$C$3)+SUM(V50<$C$3)+SUM(W50<$C$3)+SUM(X50<$C$3)+SUM(Y50<$C$3)+SUM(Z50<$C$3)+SUM(AA50<$C$3)+SUM(AB50<$C$3)+SUM(AC50<$C$3)+SUM(AD50<$C$3) -> 0 | AF50: =COUNTA(H50:AD50)-COUNTBLANK(H50:AD50) -> 11
B51: 45 | C51: درس چهل و پنج | D51: =MATCH(E51,DATE!$B$2:$B$4747,0) -> 2786 | E51: =IF($K$2="عادی",INDEX(DATE!$B$2:$B$4747,$D$2+B51-1),IF($K$2="بسیار سریع",INDEX(DATE!$B$2:$B$4747,$D$2+ROUND((B51)/2,0)-1),IF($K$2="بسیار آهسته",INDEX(DATE!$B$2:$B$4747,$D$2+ROUND((B51)*2,0)-1),INDEX(DATE!$B$2:$B$4747,$D$2+(B51-QUOTIENT(B51,$M$3))*2+(IF(($D$2+(B51-QUOTIENT(B51,$M$3))*2)-2=D50,1,0))-2)))) -> 14050815 | F51: 0 | G51: =IF(MAX(H51:AD51)<$C$3,1,IF(OR(H51=$C$3,I51=$C$3,J51=$C$3,K51=$C$3,L51=$C$3,M51=$C$3,N51=$C$3,O51=$C$3,P51=$C$3,Q51=$C$3,R51=$C$3,S51=$C$3,T51=$C$3,U51=$C$3,V51=$C$3,W51=$C$3,X51=$C$3,Y51=$C$3,Z51=$C$3,AA51=$C$3,AB51=$C$3,AC51=$C$3,AD51=$C$3),0,-1)) -> -1 | H51: =E51 -> 14050815 | I51: =INDEX(DATE!$B$2:$B$4747,$D51+I$6-1) -> 14050816 | J51: =INDEX(DATE!$B$2:$B$4747,$D51+J$6-1) -> 14050817 | K51: =INDEX(DATE!$B$2:$B$4747,$D51+K$6-1) -> 14050818 | L51: =INDEX(DATE!$B$2:$B$4747,$D51+L$6-1) -> 14050819 | M51: =INDEX(DATE!$B$2:$B$4747,$D51+M$6-1) -> 14050820 | N51: =INDEX(DATE!$B$2:$B$4747,$D51+N$6-1) -> 14050821 | O51: =INDEX(DATE!$B$2:$B$4747,$D51+O$6-1) -> 14050822 | P51: =INDEX(DATE!$B$2:$B$4747,$D51+P$6-1) -> 14050829 | ... R51: =INDEX(DATE!$B$2:$B$4747,$D51+R$6-1) -> 14051014 | S51: =IF($F51>S$6-9,INDEX(DATE!$B$2:$B$4747,$D51+S$6-1),"") | T51: =IF($F51>T$6-9,INDEX(DATE!$B$2:$B$4747,$D51+T$6-1),"") | U51: =IF($F51>U$6-9,INDEX(DATE!$B$2:$B$4747,$D51+U$6-1),"") | V51: =IF($F51>V$6-9,INDEX(DATE!$B$2:$B$4747,$D51+V$6-1),"") | W51: =IF($F51>W$6-9,INDEX(DATE!$B$2:$B$4747,$D51+W$6-1),"") | X51: =IF($F51>X$6-9,INDEX(DATE!$B$2:$B$4747,$D51+X$6-1),"") | Y51: =IF($F51>Y$6-9,INDEX(DATE!$B$2:$B$4747,$D51+Y$6-1),"") | Z51: =IF($F51>Z$6-9,INDEX(DATE!$B$2:$B$4747,$D51+Z$6-1),"") | ... AD51: =IF($F51>AD$6-9,INDEX(DATE!$B$2:$B$4747,$D51+AD$6-1),"") | AE51: =SUM(H51<$C$3)+SUM(I51<$C$3)+SUM(J51<$C$3)+SUM(K51<$C$3)+SUM(L51<$C$3)+SUM(M51<$C$3)+SUM(N51<$C$3)+SUM(O51<$C$3)+SUM(P51<$C$3)+SUM(Q51<$C$3)+SUM(R51<$C$3)+SUM(S51<$C$3)+SUM(T51<$C$3)+SUM(U51<$C$3)+SUM(V51<$C$3)+SUM(W51<$C$3)+SUM(X51<$C$3)+SUM(Y51<$C$3)+SUM(Z51<$C$3)+SUM(AA51<$C$3)+SUM(AB51<$C$3)+SUM(AC51<$C$3)+SUM(AD51<$C$3) -> 0 | AF51: =COUNTA(H51:AD51)-COUNTBLANK(H51:AD51) -> 11
B52: 46 | C52: درس چهل و شش | D52: =MATCH(E52,DATE!$B$2:$B$4747,0) -> 2787 | E52: =IF($K$2="عادی",INDEX(DATE!$B$2:$B$4747,$D$2+B52-1),IF($K$2="بسیار سریع",INDEX(DATE!$B$2:$B$4747,$D$2+ROUND((B52)/2,0)-1),IF($K$2="بسیار آهسته",INDEX(DATE!$B$2:$B$4747,$D$2+ROUND((B52)*2,0)-1),INDEX(DATE!$B$2:$B$4747,$D$2+(B52-QUOTIENT(B52,$M$3))*2+(IF(($D$2+(B52-QUOTIENT(B52,$M$3))*2)-2=D51,1,0))-2)))) -> 14050816 | F52: 0 | G52: =IF(MAX(H52:AD52)<$C$3,1,IF(OR(H52=$C$3,I52=$C$3,J52=$C$3,K52=$C$3,L52=$C$3,M52=$C$3,N52=$C$3,O52=$C$3,P52=$C$3,Q52=$C$3,R52=$C$3,S52=$C$3,T52=$C$3,U52=$C$3,V52=$C$3,W52=$C$3,X52=$C$3,Y52=$C$3,Z52=$C$3,AA52=$C$3,AB52=$C$3,AC52=$C$3,AD52=$C$3),0,-1)) -> -1 | H52: =E52 -> 14050816 | I52: =INDEX(DATE!$B$2:$B$4747,$D52+I$6-1) -> 14050817 | J52: =INDEX(DATE!$B$2:$B$4747,$D52+J$6-1) -> 14050818 | K52: =INDEX(DATE!$B$2:$B$4747,$D52+K$6-1) -> 14050819 | L52: =INDEX(DATE!$B$2:$B$4747,$D52+L$6-1) -> 14050820 | M52: =INDEX(DATE!$B$2:$B$4747,$D52+M$6-1) -> 14050821 | N52: =INDEX(DATE!$B$2:$B$4747,$D52+N$6-1) -> 14050822 | O52: =INDEX(DATE!$B$2:$B$4747,$D52+O$6-1) -> 14050823 | P52: =INDEX(DATE!$B$2:$B$4747,$D52+P$6-1) -> 14050830 | ... R52: =INDEX(DATE!$B$2:$B$4747,$D52+R$6-1) -> 14051015 | S52: =IF($F52>S$6-9,INDEX(DATE!$B$2:$B$4747,$D52+S$6-1),"") | T52: =IF($F52>T$6-9,INDEX(DATE!$B$2:$B$4747,$D52+T$6-1),"") | U52: =IF($F52>U$6-9,INDEX(DATE!$B$2:$B$4747,$D52+U$6-1),"") | V52: =IF($F52>V$6-9,INDEX(DATE!$B$2:$B$4747,$D52+V$6-1),"") | W52: =IF($F52>W$6-9,INDEX(DATE!$B$2:$B$4747,$D52+W$6-1),"") | X52: =IF($F52>X$6-9,INDEX(DATE!$B$2:$B$4747,$D52+X$6-1),"") | Y52: =IF($F52>Y$6-9,INDEX(DATE!$B$2:$B$4747,$D52+Y$6-1),"") | Z52: =IF($F52>Z$6-9,INDEX(DATE!$B$2:$B$4747,$D52+Z$6-1),"") | ... AD52: =IF($F52>AD$6-9,INDEX(DATE!$B$2:$B$4747,$D52+AD$6-1),"") | AE52: =SUM(H52<$C$3)+SUM(I52<$C$3)+SUM(J52<$C$3)+SUM(K52<$C$3)+SUM(L52<$C$3)+SUM(M52<$C$3)+SUM(N52<$C$3)+SUM(O52<$C$3)+SUM(P52<$C$3)+SUM(Q52<$C$3)+SUM(R52<$C$3)+SUM(S52<$C$3)+SUM(T52<$C$3)+SUM(U52<$C$3)+SUM(V52<$C$3)+SUM(W52<$C$3)+SUM(X52<$C$3)+SUM(Y52<$C$3)+SUM(Z52<$C$3)+SUM(AA52<$C$3)+SUM(AB52<$C$3)+SUM(AC52<$C$3)+SUM(AD52<$C$3) -> 0 | AF52: =COUNTA(H52:AD52)-COUNTBLANK(H52:AD52) -> 11
B53: 47 | C53: درس چهل و هفت | D53: =MATCH(E53,DATE!$B$2:$B$4747,0) -> 2788 | E53: =IF($K$2="عادی",INDEX(DATE!$B$2:$B$4747,$D$2+B53-1),IF($K$2="بسیار سریع",INDEX(DATE!$B$2:$B$4747,$D$2+ROUND((B53)/2,0)-1),IF($K$2="بسیار آهسته",INDEX(DATE!$B$2:$B$4747,$D$2+ROUND((B53)*2,0)-1),INDEX(DATE!$B$2:$B$4747,$D$2+(B53-QUOTIENT(B53,$M$3))*2+(IF(($D$2+(B53-QUOTIENT(B53,$M$3))*2)-2=D52,1,0))-2)))) -> 14050817 | F53: 0 | G53: =IF(MAX(H53:AD53)<$C$3,1,IF(OR(H53=$C$3,I53=$C$3,J53=$C$3,K53=$C$3,L53=$C$3,M53=$C$3,N53=$C$3,O53=$C$3,P53=$C$3,Q53=$C$3,R53=$C$3,S53=$C$3,T53=$C$3,U53=$C$3,V53=$C$3,W53=$C$3,X53=$C$3,Y53=$C$3,Z53=$C$3,AA53=$C$3,AB53=$C$3,AC53=$C$3,AD53=$C$3),0,-1)) -> -1 | H53: =E53 -> 14050817 | I53: =INDEX(DATE!$B$2:$B$4747,$D53+I$6-1) -> 14050818 | J53: =INDEX(DATE!$B$2:$B$4747,$D53+J$6-1) -> 14050819 | K53: =INDEX(DATE!$B$2:$B$4747,$D53+K$6-1) -> 14050820 | L53: =INDEX(DATE!$B$2:$B$4747,$D53+L$6-1) -> 14050821 | M53: =INDEX(DATE!$B$2:$B$4747,$D53+M$6-1) -> 14050822 | N53: =INDEX(DATE!$B$2:$B$4747,$D53+N$6-1) -> 14050823 | O53: =INDEX(DATE!$B$2:$B$4747,$D53+O$6-1) -> 14050824 | P53: =INDEX(DATE!$B$2:$B$4747,$D53+P$6-1) -> 14050901 | ... R53: =INDEX(DATE!$B$2:$B$4747,$D53+R$6-1) -> 14051016 | S53: =IF($F53>S$6-9,INDEX(DATE!$B$2:$B$4747,$D53+S$6-1),"") | T53: =IF($F53>T$6-9,INDEX(DATE!$B$2:$B$4747,$D53+T$6-1),"") | U53: =IF($F53>U$6-9,INDEX(DATE!$B$2:$B$4747,$D53+U$6-1),"") | V53: =IF($F53>V$6-9,INDEX(DATE!$B$2:$B$4747,$D53+V$6-1),"") | W53: =IF($F53>W$6-9,INDEX(DATE!$B$2:$B$4747,$D53+W$6-1),"") | X53: =IF($F53>X$6-9,INDEX(DATE!$B$2:$B$4747,$D53+X$6-1),"") | Y53: =IF($F53>Y$6-9,INDEX(DATE!$B$2:$B$4747,$D53+Y$6-1),"") | Z53: =IF($F53>Z$6-9,INDEX(DATE!$B$2:$B$4747,$D53+Z$6-1),"") | ... AD53: =IF($F53>AD$6-9,INDEX(DATE!$B$2:$B$4747,$D53+AD$6-1),"") | AE53: =SUM(H53<$C$3)+SUM(I53<$C$3)+SUM(J53<$C$3)+SUM(K53<$C$3)+SUM(L53<$C$3)+SUM(M53<$C$3)+SUM(N53<$C$3)+SUM(O53<$C$3)+SUM(P53<$C$3)+SUM(Q53<$C$3)+SUM(R53<$C$3)+SUM(S53<$C$3)+SUM(T53<$C$3)+SUM(U53<$C$3)+SUM(V53<$C$3)+SUM(W53<$C$3)+SUM(X53<$C$3)+SUM(Y53<$C$3)+SUM(Z53<$C$3)+SUM(AA53<$C$3)+SUM(AB53<$C$3)+SUM(AC53<$C$3)+SUM(AD53<$C$3) -> 0 | AF53: =COUNTA(H53:AD53)-COUNTBLANK(H53:AD53) -> 11
B54: 48 | C54: درس چهل و هشت | D54: =MATCH(E54,DATE!$B$2:$B$4747,0) -> 2789 | E54: =IF($K$2="عادی",INDEX(DATE!$B$2:$B$4747,$D$2+B54-1),IF($K$2="بسیار سریع",INDEX(DATE!$B$2:$B$4747,$D$2+ROUND((B54)/2,0)-1),IF($K$2="بسیار آهسته",INDEX(DATE!$B$2:$B$4747,$D$2+ROUND((B54)*2,0)-1),INDEX(DATE!$B$2:$B$4747,$D$2+(B54-QUOTIENT(B54,$M$3))*2+(IF(($D$2+(B54-QUOTIENT(B54,$M$3))*2)-2=D53,1,0))-2)))) -> 14050818 | F54: 0 | G54: =IF(MAX(H54:AD54)<$C$3,1,IF(OR(H54=$C$3,I54=$C$3,J54=$C$3,K54=$C$3,L54=$C$3,M54=$C$3,N54=$C$3,O54=$C$3,P54=$C$3,Q54=$C$3,R54=$C$3,S54=$C$3,T54=$C$3,U54=$C$3,V54=$C$3,W54=$C$3,X54=$C$3,Y54=$C$3,Z54=$C$3,AA54=$C$3,AB54=$C$3,AC54=$C$3,AD54=$C$3),0,-1)) -> -1 | H54: =E54 -> 14050818 | I54: =INDEX(DATE!$B$2:$B$4747,$D54+I$6-1) -> 14050819 | J54: =INDEX(DATE!$B$2:$B$4747,$D54+J$6-1) -> 14050820 | K54: =INDEX(DATE!$B$2:$B$4747,$D54+K$6-1) -> 14050821 | L54: =INDEX(DATE!$B$2:$B$4747,$D54+L$6-1) -> 14050822 | M54: =INDEX(DATE!$B$2:$B$4747,$D54+M$6-1) -> 14050823 | N54: =INDEX(DATE!$B$2:$B$4747,$D54+N$6-1) -> 14050824 | O54: =INDEX(DATE!$B$2:$B$4747,$D54+O$6-1) -> 14050825 | P54: =INDEX(DATE!$B$2:$B$4747,$D54+P$6-1) -> 14050902 | ... R54: =INDEX(DATE!$B$2:$B$4747,$D54+R$6-1) -> 14051017 | S54: =IF($F54>S$6-9,INDEX(DATE!$B$2:$B$4747,$D54+S$6-1),"") | T54: =IF($F54>T$6-9,INDEX(DATE!$B$2:$B$4747,$D54+T$6-1),"") | U54: =IF($F54>U$6-9,INDEX(DATE!$B$2:$B$4747,$D54+U$6-1),"") | V54: =IF($F54>V$6-9,INDEX(DATE!$B$2:$B$4747,$D54+V$6-1),"") | W54: =IF($F54>W$6-9,INDEX(DATE!$B$2:$B$4747,$D54+W$6-1),"") | X54: =IF($F54>X$6-9,INDEX(DATE!$B$2:$B$4747,$D54+X$6-1),"") | Y54: =IF($F54>Y$6-9,INDEX(DATE!$B$2:$B$4747,$D54+Y$6-1),"") | Z54: =IF($F54>Z$6-9,INDEX(DATE!$B$2:$B$4747,$D54+Z$6-1),"") | ... AD54: =IF($F54>AD$6-9,INDEX(DATE!$B$2:$B$4747,$D54+AD$6-1),"") | AE54: =SUM(H54<$C$3)+SUM(I54<$C$3)+SUM(J54<$C$3)+SUM(K54<$C$3)+SUM(L54<$C$3)+SUM(M54<$C$3)+SUM(N54<$C$3)+SUM(O54<$C$3)+SUM(P54<$C$3)+SUM(Q54<$C$3)+SUM(R54<$C$3)+SUM(S54<$C$3)+SUM(T54<$C$3)+SUM(U54<$C$3)+SUM(V54<$C$3)+SUM(W54<$C$3)+SUM(X54<$C$3)+SUM(Y54<$C$3)+SUM(Z54<$C$3)+SUM(AA54<$C$3)+SUM(AB54<$C$3)+SUM(AC54<$C$3)+SUM(AD54<$C$3) -> 0 | AF54: =COUNTA(H54:AD54)-COUNTBLANK(H54:AD54) -> 11
B55: 49 | C55: درس چهل و نه | D55: =MATCH(E55,DATE!$B$2:$B$4747,0) -> 2790 | E55: =IF($K$2="عادی",INDEX(DATE!$B$2:$B$4747,$D$2+B55-1),IF($K$2="بسیار سریع",INDEX(DATE!$B$2:$B$4747,$D$2+ROUND((B55)/2,0)-1),IF($K$2="بسیار آهسته",INDEX(DATE!$B$2:$B$4747,$D$2+ROUND((B55)*2,0)-1),INDEX(DATE!$B$2:$B$4747,$D$2+(B55-QUOTIENT(B55,$M$3))*2+(IF(($D$2+(B55-QUOTIENT(B55,$M$3))*2)-2=D54,1,0))-2)))) -> 14050819 | F55: 0 | G55: =IF(MAX(H55:AD55)<$C$3,1,IF(OR(H55=$C$3,I55=$C$3,J55=$C$3,K55=$C$3,L55=$C$3,M55=$C$3,N55=$C$3,O55=$C$3,P55=$C$3,Q55=$C$3,R55=$C$3,S55=$C$3,T55=$C$3,U55=$C$3,V55=$C$3,W55=$C$3,X55=$C$3,Y55=$C$3,Z55=$C$3,AA55=$C$3,AB55=$C$3,AC55=$C$3,AD55=$C$3),0,-1)) -> -1 | H55: =E55 -> 14050819 | I55: =INDEX(DATE!$B$2:$B$4747,$D55+I$6-1) -> 14050820 | J55: =INDEX(DATE!$B$2:$B$4747,$D55+J$6-1) -> 14050821 | K55: =INDEX(DATE!$B$2:$B$4747,$D55+K$6-1) -> 14050822 | L55: =INDEX(DATE!$B$2:$B$4747,$D55+L$6-1) -> 14050823 | M55: =INDEX(DATE!$B$2:$B$4747,$D55+M$6-1) -> 14050824 | N55: =INDEX(DATE!$B$2:$B$4747,$D55+N$6-1) -> 14050825 | O55: =INDEX(DATE!$B$2:$B$4747,$D55+O$6-1) -> 14050826 | P55: =INDEX(DATE!$B$2:$B$4747,$D55+P$6-1) -> 14050903 | ... R55: =INDEX(DATE!$B$2:$B$4747,$D55+R$6-1) -> 14051018 | S55: =IF($F55>S$6-9,INDEX(DATE!$B$2:$B$4747,$D55+S$6-1),"") | T55: =IF($F55>T$6-9,INDEX(DATE!$B$2:$B$4747,$D55+T$6-1),"") | U55: =IF($F55>U$6-9,INDEX(DATE!$B$2:$B$4747,$D55+U$6-1),"") | V55: =IF($F55>V$6-9,INDEX(DATE!$B$2:$B$4747,$D55+V$6-1),"") | W55: =IF($F55>W$6-9,INDEX(DATE!$B$2:$B$4747,$D55+W$6-1),"") | X55: =IF($F55>X$6-9,INDEX(DATE!$B$2:$B$4747,$D55+X$6-1),"") | Y55: =IF($F55>Y$6-9,INDEX(DATE!$B$2:$B$4747,$D55+Y$6-1),"") | Z55: =IF($F55>Z$6-9,INDEX(DATE!$B$2:$B$4747,$D55+Z$6-1),"") | ... AD55: =IF($F55>AD$6-9,INDEX(DATE!$B$2:$B$4747,$D55+AD$6-1),"") | AE55: =SUM(H55<$C$3)+SUM(I55<$C$3)+SUM(J55<$C$3)+SUM(K55<$C$3)+SUM(L55<$C$3)+SUM(M55<$C$3)+SUM(N55<$C$3)+SUM(O55<$C$3)+SUM(P55<$C$3)+SUM(Q55<$C$3)+SUM(R55<$C$3)+SUM(S55<$C$3)+SUM(T55<$C$3)+SUM(U55<$C$3)+SUM(V55<$C$3)+SUM(W55<$C$3)+SUM(X55<$C$3)+SUM(Y55<$C$3)+SUM(Z55<$C$3)+SUM(AA55<$C$3)+SUM(AB55<$C$3)+SUM(AC55<$C$3)+SUM(AD55<$C$3) -> 0 | AF55: =COUNTA(H55:AD55)-COUNTBLANK(H55:AD55) -> 11
B56: 50 | C56: درس پنجاه | D56: =MATCH(E56,DATE!$B$2:$B$4747,0) -> 2791 | E56: =IF($K$2="عادی",INDEX(DATE!$B$2:$B$4747,$D$2+B56-1),IF($K$2="بسیار سریع",INDEX(DATE!$B$2:$B$4747,$D$2+ROUND((B56)/2,0)-1),IF($K$2="بسیار آهسته",INDEX(DATE!$B$2:$B$4747,$D$2+ROUND((B56)*2,0)-1),INDEX(DATE!$B$2:$B$4747,$D$2+(B56-QUOTIENT(B56,$M$3))*2+(IF(($D$2+(B56-QUOTIENT(B56,$M$3))*2)-2=D55,1,0))-2)))) -> 14050820 | F56: 0 | G56: =IF(MAX(H56:AD56)<$C$3,1,IF(OR(H56=$C$3,I56=$C$3,J56=$C$3,K56=$C$3,L56=$C$3,M56=$C$3,N56=$C$3,O56=$C$3,P56=$C$3,Q56=$C$3,R56=$C$3,S56=$C$3,T56=$C$3,U56=$C$3,V56=$C$3,W56=$C$3,X56=$C$3,Y56=$C$3,Z56=$C$3,AA56=$C$3,AB56=$C$3,AC56=$C$3,AD56=$C$3),0,-1)) -> -1 | H56: =E56 -> 14050820 | I56: =INDEX(DATE!$B$2:$B$4747,$D56+I$6-1) -> 14050821 | J56: =INDEX(DATE!$B$2:$B$4747,$D56+J$6-1) -> 14050822 | K56: =INDEX(DATE!$B$2:$B$4747,$D56+K$6-1) -> 14050823 | L56: =INDEX(DATE!$B$2:$B$4747,$D56+L$6-1) -> 14050824 | M56: =INDEX(DATE!$B$2:$B$4747,$D56+M$6-1) -> 14050825 | N56: =INDEX(DATE!$B$2:$B$4747,$D56+N$6-1) -> 14050826 | O56: =INDEX(DATE!$B$2:$B$4747,$D56+O$6-1) -> 14050827 | P56: =INDEX(DATE!$B$2:$B$4747,$D56+P$6-1) -> 14050904 | ... R56: =INDEX(DATE!$B$2:$B$4747,$D56+R$6-1) -> 14051019 | S56: =IF($F56>S$6-9,INDEX(DATE!$B$2:$B$4747,$D56+S$6-1),"") | T56: =IF($F56>T$6-9,INDEX(DATE!$B$2:$B$4747,$D56+T$6-1),"") | U56: =IF($F56>U$6-9,INDEX(DATE!$B$2:$B$4747,$D56+U$6-1),"") | V56: =IF($F56>V$6-9,INDEX(DATE!$B$2:$B$4747,$D56+V$6-1),"") | W56: =IF($F56>W$6-9,INDEX(DATE!$B$2:$B$4747,$D56+W$6-1),"") | X56: =IF($F56>X$6-9,INDEX(DATE!$B$2:$B$4747,$D56+X$6-1),"") | Y56: =IF($F56>Y$6-9,INDEX(DATE!$B$2:$B$4747,$D56+Y$6-1),"") | Z56: =IF($F56>Z$6-9,INDEX(DATE!$B$2:$B$4747,$D56+Z$6-1),"") | ... AD56: =IF($F56>AD$6-9,INDEX(DATE!$B$2:$B$4747,$D56+AD$6-1),"") | AE56: =SUM(H56<$C$3)+SUM(I56<$C$3)+SUM(J56<$C$3)+SUM(K56<$C$3)+SUM(L56<$C$3)+SUM(M56<$C$3)+SUM(N56<$C$3)+SUM(O56<$C$3)+SUM(P56<$C$3)+SUM(Q56<$C$3)+SUM(R56<$C$3)+SUM(S56<$C$3)+SUM(T56<$C$3)+SUM(U56<$C$3)+SUM(V56<$C$3)+SUM(W56<$C$3)+SUM(X56<$C$3)+SUM(Y56<$C$3)+SUM(Z56<$C$3)+SUM(AA56<$C$3)+SUM(AB56<$C$3)+SUM(AC56<$C$3)+SUM(AD56<$C$3) -> 0 | AF56: =COUNTA(H56:AD56)-COUNTBLANK(H56:AD56) -> 11
B57: 51 | C57: درس پنجاه و یک | D57: =MATCH(E57,DATE!$B$2:$B$4747,0) -> 2792 | E57: =IF($K$2="عادی",INDEX(DATE!$B$2:$B$4747,$D$2+B57-1),IF($K$2="بسیار سریع",INDEX(DATE!$B$2:$B$4747,$D$2+ROUND((B57)/2,0)-1),IF($K$2="بسیار آهسته",INDEX(DATE!$B$2:$B$4747,$D$2+ROUND((B57)*2,0)-1),INDEX(DATE!$B$2:$B$4747,$D$2+(B57-QUOTIENT(B57,$M$3))*2+(IF(($D$2+(B57-QUOTIENT(B57,$M$3))*2)-2=D56,1,0))-2)))) -> 14050821 | F57: 0 | G57: =IF(MAX(H57:AD57)<$C$3,1,IF(OR(H57=$C$3,I57=$C$3,J57=$C$3,K57=$C$3,L57=$C$3,M57=$C$3,N57=$C$3,O57=$C$3,P57=$C$3,Q57=$C$3,R57=$C$3,S57=$C$3,T57=$C$3,U57=$C$3,V57=$C$3,W57=$C$3,X57=$C$3,Y57=$C$3,Z57=$C$3,AA57=$C$3,AB57=$C$3,AC57=$C$3,AD57=$C$3),0,-1)) -> -1 | H57: =E57 -> 14050821 | I57: =INDEX(DATE!$B$2:$B$4747,$D57+I$6-1) -> 14050822 | J57: =INDEX(DATE!$B$2:$B$4747,$D57+J$6-1) -> 14050823 | K57: =INDEX(DATE!$B$2:$B$4747,$D57+K$6-1) -> 14050824 | L57: =INDEX(DATE!$B$2:$B$4747,$D57+L$6-1) -> 14050825 | M57: =INDEX(DATE!$B$2:$B$4747,$D57+M$6-1) -> 14050826 | N57: =INDEX(DATE!$B$2:$B$4747,$D57+N$6-1) -> 14050827 | O57: =INDEX(DATE!$B$2:$B$4747,$D57+O$6-1) -> 14050828 | P57: =INDEX(DATE!$B$2:$B$4747,$D57+P$6-1) -> 14050905 | ... R57: =INDEX(DATE!$B$2:$B$4747,$D57+R$6-1) -> 14051020 | S57: =IF($F57>S$6-9,INDEX(DATE!$B$2:$B$4747,$D57+S$6-1),"") | T57: =IF($F57>T$6-9,INDEX(DATE!$B$2:$B$4747,$D57+T$6-1),"") | U57: =IF($F57>U$6-9,INDEX(DATE!$B$2:$B$4747,$D57+U$6-1),"") | V57: =IF($F57>V$6-9,INDEX(DATE!$B$2:$B$4747,$D57+V$6-1),"") | W57: =IF($F57>W$6-9,INDEX(DATE!$B$2:$B$4747,$D57+W$6-1),"") | X57: =IF($F57>X$6-9,INDEX(DATE!$B$2:$B$4747,$D57+X$6-1),"") | Y57: =IF($F57>Y$6-9,INDEX(DATE!$B$2:$B$4747,$D57+Y$6-1),"") | Z57: =IF($F57>Z$6-9,INDEX(DATE!$B$2:$B$4747,$D57+Z$6-1),"") | ... AD57: =IF($F57>AD$6-9,INDEX(DATE!$B$2:$B$4747,$D57+AD$6-1),"") | AE57: =SUM(H57<$C$3)+SUM(I57<$C$3)+SUM(J57<$C$3)+SUM(K57<$C$3)+SUM(L57<$C$3)+SUM(M57<$C$3)+SUM(N57<$C$3)+SUM(O57<$C$3)+SUM(P57<$C$3)+SUM(Q57<$C$3)+SUM(R57<$C$3)+SUM(S57<$C$3)+SUM(T57<$C$3)+SUM(U57<$C$3)+SUM(V57<$C$3)+SUM(W57<$C$3)+SUM(X57<$C$3)+SUM(Y57<$C$3)+SUM(Z57<$C$3)+SUM(AA57<$C$3)+SUM(AB57<$C$3)+SUM(AC57<$C$3)+SUM(AD57<$C$3) -> 0 | AF57: =COUNTA(H57:AD57)-COUNTBLANK(H57:AD57) -> 11
B58: 52 | C58: درس پنجاه و دو | D58: =MATCH(E58,DATE!$B$2:$B$4747,0) -> 2793 | E58: =IF($K$2="عادی",INDEX(DATE!$B$2:$B$4747,$D$2+B58-1),IF($K$2="بسیار سریع",INDEX(DATE!$B$2:$B$4747,$D$2+ROUND((B58)/2,0)-1),IF($K$2="بسیار آهسته",INDEX(DATE!$B$2:$B$4747,$D$2+ROUND((B58)*2,0)-1),INDEX(DATE!$B$2:$B$4747,$D$2+(B58-QUOTIENT(B58,$M$3))*2+(IF(($D$2+(B58-QUOTIENT(B58,$M$3))*2)-2=D57,1,0))-2)))) -> 14050822 | F58: 0 | G58: =IF(MAX(H58:AD58)<$C$3,1,IF(OR(H58=$C$3,I58=$C$3,J58=$C$3,K58=$C$3,L58=$C$3,M58=$C$3,N58=$C$3,O58=$C$3,P58=$C$3,Q58=$C$3,R58=$C$3,S58=$C$3,T58=$C$3,U58=$C$3,V58=$C$3,W58=$C$3,X58=$C$3,Y58=$C$3,Z58=$C$3,AA58=$C$3,AB58=$C$3,AC58=$C$3,AD58=$C$3),0,-1)) -> -1 | H58: =E58 -> 14050822 | I58: =INDEX(DATE!$B$2:$B$4747,$D58+I$6-1) -> 14050823 | J58: =INDEX(DATE!$B$2:$B$4747,$D58+J$6-1) -> 14050824 | K58: =INDEX(DATE!$B$2:$B$4747,$D58+K$6-1) -> 14050825 | L58: =INDEX(DATE!$B$2:$B$4747,$D58+L$6-1) -> 14050826 | M58: =INDEX(DATE!$B$2:$B$4747,$D58+M$6-1) -> 14050827 | N58: =INDEX(DATE!$B$2:$B$4747,$D58+N$6-1) -> 14050828 | O58: =INDEX(DATE!$B$2:$B$4747,$D58+O$6-1) -> 14050829 | P58: =INDEX(DATE!$B$2:$B$4747,$D58+P$6-1) -> 14050906 | ... R58: =INDEX(DATE!$B$2:$B$4747,$D58+R$6-1) -> 14051021 | S58: =IF($F58>S$6-9,INDEX(DATE!$B$2:$B$4747,$D58+S$6-1),"") | T58: =IF($F58>T$6-9,INDEX(DATE!$B$2:$B$4747,$D58+T$6-1),"") | U58: =IF($F58>U$6-9,INDEX(DATE!$B$2:$B$4747,$D58+U$6-1),"") | V58: =IF($F58>V$6-9,INDEX(DATE!$B$2:$B$4747,$D58+V$6-1),"") | W58: =IF($F58>W$6-9,INDEX(DATE!$B$2:$B$4747,$D58+W$6-1),"") | X58: =IF($F58>X$6-9,INDEX(DATE!$B$2:$B$4747,$D58+X$6-1),"") | Y58: =IF($F58>Y$6-9,INDEX(DATE!$B$2:$B$4747,$D58+Y$6-1),"") | Z58: =IF($F58>Z$6-9,INDEX(DATE!$B$2:$B$4747,$D58+Z$6-1),"") | ... AD58: =IF($F58>AD$6-9,INDEX(DATE!$B$2:$B$4747,$D58+AD$6-1),"") | AE58: =SUM(H58<$C$3)+SUM(I58<$C$3)+SUM(J58<$C$3)+SUM(K58<$C$3)+SUM(L58<$C$3)+SUM(M58<$C$3)+SUM(N58<$C$3)+SUM(O58<$C$3)+SUM(P58<$C$3)+SUM(Q58<$C$3)+SUM(R58<$C$3)+SUM(S58<$C$3)+SUM(T58<$C$3)+SUM(U58<$C$3)+SUM(V58<$C$3)+SUM(W58<$C$3)+SUM(X58<$C$3)+SUM(Y58<$C$3)+SUM(Z58<$C$3)+SUM(AA58<$C$3)+SUM(AB58<$C$3)+SUM(AC58<$C$3)+SUM(AD58<$C$3) -> 0 | AF58: =COUNTA(H58:AD58)-COUNTBLANK(H58:AD58) -> 11
B59: 53 | C59: درس پنجاه و سه | D59: =MATCH(E59,DATE!$B$2:$B$4747,0) -> 2794 | E59: =IF($K$2="عادی",INDEX(DATE!$B$2:$B$4747,$D$2+B59-1),IF($K$2="بسیار سریع",INDEX(DATE!$B$2:$B$4747,$D$2+ROUND((B59)/2,0)-1),IF($K$2="بسیار آهسته",INDEX(DATE!$B$2:$B$4747,$D$2+ROUND((B59)*2,0)-1),INDEX(DATE!$B$2:$B$4747,$D$2+(B59-QUOTIENT(B59,$M$3))*2+(IF(($D$2+(B59-QUOTIENT(B59,$M$3))*2)-2=D58,1,0))-2)))) -> 14050823 | F59: 0 | G59: =IF(MAX(H59:AD59)<$C$3,1,IF(OR(H59=$C$3,I59=$C$3,J59=$C$3,K59=$C$3,L59=$C$3,M59=$C$3,N59=$C$3,O59=$C$3,P59=$C$3,Q59=$C$3,R59=$C$3,S59=$C$3,T59=$C$3,U59=$C$3,V59=$C$3,W59=$C$3,X59=$C$3,Y59=$C$3,Z59=$C$3,AA59=$C$3,AB59=$C$3,AC59=$C$3,AD59=$C$3),0,-1)) -> -1 | H59: =E59 -> 14050823 | I59: =INDEX(DATE!$B$2:$B$4747,$D59+I$6-1) -> 14050824 | J59: =INDEX(DATE!$B$2:$B$4747,$D59+J$6-1) -> 14050825 | K59: =INDEX(DATE!$B$2:$B$4747,$D59+K$6-1) -> 14050826 | L59: =INDEX(DATE!$B$2:$B$4747,$D59+L$6-1) -> 14050827 | M59: =INDEX(DATE!$B$2:$B$4747,$D59+M$6-1) -> 14050828 | N59: =INDEX(DATE!$B$2:$B$4747,$D59+N$6-1) -> 14050829 | O59: =INDEX(DATE!$B$2:$B$4747,$D59+O$6-1) -> 14050830 | P59: =INDEX(DATE!$B$2:$B$4747,$D59+P$6-1) -> 14050907 | ... R59: =INDEX(DATE!$B$2:$B$4747,$D59+R$6-1) -> 14051022 | S59: =IF($F59>S$6-9,INDEX(DATE!$B$2:$B$4747,$D59+S$6-1),"") | T59: =IF($F59>T$6-9,INDEX(DATE!$B$2:$B$4747,$D59+T$6-1),"") | U59: =IF($F59>U$6-9,INDEX(DATE!$B$2:$B$4747,$D59+U$6-1),"") | V59: =IF($F59>V$6-9,INDEX(DATE!$B$2:$B$4747,$D59+V$6-1),"") | W59: =IF($F59>W$6-9,INDEX(DATE!$B$2:$B$4747,$D59+W$6-1),"") | X59: =IF($F59>X$6-9,INDEX(DATE!$B$2:$B$4747,$D59+X$6-1),"") | Y59: =IF($F59>Y$6-9,INDEX(DATE!$B$2:$B$4747,$D59+Y$6-1),"") | Z59: =IF($F59>Z$6-9,INDEX(DATE!$B$2:$B$4747,$D59+Z$6-1),"") | ... AD59: =IF($F59>AD$6-9,INDEX(DATE!$B$2:$B$4747,$D59+AD$6-1),"") | AE59: =SUM(H59<$C$3)+SUM(I59<$C$3)+SUM(J59<$C$3)+SUM(K59<$C$3)+SUM(L59<$C$3)+SUM(M59<$C$3)+SUM(N59<$C$3)+SUM(O59<$C$3)+SUM(P59<$C$3)+SUM(Q59<$C$3)+SUM(R59<$C$3)+SUM(S59<$C$3)+SUM(T59<$C$3)+SUM(U59<$C$3)+SUM(V59<$C$3)+SUM(W59<$C$3)+SUM(X59<$C$3)+SUM(Y59<$C$3)+SUM(Z59<$C$3)+SUM(AA59<$C$3)+SUM(AB59<$C$3)+SUM(AC59<$C$3)+SUM(AD59<$C$3) -> 0 | AF59: =COUNTA(H59:AD59)-COUNTBLANK(H59:AD59) -> 11
B60: 54 | C60: درس پنجاه و چهار | D60: =MATCH(E60,DATE!$B$2:$B$4747,0) -> 2795 | E60: =IF($K$2="عادی",INDEX(DATE!$B$2:$B$4747,$D$2+B60-1),IF($K$2="بسیار سریع",INDEX(DATE!$B$2:$B$4747,$D$2+ROUND((B60)/2,0)-1),IF($K$2="بسیار آهسته",INDEX(DATE!$B$2:$B$4747,$D$2+ROUND((B60)*2,0)-1),INDEX(DATE!$B$2:$B$4747,$D$2+(B60-QUOTIENT(B60,$M$3))*2+(IF(($D$2+(B60-QUOTIENT(B60,$M$3))*2)-2=D59,1,0))-2)))) -> 14050824 | F60: 0 | G60: =IF(MAX(H60:AD60)<$C$3,1,IF(OR(H60=$C$3,I60=$C$3,J60=$C$3,K60=$C$3,L60=$C$3,M60=$C$3,N60=$C$3,O60=$C$3,P60=$C$3,Q60=$C$3,R60=$C$3,S60=$C$3,T60=$C$3,U60=$C$3,V60=$C$3,W60=$C$3,X60=$C$3,Y60=$C$3,Z60=$C$3,AA60=$C$3,AB60=$C$3,AC60=$C$3,AD60=$C$3),0,-1)) -> -1 | H60: =E60 -> 14050824 | I60: =INDEX(DATE!$B$2:$B$4747,$D60+I$6-1) -> 14050825 | J60: =INDEX(DATE!$B$2:$B$4747,$D60+J$6-1) -> 14050826 | K60: =INDEX(DATE!$B$2:$B$4747,$D60+K$6-1) -> 14050827 | L60: =INDEX(DATE!$B$2:$B$4747,$D60+L$6-1) -> 14050828 | M60: =INDEX(DATE!$B$2:$B$4747,$D60+M$6-1) -> 14050829 | N60: =INDEX(DATE!$B$2:$B$4747,$D60+N$6-1) -> 14050830 | O60: =INDEX(DATE!$B$2:$B$4747,$D60+O$6-1) -> 14050901 | P60: =INDEX(DATE!$B$2:$B$4747,$D60+P$6-1) -> 14050908 | ... R60: =INDEX(DATE!$B$2:$B$4747,$D60+R$6-1) -> 14051023 | S60: =IF($F60>S$6-9,INDEX(DATE!$B$2:$B$4747,$D60+S$6-1),"") | T60: =IF($F60>T$6-9,INDEX(DATE!$B$2:$B$4747,$D60+T$6-1),"") | U60: =IF($F60>U$6-9,INDEX(DATE!$B$2:$B$4747,$D60+U$6-1),"") | V60: =IF($F60>V$6-9,INDEX(DATE!$B$2:$B$4747,$D60+V$6-1),"") | W60: =IF($F60>W$6-9,INDEX(DATE!$B$2:$B$4747,$D60+W$6-1),"") | X60: =IF($F60>X$6-9,INDEX(DATE!$B$2:$B$4747,$D60+X$6-1),"") | Y60: =IF($F60>Y$6-9,INDEX(DATE!$B$2:$B$4747,$D60+Y$6-1),"") | Z60: =IF($F60>Z$6-9,INDEX(DATE!$B$2:$B$4747,$D60+Z$6-1),"") | ... AD60: =IF($F60>AD$6-9,INDEX(DATE!$B$2:$B$4747,$D60+AD$6-1),"") | AE60: =SUM(H60<$C$3)+SUM(I60<$C$3)+SUM(J60<$C$3)+SUM(K60<$C$3)+SUM(L60<$C$3)+SUM(M60<$C$3)+SUM(N60<$C$3)+SUM(O60<$C$3)+SUM(P60<$C$3)+SUM(Q60<$C$3)+SUM(R60<$C$3)+SUM(S60<$C$3)+SUM(T60<$C$3)+SUM(U60<$C$3)+SUM(V60<$C$3)+SUM(W60<$C$3)+SUM(X60<$C$3)+SUM(Y60<$C$3)+SUM(Z60<$C$3)+SUM(AA60<$C$3)+SUM(AB60<$C$3)+SUM(AC60<$C$3)+SUM(AD60<$C$3) -> 0 | AF60: =COUNTA(H60:AD60)-COUNTBLANK(H60:AD60) -> 11
B61: 55 | C61: درس پنجاه و پنج | D61: =MATCH(E61,DATE!$B$2:$B$4747,0) -> 2796 | E61: =IF($K$2="عادی",INDEX(DATE!$B$2:$B$4747,$D$2+B61-1),IF($K$2="بسیار سریع",INDEX(DATE!$B$2:$B$4747,$D$2+ROUND((B61)/2,0)-1),IF($K$2="بسیار آهسته",INDEX(DATE!$B$2:$B$4747,$D$2+ROUND((B61)*2,0)-1),INDEX(DATE!$B$2:$B$4747,$D$2+(B61-QUOTIENT(B61,$M$3))*2+(IF(($D$2+(B61-QUOTIENT(B61,$M$3))*2)-2=D60,1,0))-2)))) -> 14050825 | F61: 0 | G61: =IF(MAX(H61:AD61)<$C$3,1,IF(OR(H61=$C$3,I61=$C$3,J61=$C$3,K61=$C$3,L61=$C$3,M61=$C$3,N61=$C$3,O61=$C$3,P61=$C$3,Q61=$C$3,R61=$C$3,S61=$C$3,T61=$C$3,U61=$C$3,V61=$C$3,W61=$C$3,X61=$C$3,Y61=$C$3,Z61=$C$3,AA61=$C$3,AB61=$C$3,AC61=$C$3,AD61=$C$3),0,-1)) -> -1 | H61: =E61 -> 14050825 | I61: =INDEX(DATE!$B$2:$B$4747,$D61+I$6-1) -> 14050826 | J61: =INDEX(DATE!$B$2:$B$4747,$D61+J$6-1) -> 14050827 | K61: =INDEX(DATE!$B$2:$B$4747,$D61+K$6-1) -> 14050828 | L61: =INDEX(DATE!$B$2:$B$4747,$D61+L$6-1) -> 14050829 | M61: =INDEX(DATE!$B$2:$B$4747,$D61+M$6-1) -> 14050830 | N61: =INDEX(DATE!$B$2:$B$4747,$D61+N$6-1) -> 14050901 | O61: =INDEX(DATE!$B$2:$B$4747,$D61+O$6-1) -> 14050902 | P61: =INDEX(DATE!$B$2:$B$4747,$D61+P$6-1) -> 14050909 | ... R61: =INDEX(DATE!$B$2:$B$4747,$D61+R$6-1) -> 14051024 | S61: =IF($F61>S$6-9,INDEX(DATE!$B$2:$B$4747,$D61+S$6-1),"") | T61: =IF($F61>T$6-9,INDEX(DATE!$B$2:$B$4747,$D61+T$6-1),"") | U61: =IF($F61>U$6-9,INDEX(DATE!$B$2:$B$4747,$D61+U$6-1),"") | V61: =IF($F61>V$6-9,INDEX(DATE!$B$2:$B$4747,$D61+V$6-1),"") | W61: =IF($F61>W$6-9,INDEX(DATE!$B$2:$B$4747,$D61+W$6-1),"") | X61: =IF($F61>X$6-9,INDEX(DATE!$B$2:$B$4747,$D61+X$6-1),"") | Y61: =IF($F61>Y$6-9,INDEX(DATE!$B$2:$B$4747,$D61+Y$6-1),"") | Z61: =IF($F61>Z$6-9,INDEX(DATE!$B$2:$B$4747,$D61+Z$6-1),"") | ... AD61: =IF($F61>AD$6-9,INDEX(DATE!$B$2:$B$4747,$D61+AD$6-1),"") | AE61: =SUM(H61<$C$3)+SUM(I61<$C$3)+SUM(J61<$C$3)+SUM(K61<$C$3)+SUM(L61<$C$3)+SUM(M61<$C$3)+SUM(N61<$C$3)+SUM(O61<$C$3)+SUM(P61<$C$3)+SUM(Q61<$C$3)+SUM(R61<$C$3)+SUM(S61<$C$3)+SUM(T61<$C$3)+SUM(U61<$C$3)+SUM(V61<$C$3)+SUM(W61<$C$3)+SUM(X61<$C$3)+SUM(Y61<$C$3)+SUM(Z61<$C$3)+SUM(AA61<$C$3)+SUM(AB61<$C$3)+SUM(AC61<$C$3)+SUM(AD61<$C$3) -> 0 | AF61: =COUNTA(H61:AD61)-COUNTBLANK(H61:AD61) -> 11
B62: 56 | C62: درس پنجاه و شش (تست) | D62: =MATCH(E62,DATE!$B$2:$B$4747,0) -> 2797 | E62: =IF($K$2="عادی",INDEX(DATE!$B$2:$B$4747,$D$2+B62-1),IF($K$2="بسیار سریع",INDEX(DATE!$B$2:$B$4747,$D$2+ROUND((B62)/2,0)-1),IF($K$2="بسیار آهسته",INDEX(DATE!$B$2:$B$4747,$D$2+ROUND((B62)*2,0)-1),INDEX(DATE!$B$2:$B$4747,$D$2+(B62-QUOTIENT(B62,$M$3))*2+(IF(($D$2+(B62-QUOTIENT(B62,$M$3))*2)-2=D61,1,0))-2)))) -> 14050826 | G62: =IF(MAX(H62:AD62)<$C$3,1,IF(OR(H62=$C$3,I62=$C$3,J62=$C$3,K62=$C$3,L62=$C$3,M62=$C$3,N62=$C$3,O62=$C$3,P62=$C$3,Q62=$C$3,R62=$C$3,S62=$C$3,T62=$C$3,U62=$C$3,V62=$C$3,W62=$C$3,X62=$C$3,Y62=$C$3,Z62=$C$3,AA62=$C$3,AB62=$C$3,AC62=$C$3,AD62=$C$3),0,-1)) -> -1 | H62: =E62 -> 14050826 | I62: 1 | J62: 1 | K62: 1 | L62: 1 | M62: 1 | N62: 1 | O62: 1 | P62: 1 | Q62: 1 | R62: 1 | S62: =IF($F62>S$6-9,INDEX(DATE!$B$2:$B$4747,$D62+S$6-1),"") | T62: =IF($F62>T$6-9,INDEX(DATE!$B$2:$B$4747,$D62+T$6-1),"") | U62: =IF($F62>U$6-9,INDEX(DATE!$B$2:$B$4747,$D62+U$6-1),"") | V62: =IF($F62>V$6-9,INDEX(DATE!$B$2:$B$4747,$D62+V$6-1),"") | W62: =IF($F62>W$6-9,INDEX(DATE!$B$2:$B$4747,$D62+W$6-1),"") | X62: =IF($F62>X$6-9,INDEX(DATE!$B$2:$B$4747,$D62+X$6-1),"") | Y62: =IF($F62>Y$6-9,INDEX(DATE!$B$2:$B$4747,$D62+Y$6-1),"") | Z62: =IF($F62>Z$6-9,INDEX(DATE!$B$2:$B$4747,$D62+Z$6-1),"") | ... AD62: =IF($F62>AD$6-9,INDEX(DATE!$B$2:$B$4747,$D62+AD$6-1),"") | AE62: =SUM(H62<$C$3)+SUM(I62<$C$3)+SUM(J62<$C$3)+SUM(K62<$C$3)+SUM(L62<$C$3)+SUM(M62<$C$3)+SUM(N62<$C$3)+SUM(O62<$C$3)+SUM(P62<$C$3)+SUM(Q62<$C$3)+SUM(R62<$C$3)+SUM(S62<$C$3)+SUM(T62<$C$3)+SUM(U62<$C$3)+SUM(V62<$C$3)+SUM(W62<$C$3)+SUM(X62<$C$3)+SUM(Y62<$C$3)+SUM(Z62<$C$3)+SUM(AA62<$C$3)+SUM(AB62<$C$3)+SUM(AC62<$C$3)+SUM(AD62<$C$3)-10 -> 0 | AF62: =COUNTA(H62:AD62)-COUNTBLANK(H62:AD62)-10 -> 1
B63: 57 | C63: درس پنجاه و هفت | D63: =MATCH(E63,DATE!$B$2:$B$4747,0) -> 2798 | E63: =IF($K$2="عادی",INDEX(DATE!$B$2:$B$4747,$D$2+B63-1),IF($K$2="بسیار سریع",INDEX(DATE!$B$2:$B$4747,$D$2+ROUND((B63)/2,0)-1),IF($K$2="بسیار آهسته",INDEX(DATE!$B$2:$B$4747,$D$2+ROUND((B63)*2,0)-1),INDEX(DATE!$B$2:$B$4747,$D$2+(B63-QUOTIENT(B63,$M$3))*2+(IF(($D$2+(B63-QUOTIENT(B63,$M$3))*2)-2=D62,1,0))-2)))) -> 14050827 | F63: 0 | G63: =IF(MAX(H63:AD63)<$C$3,1,IF(OR(H63=$C$3,I63=$C$3,J63=$C$3,K63=$C$3,L63=$C$3,M63=$C$3,N63=$C$3,O63=$C$3,P63=$C$3,Q63=$C$3,R63=$C$3,S63=$C$3,T63=$C$3,U63=$C$3,V63=$C$3,W63=$C$3,X63=$C$3,Y63=$C$3,Z63=$C$3,AA63=$C$3,AB63=$C$3,AC63=$C$3,AD63=$C$3),0,-1)) -> -1 | H63: =E63 -> 14050827 | I63: =INDEX(DATE!$B$2:$B$4747,$D63+I$6-1) -> 14050828 | J63: =INDEX(DATE!$B$2:$B$4747,$D63+J$6-1) -> 14050829 | K63: =INDEX(DATE!$B$2:$B$4747,$D63+K$6-1) -> 14050830 | L63: =INDEX(DATE!$B$2:$B$4747,$D63+L$6-1) -> 14050901 | M63: =INDEX(DATE!$B$2:$B$4747,$D63+M$6-1) -> 14050902 | N63: =INDEX(DATE!$B$2:$B$4747,$D63+N$6-1) -> 14050903 | O63: =INDEX(DATE!$B$2:$B$4747,$D63+O$6-1) -> 14050904 | P63: =INDEX(DATE!$B$2:$B$4747,$D63+P$6-1) -> 14050911 | ... R63: =INDEX(DATE!$B$2:$B$4747,$D63+R$6-1) -> 14051026 | S63: =IF($F63>S$6-9,INDEX(DATE!$B$2:$B$4747,$D63+S$6-1),"") | T63: =IF($F63>T$6-9,INDEX(DATE!$B$2:$B$4747,$D63+T$6-1),"") | U63: =IF($F63>U$6-9,INDEX(DATE!$B$2:$B$4747,$D63+U$6-1),"") | V63: =IF($F63>V$6-9,INDEX(DATE!$B$2:$B$4747,$D63+V$6-1),"") | W63: =IF($F63>W$6-9,INDEX(DATE!$B$2:$B$4747,$D63+W$6-1),"") | X63: =IF($F63>X$6-9,INDEX(DATE!$B$2:$B$4747,$D63+X$6-1),"") | Y63: =IF($F63>Y$6-9,INDEX(DATE!$B$2:$B$4747,$D63+Y$6-1),"") | Z63: =IF($F63>Z$6-9,INDEX(DATE!$B$2:$B$4747,$D63+Z$6-1),"") | ... AD63: =IF($F63>AD$6-9,INDEX(DATE!$B$2:$B$4747,$D63+AD$6-1),"") | AE63: =SUM(H63<$C$3)+SUM(I63<$C$3)+SUM(J63<$C$3)+SUM(K63<$C$3)+SUM(L63<$C$3)+SUM(M63<$C$3)+SUM(N63<$C$3)+SUM(O63<$C$3)+SUM(P63<$C$3)+SUM(Q63<$C$3)+SUM(R63<$C$3)+SUM(S63<$C$3)+SUM(T63<$C$3)+SUM(U63<$C$3)+SUM(V63<$C$3)+SUM(W63<$C$3)+SUM(X63<$C$3)+SUM(Y63<$C$3)+SUM(Z63<$C$3)+SUM(AA63<$C$3)+SUM(AB63<$C$3)+SUM(AC63<$C$3)+SUM(AD63<$C$3) -> 0 | AF63: =COUNTA(H63:AD63)-COUNTBLANK(H63:AD63) -> 11
B64: 58 | C64: درس پنجاه و هشت | D64: =MATCH(E64,DATE!$B$2:$B$4747,0) -> 2799 | E64: =IF($K$2="عادی",INDEX(DATE!$B$2:$B$4747,$D$2+B64-1),IF($K$2="بسیار سریع",INDEX(DATE!$B$2:$B$4747,$D$2+ROUND((B64)/2,0)-1),IF($K$2="بسیار آهسته",INDEX(DATE!$B$2:$B$4747,$D$2+ROUND((B64)*2,0)-1),INDEX(DATE!$B$2:$B$4747,$D$2+(B64-QUOTIENT(B64,$M$3))*2+(IF(($D$2+(B64-QUOTIENT(B64,$M$3))*2)-2=D63,1,0))-2)))) -> 14050828 | F64: 0 | G64: =IF(MAX(H64:AD64)<$C$3,1,IF(OR(H64=$C$3,I64=$C$3,J64=$C$3,K64=$C$3,L64=$C$3,M64=$C$3,N64=$C$3,O64=$C$3,P64=$C$3,Q64=$C$3,R64=$C$3,S64=$C$3,T64=$C$3,U64=$C$3,V64=$C$3,W64=$C$3,X64=$C$3,Y64=$C$3,Z64=$C$3,AA64=$C$3,AB64=$C$3,AC64=$C$3,AD64=$C$3),0,-1)) -> -1 | H64: =E64 -> 14050828 | I64: =INDEX(DATE!$B$2:$B$4747,$D64+I$6-1) -> 14050829 | J64: =INDEX(DATE!$B$2:$B$4747,$D64+J$6-1) -> 14050830 | K64: =INDEX(DATE!$B$2:$B$4747,$D64+K$6-1) -> 14050901 | L64: =INDEX(DATE!$B$2:$B$4747,$D64+L$6-1) -> 14050902 | M64: =INDEX(DATE!$B$2:$B$4747,$D64+M$6-1) -> 14050903 | N64: =INDEX(DATE!$B$2:$B$4747,$D64+N$6-1) -> 14050904 | O64: =INDEX(DATE!$B$2:$B$4747,$D64+O$6-1) -> 14050905 | P64: =INDEX(DATE!$B$2:$B$4747,$D64+P$6-1) -> 14050912 | ... R64: =INDEX(DATE!$B$2:$B$4747,$D64+R$6-1) -> 14051027 | S64: =IF($F64>S$6-9,INDEX(DATE!$B$2:$B$4747,$D64+S$6-1),"") | T64: =IF($F64>T$6-9,INDEX(DATE!$B$2:$B$4747,$D64+T$6-1),"") | U64: =IF($F64>U$6-9,INDEX(DATE!$B$2:$B$4747,$D64+U$6-1),"") | V64: =IF($F64>V$6-9,INDEX(DATE!$B$2:$B$4747,$D64+V$6-1),"") | W64: =IF($F64>W$6-9,INDEX(DATE!$B$2:$B$4747,$D64+W$6-1),"") | X64: =IF($F64>X$6-9,INDEX(DATE!$B$2:$B$4747,$D64+X$6-1),"") | Y64: =IF($F64>Y$6-9,INDEX(DATE!$B$2:$B$4747,$D64+Y$6-1),"") | Z64: =IF($F64>Z$6-9,INDEX(DATE!$B$2:$B$4747,$D64+Z$6-1),"") | ... AD64: =IF($F64>AD$6-9,INDEX(DATE!$B$2:$B$4747,$D64+AD$6-1),"") | AE64: =SUM(H64<$C$3)+SUM(I64<$C$3)+SUM(J64<$C$3)+SUM(K64<$C$3)+SUM(L64<$C$3)+SUM(M64<$C$3)+SUM(N64<$C$3)+SUM(O64<$C$3)+SUM(P64<$C$3)+SUM(Q64<$C$3)+SUM(R64<$C$3)+SUM(S64<$C$3)+SUM(T64<$C$3)+SUM(U64<$C$3)+SUM(V64<$C$3)+SUM(W64<$C$3)+SUM(X64<$C$3)+SUM(Y64<$C$3)+SUM(Z64<$C$3)+SUM(AA64<$C$3)+SUM(AB64<$C$3)+SUM(AC64<$C$3)+SUM(AD64<$C$3) -> 0 | AF64: =COUNTA(H64:AD64)-COUNTBLANK(H64:AD64) -> 11
B65: 59 | C65: درس پنجاه و نه | D65: =MATCH(E65,DATE!$B$2:$B$4747,0) -> 2800 | E65: =IF($K$2="عادی",INDEX(DATE!$B$2:$B$4747,$D$2+B65-1),IF($K$2="بسیار سریع",INDEX(DATE!$B$2:$B$4747,$D$2+ROUND((B65)/2,0)-1),IF($K$2="بسیار آهسته",INDEX(DATE!$B$2:$B$4747,$D$2+ROUND((B65)*2,0)-1),INDEX(DATE!$B$2:$B$4747,$D$2+(B65-QUOTIENT(B65,$M$3))*2+(IF(($D$2+(B65-QUOTIENT(B65,$M$3))*2)-2=D64,1,0))-2)))) -> 14050829 | F65: 0 | G65: =IF(MAX(H65:AD65)<$C$3,1,IF(OR(H65=$C$3,I65=$C$3,J65=$C$3,K65=$C$3,L65=$C$3,M65=$C$3,N65=$C$3,O65=$C$3,P65=$C$3,Q65=$C$3,R65=$C$3,S65=$C$3,T65=$C$3,U65=$C$3,V65=$C$3,W65=$C$3,X65=$C$3,Y65=$C$3,Z65=$C$3,AA65=$C$3,AB65=$C$3,AC65=$C$3,AD65=$C$3),0,-1)) -> -1 | H65: =E65 -> 14050829 | I65: =INDEX(DATE!$B$2:$B$4747,$D65+I$6-1) -> 14050830 | J65: =INDEX(DATE!$B$2:$B$4747,$D65+J$6-1) -> 14050901 | K65: =INDEX(DATE!$B$2:$B$4747,$D65+K$6-1) -> 14050902 | L65: =INDEX(DATE!$B$2:$B$4747,$D65+L$6-1) -> 14050903 | M65: =INDEX(DATE!$B$2:$B$4747,$D65+M$6-1) -> 14050904 | N65: =INDEX(DATE!$B$2:$B$4747,$D65+N$6-1) -> 14050905 | O65: =INDEX(DATE!$B$2:$B$4747,$D65+O$6-1) -> 14050906 | P65: =INDEX(DATE!$B$2:$B$4747,$D65+P$6-1) -> 14050913 | ... R65: =INDEX(DATE!$B$2:$B$4747,$D65+R$6-1) -> 14051028 | S65: =IF($F65>S$6-9,INDEX(DATE!$B$2:$B$4747,$D65+S$6-1),"") | T65: =IF($F65>T$6-9,INDEX(DATE!$B$2:$B$4747,$D65+T$6-1),"") | U65: =IF($F65>U$6-9,INDEX(DATE!$B$2:$B$4747,$D65+U$6-1),"") | V65: =IF($F65>V$6-9,INDEX(DATE!$B$2:$B$4747,$D65+V$6-1),"") | W65: =IF($F65>W$6-9,INDEX(DATE!$B$2:$B$4747,$D65+W$6-1),"") | X65: =IF($F65>X$6-9,INDEX(DATE!$B$2:$B$4747,$D65+X$6-1),"") | Y65: =IF($F65>Y$6-9,INDEX(DATE!$B$2:$B$4747,$D65+Y$6-1),"") | Z65: =IF($F65>Z$6-9,INDEX(DATE!$B$2:$B$4747,$D65+Z$6-1),"") | ... AD65: =IF($F65>AD$6-9,INDEX(DATE!$B$2:$B$4747,$D65+AD$6-1),"") | AE65: =SUM(H65<$C$3)+SUM(I65<$C$3)+SUM(J65<$C$3)+SUM(K65<$C$3)+SUM(L65<$C$3)+SUM(M65<$C$3)+SUM(N65<$C$3)+SUM(O65<$C$3)+SUM(P65<$C$3)+SUM(Q65<$C$3)+SUM(R65<$C$3)+SUM(S65<$C$3)+SUM(T65<$C$3)+SUM(U65<$C$3)+SUM(V65<$C$3)+SUM(W65<$C$3)+SUM(X65<$C$3)+SUM(Y65<$C$3)+SUM(Z65<$C$3)+SUM(AA65<$C$3)+SUM(AB65<$C$3)+SUM(AC65<$C$3)+SUM(AD65<$C$3) -> 0 | AF65: =COUNTA(H65:AD65)-COUNTBLANK(H65:AD65) -> 11
B66: 60 | C66: درس شصت | D66: =MATCH(E66,DATE!$B$2:$B$4747,0) -> 2801 | E66: =IF($K$2="عادی",INDEX(DATE!$B$2:$B$4747,$D$2+B66-1),IF($K$2="بسیار سریع",INDEX(DATE!$B$2:$B$4747,$D$2+ROUND((B66)/2,0)-1),IF($K$2="بسیار آهسته",INDEX(DATE!$B$2:$B$4747,$D$2+ROUND((B66)*2,0)-1),INDEX(DATE!$B$2:$B$4747,$D$2+(B66-QUOTIENT(B66,$M$3))*2+(IF(($D$2+(B66-QUOTIENT(B66,$M$3))*2)-2=D65,1,0))-2)))) -> 14050830 | F66: 0 | G66: =IF(MAX(H66:AD66)<$C$3,1,IF(OR(H66=$C$3,I66=$C$3,J66=$C$3,K66=$C$3,L66=$C$3,M66=$C$3,N66=$C$3,O66=$C$3,P66=$C$3,Q66=$C$3,R66=$C$3,S66=$C$3,T66=$C$3,U66=$C$3,V66=$C$3,W66=$C$3,X66=$C$3,Y66=$C$3,Z66=$C$3,AA66=$C$3,AB66=$C$3,AC66=$C$3,AD66=$C$3),0,-1)) -> -1 | H66: =E66 -> 14050830 | I66: =INDEX(DATE!$B$2:$B$4747,$D66+I$6-1) -> 14050901 | J66: =INDEX(DATE!$B$2:$B$4747,$D66+J$6-1) -> 14050902 | K66: =INDEX(DATE!$B$2:$B$4747,$D66+K$6-1) -> 14050903 | L66: =INDEX(DATE!$B$2:$B$4747,$D66+L$6-1) -> 14050904 | M66: =INDEX(DATE!$B$2:$B$4747,$D66+M$6-1) -> 14050905 | N66: =INDEX(DATE!$B$2:$B$4747,$D66+N$6-1) -> 14050906 | O66: =INDEX(DATE!$B$2:$B$4747,$D66+O$6-1) -> 14050907 | P66: =INDEX(DATE!$B$2:$B$4747,$D66+P$6-1) -> 14050914 | ... R66: =INDEX(DATE!$B$2:$B$4747,$D66+R$6-1) -> 14051029 | S66: =IF($F66>S$6-9,INDEX(DATE!$B$2:$B$4747,$D66+S$6-1),"") | T66: =IF($F66>T$6-9,INDEX(DATE!$B$2:$B$4747,$D66+T$6-1),"") | U66: =IF($F66>U$6-9,INDEX(DATE!$B$2:$B$4747,$D66+U$6-1),"") | V66: =IF($F66>V$6-9,INDEX(DATE!$B$2:$B$4747,$D66+V$6-1),"") | W66: =IF($F66>W$6-9,INDEX(DATE!$B$2:$B$4747,$D66+W$6-1),"") | X66: =IF($F66>X$6-9,INDEX(DATE!$B$2:$B$4747,$D66+X$6-1),"") | Y66: =IF($F66>Y$6-9,INDEX(DATE!$B$2:$B$4747,$D66+Y$6-1),"") | Z66: =IF($F66>Z$6-9,INDEX(DATE!$B$2:$B$4747,$D66+Z$6-1),"") | ... AD66: =IF($F66>AD$6-9,INDEX(DATE!$B$2:$B$4747,$D66+AD$6-1),"") | AE66: =SUM(H66<$C$3)+SUM(I66<$C$3)+SUM(J66<$C$3)+SUM(K66<$C$3)+SUM(L66<$C$3)+SUM(M66<$C$3)+SUM(N66<$C$3)+SUM(O66<$C$3)+SUM(P66<$C$3)+SUM(Q66<$C$3)+SUM(R66<$C$3)+SUM(S66<$C$3)+SUM(T66<$C$3)+SUM(U66<$C$3)+SUM(V66<$C$3)+SUM(W66<$C$3)+SUM(X66<$C$3)+SUM(Y66<$C$3)+SUM(Z66<$C$3)+SUM(AA66<$C$3)+SUM(AB66<$C$3)+SUM(AC66<$C$3)+SUM(AD66<$C$3) -> 0 | AF66: =COUNTA(H66:AD66)-COUNTBLANK(H66:AD66) -> 11
B67: 61 | C67: درس شصت و یک | D67: =MATCH(E67,DATE!$B$2:$B$4747,0) -> 2802 | E67: =IF($K$2="عادی",INDEX(DATE!$B$2:$B$4747,$D$2+B67-1),IF($K$2="بسیار سریع",INDEX(DATE!$B$2:$B$4747,$D$2+ROUND((B67)/2,0)-1),IF($K$2="بسیار آهسته",INDEX(DATE!$B$2:$B$4747,$D$2+ROUND((B67)*2,0)-1),INDEX(DATE!$B$2:$B$4747,$D$2+(B67-QUOTIENT(B67,$M$3))*2+(IF(($D$2+(B67-QUOTIENT(B67,$M$3))*2)-2=D66,1,0))-2)))) -> 14050901 | F67: 0 | G67: =IF(MAX(H67:AD67)<$C$3,1,IF(OR(H67=$C$3,I67=$C$3,J67=$C$3,K67=$C$3,L67=$C$3,M67=$C$3,N67=$C$3,O67=$C$3,P67=$C$3,Q67=$C$3,R67=$C$3,S67=$C$3,T67=$C$3,U67=$C$3,V67=$C$3,W67=$C$3,X67=$C$3,Y67=$C$3,Z67=$C$3,AA67=$C$3,AB67=$C$3,AC67=$C$3,AD67=$C$3),0,-1)) -> -1 | H67: =E67 -> 14050901 | I67: =INDEX(DATE!$B$2:$B$4747,$D67+I$6-1) -> 14050902 | J67: =INDEX(DATE!$B$2:$B$4747,$D67+J$6-1) -> 14050903 | K67: =INDEX(DATE!$B$2:$B$4747,$D67+K$6-1) -> 14050904 | L67: =INDEX(DATE!$B$2:$B$4747,$D67+L$6-1) -> 14050905 | M67: =INDEX(DATE!$B$2:$B$4747,$D67+M$6-1) -> 14050906 | N67: =INDEX(DATE!$B$2:$B$4747,$D67+N$6-1) -> 14050907 | O67: =INDEX(DATE!$B$2:$B$4747,$D67+O$6-1) -> 14050908 | P67: =INDEX(DATE!$B$2:$B$4747,$D67+P$6-1) -> 14050915 | ... R67: =INDEX(DATE!$B$2:$B$4747,$D67+R$6-1) -> 14051030 | S67: =IF($F67>S$6-9,INDEX(DATE!$B$2:$B$4747,$D67+S$6-1),"") | T67: =IF($F67>T$6-9,INDEX(DATE!$B$2:$B$4747,$D67+T$6-1),"") | U67: =IF($F67>U$6-9,INDEX(DATE!$B$2:$B$4747,$D67+U$6-1),"") | V67: =IF($F67>V$6-9,INDEX(DATE!$B$2:$B$4747,$D67+V$6-1),"") | W67: =IF($F67>W$6-9,INDEX(DATE!$B$2:$B$4747,$D67+W$6-1),"") | X67: =IF($F67>X$6-9,INDEX(DATE!$B$2:$B$4747,$D67+X$6-1),"") | Y67: =IF($F67>Y$6-9,INDEX(DATE!$B$2:$B$4747,$D67+Y$6-1),"") | Z67: =IF($F67>Z$6-9,INDEX(DATE!$B$2:$B$4747,$D67+Z$6-1),"") | ... AD67: =IF($F67>AD$6-9,INDEX(DATE!$B$2:$B$4747,$D67+AD$6-1),"") | AE67: =SUM(H67<$C$3)+SUM(I67<$C$3)+SUM(J67<$C$3)+SUM(K67<$C$3)+SUM(L67<$C$3)+SUM(M67<$C$3)+SUM(N67<$C$3)+SUM(O67<$C$3)+SUM(P67<$C$3)+SUM(Q67<$C$3)+SUM(R67<$C$3)+SUM(S67<$C$3)+SUM(T67<$C$3)+SUM(U67<$C$3)+SUM(V67<$C$3)+SUM(W67<$C$3)+SUM(X67<$C$3)+SUM(Y67<$C$3)+SUM(Z67<$C$3)+SUM(AA67<$C$3)+SUM(AB67<$C$3)+SUM(AC67<$C$3)+SUM(AD67<$C$3) -> 0 | AF67: =COUNTA(H67:AD67)-COUNTBLANK(H67:AD67) -> 11
B68: 62 | C68: درس شصت و دو | D68: =MATCH(E68,DATE!$B$2:$B$4747,0) -> 2803 | E68: =IF($K$2="عادی",INDEX(DATE!$B$2:$B$4747,$D$2+B68-1),IF($K$2="بسیار سریع",INDEX(DATE!$B$2:$B$4747,$D$2+ROUND((B68)/2,0)-1),IF($K$2="بسیار آهسته",INDEX(DATE!$B$2:$B$4747,$D$2+ROUND((B68)*2,0)-1),INDEX(DATE!$B$2:$B$4747,$D$2+(B68-QUOTIENT(B68,$M$3))*2+(IF(($D$2+(B68-QUOTIENT(B68,$M$3))*2)-2=D67,1,0))-2)))) -> 14050902 | F68: 0 | G68: =IF(MAX(H68:AD68)<$C$3,1,IF(OR(H68=$C$3,I68=$C$3,J68=$C$3,K68=$C$3,L68=$C$3,M68=$C$3,N68=$C$3,O68=$C$3,P68=$C$3,Q68=$C$3,R68=$C$3,S68=$C$3,T68=$C$3,U68=$C$3,V68=$C$3,W68=$C$3,X68=$C$3,Y68=$C$3,Z68=$C$3,AA68=$C$3,AB68=$C$3,AC68=$C$3,AD68=$C$3),0,-1)) -> -1 | H68: =E68 -> 14050902 | I68: =INDEX(DATE!$B$2:$B$4747,$D68+I$6-1) -> 14050903 | J68: =INDEX(DATE!$B$2:$B$4747,$D68+J$6-1) -> 14050904 | K68: =INDEX(DATE!$B$2:$B$4747,$D68+K$6-1) -> 14050905 | L68: =INDEX(DATE!$B$2:$B$4747,$D68+L$6-1) -> 14050906 | M68: =INDEX(DATE!$B$2:$B$4747,$D68+M$6-1) -> 14050907 | N68: =INDEX(DATE!$B$2:$B$4747,$D68+N$6-1) -> 14050908 | O68: =INDEX(DATE!$B$2:$B$4747,$D68+O$6-1) -> 14050909 | P68: =INDEX(DATE!$B$2:$B$4747,$D68+P$6-1) -> 14050916 | ... R68: =INDEX(DATE!$B$2:$B$4747,$D68+R$6-1) -> 14051101 | S68: =IF($F68>S$6-9,INDEX(DATE!$B$2:$B$4747,$D68+S$6-1),"") | T68: =IF($F68>T$6-9,INDEX(DATE!$B$2:$B$4747,$D68+T$6-1),"") | U68: =IF($F68>U$6-9,INDEX(DATE!$B$2:$B$4747,$D68+U$6-1),"") | V68: =IF($F68>V$6-9,INDEX(DATE!$B$2:$B$4747,$D68+V$6-1),"") | W68: =IF($F68>W$6-9,INDEX(DATE!$B$2:$B$4747,$D68+W$6-1),"") | X68: =IF($F68>X$6-9,INDEX(DATE!$B$2:$B$4747,$D68+X$6-1),"") | Y68: =IF($F68>Y$6-9,INDEX(DATE!$B$2:$B$4747,$D68+Y$6-1),"") | Z68: =IF($F68>Z$6-9,INDEX(DATE!$B$2:$B$4747,$D68+Z$6-1),"") | ... AD68: =IF($F68>AD$6-9,INDEX(DATE!$B$2:$B$4747,$D68+AD$6-1),"") | AE68: =SUM(H68<$C$3)+SUM(I68<$C$3)+SUM(J68<$C$3)+SUM(K68<$C$3)+SUM(L68<$C$3)+SUM(M68<$C$3)+SUM(N68<$C$3)+SUM(O68<$C$3)+SUM(P68<$C$3)+SUM(Q68<$C$3)+SUM(R68<$C$3)+SUM(S68<$C$3)+SUM(T68<$C$3)+SUM(U68<$C$3)+SUM(V68<$C$3)+SUM(W68<$C$3)+SUM(X68<$C$3)+SUM(Y68<$C$3)+SUM(Z68<$C$3)+SUM(AA68<$C$3)+SUM(AB68<$C$3)+SUM(AC68<$C$3)+SUM(AD68<$C$3) -> 0 | AF68: =COUNTA(H68:AD68)-COUNTBLANK(H68:AD68) -> 11
B69: 63 | C69: درس شصت و سه | D69: =MATCH(E69,DATE!$B$2:$B$4747,0) -> 2804 | E69: =IF($K$2="عادی",INDEX(DATE!$B$2:$B$4747,$D$2+B69-1),IF($K$2="بسیار سریع",INDEX(DATE!$B$2:$B$4747,$D$2+ROUND((B69)/2,0)-1),IF($K$2="بسیار آهسته",INDEX(DATE!$B$2:$B$4747,$D$2+ROUND((B69)*2,0)-1),INDEX(DATE!$B$2:$B$4747,$D$2+(B69-QUOTIENT(B69,$M$3))*2+(IF(($D$2+(B69-QUOTIENT(B69,$M$3))*2)-2=D68,1,0))-2)))) -> 14050903 | F69: 0 | G69: =IF(MAX(H69:AD69)<$C$3,1,IF(OR(H69=$C$3,I69=$C$3,J69=$C$3,K69=$C$3,L69=$C$3,M69=$C$3,N69=$C$3,O69=$C$3,P69=$C$3,Q69=$C$3,R69=$C$3,S69=$C$3,T69=$C$3,U69=$C$3,V69=$C$3,W69=$C$3,X69=$C$3,Y69=$C$3,Z69=$C$3,AA69=$C$3,AB69=$C$3,AC69=$C$3,AD69=$C$3),0,-1)) -> -1 | H69: =E69 -> 14050903 | I69: =INDEX(DATE!$B$2:$B$4747,$D69+I$6-1) -> 14050904 | J69: =INDEX(DATE!$B$2:$B$4747,$D69+J$6-1) -> 14050905 | K69: =INDEX(DATE!$B$2:$B$4747,$D69+K$6-1) -> 14050906 | L69: =INDEX(DATE!$B$2:$B$4747,$D69+L$6-1) -> 14050907 | M69: =INDEX(DATE!$B$2:$B$4747,$D69+M$6-1) -> 14050908 | N69: =INDEX(DATE!$B$2:$B$4747,$D69+N$6-1) -> 14050909 | O69: =INDEX(DATE!$B$2:$B$4747,$D69+O$6-1) -> 14050910 | P69: =INDEX(DATE!$B$2:$B$4747,$D69+P$6-1) -> 14050917 | ... R69: =INDEX(DATE!$B$2:$B$4747,$D69+R$6-1) -> 14051102 | S69: =IF($F69>S$6-9,INDEX(DATE!$B$2:$B$4747,$D69+S$6-1),"") | T69: =IF($F69>T$6-9,INDEX(DATE!$B$2:$B$4747,$D69+T$6-1),"") | U69: =IF($F69>U$6-9,INDEX(DATE!$B$2:$B$4747,$D69+U$6-1),"") | V69: =IF($F69>V$6-9,INDEX(DATE!$B$2:$B$4747,$D69+V$6-1),"") | W69: =IF($F69>W$6-9,INDEX(DATE!$B$2:$B$4747,$D69+W$6-1),"") | X69: =IF($F69>X$6-9,INDEX(DATE!$B$2:$B$4747,$D69+X$6-1),"") | Y69: =IF($F69>Y$6-9,INDEX(DATE!$B$2:$B$4747,$D69+Y$6-1),"") | Z69: =IF($F69>Z$6-9,INDEX(DATE!$B$2:$B$4747,$D69+Z$6-1),"") | ... AD69: =IF($F69>AD$6-9,INDEX(DATE!$B$2:$B$4747,$D69+AD$6-1),"") | AE69: =SUM(H69<$C$3)+SUM(I69<$C$3)+SUM(J69<$C$3)+SUM(K69<$C$3)+SUM(L69<$C$3)+SUM(M69<$C$3)+SUM(N69<$C$3)+SUM(O69<$C$3)+SUM(P69<$C$3)+SUM(Q69<$C$3)+SUM(R69<$C$3)+SUM(S69<$C$3)+SUM(T69<$C$3)+SUM(U69<$C$3)+SUM(V69<$C$3)+SUM(W69<$C$3)+SUM(X69<$C$3)+SUM(Y69<$C$3)+SUM(Z69<$C$3)+SUM(AA69<$C$3)+SUM(AB69<$C$3)+SUM(AC69<$C$3)+SUM(AD69<$C$3) -> 0 | AF69: =COUNTA(H69:AD69)-COUNTBLANK(H69:AD69) -> 11
B70: 64 | C70: درس شصت و چهار | D70: =MATCH(E70,DATE!$B$2:$B$4747,0) -> 2805 | E70: =IF($K$2="عادی",INDEX(DATE!$B$2:$B$4747,$D$2+B70-1),IF($K$2="بسیار سریع",INDEX(DATE!$B$2:$B$4747,$D$2+ROUND((B70)/2,0)-1),IF($K$2="بسیار آهسته",INDEX(DATE!$B$2:$B$4747,$D$2+ROUND((B70)*2,0)-1),INDEX(DATE!$B$2:$B$4747,$D$2+(B70-QUOTIENT(B70,$M$3))*2+(IF(($D$2+(B70-QUOTIENT(B70,$M$3))*2)-2=D69,1,0))-2)))) -> 14050904 | F70: 0 | G70: =IF(MAX(H70:AD70)<$C$3,1,IF(OR(H70=$C$3,I70=$C$3,J70=$C$3,K70=$C$3,L70=$C$3,M70=$C$3,N70=$C$3,O70=$C$3,P70=$C$3,Q70=$C$3,R70=$C$3,S70=$C$3,T70=$C$3,U70=$C$3,V70=$C$3,W70=$C$3,X70=$C$3,Y70=$C$3,Z70=$C$3,AA70=$C$3,AB70=$C$3,AC70=$C$3,AD70=$C$3),0,-1)) -> -1 | H70: =E70 -> 14050904 | I70: =INDEX(DATE!$B$2:$B$4747,$D70+I$6-1) -> 14050905 | J70: =INDEX(DATE!$B$2:$B$4747,$D70+J$6-1) -> 14050906 | K70: =INDEX(DATE!$B$2:$B$4747,$D70+K$6-1) -> 14050907 | L70: =INDEX(DATE!$B$2:$B$4747,$D70+L$6-1) -> 14050908 | M70: =INDEX(DATE!$B$2:$B$4747,$D70+M$6-1) -> 14050909 | N70: =INDEX(DATE!$B$2:$B$4747,$D70+N$6-1) -> 14050910 | O70: =INDEX(DATE!$B$2:$B$4747,$D70+O$6-1) -> 14050911 | P70: =INDEX(DATE!$B$2:$B$4747,$D70+P$6-1) -> 14050918 | ... R70: =INDEX(DATE!$B$2:$B$4747,$D70+R$6-1) -> 14051103 | S70: =IF($F70>S$6-9,INDEX(DATE!$B$2:$B$4747,$D70+S$6-1),"") | T70: =IF($F70>T$6-9,INDEX(DATE!$B$2:$B$4747,$D70+T$6-1),"") | U70: =IF($F70>U$6-9,INDEX(DATE!$B$2:$B$4747,$D70+U$6-1),"") | V70: =IF($F70>V$6-9,INDEX(DATE!$B$2:$B$4747,$D70+V$6-1),"") | W70: =IF($F70>W$6-9,INDEX(DATE!$B$2:$B$4747,$D70+W$6-1),"") | X70: =IF($F70>X$6-9,INDEX(DATE!$B$2:$B$4747,$D70+X$6-1),"") | Y70: =IF($F70>Y$6-9,INDEX(DATE!$B$2:$B$4747,$D70+Y$6-1),"") | Z70: =IF($F70>Z$6-9,INDEX(DATE!$B$2:$B$4747,$D70+Z$6-1),"") | ... AD70: =IF($F70>AD$6-9,INDEX(DATE!$B$2:$B$4747,$D70+AD$6-1),"") | AE70: =SUM(H70<$C$3)+SUM(I70<$C$3)+SUM(J70<$C$3)+SUM(K70<$C$3)+SUM(L70<$C$3)+SUM(M70<$C$3)+SUM(N70<$C$3)+SUM(O70<$C$3)+SUM(P70<$C$3)+SUM(Q70<$C$3)+SUM(R70<$C$3)+SUM(S70<$C$3)+SUM(T70<$C$3)+SUM(U70<$C$3)+SUM(V70<$C$3)+SUM(W70<$C$3)+SUM(X70<$C$3)+SUM(Y70<$C$3)+SUM(Z70<$C$3)+SUM(AA70<$C$3)+SUM(AB70<$C$3)+SUM(AC70<$C$3)+SUM(AD70<$C$3) -> 0 | AF70: =COUNTA(H70:AD70)-COUNTBLANK(H70:AD70) -> 11
B71: 65 | C71: درس شصت و پنج | D71: =MATCH(E71,DATE!$B$2:$B$4747,0) -> 2806 | E71: =IF($K$2="عادی",INDEX(DATE!$B$2:$B$4747,$D$2+B71-1),IF($K$2="بسیار سریع",INDEX(DATE!$B$2:$B$4747,$D$2+ROUND((B71)/2,0)-1),IF($K$2="بسیار آهسته",INDEX(DATE!$B$2:$B$4747,$D$2+ROUND((B71)*2,0)-1),INDEX(DATE!$B$2:$B$4747,$D$2+(B71-QUOTIENT(B71,$M$3))*2+(IF(($D$2+(B71-QUOTIENT(B71,$M$3))*2)-2=D70,1,0))-2)))) -> 14050905 | F71: 0 | G71: =IF(MAX(H71:AD71)<$C$3,1,IF(OR(H71=$C$3,I71=$C$3,J71=$C$3,K71=$C$3,L71=$C$3,M71=$C$3,N71=$C$3,O71=$C$3,P71=$C$3,Q71=$C$3,R71=$C$3,S71=$C$3,T71=$C$3,U71=$C$3,V71=$C$3,W71=$C$3,X71=$C$3,Y71=$C$3,Z71=$C$3,AA71=$C$3,AB71=$C$3,AC71=$C$3,AD71=$C$3),0,-1)) -> -1 | H71: =E71 -> 14050905 | I71: =INDEX(DATE!$B$2:$B$4747,$D71+I$6-1) -> 14050906 | J71: =INDEX(DATE!$B$2:$B$4747,$D71+J$6-1) -> 14050907 | K71: =INDEX(DATE!$B$2:$B$4747,$D71+K$6-1) -> 14050908 | L71: =INDEX(DATE!$B$2:$B$4747,$D71+L$6-1) -> 14050909 | M71: =INDEX(DATE!$B$2:$B$4747,$D71+M$6-1) -> 14050910 | N71: =INDEX(DATE!$B$2:$B$4747,$D71+N$6-1) -> 14050911 | O71: =INDEX(DATE!$B$2:$B$4747,$D71+O$6-1) -> 14050912 | P71: =INDEX(DATE!$B$2:$B$4747,$D71+P$6-1) -> 14050919 | ... R71: =INDEX(DATE!$B$2:$B$4747,$D71+R$6-1) -> 14051104 | S71: =IF($F71>S$6-9,INDEX(DATE!$B$2:$B$4747,$D71+S$6-1),"") | T71: =IF($F71>T$6-9,INDEX(DATE!$B$2:$B$4747,$D71+T$6-1),"") | U71: =IF($F71>U$6-9,INDEX(DATE!$B$2:$B$4747,$D71+U$6-1),"") | V71: =IF($F71>V$6-9,INDEX(DATE!$B$2:$B$4747,$D71+V$6-1),"") | W71: =IF($F71>W$6-9,INDEX(DATE!$B$2:$B$4747,$D71+W$6-1),"") | X71: =IF($F71>X$6-9,INDEX(DATE!$B$2:$B$4747,$D71+X$6-1),"") | Y71: =IF($F71>Y$6-9,INDEX(DATE!$B$2:$B$4747,$D71+Y$6-1),"") | Z71: =IF($F71>Z$6-9,INDEX(DATE!$B$2:$B$4747,$D71+Z$6-1),"") | ... AD71: =IF($F71>AD$6-9,INDEX(DATE!$B$2:$B$4747,$D71+AD$6-1),"") | AE71: =SUM(H71<$C$3)+SUM(I71<$C$3)+SUM(J71<$C$3)+SUM(K71<$C$3)+SUM(L71<$C$3)+SUM(M71<$C$3)+SUM(N71<$C$3)+SUM(O71<$C$3)+SUM(P71<$C$3)+SUM(Q71<$C$3)+SUM(R71<$C$3)+SUM(S71<$C$3)+SUM(T71<$C$3)+SUM(U71<$C$3)+SUM(V71<$C$3)+SUM(W71<$C$3)+SUM(X71<$C$3)+SUM(Y71<$C$3)+SUM(Z71<$C$3)+SUM(AA71<$C$3)+SUM(AB71<$C$3)+SUM(AC71<$C$3)+SUM(AD71<$C$3) -> 0 | AF71: =COUNTA(H71:AD71)-COUNTBLANK(H71:AD71) -> 11
B72: 66 | C72: درس شصت و شش | D72: =MATCH(E72,DATE!$B$2:$B$4747,0) -> 2807 | E72: =IF($K$2="عادی",INDEX(DATE!$B$2:$B$4747,$D$2+B72-1),IF($K$2="بسیار سریع",INDEX(DATE!$B$2:$B$4747,$D$2+ROUND((B72)/2,0)-1),IF($K$2="بسیار آهسته",INDEX(DATE!$B$2:$B$4747,$D$2+ROUND((B72)*2,0)-1),INDEX(DATE!$B$2:$B$4747,$D$2+(B72-QUOTIENT(B72,$M$3))*2+(IF(($D$2+(B72-QUOTIENT(B72,$M$3))*2)-2=D71,1,0))-2)))) -> 14050906 | F72: 0 | G72: =IF(MAX(H72:AD72)<$C$3,1,IF(OR(H72=$C$3,I72=$C$3,J72=$C$3,K72=$C$3,L72=$C$3,M72=$C$3,N72=$C$3,O72=$C$3,P72=$C$3,Q72=$C$3,R72=$C$3,S72=$C$3,T72=$C$3,U72=$C$3,V72=$C$3,W72=$C$3,X72=$C$3,Y72=$C$3,Z72=$C$3,AA72=$C$3,AB72=$C$3,AC72=$C$3,AD72=$C$3),0,-1)) -> -1 | H72: =E72 -> 14050906 | I72: =INDEX(DATE!$B$2:$B$4747,$D72+I$6-1) -> 14050907 | J72: =INDEX(DATE!$B$2:$B$4747,$D72+J$6-1) -> 14050908 | K72: =INDEX(DATE!$B$2:$B$4747,$D72+K$6-1) -> 14050909 | L72: =INDEX(DATE!$B$2:$B$4747,$D72+L$6-1) -> 14050910 | M72: =INDEX(DATE!$B$2:$B$4747,$D72+M$6-1) -> 14050911 | N72: =INDEX(DATE!$B$2:$B$4747,$D72+N$6-1) -> 14050912 | O72: =INDEX(DATE!$B$2:$B$4747,$D72+O$6-1) -> 14050913 | P72: =INDEX(DATE!$B$2:$B$4747,$D72+P$6-1) -> 14050920 | ... R72: =INDEX(DATE!$B$2:$B$4747,$D72+R$6-1) -> 14051105 | S72: =IF($F72>S$6-9,INDEX(DATE!$B$2:$B$4747,$D72+S$6-1),"") | T72: =IF($F72>T$6-9,INDEX(DATE!$B$2:$B$4747,$D72+T$6-1),"") | U72: =IF($F72>U$6-9,INDEX(DATE!$B$2:$B$4747,$D72+U$6-1),"") | V72: =IF($F72>V$6-9,INDEX(DATE!$B$2:$B$4747,$D72+V$6-1),"") | W72: =IF($F72>W$6-9,INDEX(DATE!$B$2:$B$4747,$D72+W$6-1),"") | X72: =IF($F72>X$6-9,INDEX(DATE!$B$2:$B$4747,$D72+X$6-1),"") | Y72: =IF($F72>Y$6-9,INDEX(DATE!$B$2:$B$4747,$D72+Y$6-1),"") | Z72: =IF($F72>Z$6-9,INDEX(DATE!$B$2:$B$4747,$D72+Z$6-1),"") | ... AD72: =IF($F72>AD$6-9,INDEX(DATE!$B$2:$B$4747,$D72+AD$6-1),"") | AE72: =SUM(H72<$C$3)+SUM(I72<$C$3)+SUM(J72<$C$3)+SUM(K72<$C$3)+SUM(L72<$C$3)+SUM(M72<$C$3)+SUM(N72<$C$3)+SUM(O72<$C$3)+SUM(P72<$C$3)+SUM(Q72<$C$3)+SUM(R72<$C$3)+SUM(S72<$C$3)+SUM(T72<$C$3)+SUM(U72<$C$3)+SUM(V72<$C$3)+SUM(W72<$C$3)+SUM(X72<$C$3)+SUM(Y72<$C$3)+SUM(Z72<$C$3)+SUM(AA72<$C$3)+SUM(AB72<$C$3)+SUM(AC72<$C$3)+SUM(AD72<$C$3) -> 0 | AF72: =COUNTA(H72:AD72)-COUNTBLANK(H72:AD72) -> 11
B73: 67 | C73: درس شصت و هفت | D73: =MATCH(E73,DATE!$B$2:$B$4747,0) -> 2808 | E73: =IF($K$2="عادی",INDEX(DATE!$B$2:$B$4747,$D$2+B73-1),IF($K$2="بسیار سریع",INDEX(DATE!$B$2:$B$4747,$D$2+ROUND((B73)/2,0)-1),IF($K$2="بسیار آهسته",INDEX(DATE!$B$2:$B$4747,$D$2+ROUND((B73)*2,0)-1),INDEX(DATE!$B$2:$B$4747,$D$2+(B73-QUOTIENT(B73,$M$3))*2+(IF(($D$2+(B73-QUOTIENT(B73,$M$3))*2)-2=D72,1,0))-2)))) -> 14050907 | F73: 0 | G73: =IF(MAX(H73:AD73)<$C$3,1,IF(OR(H73=$C$3,I73=$C$3,J73=$C$3,K73=$C$3,L73=$C$3,M73=$C$3,N73=$C$3,O73=$C$3,P73=$C$3,Q73=$C$3,R73=$C$3,S73=$C$3,T73=$C$3,U73=$C$3,V73=$C$3,W73=$C$3,X73=$C$3,Y73=$C$3,Z73=$C$3,AA73=$C$3,AB73=$C$3,AC73=$C$3,AD73=$C$3),0,-1)) -> -1 | H73: =E73 -> 14050907 | I73: =INDEX(DATE!$B$2:$B$4747,$D73+I$6-1) -> 14050908 | J73: =INDEX(DATE!$B$2:$B$4747,$D73+J$6-1) -> 14050909 | K73: =INDEX(DATE!$B$2:$B$4747,$D73+K$6-1) -> 14050910 | L73: =INDEX(DATE!$B$2:$B$4747,$D73+L$6-1) -> 14050911 | M73: =INDEX(DATE!$B$2:$B$4747,$D73+M$6-1) -> 14050912 | N73: =INDEX(DATE!$B$2:$B$4747,$D73+N$6-1) -> 14050913 | O73: =INDEX(DATE!$B$2:$B$4747,$D73+O$6-1) -> 14050914 | P73: =INDEX(DATE!$B$2:$B$4747,$D73+P$6-1) -> 14050921 | ... R73: =INDEX(DATE!$B$2:$B$4747,$D73+R$6-1) -> 14051106 | S73: =IF($F73>S$6-9,INDEX(DATE!$B$2:$B$4747,$D73+S$6-1),"") | T73: =IF($F73>T$6-9,INDEX(DATE!$B$2:$B$4747,$D73+T$6-1),"") | U73: =IF($F73>U$6-9,INDEX(DATE!$B$2:$B$4747,$D73+U$6-1),"") | V73: =IF($F73>V$6-9,INDEX(DATE!$B$2:$B$4747,$D73+V$6-1),"") | W73: =IF($F73>W$6-9,INDEX(DATE!$B$2:$B$4747,$D73+W$6-1),"") | X73: =IF($F73>X$6-9,INDEX(DATE!$B$2:$B$4747,$D73+X$6-1),"") | Y73: =IF($F73>Y$6-9,INDEX(DATE!$B$2:$B$4747,$D73+Y$6-1),"") | Z73: =IF($F73>Z$6-9,INDEX(DATE!$B$2:$B$4747,$D73+Z$6-1),"") | ... AD73: =IF($F73>AD$6-9,INDEX(DATE!$B$2:$B$4747,$D73+AD$6-1),"") | AE73: =SUM(H73<$C$3)+SUM(I73<$C$3)+SUM(J73<$C$3)+SUM(K73<$C$3)+SUM(L73<$C$3)+SUM(M73<$C$3)+SUM(N73<$C$3)+SUM(O73<$C$3)+SUM(P73<$C$3)+SUM(Q73<$C$3)+SUM(R73<$C$3)+SUM(S73<$C$3)+SUM(T73<$C$3)+SUM(U73<$C$3)+SUM(V73<$C$3)+SUM(W73<$C$3)+SUM(X73<$C$3)+SUM(Y73<$C$3)+SUM(Z73<$C$3)+SUM(AA73<$C$3)+SUM(AB73<$C$3)+SUM(AC73<$C$3)+SUM(AD73<$C$3) -> 0 | AF73: =COUNTA(H73:AD73)-COUNTBLANK(H73:AD73) -> 11
B74: 68 | C74: درس شصت و هشت | D74: =MATCH(E74,DATE!$B$2:$B$4747,0) -> 2809 | E74: =IF($K$2="عادی",INDEX(DATE!$B$2:$B$4747,$D$2+B74-1),IF($K$2="بسیار سریع",INDEX(DATE!$B$2:$B$4747,$D$2+ROUND((B74)/2,0)-1),IF($K$2="بسیار آهسته",INDEX(DATE!$B$2:$B$4747,$D$2+ROUND((B74)*2,0)-1),INDEX(DATE!$B$2:$B$4747,$D$2+(B74-QUOTIENT(B74,$M$3))*2+(IF(($D$2+(B74-QUOTIENT(B74,$M$3))*2)-2=D73,1,0))-2)))) -> 14050908 | F74: 0 | G74: =IF(MAX(H74:AD74)<$C$3,1,IF(OR(H74=$C$3,I74=$C$3,J74=$C$3,K74=$C$3,L74=$C$3,M74=$C$3,N74=$C$3,O74=$C$3,P74=$C$3,Q74=$C$3,R74=$C$3,S74=$C$3,T74=$C$3,U74=$C$3,V74=$C$3,W74=$C$3,X74=$C$3,Y74=$C$3,Z74=$C$3,AA74=$C$3,AB74=$C$3,AC74=$C$3,AD74=$C$3),0,-1)) -> -1 | H74: =E74 -> 14050908 | I74: =INDEX(DATE!$B$2:$B$4747,$D74+I$6-1) -> 14050909 | J74: =INDEX(DATE!$B$2:$B$4747,$D74+J$6-1) -> 14050910 | K74: =INDEX(DATE!$B$2:$B$4747,$D74+K$6-1) -> 14050911 | L74: =INDEX(DATE!$B$2:$B$4747,$D74+L$6-1) -> 14050912 | M74: =INDEX(DATE!$B$2:$B$4747,$D74+M$6-1) -> 14050913 | N74: =INDEX(DATE!$B$2:$B$4747,$D74+N$6-1) -> 14050914 | O74: =INDEX(DATE!$B$2:$B$4747,$D74+O$6-1) -> 14050915 | P74: =INDEX(DATE!$B$2:$B$4747,$D74+P$6-1) -> 14050922 | ... R74: =INDEX(DATE!$B$2:$B$4747,$D74+R$6-1) -> 14051107 | S74: =IF($F74>S$6-9,INDEX(DATE!$B$2:$B$4747,$D74+S$6-1),"") | T74: =IF($F74>T$6-9,INDEX(DATE!$B$2:$B$4747,$D74+T$6-1),"") | U74: =IF($F74>U$6-9,INDEX(DATE!$B$2:$B$4747,$D74+U$6-1),"") | V74: =IF($F74>V$6-9,INDEX(DATE!$B$2:$B$4747,$D74+V$6-1),"") | W74: =IF($F74>W$6-9,INDEX(DATE!$B$2:$B$4747,$D74+W$6-1),"") | X74: =IF($F74>X$6-9,INDEX(DATE!$B$2:$B$4747,$D74+X$6-1),"") | Y74: =IF($F74>Y$6-9,INDEX(DATE!$B$2:$B$4747,$D74+Y$6-1),"") | Z74: =IF($F74>Z$6-9,INDEX(DATE!$B$2:$B$4747,$D74+Z$6-1),"") | ... AD74: =IF($F74>AD$6-9,INDEX(DATE!$B$2:$B$4747,$D74+AD$6-1),"") | AE74: =SUM(H74<$C$3)+SUM(I74<$C$3)+SUM(J74<$C$3)+SUM(K74<$C$3)+SUM(L74<$C$3)+SUM(M74<$C$3)+SUM(N74<$C$3)+SUM(O74<$C$3)+SUM(P74<$C$3)+SUM(Q74<$C$3)+SUM(R74<$C$3)+SUM(S74<$C$3)+SUM(T74<$C$3)+SUM(U74<$C$3)+SUM(V74<$C$3)+SUM(W74<$C$3)+SUM(X74<$C$3)+SUM(Y74<$C$3)+SUM(Z74<$C$3)+SUM(AA74<$C$3)+SUM(AB74<$C$3)+SUM(AC74<$C$3)+SUM(AD74<$C$3) -> 0 | AF74: =COUNTA(H74:AD74)-COUNTBLANK(H74:AD74) -> 11
B75: 69 | C75: درس شصت و نه | D75: =MATCH(E75,DATE!$B$2:$B$4747,0) -> 2810 | E75: =IF($K$2="عادی",INDEX(DATE!$B$2:$B$4747,$D$2+B75-1),IF($K$2="بسیار سریع",INDEX(DATE!$B$2:$B$4747,$D$2+ROUND((B75)/2,0)-1),IF($K$2="بسیار آهسته",INDEX(DATE!$B$2:$B$4747,$D$2+ROUND((B75)*2,0)-1),INDEX(DATE!$B$2:$B$4747,$D$2+(B75-QUOTIENT(B75,$M$3))*2+(IF(($D$2+(B75-QUOTIENT(B75,$M$3))*2)-2=D74,1,0))-2)))) -> 14050909 | F75: 0 | G75: =IF(MAX(H75:AD75)<$C$3,1,IF(OR(H75=$C$3,I75=$C$3,J75=$C$3,K75=$C$3,L75=$C$3,M75=$C$3,N75=$C$3,O75=$C$3,P75=$C$3,Q75=$C$3,R75=$C$3,S75=$C$3,T75=$C$3,U75=$C$3,V75=$C$3,W75=$C$3,X75=$C$3,Y75=$C$3,Z75=$C$3,AA75=$C$3,AB75=$C$3,AC75=$C$3,AD75=$C$3),0,-1)) -> -1 | H75: =E75 -> 14050909 | I75: =INDEX(DATE!$B$2:$B$4747,$D75+I$6-1) -> 14050910 | J75: =INDEX(DATE!$B$2:$B$4747,$D75+J$6-1) -> 14050911 | K75: =INDEX(DATE!$B$2:$B$4747,$D75+K$6-1) -> 14050912 | L75: =INDEX(DATE!$B$2:$B$4747,$D75+L$6-1) -> 14050913 | M75: =INDEX(DATE!$B$2:$B$4747,$D75+M$6-1) -> 14050914 | N75: =INDEX(DATE!$B$2:$B$4747,$D75+N$6-1) -> 14050915 | O75: =INDEX(DATE!$B$2:$B$4747,$D75+O$6-1) -> 14050916 | P75: =INDEX(DATE!$B$2:$B$4747,$D75+P$6-1) -> 14050923 | ... R75: =INDEX(DATE!$B$2:$B$4747,$D75+R$6-1) -> 14051108 | S75: =IF($F75>S$6-9,INDEX(DATE!$B$2:$B$4747,$D75+S$6-1),"") | T75: =IF($F75>T$6-9,INDEX(DATE!$B$2:$B$4747,$D75+T$6-1),"") | U75: =IF($F75>U$6-9,INDEX(DATE!$B$2:$B$4747,$D75+U$6-1),"") | V75: =IF($F75>V$6-9,INDEX(DATE!$B$2:$B$4747,$D75+V$6-1),"") | W75: =IF($F75>W$6-9,INDEX(DATE!$B$2:$B$4747,$D75+W$6-1),"") | X75: =IF($F75>X$6-9,INDEX(DATE!$B$2:$B$4747,$D75+X$6-1),"") | Y75: =IF($F75>Y$6-9,INDEX(DATE!$B$2:$B$4747,$D75+Y$6-1),"") | Z75: =IF($F75>Z$6-9,INDEX(DATE!$B$2:$B$4747,$D75+Z$6-1),"") | ... AD75: =IF($F75>AD$6-9,INDEX(DATE!$B$2:$B$4747,$D75+AD$6-1),"") | AE75: =SUM(H75<$C$3)+SUM(I75<$C$3)+SUM(J75<$C$3)+SUM(K75<$C$3)+SUM(L75<$C$3)+SUM(M75<$C$3)+SUM(N75<$C$3)+SUM(O75<$C$3)+SUM(P75<$C$3)+SUM(Q75<$C$3)+SUM(R75<$C$3)+SUM(S75<$C$3)+SUM(T75<$C$3)+SUM(U75<$C$3)+SUM(V75<$C$3)+SUM(W75<$C$3)+SUM(X75<$C$3)+SUM(Y75<$C$3)+SUM(Z75<$C$3)+SUM(AA75<$C$3)+SUM(AB75<$C$3)+SUM(AC75<$C$3)+SUM(AD75<$C$3) -> 0 | AF75: =COUNTA(H75:AD75)-COUNTBLANK(H75:AD75) -> 11
B76: 70 | C76: درس هفتاد (تست) | D76: =MATCH(E76,DATE!$B$2:$B$4747,0) -> 2811 | E76: =IF($K$2="عادی",INDEX(DATE!$B$2:$B$4747,$D$2+B76-1),IF($K$2="بسیار سریع",INDEX(DATE!$B$2:$B$4747,$D$2+ROUND((B76)/2,0)-1),IF($K$2="بسیار آهسته",INDEX(DATE!$B$2:$B$4747,$D$2+ROUND((B76)*2,0)-1),INDEX(DATE!$B$2:$B$4747,$D$2+(B76-QUOTIENT(B76,$M$3))*2+(IF(($D$2+(B76-QUOTIENT(B76,$M$3))*2)-2=D75,1,0))-2)))) -> 14050910 | G76: =IF(MAX(H76:AD76)<$C$3,1,IF(OR(H76=$C$3,I76=$C$3,J76=$C$3,K76=$C$3,L76=$C$3,M76=$C$3,N76=$C$3,O76=$C$3,P76=$C$3,Q76=$C$3,R76=$C$3,S76=$C$3,T76=$C$3,U76=$C$3,V76=$C$3,W76=$C$3,X76=$C$3,Y76=$C$3,Z76=$C$3,AA76=$C$3,AB76=$C$3,AC76=$C$3,AD76=$C$3),0,-1)) -> -1 | H76: =E76 -> 14050910 | I76: 1 | J76: 1 | K76: 1 | L76: 1 | M76: 1 | N76: 1 | O76: 1 | P76: 1 | Q76: 1 | R76: 1 | S76: =IF($F76>S$6-9,INDEX(DATE!$B$2:$B$4747,$D76+S$6-1),"") | T76: =IF($F76>T$6-9,INDEX(DATE!$B$2:$B$4747,$D76+T$6-1),"") | U76: =IF($F76>U$6-9,INDEX(DATE!$B$2:$B$4747,$D76+U$6-1),"") | V76: =IF($F76>V$6-9,INDEX(DATE!$B$2:$B$4747,$D76+V$6-1),"") | W76: =IF($F76>W$6-9,INDEX(DATE!$B$2:$B$4747,$D76+W$6-1),"") | X76: =IF($F76>X$6-9,INDEX(DATE!$B$2:$B$4747,$D76+X$6-1),"") | Y76: =IF($F76>Y$6-9,INDEX(DATE!$B$2:$B$4747,$D76+Y$6-1),"") | Z76: =IF($F76>Z$6-9,INDEX(DATE!$B$2:$B$4747,$D76+Z$6-1),"") | ... AD76: =IF($F76>AD$6-9,INDEX(DATE!$B$2:$B$4747,$D76+AD$6-1),"") | AE76: =SUM(H76<$C$3)+SUM(I76<$C$3)+SUM(J76<$C$3)+SUM(K76<$C$3)+SUM(L76<$C$3)+SUM(M76<$C$3)+SUM(N76<$C$3)+SUM(O76<$C$3)+SUM(P76<$C$3)+SUM(Q76<$C$3)+SUM(R76<$C$3)+SUM(S76<$C$3)+SUM(T76<$C$3)+SUM(U76<$C$3)+SUM(V76<$C$3)+SUM(W76<$C$3)+SUM(X76<$C$3)+SUM(Y76<$C$3)+SUM(Z76<$C$3)+SUM(AA76<$C$3)+SUM(AB76<$C$3)+SUM(AC76<$C$3)+SUM(AD76<$C$3)-10 -> 0 | AF76: =COUNTA(H76:AD76)-COUNTBLANK(H76:AD76)-10 -> 1
B77: 71 | C77: درس هفتاد و یک | D77: =MATCH(E77,DATE!$B$2:$B$4747,0) -> 2812 | E77: =IF($K$2="عادی",INDEX(DATE!$B$2:$B$4747,$D$2+B77-1),IF($K$2="بسیار سریع",INDEX(DATE!$B$2:$B$4747,$D$2+ROUND((B77)/2,0)-1),IF($K$2="بسیار آهسته",INDEX(DATE!$B$2:$B$4747,$D$2+ROUND((B77)*2,0)-1),INDEX(DATE!$B$2:$B$4747,$D$2+(B77-QUOTIENT(B77,$M$3))*2+(IF(($D$2+(B77-QUOTIENT(B77,$M$3))*2)-2=D76,1,0))-2)))) -> 14050911 | F77: 0 | G77: =IF(MAX(H77:AD77)<$C$3,1,IF(OR(H77=$C$3,I77=$C$3,J77=$C$3,K77=$C$3,L77=$C$3,M77=$C$3,N77=$C$3,O77=$C$3,P77=$C$3,Q77=$C$3,R77=$C$3,S77=$C$3,T77=$C$3,U77=$C$3,V77=$C$3,W77=$C$3,X77=$C$3,Y77=$C$3,Z77=$C$3,AA77=$C$3,AB77=$C$3,AC77=$C$3,AD77=$C$3),0,-1)) -> -1 | H77: =E77 -> 14050911 | I77: =INDEX(DATE!$B$2:$B$4747,$D77+I$6-1) -> 14050912 | J77: =INDEX(DATE!$B$2:$B$4747,$D77+J$6-1) -> 14050913 | K77: =INDEX(DATE!$B$2:$B$4747,$D77+K$6-1) -> 14050914 | L77: =INDEX(DATE!$B$2:$B$4747,$D77+L$6-1) -> 14050915 | M77: =INDEX(DATE!$B$2:$B$4747,$D77+M$6-1) -> 14050916 | N77: =INDEX(DATE!$B$2:$B$4747,$D77+N$6-1) -> 14050917 | O77: =INDEX(DATE!$B$2:$B$4747,$D77+O$6-1) -> 14050918 | P77: =INDEX(DATE!$B$2:$B$4747,$D77+P$6-1) -> 14050925 | ... R77: =INDEX(DATE!$B$2:$B$4747,$D77+R$6-1) -> 14051110 | S77: =IF($F77>S$6-9,INDEX(DATE!$B$2:$B$4747,$D77+S$6-1),"") | T77: =IF($F77>T$6-9,INDEX(DATE!$B$2:$B$4747,$D77+T$6-1),"") | U77: =IF($F77>U$6-9,INDEX(DATE!$B$2:$B$4747,$D77+U$6-1),"") | V77: =IF($F77>V$6-9,INDEX(DATE!$B$2:$B$4747,$D77+V$6-1),"") | W77: =IF($F77>W$6-9,INDEX(DATE!$B$2:$B$4747,$D77+W$6-1),"") | X77: =IF($F77>X$6-9,INDEX(DATE!$B$2:$B$4747,$D77+X$6-1),"") | Y77: =IF($F77>Y$6-9,INDEX(DATE!$B$2:$B$4747,$D77+Y$6-1),"") | Z77: =IF($F77>Z$6-9,INDEX(DATE!$B$2:$B$4747,$D77+Z$6-1),"") | ... AD77: =IF($F77>AD$6-9,INDEX(DATE!$B$2:$B$4747,$D77+AD$6-1),"") | AE77: =SUM(H77<$C$3)+SUM(I77<$C$3)+SUM(J77<$C$3)+SUM(K77<$C$3)+SUM(L77<$C$3)+SUM(M77<$C$3)+SUM(N77<$C$3)+SUM(O77<$C$3)+SUM(P77<$C$3)+SUM(Q77<$C$3)+SUM(R77<$C$3)+SUM(S77<$C$3)+SUM(T77<$C$3)+SUM(U77<$C$3)+SUM(V77<$C$3)+SUM(W77<$C$3)+SUM(X77<$C$3)+SUM(Y77<$C$3)+SUM(Z77<$C$3)+SUM(AA77<$C$3)+SUM(AB77<$C$3)+SUM(AC77<$C$3)+SUM(AD77<$C$3) -> 0 | AF77: =COUNTA(H77:AD77)-COUNTBLANK(H77:AD77) -> 11
B78: 72 | C78: درس هفتاد و دو | D78: =MATCH(E78,DATE!$B$2:$B$4747,0) -> 2813 | E78: =IF($K$2="عادی",INDEX(DATE!$B$2:$B$4747,$D$2+B78-1),IF($K$2="بسیار سریع",INDEX(DATE!$B$2:$B$4747,$D$2+ROUND((B78)/2,0)-1),IF($K$2="بسیار آهسته",INDEX(DATE!$B$2:$B$4747,$D$2+ROUND((B78)*2,0)-1),INDEX(DATE!$B$2:$B$4747,$D$2+(B78-QUOTIENT(B78,$M$3))*2+(IF(($D$2+(B78-QUOTIENT(B78,$M$3))*2)-2=D77,1,0))-2)))) -> 14050912 | F78: 0 | G78: =IF(MAX(H78:AD78)<$C$3,1,IF(OR(H78=$C$3,I78=$C$3,J78=$C$3,K78=$C$3,L78=$C$3,M78=$C$3,N78=$C$3,O78=$C$3,P78=$C$3,Q78=$C$3,R78=$C$3,S78=$C$3,T78=$C$3,U78=$C$3,V78=$C$3,W78=$C$3,X78=$C$3,Y78=$C$3,Z78=$C$3,AA78=$C$3,AB78=$C$3,AC78=$C$3,AD78=$C$3),0,-1)) -> -1 | H78: =E78 -> 14050912 | I78: =INDEX(DATE!$B$2:$B$4747,$D78+I$6-1) -> 14050913 | J78: =INDEX(DATE!$B$2:$B$4747,$D78+J$6-1) -> 14050914 | K78: =INDEX(DATE!$B$2:$B$4747,$D78+K$6-1) -> 14050915 | L78: =INDEX(DATE!$B$2:$B$4747,$D78+L$6-1) -> 14050916 | M78: =INDEX(DATE!$B$2:$B$4747,$D78+M$6-1) -> 14050917 | N78: =INDEX(DATE!$B$2:$B$4747,$D78+N$6-1) -> 14050918 | O78: =INDEX(DATE!$B$2:$B$4747,$D78+O$6-1) -> 14050919 | P78: =INDEX(DATE!$B$2:$B$4747,$D78+P$6-1) -> 14050926 | ... R78: =INDEX(DATE!$B$2:$B$4747,$D78+R$6-1) -> 14051111 | S78: =IF($F78>S$6-9,INDEX(DATE!$B$2:$B$4747,$D78+S$6-1),"") | T78: =IF($F78>T$6-9,INDEX(DATE!$B$2:$B$4747,$D78+T$6-1),"") | U78: =IF($F78>U$6-9,INDEX(DATE!$B$2:$B$4747,$D78+U$6-1),"") | V78: =IF($F78>V$6-9,INDEX(DATE!$B$2:$B$4747,$D78+V$6-1),"") | W78: =IF($F78>W$6-9,INDEX(DATE!$B$2:$B$4747,$D78+W$6-1),"") | X78: =IF($F78>X$6-9,INDEX(DATE!$B$2:$B$4747,$D78+X$6-1),"") | Y78: =IF($F78>Y$6-9,INDEX(DATE!$B$2:$B$4747,$D78+Y$6-1),"") | Z78: =IF($F78>Z$6-9,INDEX(DATE!$B$2:$B$4747,$D78+Z$6-1),"") | ... AD78: =IF($F78>AD$6-9,INDEX(DATE!$B$2:$B$4747,$D78+AD$6-1),"") | AE78: =SUM(H78<$C$3)+SUM(I78<$C$3)+SUM(J78<$C$3)+SUM(K78<$C$3)+SUM(L78<$C$3)+SUM(M78<$C$3)+SUM(N78<$C$3)+SUM(O78<$C$3)+SUM(P78<$C$3)+SUM(Q78<$C$3)+SUM(R78<$C$3)+SUM(S78<$C$3)+SUM(T78<$C$3)+SUM(U78<$C$3)+SUM(V78<$C$3)+SUM(W78<$C$3)+SUM(X78<$C$3)+SUM(Y78<$C$3)+SUM(Z78<$C$3)+SUM(AA78<$C$3)+SUM(AB78<$C$3)+SUM(AC78<$C$3)+SUM(AD78<$C$3) -> 0 | AF78: =COUNTA(H78:AD78)-COUNTBLANK(H78:AD78) -> 11
B79: 73 | C79: درس هفتاد و سه | D79: =MATCH(E79,DATE!$B$2:$B$4747,0) -> 2814 | E79: =IF($K$2="عادی",INDEX(DATE!$B$2:$B$4747,$D$2+B79-1),IF($K$2="بسیار سریع",INDEX(DATE!$B$2:$B$4747,$D$2+ROUND((B79)/2,0)-1),IF($K$2="بسیار آهسته",INDEX(DATE!$B$2:$B$4747,$D$2+ROUND((B79)*2,0)-1),INDEX(DATE!$B$2:$B$4747,$D$2+(B79-QUOTIENT(B79,$M$3))*2+(IF(($D$2+(B79-QUOTIENT(B79,$M$3))*2)-2=D78,1,0))-2)))) -> 14050913 | F79: 0 | G79: =IF(MAX(H79:AD79)<$C$3,1,IF(OR(H79=$C$3,I79=$C$3,J79=$C$3,K79=$C$3,L79=$C$3,M79=$C$3,N79=$C$3,O79=$C$3,P79=$C$3,Q79=$C$3,R79=$C$3,S79=$C$3,T79=$C$3,U79=$C$3,V79=$C$3,W79=$C$3,X79=$C$3,Y79=$C$3,Z79=$C$3,AA79=$C$3,AB79=$C$3,AC79=$C$3,AD79=$C$3),0,-1)) -> -1 | H79: =E79 -> 14050913 | I79: =INDEX(DATE!$B$2:$B$4747,$D79+I$6-1) -> 14050914 | J79: =INDEX(DATE!$B$2:$B$4747,$D79+J$6-1) -> 14050915 | K79: =INDEX(DATE!$B$2:$B$4747,$D79+K$6-1) -> 14050916 | L79: =INDEX(DATE!$B$2:$B$4747,$D79+L$6-1) -> 14050917 | M79: =INDEX(DATE!$B$2:$B$4747,$D79+M$6-1) -> 14050918 | N79: =INDEX(DATE!$B$2:$B$4747,$D79+N$6-1) -> 14050919 | O79: =INDEX(DATE!$B$2:$B$4747,$D79+O$6-1) -> 14050920 | P79: =INDEX(DATE!$B$2:$B$4747,$D79+P$6-1) -> 14050927 | ... R79: =INDEX(DATE!$B$2:$B$4747,$D79+R$6-1) -> 14051112 | S79: =IF($F79>S$6-9,INDEX(DATE!$B$2:$B$4747,$D79+S$6-1),"") | T79: =IF($F79>T$6-9,INDEX(DATE!$B$2:$B$4747,$D79+T$6-1),"") | U79: =IF($F79>U$6-9,INDEX(DATE!$B$2:$B$4747,$D79+U$6-1),"") | V79: =IF($F79>V$6-9,INDEX(DATE!$B$2:$B$4747,$D79+V$6-1),"") | W79: =IF($F79>W$6-9,INDEX(DATE!$B$2:$B$4747,$D79+W$6-1),"") | X79: =IF($F79>X$6-9,INDEX(DATE!$B$2:$B$4747,$D79+X$6-1),"") | Y79: =IF($F79>Y$6-9,INDEX(DATE!$B$2:$B$4747,$D79+Y$6-1),"") | Z79: =IF($F79>Z$6-9,INDEX(DATE!$B$2:$B$4747,$D79+Z$6-1),"") | ... AD79: =IF($F79>AD$6-9,INDEX(DATE!$B$2:$B$4747,$D79+AD$6-1),"") | AE79: =SUM(H79<$C$3)+SUM(I79<$C$3)+SUM(J79<$C$3)+SUM(K79<$C$3)+SUM(L79<$C$3)+SUM(M79<$C$3)+SUM(N79<$C$3)+SUM(O79<$C$3)+SUM(P79<$C$3)+SUM(Q79<$C$3)+SUM(R79<$C$3)+SUM(S79<$C$3)+SUM(T79<$C$3)+SUM(U79<$C$3)+SUM(V79<$C$3)+SUM(W79<$C$3)+SUM(X79<$C$3)+SUM(Y79<$C$3)+SUM(Z79<$C$3)+SUM(AA79<$C$3)+SUM(AB79<$C$3)+SUM(AC79<$C$3)+SUM(AD79<$C$3) -> 0 | AF79: =COUNTA(H79:AD79)-COUNTBLANK(H79:AD79) -> 11
B80: 74 | C80: درس هفتاد و چهار | D80: =MATCH(E80,DATE!$B$2:$B$4747,0) -> 2815 | E80: =IF($K$2="عادی",INDEX(DATE!$B$2:$B$4747,$D$2+B80-1),IF($K$2="بسیار سریع",INDEX(DATE!$B$2:$B$4747,$D$2+ROUND((B80)/2,0)-1),IF($K$2="بسیار آهسته",INDEX(DATE!$B$2:$B$4747,$D$2+ROUND((B80)*2,0)-1),INDEX(DATE!$B$2:$B$4747,$D$2+(B80-QUOTIENT(B80,$M$3))*2+(IF(($D$2+(B80-QUOTIENT(B80,$M$3))*2)-2=D79,1,0))-2)))) -> 14050914 | F80: 0 | G80: =IF(MAX(H80:AD80)<$C$3,1,IF(OR(H80=$C$3,I80=$C$3,J80=$C$3,K80=$C$3,L80=$C$3,M80=$C$3,N80=$C$3,O80=$C$3,P80=$C$3,Q80=$C$3,R80=$C$3,S80=$C$3,T80=$C$3,U80=$C$3,V80=$C$3,W80=$C$3,X80=$C$3,Y80=$C$3,Z80=$C$3,AA80=$C$3,AB80=$C$3,AC80=$C$3,AD80=$C$3),0,-1)) -> -1 | H80: =E80 -> 14050914 | I80: =INDEX(DATE!$B$2:$B$4747,$D80+I$6-1) -> 14050915 | J80: =INDEX(DATE!$B$2:$B$4747,$D80+J$6-1) -> 14050916 | K80: =INDEX(DATE!$B$2:$B$4747,$D80+K$6-1) -> 14050917 | L80: =INDEX(DATE!$B$2:$B$4747,$D80+L$6-1) -> 14050918 | M80: =INDEX(DATE!$B$2:$B$4747,$D80+M$6-1) -> 14050919 | N80: =INDEX(DATE!$B$2:$B$4747,$D80+N$6-1) -> 14050920 | O80: =INDEX(DATE!$B$2:$B$4747,$D80+O$6-1) -> 14050921 | P80: =INDEX(DATE!$B$2:$B$4747,$D80+P$6-1) -> 14050928 | ... R80: =INDEX(DATE!$B$2:$B$4747,$D80+R$6-1) -> 14051113 | S80: =IF($F80>S$6-9,INDEX(DATE!$B$2:$B$4747,$D80+S$6-1),"") | T80: =IF($F80>T$6-9,INDEX(DATE!$B$2:$B$4747,$D80+T$6-1),"") | U80: =IF($F80>U$6-9,INDEX(DATE!$B$2:$B$4747,$D80+U$6-1),"") | V80: =IF($F80>V$6-9,INDEX(DATE!$B$2:$B$4747,$D80+V$6-1),"") | W80: =IF($F80>W$6-9,INDEX(DATE!$B$2:$B$4747,$D80+W$6-1),"") | X80: =IF($F80>X$6-9,INDEX(DATE!$B$2:$B$4747,$D80+X$6-1),"") | Y80: =IF($F80>Y$6-9,INDEX(DATE!$B$2:$B$4747,$D80+Y$6-1),"") | Z80: =IF($F80>Z$6-9,INDEX(DATE!$B$2:$B$4747,$D80+Z$6-1),"") | ... AD80: =IF($F80>AD$6-9,INDEX(DATE!$B$2:$B$4747,$D80+AD$6-1),"") | AE80: =SUM(H80<$C$3)+SUM(I80<$C$3)+SUM(J80<$C$3)+SUM(K80<$C$3)+SUM(L80<$C$3)+SUM(M80<$C$3)+SUM(N80<$C$3)+SUM(O80<$C$3)+SUM(P80<$C$3)+SUM(Q80<$C$3)+SUM(R80<$C$3)+SUM(S80<$C$3)+SUM(T80<$C$3)+SUM(U80<$C$3)+SUM(V80<$C$3)+SUM(W80<$C$3)+SUM(X80<$C$3)+SUM(Y80<$C$3)+SUM(Z80<$C$3)+SUM(AA80<$C$3)+SUM(AB80<$C$3)+SUM(AC80<$C$3)+SUM(AD80<$C$3) -> 0 | AF80: =COUNTA(H80:AD80)-COUNTBLANK(H80:AD80) -> 11
B81: 75 | C81: درس هفتاد و پنج | D81: =MATCH(E81,DATE!$B$2:$B$4747,0) -> 2816 | E81: =IF($K$2="عادی",INDEX(DATE!$B$2:$B$4747,$D$2+B81-1),IF($K$2="بسیار سریع",INDEX(DATE!$B$2:$B$4747,$D$2+ROUND((B81)/2,0)-1),IF($K$2="بسیار آهسته",INDEX(DATE!$B$2:$B$4747,$D$2+ROUND((B81)*2,0)-1),INDEX(DATE!$B$2:$B$4747,$D$2+(B81-QUOTIENT(B81,$M$3))*2+(IF(($D$2+(B81-QUOTIENT(B81,$M$3))*2)-2=D80,1,0))-2)))) -> 14050915 | F81: 0 | G81: =IF(MAX(H81:AD81)<$C$3,1,IF(OR(H81=$C$3,I81=$C$3,J81=$C$3,K81=$C$3,L81=$C$3,M81=$C$3,N81=$C$3,O81=$C$3,P81=$C$3,Q81=$C$3,R81=$C$3,S81=$C$3,T81=$C$3,U81=$C$3,V81=$C$3,W81=$C$3,X81=$C$3,Y81=$C$3,Z81=$C$3,AA81=$C$3,AB81=$C$3,AC81=$C$3,AD81=$C$3),0,-1)) -> -1 | H81: =E81 -> 14050915 | I81: =INDEX(DATE!$B$2:$B$4747,$D81+I$6-1) -> 14050916 | J81: =INDEX(DATE!$B$2:$B$4747,$D81+J$6-1) -> 14050917 | K81: =INDEX(DATE!$B$2:$B$4747,$D81+K$6-1) -> 14050918 | L81: =INDEX(DATE!$B$2:$B$4747,$D81+L$6-1) -> 14050919 | M81: =INDEX(DATE!$B$2:$B$4747,$D81+M$6-1) -> 14050920 | N81: =INDEX(DATE!$B$2:$B$4747,$D81+N$6-1) -> 14050921 | O81: =INDEX(DATE!$B$2:$B$4747,$D81+O$6-1) -> 14050922 | P81: =INDEX(DATE!$B$2:$B$4747,$D81+P$6-1) -> 14050929 | ... R81: =INDEX(DATE!$B$2:$B$4747,$D81+R$6-1) -> 14051114 | S81: =IF($F81>S$6-9,INDEX(DATE!$B$2:$B$4747,$D81+S$6-1),"") | T81: =IF($F81>T$6-9,INDEX(DATE!$B$2:$B$4747,$D81+T$6-1),"") | U81: =IF($F81>U$6-9,INDEX(DATE!$B$2:$B$4747,$D81+U$6-1),"") | V81: =IF($F81>V$6-9,INDEX(DATE!$B$2:$B$4747,$D81+V$6-1),"") | W81: =IF($F81>W$6-9,INDEX(DATE!$B$2:$B$4747,$D81+W$6-1),"") | X81: =IF($F81>X$6-9,INDEX(DATE!$B$2:$B$4747,$D81+X$6-1),"") | Y81: =IF($F81>Y$6-9,INDEX(DATE!$B$2:$B$4747,$D81+Y$6-1),"") | Z81: =IF($F81>Z$6-9,INDEX(DATE!$B$2:$B$4747,$D81+Z$6-1),"") | ... AD81: =IF($F81>AD$6-9,INDEX(DATE!$B$2:$B$4747,$D81+AD$6-1),"") | AE81: =SUM(H81<$C$3)+SUM(I81<$C$3)+SUM(J81<$C$3)+SUM(K81<$C$3)+SUM(L81<$C$3)+SUM(M81<$C$3)+SUM(N81<$C$3)+SUM(O81<$C$3)+SUM(P81<$C$3)+SUM(Q81<$C$3)+SUM(R81<$C$3)+SUM(S81<$C$3)+SUM(T81<$C$3)+SUM(U81<$C$3)+SUM(V81<$C$3)+SUM(W81<$C$3)+SUM(X81<$C$3)+SUM(Y81<$C$3)+SUM(Z81<$C$3)+SUM(AA81<$C$3)+SUM(AB81<$C$3)+SUM(AC81<$C$3)+SUM(AD81<$C$3) -> 0 | AF81: =COUNTA(H81:AD81)-COUNTBLANK(H81:AD81) -> 11
B82: 76 | C82: درس هفتاد و شش | D82: =MATCH(E82,DATE!$B$2:$B$4747,0) -> 2817 | E82: =IF($K$2="عادی",INDEX(DATE!$B$2:$B$4747,$D$2+B82-1),IF($K$2="بسیار سریع",INDEX(DATE!$B$2:$B$4747,$D$2+ROUND((B82)/2,0)-1),IF($K$2="بسیار آهسته",INDEX(DATE!$B$2:$B$4747,$D$2+ROUND((B82)*2,0)-1),INDEX(DATE!$B$2:$B$4747,$D$2+(B82-QUOTIENT(B82,$M$3))*2+(IF(($D$2+(B82-QUOTIENT(B82,$M$3))*2)-2=D81,1,0))-2)))) -> 14050916 | F82: 0 | G82: =IF(MAX(H82:AD82)<$C$3,1,IF(OR(H82=$C$3,I82=$C$3,J82=$C$3,K82=$C$3,L82=$C$3,M82=$C$3,N82=$C$3,O82=$C$3,P82=$C$3,Q82=$C$3,R82=$C$3,S82=$C$3,T82=$C$3,U82=$C$3,V82=$C$3,W82=$C$3,X82=$C$3,Y82=$C$3,Z82=$C$3,AA82=$C$3,AB82=$C$3,AC82=$C$3,AD82=$C$3),0,-1)) -> -1 | H82: =E82 -> 14050916 | I82: =INDEX(DATE!$B$2:$B$4747,$D82+I$6-1) -> 14050917 | J82: =INDEX(DATE!$B$2:$B$4747,$D82+J$6-1) -> 14050918 | K82: =INDEX(DATE!$B$2:$B$4747,$D82+K$6-1) -> 14050919 | L82: =INDEX(DATE!$B$2:$B$4747,$D82+L$6-1) -> 14050920 | M82: =INDEX(DATE!$B$2:$B$4747,$D82+M$6-1) -> 14050921 | N82: =INDEX(DATE!$B$2:$B$4747,$D82+N$6-1) -> 14050922 | O82: =INDEX(DATE!$B$2:$B$4747,$D82+O$6-1) -> 14050923 | P82: =INDEX(DATE!$B$2:$B$4747,$D82+P$6-1) -> 14050930 | ... R82: =INDEX(DATE!$B$2:$B$4747,$D82+R$6-1) -> 14051115 | S82: =IF($F82>S$6-9,INDEX(DATE!$B$2:$B$4747,$D82+S$6-1),"") | T82: =IF($F82>T$6-9,INDEX(DATE!$B$2:$B$4747,$D82+T$6-1),"") | U82: =IF($F82>U$6-9,INDEX(DATE!$B$2:$B$4747,$D82+U$6-1),"") | V82: =IF($F82>V$6-9,INDEX(DATE!$B$2:$B$4747,$D82+V$6-1),"") | W82: =IF($F82>W$6-9,INDEX(DATE!$B$2:$B$4747,$D82+W$6-1),"") | X82: =IF($F82>X$6-9,INDEX(DATE!$B$2:$B$4747,$D82+X$6-1),"") | Y82: =IF($F82>Y$6-9,INDEX(DATE!$B$2:$B$4747,$D82+Y$6-1),"") | Z82: =IF($F82>Z$6-9,INDEX(DATE!$B$2:$B$4747,$D82+Z$6-1),"") | ... AD82: =IF($F82>AD$6-9,INDEX(DATE!$B$2:$B$4747,$D82+AD$6-1),"") | AE82: =SUM(H82<$C$3)+SUM(I82<$C$3)+SUM(J82<$C$3)+SUM(K82<$C$3)+SUM(L82<$C$3)+SUM(M82<$C$3)+SUM(N82<$C$3)+SUM(O82<$C$3)+SUM(P82<$C$3)+SUM(Q82<$C$3)+SUM(R82<$C$3)+SUM(S82<$C$3)+SUM(T82<$C$3)+SUM(U82<$C$3)+SUM(V82<$C$3)+SUM(W82<$C$3)+SUM(X82<$C$3)+SUM(Y82<$C$3)+SUM(Z82<$C$3)+SUM(AA82<$C$3)+SUM(AB82<$C$3)+SUM(AC82<$C$3)+SUM(AD82<$C$3) -> 0 | AF82: =COUNTA(H82:AD82)-COUNTBLANK(H82:AD82) -> 11
B83: 77 | C83: درس هفتاد و هفت | D83: =MATCH(E83,DATE!$B$2:$B$4747,0) -> 2818 | E83: =IF($K$2="عادی",INDEX(DATE!$B$2:$B$4747,$D$2+B83-1),IF($K$2="بسیار سریع",INDEX(DATE!$B$2:$B$4747,$D$2+ROUND((B83)/2,0)-1),IF($K$2="بسیار آهسته",INDEX(DATE!$B$2:$B$4747,$D$2+ROUND((B83)*2,0)-1),INDEX(DATE!$B$2:$B$4747,$D$2+(B83-QUOTIENT(B83,$M$3))*2+(IF(($D$2+(B83-QUOTIENT(B83,$M$3))*2)-2=D82,1,0))-2)))) -> 14050917 | F83: 0 | G83: =IF(MAX(H83:AD83)<$C$3,1,IF(OR(H83=$C$3,I83=$C$3,J83=$C$3,K83=$C$3,L83=$C$3,M83=$C$3,N83=$C$3,O83=$C$3,P83=$C$3,Q83=$C$3,R83=$C$3,S83=$C$3,T83=$C$3,U83=$C$3,V83=$C$3,W83=$C$3,X83=$C$3,Y83=$C$3,Z83=$C$3,AA83=$C$3,AB83=$C$3,AC83=$C$3,AD83=$C$3),0,-1)) -> -1 | H83: =E83 -> 14050917 | I83: =INDEX(DATE!$B$2:$B$4747,$D83+I$6-1) -> 14050918 | J83: =INDEX(DATE!$B$2:$B$4747,$D83+J$6-1) -> 14050919 | K83: =INDEX(DATE!$B$2:$B$4747,$D83+K$6-1) -> 14050920 | L83: =INDEX(DATE!$B$2:$B$4747,$D83+L$6-1) -> 14050921 | M83: =INDEX(DATE!$B$2:$B$4747,$D83+M$6-1) -> 14050922 | N83: =INDEX(DATE!$B$2:$B$4747,$D83+N$6-1) -> 14050923 | O83: =INDEX(DATE!$B$2:$B$4747,$D83+O$6-1) -> 14050924 | P83: =INDEX(DATE!$B$2:$B$4747,$D83+P$6-1) -> 14051001 | ... R83: =INDEX(DATE!$B$2:$B$4747,$D83+R$6-1) -> 14051116 | S83: =IF($F83>S$6-9,INDEX(DATE!$B$2:$B$4747,$D83+S$6-1),"") | T83: =IF($F83>T$6-9,INDEX(DATE!$B$2:$B$4747,$D83+T$6-1),"") | U83: =IF($F83>U$6-9,INDEX(DATE!$B$2:$B$4747,$D83+U$6-1),"") | V83: =IF($F83>V$6-9,INDEX(DATE!$B$2:$B$4747,$D83+V$6-1),"") | W83: =IF($F83>W$6-9,INDEX(DATE!$B$2:$B$4747,$D83+W$6-1),"") | X83: =IF($F83>X$6-9,INDEX(DATE!$B$2:$B$4747,$D83+X$6-1),"") | Y83: =IF($F83>Y$6-9,INDEX(DATE!$B$2:$B$4747,$D83+Y$6-1),"") | Z83: =IF($F83>Z$6-9,INDEX(DATE!$B$2:$B$4747,$D83+Z$6-1),"") | ... AD83: =IF($F83>AD$6-9,INDEX(DATE!$B$2:$B$4747,$D83+AD$6-1),"") | AE83: =SUM(H83<$C$3)+SUM(I83<$C$3)+SUM(J83<$C$3)+SUM(K83<$C$3)+SUM(L83<$C$3)+SUM(M83<$C$3)+SUM(N83<$C$3)+SUM(O83<$C$3)+SUM(P83<$C$3)+SUM(Q83<$C$3)+SUM(R83<$C$3)+SUM(S83<$C$3)+SUM(T83<$C$3)+SUM(U83<$C$3)+SUM(V83<$C$3)+SUM(W83<$C$3)+SUM(X83<$C$3)+SUM(Y83<$C$3)+SUM(Z83<$C$3)+SUM(AA83<$C$3)+SUM(AB83<$C$3)+SUM(AC83<$C$3)+SUM(AD83<$C$3) -> 0 | AF83: =COUNTA(H83:AD83)-COUNTBLANK(H83:AD83) -> 11
B84: 78 | C84: درس هفتاد و هشت | D84: =MATCH(E84,DATE!$B$2:$B$4747,0) -> 2819 | E84: =IF($K$2="عادی",INDEX(DATE!$B$2:$B$4747,$D$2+B84-1),IF($K$2="بسیار سریع",INDEX(DATE!$B$2:$B$4747,$D$2+ROUND((B84)/2,0)-1),IF($K$2="بسیار آهسته",INDEX(DATE!$B$2:$B$4747,$D$2+ROUND((B84)*2,0)-1),INDEX(DATE!$B$2:$B$4747,$D$2+(B84-QUOTIENT(B84,$M$3))*2+(IF(($D$2+(B84-QUOTIENT(B84,$M$3))*2)-2=D83,1,0))-2)))) -> 14050918 | F84: 0 | G84: =IF(MAX(H84:AD84)<$C$3,1,IF(OR(H84=$C$3,I84=$C$3,J84=$C$3,K84=$C$3,L84=$C$3,M84=$C$3,N84=$C$3,O84=$C$3,P84=$C$3,Q84=$C$3,R84=$C$3,S84=$C$3,T84=$C$3,U84=$C$3,V84=$C$3,W84=$C$3,X84=$C$3,Y84=$C$3,Z84=$C$3,AA84=$C$3,AB84=$C$3,AC84=$C$3,AD84=$C$3),0,-1)) -> -1 | H84: =E84 -> 14050918 | I84: =INDEX(DATE!$B$2:$B$4747,$D84+I$6-1) -> 14050919 | J84: =INDEX(DATE!$B$2:$B$4747,$D84+J$6-1) -> 14050920 | K84: =INDEX(DATE!$B$2:$B$4747,$D84+K$6-1) -> 14050921 | L84: =INDEX(DATE!$B$2:$B$4747,$D84+L$6-1) -> 14050922 | M84: =INDEX(DATE!$B$2:$B$4747,$D84+M$6-1) -> 14050923 | N84: =INDEX(DATE!$B$2:$B$4747,$D84+N$6-1) -> 14050924 | O84: =INDEX(DATE!$B$2:$B$4747,$D84+O$6-1) -> 14050925 | P84: =INDEX(DATE!$B$2:$B$4747,$D84+P$6-1) -> 14051002 | ... R84: =INDEX(DATE!$B$2:$B$4747,$D84+R$6-1) -> 14051117 | S84: =IF($F84>S$6-9,INDEX(DATE!$B$2:$B$4747,$D84+S$6-1),"") | T84: =IF($F84>T$6-9,INDEX(DATE!$B$2:$B$4747,$D84+T$6-1),"") | U84: =IF($F84>U$6-9,INDEX(DATE!$B$2:$B$4747,$D84+U$6-1),"") | V84: =IF($F84>V$6-9,INDEX(DATE!$B$2:$B$4747,$D84+V$6-1),"") | W84: =IF($F84>W$6-9,INDEX(DATE!$B$2:$B$4747,$D84+W$6-1),"") | X84: =IF($F84>X$6-9,INDEX(DATE!$B$2:$B$4747,$D84+X$6-1),"") | Y84: =IF($F84>Y$6-9,INDEX(DATE!$B$2:$B$4747,$D84+Y$6-1),"") | Z84: =IF($F84>Z$6-9,INDEX(DATE!$B$2:$B$4747,$D84+Z$6-1),"") | ... AD84: =IF($F84>AD$6-9,INDEX(DATE!$B$2:$B$4747,$D84+AD$6-1),"") | AE84: =SUM(H84<$C$3)+SUM(I84<$C$3)+SUM(J84<$C$3)+SUM(K84<$C$3)+SUM(L84<$C$3)+SUM(M84<$C$3)+SUM(N84<$C$3)+SUM(O84<$C$3)+SUM(P84<$C$3)+SUM(Q84<$C$3)+SUM(R84<$C$3)+SUM(S84<$C$3)+SUM(T84<$C$3)+SUM(U84<$C$3)+SUM(V84<$C$3)+SUM(W84<$C$3)+SUM(X84<$C$3)+SUM(Y84<$C$3)+SUM(Z84<$C$3)+SUM(AA84<$C$3)+SUM(AB84<$C$3)+SUM(AC84<$C$3)+SUM(AD84<$C$3) -> 0 | AF84: =COUNTA(H84:AD84)-COUNTBLANK(H84:AD84) -> 11
B85: 79 | C85: درس هفتاد و نه | D85: =MATCH(E85,DATE!$B$2:$B$4747,0) -> 2820 | E85: =IF($K$2="عادی",INDEX(DATE!$B$2:$B$4747,$D$2+B85-1),IF($K$2="بسیار سریع",INDEX(DATE!$B$2:$B$4747,$D$2+ROUND((B85)/2,0)-1),IF($K$2="بسیار آهسته",INDEX(DATE!$B$2:$B$4747,$D$2+ROUND((B85)*2,0)-1),INDEX(DATE!$B$2:$B$4747,$D$2+(B85-QUOTIENT(B85,$M$3))*2+(IF(($D$2+(B85-QUOTIENT(B85,$M$3))*2)-2=D84,1,0))-2)))) -> 14050919 | F85: 0 | G85: =IF(MAX(H85:AD85)<$C$3,1,IF(OR(H85=$C$3,I85=$C$3,J85=$C$3,K85=$C$3,L85=$C$3,M85=$C$3,N85=$C$3,O85=$C$3,P85=$C$3,Q85=$C$3,R85=$C$3,S85=$C$3,T85=$C$3,U85=$C$3,V85=$C$3,W85=$C$3,X85=$C$3,Y85=$C$3,Z85=$C$3,AA85=$C$3,AB85=$C$3,AC85=$C$3,AD85=$C$3),0,-1)) -> -1 | H85: =E85 -> 14050919 | I85: =INDEX(DATE!$B$2:$B$4747,$D85+I$6-1) -> 14050920 | J85: =INDEX(DATE!$B$2:$B$4747,$D85+J$6-1) -> 14050921 | K85: =INDEX(DATE!$B$2:$B$4747,$D85+K$6-1) -> 14050922 | L85: =INDEX(DATE!$B$2:$B$4747,$D85+L$6-1) -> 14050923 | M85: =INDEX(DATE!$B$2:$B$4747,$D85+M$6-1) -> 14050924 | N85: =INDEX(DATE!$B$2:$B$4747,$D85+N$6-1) -> 14050925 | O85: =INDEX(DATE!$B$2:$B$4747,$D85+O$6-1) -> 14050926 | P85: =INDEX(DATE!$B$2:$B$4747,$D85+P$6-1) -> 14051003 | ... R85: =INDEX(DATE!$B$2:$B$4747,$D85+R$6-1) -> 14051118 | S85: =IF($F85>S$6-9,INDEX(DATE!$B$2:$B$4747,$D85+S$6-1),"") | T85: =IF($F85>T$6-9,INDEX(DATE!$B$2:$B$4747,$D85+T$6-1),"") | U85: =IF($F85>U$6-9,INDEX(DATE!$B$2:$B$4747,$D85+U$6-1),"") | V85: =IF($F85>V$6-9,INDEX(DATE!$B$2:$B$4747,$D85+V$6-1),"") | W85: =IF($F85>W$6-9,INDEX(DATE!$B$2:$B$4747,$D85+W$6-1),"") | X85: =IF($F85>X$6-9,INDEX(DATE!$B$2:$B$4747,$D85+X$6-1),"") | Y85: =IF($F85>Y$6-9,INDEX(DATE!$B$2:$B$4747,$D85+Y$6-1),"") | Z85: =IF($F85>Z$6-9,INDEX(DATE!$B$2:$B$4747,$D85+Z$6-1),"") | ... AD85: =IF($F85>AD$6-9,INDEX(DATE!$B$2:$B$4747,$D85+AD$6-1),"") | AE85: =SUM(H85<$C$3)+SUM(I85<$C$3)+SUM(J85<$C$3)+SUM(K85<$C$3)+SUM(L85<$C$3)+SUM(M85<$C$3)+SUM(N85<$C$3)+SUM(O85<$C$3)+SUM(P85<$C$3)+SUM(Q85<$C$3)+SUM(R85<$C$3)+SUM(S85<$C$3)+SUM(T85<$C$3)+SUM(U85<$C$3)+SUM(V85<$C$3)+SUM(W85<$C$3)+SUM(X85<$C$3)+SUM(Y85<$C$3)+SUM(Z85<$C$3)+SUM(AA85<$C$3)+SUM(AB85<$C$3)+SUM(AC85<$C$3)+SUM(AD85<$C$3) -> 0 | AF85: =COUNTA(H85:AD85)-COUNTBLANK(H85:AD85) -> 11
B86: 80 | C86: درس هشتاد | D86: =MATCH(E86,DATE!$B$2:$B$4747,0) -> 2821 | E86: =IF($K$2="عادی",INDEX(DATE!$B$2:$B$4747,$D$2+B86-1),IF($K$2="بسیار سریع",INDEX(DATE!$B$2:$B$4747,$D$2+ROUND((B86)/2,0)-1),IF($K$2="بسیار آهسته",INDEX(DATE!$B$2:$B$4747,$D$2+ROUND((B86)*2,0)-1),INDEX(DATE!$B$2:$B$4747,$D$2+(B86-QUOTIENT(B86,$M$3))*2+(IF(($D$2+(B86-QUOTIENT(B86,$M$3))*2)-2=D85,1,0))-2)))) -> 14050920 | F86: 0 | G86: =IF(MAX(H86:AD86)<$C$3,1,IF(OR(H86=$C$3,I86=$C$3,J86=$C$3,K86=$C$3,L86=$C$3,M86=$C$3,N86=$C$3,O86=$C$3,P86=$C$3,Q86=$C$3,R86=$C$3,S86=$C$3,T86=$C$3,U86=$C$3,V86=$C$3,W86=$C$3,X86=$C$3,Y86=$C$3,Z86=$C$3,AA86=$C$3,AB86=$C$3,AC86=$C$3,AD86=$C$3),0,-1)) -> -1 | H86: =E86 -> 14050920 | I86: =INDEX(DATE!$B$2:$B$4747,$D86+I$6-1) -> 14050921 | J86: =INDEX(DATE!$B$2:$B$4747,$D86+J$6-1) -> 14050922 | K86: =INDEX(DATE!$B$2:$B$4747,$D86+K$6-1) -> 14050923 | L86: =INDEX(DATE!$B$2:$B$4747,$D86+L$6-1) -> 14050924 | M86: =INDEX(DATE!$B$2:$B$4747,$D86+M$6-1) -> 14050925 | N86: =INDEX(DATE!$B$2:$B$4747,$D86+N$6-1) -> 14050926 | O86: =INDEX(DATE!$B$2:$B$4747,$D86+O$6-1) -> 14050927 | P86: =INDEX(DATE!$B$2:$B$4747,$D86+P$6-1) -> 14051004 | ... R86: =INDEX(DATE!$B$2:$B$4747,$D86+R$6-1) -> 14051119 | S86: =IF($F86>S$6-9,INDEX(DATE!$B$2:$B$4747,$D86+S$6-1),"") | T86: =IF($F86>T$6-9,INDEX(DATE!$B$2:$B$4747,$D86+T$6-1),"") | U86: =IF($F86>U$6-9,INDEX(DATE!$B$2:$B$4747,$D86+U$6-1),"") | V86: =IF($F86>V$6-9,INDEX(DATE!$B$2:$B$4747,$D86+V$6-1),"") | W86: =IF($F86>W$6-9,INDEX(DATE!$B$2:$B$4747,$D86+W$6-1),"") | X86: =IF($F86>X$6-9,INDEX(DATE!$B$2:$B$4747,$D86+X$6-1),"") | Y86: =IF($F86>Y$6-9,INDEX(DATE!$B$2:$B$4747,$D86+Y$6-1),"") | Z86: =IF($F86>Z$6-9,INDEX(DATE!$B$2:$B$4747,$D86+Z$6-1),"") | ... AD86: =IF($F86>AD$6-9,INDEX(DATE!$B$2:$B$4747,$D86+AD$6-1),"") | AE86: =SUM(H86<$C$3)+SUM(I86<$C$3)+SUM(J86<$C$3)+SUM(K86<$C$3)+SUM(L86<$C$3)+SUM(M86<$C$3)+SUM(N86<$C$3)+SUM(O86<$C$3)+SUM(P86<$C$3)+SUM(Q86<$C$3)+SUM(R86<$C$3)+SUM(S86<$C$3)+SUM(T86<$C$3)+SUM(U86<$C$3)+SUM(V86<$C$3)+SUM(W86<$C$3)+SUM(X86<$C$3)+SUM(Y86<$C$3)+SUM(Z86<$C$3)+SUM(AA86<$C$3)+SUM(AB86<$C$3)+SUM(AC86<$C$3)+SUM(AD86<$C$3) -> 0 | AF86: =COUNTA(H86:AD86)-COUNTBLANK(H86:AD86) -> 11
B87: 81 | C87: درس هشتاد و یک | D87: =MATCH(E87,DATE!$B$2:$B$4747,0) -> 2822 | E87: =IF($K$2="عادی",INDEX(DATE!$B$2:$B$4747,$D$2+B87-1),IF($K$2="بسیار سریع",INDEX(DATE!$B$2:$B$4747,$D$2+ROUND((B87)/2,0)-1),IF($K$2="بسیار آهسته",INDEX(DATE!$B$2:$B$4747,$D$2+ROUND((B87)*2,0)-1),INDEX(DATE!$B$2:$B$4747,$D$2+(B87-QUOTIENT(B87,$M$3))*2+(IF(($D$2+(B87-QUOTIENT(B87,$M$3))*2)-2=D86,1,0))-2)))) -> 14050921 | F87: 0 | G87: =IF(MAX(H87:AD87)<$C$3,1,IF(OR(H87=$C$3,I87=$C$3,J87=$C$3,K87=$C$3,L87=$C$3,M87=$C$3,N87=$C$3,O87=$C$3,P87=$C$3,Q87=$C$3,R87=$C$3,S87=$C$3,T87=$C$3,U87=$C$3,V87=$C$3,W87=$C$3,X87=$C$3,Y87=$C$3,Z87=$C$3,AA87=$C$3,AB87=$C$3,AC87=$C$3,AD87=$C$3),0,-1)) -> -1 | H87: =E87 -> 14050921 | I87: =INDEX(DATE!$B$2:$B$4747,$D87+I$6-1) -> 14050922 | J87: =INDEX(DATE!$B$2:$B$4747,$D87+J$6-1) -> 14050923 | K87: =INDEX(DATE!$B$2:$B$4747,$D87+K$6-1) -> 14050924 | L87: =INDEX(DATE!$B$2:$B$4747,$D87+L$6-1) -> 14050925 | M87: =INDEX(DATE!$B$2:$B$4747,$D87+M$6-1) -> 14050926 | N87: =INDEX(DATE!$B$2:$B$4747,$D87+N$6-1) -> 14050927 | O87: =INDEX(DATE!$B$2:$B$4747,$D87+O$6-1) -> 14050928 | P87: =INDEX(DATE!$B$2:$B$4747,$D87+P$6-1) -> 14051005 | ... R87: =INDEX(DATE!$B$2:$B$4747,$D87+R$6-1) -> 14051120 | S87: =IF($F87>S$6-9,INDEX(DATE!$B$2:$B$4747,$D87+S$6-1),"") | T87: =IF($F87>T$6-9,INDEX(DATE!$B$2:$B$4747,$D87+T$6-1),"") | U87: =IF($F87>U$6-9,INDEX(DATE!$B$2:$B$4747,$D87+U$6-1),"") | V87: =IF($F87>V$6-9,INDEX(DATE!$B$2:$B$4747,$D87+V$6-1),"") | W87: =IF($F87>W$6-9,INDEX(DATE!$B$2:$B$4747,$D87+W$6-1),"") | X87: =IF($F87>X$6-9,INDEX(DATE!$B$2:$B$4747,$D87+X$6-1),"") | Y87: =IF($F87>Y$6-9,INDEX(DATE!$B$2:$B$4747,$D87+Y$6-1),"") | Z87: =IF($F87>Z$6-9,INDEX(DATE!$B$2:$B$4747,$D87+Z$6-1),"") | ... AD87: =IF($F87>AD$6-9,INDEX(DATE!$B$2:$B$4747,$D87+AD$6-1),"") | AE87: =SUM(H87<$C$3)+SUM(I87<$C$3)+SUM(J87<$C$3)+SUM(K87<$C$3)+SUM(L87<$C$3)+SUM(M87<$C$3)+SUM(N87<$C$3)+SUM(O87<$C$3)+SUM(P87<$C$3)+SUM(Q87<$C$3)+SUM(R87<$C$3)+SUM(S87<$C$3)+SUM(T87<$C$3)+SUM(U87<$C$3)+SUM(V87<$C$3)+SUM(W87<$C$3)+SUM(X87<$C$3)+SUM(Y87<$C$3)+SUM(Z87<$C$3)+SUM(AA87<$C$3)+SUM(AB87<$C$3)+SUM(AC87<$C$3)+SUM(AD87<$C$3) -> 0 | AF87: =COUNTA(H87:AD87)-COUNTBLANK(H87:AD87) -> 11
B88: 82 | C88: درس هشتاد و دو | D88: =MATCH(E88,DATE!$B$2:$B$4747,0) -> 2823 | E88: =IF($K$2="عادی",INDEX(DATE!$B$2:$B$4747,$D$2+B88-1),IF($K$2="بسیار سریع",INDEX(DATE!$B$2:$B$4747,$D$2+ROUND((B88)/2,0)-1),IF($K$2="بسیار آهسته",INDEX(DATE!$B$2:$B$4747,$D$2+ROUND((B88)*2,0)-1),INDEX(DATE!$B$2:$B$4747,$D$2+(B88-QUOTIENT(B88,$M$3))*2+(IF(($D$2+(B88-QUOTIENT(B88,$M$3))*2)-2=D87,1,0))-2)))) -> 14050922 | F88: 0 | G88: =IF(MAX(H88:AD88)<$C$3,1,IF(OR(H88=$C$3,I88=$C$3,J88=$C$3,K88=$C$3,L88=$C$3,M88=$C$3,N88=$C$3,O88=$C$3,P88=$C$3,Q88=$C$3,R88=$C$3,S88=$C$3,T88=$C$3,U88=$C$3,V88=$C$3,W88=$C$3,X88=$C$3,Y88=$C$3,Z88=$C$3,AA88=$C$3,AB88=$C$3,AC88=$C$3,AD88=$C$3),0,-1)) -> -1 | H88: =E88 -> 14050922 | I88: =INDEX(DATE!$B$2:$B$4747,$D88+I$6-1) -> 14050923 | J88: =INDEX(DATE!$B$2:$B$4747,$D88+J$6-1) -> 14050924 | K88: =INDEX(DATE!$B$2:$B$4747,$D88+K$6-1) -> 14050925 | L88: =INDEX(DATE!$B$2:$B$4747,$D88+L$6-1) -> 14050926 | M88: =INDEX(DATE!$B$2:$B$4747,$D88+M$6-1) -> 14050927 | N88: =INDEX(DATE!$B$2:$B$4747,$D88+N$6-1) -> 14050928 | O88: =INDEX(DATE!$B$2:$B$4747,$D88+O$6-1) -> 14050929 | P88: =INDEX(DATE!$B$2:$B$4747,$D88+P$6-1) -> 14051006 | ... R88: =INDEX(DATE!$B$2:$B$4747,$D88+R$6-1) -> 14051121 | S88: =IF($F88>S$6-9,INDEX(DATE!$B$2:$B$4747,$D88+S$6-1),"") | T88: =IF($F88>T$6-9,INDEX(DATE!$B$2:$B$4747,$D88+T$6-1),"") | U88: =IF($F88>U$6-9,INDEX(DATE!$B$2:$B$4747,$D88+U$6-1),"") | V88: =IF($F88>V$6-9,INDEX(DATE!$B$2:$B$4747,$D88+V$6-1),"") | W88: =IF($F88>W$6-9,INDEX(DATE!$B$2:$B$4747,$D88+W$6-1),"") | X88: =IF($F88>X$6-9,INDEX(DATE!$B$2:$B$4747,$D88+X$6-1),"") | Y88: =IF($F88>Y$6-9,INDEX(DATE!$B$2:$B$4747,$D88+Y$6-1),"") | Z88: =IF($F88>Z$6-9,INDEX(DATE!$B$2:$B$4747,$D88+Z$6-1),"") | ... AD88: =IF($F88>AD$6-9,INDEX(DATE!$B$2:$B$4747,$D88+AD$6-1),"") | AE88: =SUM(H88<$C$3)+SUM(I88<$C$3)+SUM(J88<$C$3)+SUM(K88<$C$3)+SUM(L88<$C$3)+SUM(M88<$C$3)+SUM(N88<$C$3)+SUM(O88<$C$3)+SUM(P88<$C$3)+SUM(Q88<$C$3)+SUM(R88<$C$3)+SUM(S88<$C$3)+SUM(T88<$C$3)+SUM(U88<$C$3)+SUM(V88<$C$3)+SUM(W88<$C$3)+SUM(X88<$C$3)+SUM(Y88<$C$3)+SUM(Z88<$C$3)+SUM(AA88<$C$3)+SUM(AB88<$C$3)+SUM(AC88<$C$3)+SUM(AD88<$C$3) -> 0 | AF88: =COUNTA(H88:AD88)-COUNTBLANK(H88:AD88) -> 11
B89: 83 | C89: درس هشتاد و سه | D89: =MATCH(E89,DATE!$B$2:$B$4747,0) -> 2824 | E89: =IF($K$2="عادی",INDEX(DATE!$B$2:$B$4747,$D$2+B89-1),IF($K$2="بسیار سریع",INDEX(DATE!$B$2:$B$4747,$D$2+ROUND((B89)/2,0)-1),IF($K$2="بسیار آهسته",INDEX(DATE!$B$2:$B$4747,$D$2+ROUND((B89)*2,0)-1),INDEX(DATE!$B$2:$B$4747,$D$2+(B89-QUOTIENT(B89,$M$3))*2+(IF(($D$2+(B89-QUOTIENT(B89,$M$3))*2)-2=D88,1,0))-2)))) -> 14050923 | F89: 0 | G89: =IF(MAX(H89:AD89)<$C$3,1,IF(OR(H89=$C$3,I89=$C$3,J89=$C$3,K89=$C$3,L89=$C$3,M89=$C$3,N89=$C$3,O89=$C$3,P89=$C$3,Q89=$C$3,R89=$C$3,S89=$C$3,T89=$C$3,U89=$C$3,V89=$C$3,W89=$C$3,X89=$C$3,Y89=$C$3,Z89=$C$3,AA89=$C$3,AB89=$C$3,AC89=$C$3,AD89=$C$3),0,-1)) -> -1 | H89: =E89 -> 14050923 | I89: =INDEX(DATE!$B$2:$B$4747,$D89+I$6-1) -> 14050924 | J89: =INDEX(DATE!$B$2:$B$4747,$D89+J$6-1) -> 14050925 | K89: =INDEX(DATE!$B$2:$B$4747,$D89+K$6-1) -> 14050926 | L89: =INDEX(DATE!$B$2:$B$4747,$D89+L$6-1) -> 14050927 | M89: =INDEX(DATE!$B$2:$B$4747,$D89+M$6-1) -> 14050928 | N89: =INDEX(DATE!$B$2:$B$4747,$D89+N$6-1) -> 14050929 | O89: =INDEX(DATE!$B$2:$B$4747,$D89+O$6-1) -> 14050930 | P89: =INDEX(DATE!$B$2:$B$4747,$D89+P$6-1) -> 14051007 | ... R89: =INDEX(DATE!$B$2:$B$4747,$D89+R$6-1) -> 14051122 | S89: =IF($F89>S$6-9,INDEX(DATE!$B$2:$B$4747,$D89+S$6-1),"") | T89: =IF($F89>T$6-9,INDEX(DATE!$B$2:$B$4747,$D89+T$6-1),"") | U89: =IF($F89>U$6-9,INDEX(DATE!$B$2:$B$4747,$D89+U$6-1),"") | V89: =IF($F89>V$6-9,INDEX(DATE!$B$2:$B$4747,$D89+V$6-1),"") | W89: =IF($F89>W$6-9,INDEX(DATE!$B$2:$B$4747,$D89+W$6-1),"") | X89: =IF($F89>X$6-9,INDEX(DATE!$B$2:$B$4747,$D89+X$6-1),"") | Y89: =IF($F89>Y$6-9,INDEX(DATE!$B$2:$B$4747,$D89+Y$6-1),"") | Z89: =IF($F89>Z$6-9,INDEX(DATE!$B$2:$B$4747,$D89+Z$6-1),"") | ... AD89: =IF($F89>AD$6-9,INDEX(DATE!$B$2:$B$4747,$D89+AD$6-1),"") | AE89: =SUM(H89<$C$3)+SUM(I89<$C$3)+SUM(J89<$C$3)+SUM(K89<$C$3)+SUM(L89<$C$3)+SUM(M89<$C$3)+SUM(N89<$C$3)+SUM(O89<$C$3)+SUM(P89<$C$3)+SUM(Q89<$C$3)+SUM(R89<$C$3)+SUM(S89<$C$3)+SUM(T89<$C$3)+SUM(U89<$C$3)+SUM(V89<$C$3)+SUM(W89<$C$3)+SUM(X89<$C$3)+SUM(Y89<$C$3)+SUM(Z89<$C$3)+SUM(AA89<$C$3)+SUM(AB89<$C$3)+SUM(AC89<$C$3)+SUM(AD89<$C$3) -> 0 | AF89: =COUNTA(H89:AD89)-COUNTBLANK(H89:AD89) -> 11
B90: 84 | C90: درس هشتاد و چهار (تست) | D90: =MATCH(E90,DATE!$B$2:$B$4747,0) -> 2825 | E90: =IF($K$2="عادی",INDEX(DATE!$B$2:$B$4747,$D$2+B90-1),IF($K$2="بسیار سریع",INDEX(DATE!$B$2:$B$4747,$D$2+ROUND((B90)/2,0)-1),IF($K$2="بسیار آهسته",INDEX(DATE!$B$2:$B$4747,$D$2+ROUND((B90)*2,0)-1),INDEX(DATE!$B$2:$B$4747,$D$2+(B90-QUOTIENT(B90,$M$3))*2+(IF(($D$2+(B90-QUOTIENT(B90,$M$3))*2)-2=D89,1,0))-2)))) -> 14050924 | G90: =IF(MAX(H90:AD90)<$C$3,1,IF(OR(H90=$C$3,I90=$C$3,J90=$C$3,K90=$C$3,L90=$C$3,M90=$C$3,N90=$C$3,O90=$C$3,P90=$C$3,Q90=$C$3,R90=$C$3,S90=$C$3,T90=$C$3,U90=$C$3,V90=$C$3,W90=$C$3,X90=$C$3,Y90=$C$3,Z90=$C$3,AA90=$C$3,AB90=$C$3,AC90=$C$3,AD90=$C$3),0,-1)) -> -1 | H90: =E90 -> 14050924 | I90: 1 | J90: 1 | K90: 1 | L90: 1 | M90: 1 | N90: 1 | O90: 1 | P90: 1 | Q90: 1 | R90: 1 | S90: =IF($F90>S$6-9,INDEX(DATE!$B$2:$B$4747,$D90+S$6-1),"") | T90: =IF($F90>T$6-9,INDEX(DATE!$B$2:$B$4747,$D90+T$6-1),"") | U90: =IF($F90>U$6-9,INDEX(DATE!$B$2:$B$4747,$D90+U$6-1),"") | V90: =IF($F90>V$6-9,INDEX(DATE!$B$2:$B$4747,$D90+V$6-1),"") | W90: =IF($F90>W$6-9,INDEX(DATE!$B$2:$B$4747,$D90+W$6-1),"") | X90: =IF($F90>X$6-9,INDEX(DATE!$B$2:$B$4747,$D90+X$6-1),"") | Y90: =IF($F90>Y$6-9,INDEX(DATE!$B$2:$B$4747,$D90+Y$6-1),"") | Z90: =IF($F90>Z$6-9,INDEX(DATE!$B$2:$B$4747,$D90+Z$6-1),"") | ... AD90: =IF($F90>AD$6-9,INDEX(DATE!$B$2:$B$4747,$D90+AD$6-1),"") | AE90: =SUM(H90<$C$3)+SUM(I90<$C$3)+SUM(J90<$C$3)+SUM(K90<$C$3)+SUM(L90<$C$3)+SUM(M90<$C$3)+SUM(N90<$C$3)+SUM(O90<$C$3)+SUM(P90<$C$3)+SUM(Q90<$C$3)+SUM(R90<$C$3)+SUM(S90<$C$3)+SUM(T90<$C$3)+SUM(U90<$C$3)+SUM(V90<$C$3)+SUM(W90<$C$3)+SUM(X90<$C$3)+SUM(Y90<$C$3)+SUM(Z90<$C$3)+SUM(AA90<$C$3)+SUM(AB90<$C$3)+SUM(AC90<$C$3)+SUM(AD90<$C$3)-10 -> 0 | AF90: =COUNTA(H90:AD90)-COUNTBLANK(H90:AD90)-10 -> 1
B91: 85 | C91: درس هشتاد و پنج | D91: =MATCH(E91,DATE!$B$2:$B$4747,0) -> 2826 | E91: =IF($K$2="عادی",INDEX(DATE!$B$2:$B$4747,$D$2+B91-1),IF($K$2="بسیار سریع",INDEX(DATE!$B$2:$B$4747,$D$2+ROUND((B91)/2,0)-1),IF($K$2="بسیار آهسته",INDEX(DATE!$B$2:$B$4747,$D$2+ROUND((B91)*2,0)-1),INDEX(DATE!$B$2:$B$4747,$D$2+(B91-QUOTIENT(B91,$M$3))*2+(IF(($D$2+(B91-QUOTIENT(B91,$M$3))*2)-2=D90,1,0))-2)))) -> 14050925 | F91: 0 | G91: =IF(MAX(H91:AD91)<$C$3,1,IF(OR(H91=$C$3,I91=$C$3,J91=$C$3,K91=$C$3,L91=$C$3,M91=$C$3,N91=$C$3,O91=$C$3,P91=$C$3,Q91=$C$3,R91=$C$3,S91=$C$3,T91=$C$3,U91=$C$3,V91=$C$3,W91=$C$3,X91=$C$3,Y91=$C$3,Z91=$C$3,AA91=$C$3,AB91=$C$3,AC91=$C$3,AD91=$C$3),0,-1)) -> -1 | H91: =E91 -> 14050925 | I91: =INDEX(DATE!$B$2:$B$4747,$D91+I$6-1) -> 14050926 | J91: =INDEX(DATE!$B$2:$B$4747,$D91+J$6-1) -> 14050927 | K91: =INDEX(DATE!$B$2:$B$4747,$D91+K$6-1) -> 14050928 | L91: =INDEX(DATE!$B$2:$B$4747,$D91+L$6-1) -> 14050929 | M91: =INDEX(DATE!$B$2:$B$4747,$D91+M$6-1) -> 14050930 | N91: =INDEX(DATE!$B$2:$B$4747,$D91+N$6-1) -> 14051001 | O91: =INDEX(DATE!$B$2:$B$4747,$D91+O$6-1) -> 14051002 | P91: =INDEX(DATE!$B$2:$B$4747,$D91+P$6-1) -> 14051009 | ... R91: =INDEX(DATE!$B$2:$B$4747,$D91+R$6-1) -> 14051124 | S91: =IF($F91>S$6-9,INDEX(DATE!$B$2:$B$4747,$D91+S$6-1),"") | T91: =IF($F91>T$6-9,INDEX(DATE!$B$2:$B$4747,$D91+T$6-1),"") | U91: =IF($F91>U$6-9,INDEX(DATE!$B$2:$B$4747,$D91+U$6-1),"") | V91: =IF($F91>V$6-9,INDEX(DATE!$B$2:$B$4747,$D91+V$6-1),"") | W91: =IF($F91>W$6-9,INDEX(DATE!$B$2:$B$4747,$D91+W$6-1),"") | X91: =IF($F91>X$6-9,INDEX(DATE!$B$2:$B$4747,$D91+X$6-1),"") | Y91: =IF($F91>Y$6-9,INDEX(DATE!$B$2:$B$4747,$D91+Y$6-1),"") | Z91: =IF($F91>Z$6-9,INDEX(DATE!$B$2:$B$4747,$D91+Z$6-1),"") | ... AD91: =IF($F91>AD$6-9,INDEX(DATE!$B$2:$B$4747,$D91+AD$6-1),"") | AE91: =SUM(H91<$C$3)+SUM(I91<$C$3)+SUM(J91<$C$3)+SUM(K91<$C$3)+SUM(L91<$C$3)+SUM(M91<$C$3)+SUM(N91<$C$3)+SUM(O91<$C$3)+SUM(P91<$C$3)+SUM(Q91<$C$3)+SUM(R91<$C$3)+SUM(S91<$C$3)+SUM(T91<$C$3)+SUM(U91<$C$3)+SUM(V91<$C$3)+SUM(W91<$C$3)+SUM(X91<$C$3)+SUM(Y91<$C$3)+SUM(Z91<$C$3)+SUM(AA91<$C$3)+SUM(AB91<$C$3)+SUM(AC91<$C$3)+SUM(AD91<$C$3) -> 0 | AF91: =COUNTA(H91:AD91)-COUNTBLANK(H91:AD91) -> 11
B92: 86 | C92: درس هشتاد و شش | D92: =MATCH(E92,DATE!$B$2:$B$4747,0) -> 2827 | E92: =IF($K$2="عادی",INDEX(DATE!$B$2:$B$4747,$D$2+B92-1),IF($K$2="بسیار سریع",INDEX(DATE!$B$2:$B$4747,$D$2+ROUND((B92)/2,0)-1),IF($K$2="بسیار آهسته",INDEX(DATE!$B$2:$B$4747,$D$2+ROUND((B92)*2,0)-1),INDEX(DATE!$B$2:$B$4747,$D$2+(B92-QUOTIENT(B92,$M$3))*2+(IF(($D$2+(B92-QUOTIENT(B92,$M$3))*2)-2=D91,1,0))-2)))) -> 14050926 | F92: 0 | G92: =IF(MAX(H92:AD92)<$C$3,1,IF(OR(H92=$C$3,I92=$C$3,J92=$C$3,K92=$C$3,L92=$C$3,M92=$C$3,N92=$C$3,O92=$C$3,P92=$C$3,Q92=$C$3,R92=$C$3,S92=$C$3,T92=$C$3,U92=$C$3,V92=$C$3,W92=$C$3,X92=$C$3,Y92=$C$3,Z92=$C$3,AA92=$C$3,AB92=$C$3,AC92=$C$3,AD92=$C$3),0,-1)) -> -1 | H92: =E92 -> 14050926 | I92: =INDEX(DATE!$B$2:$B$4747,$D92+I$6-1) -> 14050927 | J92: =INDEX(DATE!$B$2:$B$4747,$D92+J$6-1) -> 14050928 | K92: =INDEX(DATE!$B$2:$B$4747,$D92+K$6-1) -> 14050929 | L92: =INDEX(DATE!$B$2:$B$4747,$D92+L$6-1) -> 14050930 | M92: =INDEX(DATE!$B$2:$B$4747,$D92+M$6-1) -> 14051001 | N92: =INDEX(DATE!$B$2:$B$4747,$D92+N$6-1) -> 14051002 | O92: =INDEX(DATE!$B$2:$B$4747,$D92+O$6-1) -> 14051003 | P92: =INDEX(DATE!$B$2:$B$4747,$D92+P$6-1) -> 14051010 | ... R92: =INDEX(DATE!$B$2:$B$4747,$D92+R$6-1) -> 14051125 | S92: =IF($F92>S$6-9,INDEX(DATE!$B$2:$B$4747,$D92+S$6-1),"") | T92: =IF($F92>T$6-9,INDEX(DATE!$B$2:$B$4747,$D92+T$6-1),"") | U92: =IF($F92>U$6-9,INDEX(DATE!$B$2:$B$4747,$D92+U$6-1),"") | V92: =IF($F92>V$6-9,INDEX(DATE!$B$2:$B$4747,$D92+V$6-1),"") | W92: =IF($F92>W$6-9,INDEX(DATE!$B$2:$B$4747,$D92+W$6-1),"") | X92: =IF($F92>X$6-9,INDEX(DATE!$B$2:$B$4747,$D92+X$6-1),"") | Y92: =IF($F92>Y$6-9,INDEX(DATE!$B$2:$B$4747,$D92+Y$6-1),"") | Z92: =IF($F92>Z$6-9,INDEX(DATE!$B$2:$B$4747,$D92+Z$6-1),"") | ... AD92: =IF($F92>AD$6-9,INDEX(DATE!$B$2:$B$4747,$D92+AD$6-1),"") | AE92: =SUM(H92<$C$3)+SUM(I92<$C$3)+SUM(J92<$C$3)+SUM(K92<$C$3)+SUM(L92<$C$3)+SUM(M92<$C$3)+SUM(N92<$C$3)+SUM(O92<$C$3)+SUM(P92<$C$3)+SUM(Q92<$C$3)+SUM(R92<$C$3)+SUM(S92<$C$3)+SUM(T92<$C$3)+SUM(U92<$C$3)+SUM(V92<$C$3)+SUM(W92<$C$3)+SUM(X92<$C$3)+SUM(Y92<$C$3)+SUM(Z92<$C$3)+SUM(AA92<$C$3)+SUM(AB92<$C$3)+SUM(AC92<$C$3)+SUM(AD92<$C$3) -> 0 | AF92: =COUNTA(H92:AD92)-COUNTBLANK(H92:AD92) -> 11
B93: 87 | C93: درس هشتاد و هفت | D93: =MATCH(E93,DATE!$B$2:$B$4747,0) -> 2828 | E93: =IF($K$2="عادی",INDEX(DATE!$B$2:$B$4747,$D$2+B93-1),IF($K$2="بسیار سریع",INDEX(DATE!$B$2:$B$4747,$D$2+ROUND((B93)/2,0)-1),IF($K$2="بسیار آهسته",INDEX(DATE!$B$2:$B$4747,$D$2+ROUND((B93)*2,0)-1),INDEX(DATE!$B$2:$B$4747,$D$2+(B93-QUOTIENT(B93,$M$3))*2+(IF(($D$2+(B93-QUOTIENT(B93,$M$3))*2)-2=D92,1,0))-2)))) -> 14050927 | F93: 0 | G93: =IF(MAX(H93:AD93)<$C$3,1,IF(OR(H93=$C$3,I93=$C$3,J93=$C$3,K93=$C$3,L93=$C$3,M93=$C$3,N93=$C$3,O93=$C$3,P93=$C$3,Q93=$C$3,R93=$C$3,S93=$C$3,T93=$C$3,U93=$C$3,V93=$C$3,W93=$C$3,X93=$C$3,Y93=$C$3,Z93=$C$3,AA93=$C$3,AB93=$C$3,AC93=$C$3,AD93=$C$3),0,-1)) -> -1 | H93: =E93 -> 14050927 | I93: =INDEX(DATE!$B$2:$B$4747,$D93+I$6-1) -> 14050928 | J93: =INDEX(DATE!$B$2:$B$4747,$D93+J$6-1) -> 14050929 | K93: =INDEX(DATE!$B$2:$B$4747,$D93+K$6-1) -> 14050930 | L93: =INDEX(DATE!$B$2:$B$4747,$D93+L$6-1) -> 14051001 | M93: =INDEX(DATE!$B$2:$B$4747,$D93+M$6-1) -> 14051002 | N93: =INDEX(DATE!$B$2:$B$4747,$D93+N$6-1) -> 14051003 | O93: =INDEX(DATE!$B$2:$B$4747,$D93+O$6-1) -> 14051004 | P93: =INDEX(DATE!$B$2:$B$4747,$D93+P$6-1) -> 14051011 | ... R93: =INDEX(DATE!$B$2:$B$4747,$D93+R$6-1) -> 14051126 | S93: =IF($F93>S$6-9,INDEX(DATE!$B$2:$B$4747,$D93+S$6-1),"") | T93: =IF($F93>T$6-9,INDEX(DATE!$B$2:$B$4747,$D93+T$6-1),"") | U93: =IF($F93>U$6-9,INDEX(DATE!$B$2:$B$4747,$D93+U$6-1),"") | V93: =IF($F93>V$6-9,INDEX(DATE!$B$2:$B$4747,$D93+V$6-1),"") | W93: =IF($F93>W$6-9,INDEX(DATE!$B$2:$B$4747,$D93+W$6-1),"") | X93: =IF($F93>X$6-9,INDEX(DATE!$B$2:$B$4747,$D93+X$6-1),"") | Y93: =IF($F93>Y$6-9,INDEX(DATE!$B$2:$B$4747,$D93+Y$6-1),"") | Z93: =IF($F93>Z$6-9,INDEX(DATE!$B$2:$B$4747,$D93+Z$6-1),"") | ... AD93: =IF($F93>AD$6-9,INDEX(DATE!$B$2:$B$4747,$D93+AD$6-1),"") | AE93: =SUM(H93<$C$3)+SUM(I93<$C$3)+SUM(J93<$C$3)+SUM(K93<$C$3)+SUM(L93<$C$3)+SUM(M93<$C$3)+SUM(N93<$C$3)+SUM(O93<$C$3)+SUM(P93<$C$3)+SUM(Q93<$C$3)+SUM(R93<$C$3)+SUM(S93<$C$3)+SUM(T93<$C$3)+SUM(U93<$C$3)+SUM(V93<$C$3)+SUM(W93<$C$3)+SUM(X93<$C$3)+SUM(Y93<$C$3)+SUM(Z93<$C$3)+SUM(AA93<$C$3)+SUM(AB93<$C$3)+SUM(AC93<$C$3)+SUM(AD93<$C$3) -> 0 | AF93: =COUNTA(H93:AD93)-COUNTBLANK(H93:AD93) -> 11
B94: 88 | C94: درس هشتاد و هشت | D94: =MATCH(E94,DATE!$B$2:$B$4747,0) -> 2829 | E94: =IF($K$2="عادی",INDEX(DATE!$B$2:$B$4747,$D$2+B94-1),IF($K$2="بسیار سریع",INDEX(DATE!$B$2:$B$4747,$D$2+ROUND((B94)/2,0)-1),IF($K$2="بسیار آهسته",INDEX(DATE!$B$2:$B$4747,$D$2+ROUND((B94)*2,0)-1),INDEX(DATE!$B$2:$B$4747,$D$2+(B94-QUOTIENT(B94,$M$3))*2+(IF(($D$2+(B94-QUOTIENT(B94,$M$3))*2)-2=D93,1,0))-2)))) -> 14050928 | F94: 0 | G94: =IF(MAX(H94:AD94)<$C$3,1,IF(OR(H94=$C$3,I94=$C$3,J94=$C$3,K94=$C$3,L94=$C$3,M94=$C$3,N94=$C$3,O94=$C$3,P94=$C$3,Q94=$C$3,R94=$C$3,S94=$C$3,T94=$C$3,U94=$C$3,V94=$C$3,W94=$C$3,X94=$C$3,Y94=$C$3,Z94=$C$3,AA94=$C$3,AB94=$C$3,AC94=$C$3,AD94=$C$3),0,-1)) -> -1 | H94: =E94 -> 14050928 | I94: =INDEX(DATE!$B$2:$B$4747,$D94+I$6-1) -> 14050929 | J94: =INDEX(DATE!$B$2:$B$4747,$D94+J$6-1) -> 14050930 | K94: =INDEX(DATE!$B$2:$B$4747,$D94+K$6-1) -> 14051001 | L94: =INDEX(DATE!$B$2:$B$4747,$D94+L$6-1) -> 14051002 | M94: =INDEX(DATE!$B$2:$B$4747,$D94+M$6-1) -> 14051003 | N94: =INDEX(DATE!$B$2:$B$4747,$D94+N$6-1) -> 14051004 | O94: =INDEX(DATE!$B$2:$B$4747,$D94+O$6-1) -> 14051005 | P94: =INDEX(DATE!$B$2:$B$4747,$D94+P$6-1) -> 14051012 | ... R94: =INDEX(DATE!$B$2:$B$4747,$D94+R$6-1) -> 14051127 | S94: =IF($F94>S$6-9,INDEX(DATE!$B$2:$B$4747,$D94+S$6-1),"") | T94: =IF($F94>T$6-9,INDEX(DATE!$B$2:$B$4747,$D94+T$6-1),"") | U94: =IF($F94>U$6-9,INDEX(DATE!$B$2:$B$4747,$D94+U$6-1),"") | V94: =IF($F94>V$6-9,INDEX(DATE!$B$2:$B$4747,$D94+V$6-1),"") | W94: =IF($F94>W$6-9,INDEX(DATE!$B$2:$B$4747,$D94+W$6-1),"") | X94: =IF($F94>X$6-9,INDEX(DATE!$B$2:$B$4747,$D94+X$6-1),"") | Y94: =IF($F94>Y$6-9,INDEX(DATE!$B$2:$B$4747,$D94+Y$6-1),"") | Z94: =IF($F94>Z$6-9,INDEX(DATE!$B$2:$B$4747,$D94+Z$6-1),"") | ... AD94: =IF($F94>AD$6-9,INDEX(DATE!$B$2:$B$4747,$D94+AD$6-1),"") | AE94: =SUM(H94<$C$3)+SUM(I94<$C$3)+SUM(J94<$C$3)+SUM(K94<$C$3)+SUM(L94<$C$3)+SUM(M94<$C$3)+SUM(N94<$C$3)+SUM(O94<$C$3)+SUM(P94<$C$3)+SUM(Q94<$C$3)+SUM(R94<$C$3)+SUM(S94<$C$3)+SUM(T94<$C$3)+SUM(U94<$C$3)+SUM(V94<$C$3)+SUM(W94<$C$3)+SUM(X94<$C$3)+SUM(Y94<$C$3)+SUM(Z94<$C$3)+SUM(AA94<$C$3)+SUM(AB94<$C$3)+SUM(AC94<$C$3)+SUM(AD94<$C$3) -> 0 | AF94: =COUNTA(H94:AD94)-COUNTBLANK(H94:AD94) -> 11
B95: 89 | C95: درس هشتاد و نه | D95: =MATCH(E95,DATE!$B$2:$B$4747,0) -> 2830 | E95: =IF($K$2="عادی",INDEX(DATE!$B$2:$B$4747,$D$2+B95-1),IF($K$2="بسیار سریع",INDEX(DATE!$B$2:$B$4747,$D$2+ROUND((B95)/2,0)-1),IF($K$2="بسیار آهسته",INDEX(DATE!$B$2:$B$4747,$D$2+ROUND((B95)*2,0)-1),INDEX(DATE!$B$2:$B$4747,$D$2+(B95-QUOTIENT(B95,$M$3))*2+(IF(($D$2+(B95-QUOTIENT(B95,$M$3))*2)-2=D94,1,0))-2)))) -> 14050929 | F95: 0 | G95: =IF(MAX(H95:AD95)<$C$3,1,IF(OR(H95=$C$3,I95=$C$3,J95=$C$3,K95=$C$3,L95=$C$3,M95=$C$3,N95=$C$3,O95=$C$3,P95=$C$3,Q95=$C$3,R95=$C$3,S95=$C$3,T95=$C$3,U95=$C$3,V95=$C$3,W95=$C$3,X95=$C$3,Y95=$C$3,Z95=$C$3,AA95=$C$3,AB95=$C$3,AC95=$C$3,AD95=$C$3),0,-1)) -> -1 | H95: =E95 -> 14050929 | I95: =INDEX(DATE!$B$2:$B$4747,$D95+I$6-1) -> 14050930 | J95: =INDEX(DATE!$B$2:$B$4747,$D95+J$6-1) -> 14051001 | K95: =INDEX(DATE!$B$2:$B$4747,$D95+K$6-1) -> 14051002 | L95: =INDEX(DATE!$B$2:$B$4747,$D95+L$6-1) -> 14051003 | M95: =INDEX(DATE!$B$2:$B$4747,$D95+M$6-1) -> 14051004 | N95: =INDEX(DATE!$B$2:$B$4747,$D95+N$6-1) -> 14051005 | O95: =INDEX(DATE!$B$2:$B$4747,$D95+O$6-1) -> 14051006 | P95: =INDEX(DATE!$B$2:$B$4747,$D95+P$6-1) -> 14051013 | ... R95: =INDEX(DATE!$B$2:$B$4747,$D95+R$6-1) -> 14051128 | S95: =IF($F95>S$6-9,INDEX(DATE!$B$2:$B$4747,$D95+S$6-1),"") | T95: =IF($F95>T$6-9,INDEX(DATE!$B$2:$B$4747,$D95+T$6-1),"") | U95: =IF($F95>U$6-9,INDEX(DATE!$B$2:$B$4747,$D95+U$6-1),"") | V95: =IF($F95>V$6-9,INDEX(DATE!$B$2:$B$4747,$D95+V$6-1),"") | W95: =IF($F95>W$6-9,INDEX(DATE!$B$2:$B$4747,$D95+W$6-1),"") | X95: =IF($F95>X$6-9,INDEX(DATE!$B$2:$B$4747,$D95+X$6-1),"") | Y95: =IF($F95>Y$6-9,INDEX(DATE!$B$2:$B$4747,$D95+Y$6-1),"") | Z95: =IF($F95>Z$6-9,INDEX(DATE!$B$2:$B$4747,$D95+Z$6-1),"") | ... AD95: =IF($F95>AD$6-9,INDEX(DATE!$B$2:$B$4747,$D95+AD$6-1),"") | AE95: =SUM(H95<$C$3)+SUM(I95<$C$3)+SUM(J95<$C$3)+SUM(K95<$C$3)+SUM(L95<$C$3)+SUM(M95<$C$3)+SUM(N95<$C$3)+SUM(O95<$C$3)+SUM(P95<$C$3)+SUM(Q95<$C$3)+SUM(R95<$C$3)+SUM(S95<$C$3)+SUM(T95<$C$3)+SUM(U95<$C$3)+SUM(V95<$C$3)+SUM(W95<$C$3)+SUM(X95<$C$3)+SUM(Y95<$C$3)+SUM(Z95<$C$3)+SUM(AA95<$C$3)+SUM(AB95<$C$3)+SUM(AC95<$C$3)+SUM(AD95<$C$3) -> 0 | AF95: =COUNTA(H95:AD95)-COUNTBLANK(H95:AD95) -> 11
B96: 90 | C96: درس نود | D96: =MATCH(E96,DATE!$B$2:$B$4747,0) -> 2831 | E96: =IF($K$2="عادی",INDEX(DATE!$B$2:$B$4747,$D$2+B96-1),IF($K$2="بسیار سریع",INDEX(DATE!$B$2:$B$4747,$D$2+ROUND((B96)/2,0)-1),IF($K$2="بسیار آهسته",INDEX(DATE!$B$2:$B$4747,$D$2+ROUND((B96)*2,0)-1),INDEX(DATE!$B$2:$B$4747,$D$2+(B96-QUOTIENT(B96,$M$3))*2+(IF(($D$2+(B96-QUOTIENT(B96,$M$3))*2)-2=D95,1,0))-2)))) -> 14050930 | F96: 0 | G96: =IF(MAX(H96:AD96)<$C$3,1,IF(OR(H96=$C$3,I96=$C$3,J96=$C$3,K96=$C$3,L96=$C$3,M96=$C$3,N96=$C$3,O96=$C$3,P96=$C$3,Q96=$C$3,R96=$C$3,S96=$C$3,T96=$C$3,U96=$C$3,V96=$C$3,W96=$C$3,X96=$C$3,Y96=$C$3,Z96=$C$3,AA96=$C$3,AB96=$C$3,AC96=$C$3,AD96=$C$3),0,-1)) -> -1 | H96: =E96 -> 14050930 | I96: =INDEX(DATE!$B$2:$B$4747,$D96+I$6-1) -> 14051001 | J96: =INDEX(DATE!$B$2:$B$4747,$D96+J$6-1) -> 14051002 | K96: =INDEX(DATE!$B$2:$B$4747,$D96+K$6-1) -> 14051003 | L96: =INDEX(DATE!$B$2:$B$4747,$D96+L$6-1) -> 14051004 | M96: =INDEX(DATE!$B$2:$B$4747,$D96+M$6-1) -> 14051005 | N96: =INDEX(DATE!$B$2:$B$4747,$D96+N$6-1) -> 14051006 | O96: =INDEX(DATE!$B$2:$B$4747,$D96+O$6-1) -> 14051007 | P96: =INDEX(DATE!$B$2:$B$4747,$D96+P$6-1) -> 14051014 | ... R96: =INDEX(DATE!$B$2:$B$4747,$D96+R$6-1) -> 14051129 | S96: =IF($F96>S$6-9,INDEX(DATE!$B$2:$B$4747,$D96+S$6-1),"") | T96: =IF($F96>T$6-9,INDEX(DATE!$B$2:$B$4747,$D96+T$6-1),"") | U96: =IF($F96>U$6-9,INDEX(DATE!$B$2:$B$4747,$D96+U$6-1),"") | V96: =IF($F96>V$6-9,INDEX(DATE!$B$2:$B$4747,$D96+V$6-1),"") | W96: =IF($F96>W$6-9,INDEX(DATE!$B$2:$B$4747,$D96+W$6-1),"") | X96: =IF($F96>X$6-9,INDEX(DATE!$B$2:$B$4747,$D96+X$6-1),"") | Y96: =IF($F96>Y$6-9,INDEX(DATE!$B$2:$B$4747,$D96+Y$6-1),"") | Z96: =IF($F96>Z$6-9,INDEX(DATE!$B$2:$B$4747,$D96+Z$6-1),"") | ... AD96: =IF($F96>AD$6-9,INDEX(DATE!$B$2:$B$4747,$D96+AD$6-1),"") | AE96: =SUM(H96<$C$3)+SUM(I96<$C$3)+SUM(J96<$C$3)+SUM(K96<$C$3)+SUM(L96<$C$3)+SUM(M96<$C$3)+SUM(N96<$C$3)+SUM(O96<$C$3)+SUM(P96<$C$3)+SUM(Q96<$C$3)+SUM(R96<$C$3)+SUM(S96<$C$3)+SUM(T96<$C$3)+SUM(U96<$C$3)+SUM(V96<$C$3)+SUM(W96<$C$3)+SUM(X96<$C$3)+SUM(Y96<$C$3)+SUM(Z96<$C$3)+SUM(AA96<$C$3)+SUM(AB96<$C$3)+SUM(AC96<$C$3)+SUM(AD96<$C$3) -> 0 | AF96: =COUNTA(H96:AD96)-COUNTBLANK(H96:AD96) -> 11
B97: 91 | C97: درس نود و یک | D97: =MATCH(E97,DATE!$B$2:$B$4747,0) -> 2832 | E97: =IF($K$2="عادی",INDEX(DATE!$B$2:$B$4747,$D$2+B97-1),IF($K$2="بسیار سریع",INDEX(DATE!$B$2:$B$4747,$D$2+ROUND((B97)/2,0)-1),IF($K$2="بسیار آهسته",INDEX(DATE!$B$2:$B$4747,$D$2+ROUND((B97)*2,0)-1),INDEX(DATE!$B$2:$B$4747,$D$2+(B97-QUOTIENT(B97,$M$3))*2+(IF(($D$2+(B97-QUOTIENT(B97,$M$3))*2)-2=D96,1,0))-2)))) -> 14051001 | F97: 0 | G97: =IF(MAX(H97:AD97)<$C$3,1,IF(OR(H97=$C$3,I97=$C$3,J97=$C$3,K97=$C$3,L97=$C$3,M97=$C$3,N97=$C$3,O97=$C$3,P97=$C$3,Q97=$C$3,R97=$C$3,S97=$C$3,T97=$C$3,U97=$C$3,V97=$C$3,W97=$C$3,X97=$C$3,Y97=$C$3,Z97=$C$3,AA97=$C$3,AB97=$C$3,AC97=$C$3,AD97=$C$3),0,-1)) -> -1 | H97: =E97 -> 14051001 | I97: =INDEX(DATE!$B$2:$B$4747,$D97+I$6-1) -> 14051002 | J97: =INDEX(DATE!$B$2:$B$4747,$D97+J$6-1) -> 14051003 | K97: =INDEX(DATE!$B$2:$B$4747,$D97+K$6-1) -> 14051004 | L97: =INDEX(DATE!$B$2:$B$4747,$D97+L$6-1) -> 14051005 | M97: =INDEX(DATE!$B$2:$B$4747,$D97+M$6-1) -> 14051006 | N97: =INDEX(DATE!$B$2:$B$4747,$D97+N$6-1) -> 14051007 | O97: =INDEX(DATE!$B$2:$B$4747,$D97+O$6-1) -> 14051008 | P97: =INDEX(DATE!$B$2:$B$4747,$D97+P$6-1) -> 14051015 | ... R97: =INDEX(DATE!$B$2:$B$4747,$D97+R$6-1) -> 14051130 | S97: =IF($F97>S$6-9,INDEX(DATE!$B$2:$B$4747,$D97+S$6-1),"") | T97: =IF($F97>T$6-9,INDEX(DATE!$B$2:$B$4747,$D97+T$6-1),"") | U97: =IF($F97>U$6-9,INDEX(DATE!$B$2:$B$4747,$D97+U$6-1),"") | V97: =IF($F97>V$6-9,INDEX(DATE!$B$2:$B$4747,$D97+V$6-1),"") | W97: =IF($F97>W$6-9,INDEX(DATE!$B$2:$B$4747,$D97+W$6-1),"") | X97: =IF($F97>X$6-9,INDEX(DATE!$B$2:$B$4747,$D97+X$6-1),"") | Y97: =IF($F97>Y$6-9,INDEX(DATE!$B$2:$B$4747,$D97+Y$6-1),"") | Z97: =IF($F97>Z$6-9,INDEX(DATE!$B$2:$B$4747,$D97+Z$6-1),"") | ... AD97: =IF($F97>AD$6-9,INDEX(DATE!$B$2:$B$4747,$D97+AD$6-1),"") | AE97: =SUM(H97<$C$3)+SUM(I97<$C$3)+SUM(J97<$C$3)+SUM(K97<$C$3)+SUM(L97<$C$3)+SUM(M97<$C$3)+SUM(N97<$C$3)+SUM(O97<$C$3)+SUM(P97<$C$3)+SUM(Q97<$C$3)+SUM(R97<$C$3)+SUM(S97<$C$3)+SUM(T97<$C$3)+SUM(U97<$C$3)+SUM(V97<$C$3)+SUM(W97<$C$3)+SUM(X97<$C$3)+SUM(Y97<$C$3)+SUM(Z97<$C$3)+SUM(AA97<$C$3)+SUM(AB97<$C$3)+SUM(AC97<$C$3)+SUM(AD97<$C$3) -> 0 | AF97: =COUNTA(H97:AD97)-COUNTBLANK(H97:AD97) -> 11
B98: 92 | C98: درس نود و دو | D98: =MATCH(E98,DATE!$B$2:$B$4747,0) -> 2833 | E98: =IF($K$2="عادی",INDEX(DATE!$B$2:$B$4747,$D$2+B98-1),IF($K$2="بسیار سریع",INDEX(DATE!$B$2:$B$4747,$D$2+ROUND((B98)/2,0)-1),IF($K$2="بسیار آهسته",INDEX(DATE!$B$2:$B$4747,$D$2+ROUND((B98)*2,0)-1),INDEX(DATE!$B$2:$B$4747,$D$2+(B98-QUOTIENT(B98,$M$3))*2+(IF(($D$2+(B98-QUOTIENT(B98,$M$3))*2)-2=D97,1,0))-2)))) -> 14051002 | F98: 0 | G98: =IF(MAX(H98:AD98)<$C$3,1,IF(OR(H98=$C$3,I98=$C$3,J98=$C$3,K98=$C$3,L98=$C$3,M98=$C$3,N98=$C$3,O98=$C$3,P98=$C$3,Q98=$C$3,R98=$C$3,S98=$C$3,T98=$C$3,U98=$C$3,V98=$C$3,W98=$C$3,X98=$C$3,Y98=$C$3,Z98=$C$3,AA98=$C$3,AB98=$C$3,AC98=$C$3,AD98=$C$3),0,-1)) -> -1 | H98: =E98 -> 14051002 | I98: =INDEX(DATE!$B$2:$B$4747,$D98+I$6-1) -> 14051003 | J98: =INDEX(DATE!$B$2:$B$4747,$D98+J$6-1) -> 14051004 | K98: =INDEX(DATE!$B$2:$B$4747,$D98+K$6-1) -> 14051005 | L98: =INDEX(DATE!$B$2:$B$4747,$D98+L$6-1) -> 14051006 | M98: =INDEX(DATE!$B$2:$B$4747,$D98+M$6-1) -> 14051007 | N98: =INDEX(DATE!$B$2:$B$4747,$D98+N$6-1) -> 14051008 | O98: =INDEX(DATE!$B$2:$B$4747,$D98+O$6-1) -> 14051009 | P98: =INDEX(DATE!$B$2:$B$4747,$D98+P$6-1) -> 14051016 | ... R98: =INDEX(DATE!$B$2:$B$4747,$D98+R$6-1) -> 14051201 | S98: =IF($F98>S$6-9,INDEX(DATE!$B$2:$B$4747,$D98+S$6-1),"") | T98: =IF($F98>T$6-9,INDEX(DATE!$B$2:$B$4747,$D98+T$6-1),"") | U98: =IF($F98>U$6-9,INDEX(DATE!$B$2:$B$4747,$D98+U$6-1),"") | V98: =IF($F98>V$6-9,INDEX(DATE!$B$2:$B$4747,$D98+V$6-1),"") | W98: =IF($F98>W$6-9,INDEX(DATE!$B$2:$B$4747,$D98+W$6-1),"") | X98: =IF($F98>X$6-9,INDEX(DATE!$B$2:$B$4747,$D98+X$6-1),"") | Y98: =IF($F98>Y$6-9,INDEX(DATE!$B$2:$B$4747,$D98+Y$6-1),"") | Z98: =IF($F98>Z$6-9,INDEX(DATE!$B$2:$B$4747,$D98+Z$6-1),"") | ... AD98: =IF($F98>AD$6-9,INDEX(DATE!$B$2:$B$4747,$D98+AD$6-1),"") | AE98: =SUM(H98<$C$3)+SUM(I98<$C$3)+SUM(J98<$C$3)+SUM(K98<$C$3)+SUM(L98<$C$3)+SUM(M98<$C$3)+SUM(N98<$C$3)+SUM(O98<$C$3)+SUM(P98<$C$3)+SUM(Q98<$C$3)+SUM(R98<$C$3)+SUM(S98<$C$3)+SUM(T98<$C$3)+SUM(U98<$C$3)+SUM(V98<$C$3)+SUM(W98<$C$3)+SUM(X98<$C$3)+SUM(Y98<$C$3)+SUM(Z98<$C$3)+SUM(AA98<$C$3)+SUM(AB98<$C$3)+SUM(AC98<$C$3)+SUM(AD98<$C$3) -> 0 | AF98: =COUNTA(H98:AD98)-COUNTBLANK(H98:AD98) -> 11
B99: 93 | C99: درس نود و سه | D99: =MATCH(E99,DATE!$B$2:$B$4747,0) -> 2834 | E99: =IF($K$2="عادی",INDEX(DATE!$B$2:$B$4747,$D$2+B99-1),IF($K$2="بسیار سریع",INDEX(DATE!$B$2:$B$4747,$D$2+ROUND((B99)/2,0)-1),IF($K$2="بسیار آهسته",INDEX(DATE!$B$2:$B$4747,$D$2+ROUND((B99)*2,0)-1),INDEX(DATE!$B$2:$B$4747,$D$2+(B99-QUOTIENT(B99,$M$3))*2+(IF(($D$2+(B99-QUOTIENT(B99,$M$3))*2)-2=D98,1,0))-2)))) -> 14051003 | F99: 0 | G99: =IF(MAX(H99:AD99)<$C$3,1,IF(OR(H99=$C$3,I99=$C$3,J99=$C$3,K99=$C$3,L99=$C$3,M99=$C$3,N99=$C$3,O99=$C$3,P99=$C$3,Q99=$C$3,R99=$C$3,S99=$C$3,T99=$C$3,U99=$C$3,V99=$C$3,W99=$C$3,X99=$C$3,Y99=$C$3,Z99=$C$3,AA99=$C$3,AB99=$C$3,AC99=$C$3,AD99=$C$3),0,-1)) -> -1 | H99: =E99 -> 14051003 | I99: =INDEX(DATE!$B$2:$B$4747,$D99+I$6-1) -> 14051004 | J99: =INDEX(DATE!$B$2:$B$4747,$D99+J$6-1) -> 14051005 | K99: =INDEX(DATE!$B$2:$B$4747,$D99+K$6-1) -> 14051006 | L99: =INDEX(DATE!$B$2:$B$4747,$D99+L$6-1) -> 14051007 | M99: =INDEX(DATE!$B$2:$B$4747,$D99+M$6-1) -> 14051008 | N99: =INDEX(DATE!$B$2:$B$4747,$D99+N$6-1) -> 14051009 | O99: =INDEX(DATE!$B$2:$B$4747,$D99+O$6-1) -> 14051010 | P99: =INDEX(DATE!$B$2:$B$4747,$D99+P$6-1) -> 14051017 | ... R99: =INDEX(DATE!$B$2:$B$4747,$D99+R$6-1) -> 14051202 | S99: =IF($F99>S$6-9,INDEX(DATE!$B$2:$B$4747,$D99+S$6-1),"") | T99: =IF($F99>T$6-9,INDEX(DATE!$B$2:$B$4747,$D99+T$6-1),"") | U99: =IF($F99>U$6-9,INDEX(DATE!$B$2:$B$4747,$D99+U$6-1),"") | V99: =IF($F99>V$6-9,INDEX(DATE!$B$2:$B$4747,$D99+V$6-1),"") | W99: =IF($F99>W$6-9,INDEX(DATE!$B$2:$B$4747,$D99+W$6-1),"") | X99: =IF($F99>X$6-9,INDEX(DATE!$B$2:$B$4747,$D99+X$6-1),"") | Y99: =IF($F99>Y$6-9,INDEX(DATE!$B$2:$B$4747,$D99+Y$6-1),"") | Z99: =IF($F99>Z$6-9,INDEX(DATE!$B$2:$B$4747,$D99+Z$6-1),"") | ... AD99: =IF($F99>AD$6-9,INDEX(DATE!$B$2:$B$4747,$D99+AD$6-1),"") | AE99: =SUM(H99<$C$3)+SUM(I99<$C$3)+SUM(J99<$C$3)+SUM(K99<$C$3)+SUM(L99<$C$3)+SUM(M99<$C$3)+SUM(N99<$C$3)+SUM(O99<$C$3)+SUM(P99<$C$3)+SUM(Q99<$C$3)+SUM(R99<$C$3)+SUM(S99<$C$3)+SUM(T99<$C$3)+SUM(U99<$C$3)+SUM(V99<$C$3)+SUM(W99<$C$3)+SUM(X99<$C$3)+SUM(Y99<$C$3)+SUM(Z99<$C$3)+SUM(AA99<$C$3)+SUM(AB99<$C$3)+SUM(AC99<$C$3)+SUM(AD99<$C$3) -> 0 | AF99: =COUNTA(H99:AD99)-COUNTBLANK(H99:AD99) -> 11
