Workbook
Name Slicer_نام_مشتری: #N/A
Name year: calc!$BV$5
Name years: calc!$BU$24:$BU$34

Sheet Report Dashboard
Y5: میانگین قیمت بورس (ریال) | AA5: 240000 | AD5: قیمت میانگین بورس (ریال) | AF5: 240000
Y7: تناژ قابل فروش(کیلوگرم) | AA7: 20000 | AD7: قیمت گذاری جدید (ریال) | AF7: 194000
Y9: قیمت فروش رفته بورس(ریال) | AA9: 90000 | AD9: قیمت فروش رفته بورس(ریال) | AF9: 90000
Y11: تناژ بورس(کیلوگرم) | AA11: 20000 | AD11: تناژ بورس(کیلوگرم) | AF11: 20000
Y13: قیمت گذاری جدید (ریال) | AA13: =((($AA$11+$AA$7)*$AA$5)-($AA$11*$AA$9))/$AA$7 -> 390000 | AD13: تناژ قابل فروش(کیلوگرم) | AF13: =AF11*(AF5-AF9)/(-AF5+AF7) -> -65217.391
L17: ردیف | M17: شماره پیش فاکتور | N17: تاریخ پیش فاکتور | O17: تاریخ بهره برداری | P17: تاریخ انقضا | Q17: نوع شرکت | R17: میزان سفارش | S17: نوع پیش فاکتور | T17: قیمت(ریال) | U17: میزان حمل شده | V17: % حمل شده | W17: حمل نشده
L18: 1 | M18: =IF(INDEX(calc!$Z$7:$Z$400,'Report Dashboard'!$L18,1)<>"",INDEX(calc!$Z$7:$Z$400,'Report Dashboard'!$L18,1),"") -> پ/113-1404 | N18: =IFERROR(INDEX(invoice[تاریخ],MATCH('Report Dashboard'!M18,invoice[شماره پیش فاکتور],0)),"") -> 1404/10/30 | O18: =IFERROR(INDEX(invoice[تاریخ مجوز بهره برداری],MATCH('Report Dashboard'!M18,invoice[شماره پیش فاکتور],0)),"") -> 46042 | P18: =IFERROR(INDEX(invoice[تاریخ انقضا],MATCH('Report Dashboard'!M18,invoice[شماره پیش فاکتور],0)),"") -> 46466 | Q18: =IFERROR(INDEX(invoice[نوع شرکت],MATCH('Report Dashboard'!M18,invoice[شماره پیش فاکتور],0)),"") -> تولید کننده | R18: =IFERROR(INDEX(invoice[میزان سفارش],MATCH('Report Dashboard'!M18,invoice[شماره پیش فاکتور],0)),"") -> 400000 | S18: {=IFERROR(INDEX(invoice[نوع سفارش],MATCH('Report Dashboard'!M18,invoice[شماره پیش فاکتور],0)),"")} -> عادی | T18: =IFERROR(INDEX(invoice[فی],MATCH('Report Dashboard'!M18,invoice[شماره پیش فاکتور],0)),"") -> 125000 | U18: =IF(INDEX(calc!$AB$7:$AB$400,'Report Dashboard'!$L18,1)<>"",INDEX(calc!$AB$7:$AB$400,'Report Dashboard'!$L18,1),"") -> 95590 | V18: =IFERROR(IF(AND(R18<>"",U18=""),"در انتظار بارگیری",IF(R18<>0,U18/R18,0)),"") -> 0.238975 | W18: =IF(U18="",R18,R18-U18) -> 304410
L19: =L18+1 -> 2 | M19: =IF(INDEX(calc!$Z$7:$Z$400,'Report Dashboard'!$L19,1)<>"",INDEX(calc!$Z$7:$Z$400,'Report Dashboard'!$L19,1),"") -> پ/37-1402 | N19: =IFERROR(INDEX(invoice[تاریخ],MATCH('Report Dashboard'!M19,invoice[شماره پیش فاکتور],0)),"") -> 1403/01/01 | O19: =IFERROR(INDEX(invoice[تاریخ مجوز بهره برداری],MATCH('Report Dashboard'!M19,invoice[شماره پیش فاکتور],0)),"") -> 1403/03/31 | P19: =IFERROR(INDEX(invoice[تاریخ انقضا],MATCH('Report Dashboard'!M19,invoice[شماره پیش فاکتور],0)),"") -> 46466 | Q19: =IFERROR(INDEX(invoice[نوع شرکت],MATCH('Report Dashboard'!M19,invoice[شماره پیش فاکتور],0)),"") -> تولید کننده | R19: =IFERROR(INDEX(invoice[میزان سفارش],MATCH('Report Dashboard'!M19,invoice[شماره پیش فاکتور],0)),"") -> 100000 | S19: {=IFERROR(INDEX(invoice[نوع سفارش],MATCH('Report Dashboard'!M19,invoice[شماره پیش فاکتور],0)),"")} -> عادی | T19: =IFERROR(INDEX(invoice[فی],MATCH('Report Dashboard'!M19,invoice[شماره پیش فاکتور],0)),"") -> 50000 | U19: =IF(INDEX(calc!$AB$7:$AB$400,'Report Dashboard'!$L19,1)<>"",INDEX(calc!$AB$7:$AB$400,'Report Dashboard'!$L19,1),"") -> 100000 | V19: =IFERROR(IF(AND(R19<>"",U19=""),"در انتظار بارگیری",IF(R19<>0,U19/R19,0)),"") -> 1 | W19: =IF(U19="",R19,R19-U19) -> 0
L20: =L19+1 -> 3 | M20: =IF(INDEX(calc!$Z$7:$Z$400,'Report Dashboard'!$L20,1)<>"",INDEX(calc!$Z$7:$Z$400,'Report Dashboard'!$L20,1),"") -> پ/38-1402 | N20: =IFERROR(INDEX(invoice[تاریخ],MATCH('Report Dashboard'!M20,invoice[شماره پیش فاکتور],0)),"") -> 1403/01/01 | O20: =IFERROR(INDEX(invoice[تاریخ مجوز بهره برداری],MATCH('Report Dashboard'!M20,invoice[شماره پیش فاکتور],0)),"") -> 1403/01/07 | P20: =IFERROR(INDEX(invoice[تاریخ انقضا],MATCH('Report Dashboard'!M20,invoice[شماره پیش فاکتور],0)),"") -> 46466 | Q20: =IFERROR(INDEX(invoice[نوع شرکت],MATCH('Report Dashboard'!M20,invoice[شماره پیش فاکتور],0)),"") -> تولید کننده | R20: =IFERROR(INDEX(invoice[میزان سفارش],MATCH('Report Dashboard'!M20,invoice[شماره پیش فاکتور],0)),"") -> 902430 | S20: {=IFERROR(INDEX(invoice[نوع سفارش],MATCH('Report Dashboard'!M20,invoice[شماره پیش فاکتور],0)),"")} -> عادی | T20: =IFERROR(INDEX(invoice[فی],MATCH('Report Dashboard'!M20,invoice[شماره پیش فاکتور],0)),"") -> 65000 | U20: =IF(INDEX(calc!$AB$7:$AB$400,'Report Dashboard'!$L20,1)<>"",INDEX(calc!$AB$7:$AB$400,'Report Dashboard'!$L20,1),"") -> 902430 | V20: =IFERROR(IF(AND(R20<>"",U20=""),"در انتظار بارگیری",IF(R20<>0,U20/R20,0)),"") -> 1 | W20: =IF(U20="",R20,R20-U20) -> 0 | Y20: فروردین | AD20: مهر
L21: =L20+1 -> 4 | M21: =IF(INDEX(calc!$Z$7:$Z$400,'Report Dashboard'!$L21,1)<>"",INDEX(calc!$Z$7:$Z$400,'Report Dashboard'!$L21,1),"") -> پ/2-1403 | N21: =IFERROR(INDEX(invoice[تاریخ],MATCH('Report Dashboard'!M21,invoice[شماره پیش فاکتور],0)),"") -> 1403/01/25 | O21: =IFERROR(INDEX(invoice[تاریخ مجوز بهره برداری],MATCH('Report Dashboard'!M21,invoice[شماره پیش فاکتور],0)),"") -> 1403/10/26 | P21: =IFERROR(INDEX(invoice[تاریخ انقضا],MATCH('Report Dashboard'!M21,invoice[شماره پیش فاکتور],0)),"") -> 46466 | Q21: =IFERROR(INDEX(invoice[نوع شرکت],MATCH('Report Dashboard'!M21,invoice[شماره پیش فاکتور],0)),"") -> تولید کننده | R21: =IFERROR(INDEX(invoice[میزان سفارش],MATCH('Report Dashboard'!M21,invoice[شماره پیش فاکتور],0)),"") -> 200000 | S21: {=IFERROR(INDEX(invoice[نوع سفارش],MATCH('Report Dashboard'!M21,invoice[شماره پیش فاکتور],0)),"")} -> عادی | T21: =IFERROR(INDEX(invoice[فی],MATCH('Report Dashboard'!M21,invoice[شماره پیش فاکتور],0)),"") -> 70000 | U21: =IF(INDEX(calc!$AB$7:$AB$400,'Report Dashboard'!$L21,1)<>"",INDEX(calc!$AB$7:$AB$400,'Report Dashboard'!$L21,1),"") -> 200000 | V21: =IFERROR(IF(AND(R21<>"",U21=""),"در انتظار بارگیری",IF(R21<>0,U21/R21,0)),"") -> 1 | W21: =IF(U21="",R21,R21-U21) -> 0
L22: =L21+1 -> 5 | M22: =IF(INDEX(calc!$Z$7:$Z$400,'Report Dashboard'!$L22,1)<>"",INDEX(calc!$Z$7:$Z$400,'Report Dashboard'!$L22,1),"") -> پ/40-1402 | N22: =IFERROR(INDEX(invoice[تاریخ],MATCH('Report Dashboard'!M22,invoice[شماره پیش فاکتور],0)),"") -> 1403/01/01 | O22: =IFERROR(INDEX(invoice[تاریخ مجوز بهره برداری],MATCH('Report Dashboard'!M22,invoice[شماره پیش فاکتور],0)),"") -> 1403/01/25 | P22: =IFERROR(INDEX(invoice[تاریخ انقضا],MATCH('Report Dashboard'!M22,invoice[شماره پیش فاکتور],0)),"") -> 46466 | Q22: =IFERROR(INDEX(invoice[نوع شرکت],MATCH('Report Dashboard'!M22,invoice[شماره پیش فاکتور],0)),"") -> تولید کننده | R22: =IFERROR(INDEX(invoice[میزان سفارش],MATCH('Report Dashboard'!M22,invoice[شماره پیش فاکتور],0)),"") -> 100000 | S22: {=IFERROR(INDEX(invoice[نوع سفارش],MATCH('Report Dashboard'!M22,invoice[شماره پیش فاکتور],0)),"")} -> عادی | T22: =IFERROR(INDEX(invoice[فی],MATCH('Report Dashboard'!M22,invoice[شماره پیش فاکتور],0)),"") -> 50000 | U22: =IF(INDEX(calc!$AB$7:$AB$400,'Report Dashboard'!$L22,1)<>"",INDEX(calc!$AB$7:$AB$400,'Report Dashboard'!$L22,1),"") -> 100000 | V22: =IFERROR(IF(AND(R22<>"",U22=""),"در انتظار بارگیری",IF(R22<>0,U22/R22,0)),"") -> 1 | W22: =IF(U22="",R22,R22-U22) -> 0 | Y22: اردیبهشت | AD22: آبان
L23: =L22+1 -> 6 | M23: =IF(INDEX(calc!$Z$7:$Z$400,'Report Dashboard'!$L23,1)<>"",INDEX(calc!$Z$7:$Z$400,'Report Dashboard'!$L23,1),"") -> پ/102-1404 | N23: =IFERROR(INDEX(invoice[تاریخ],MATCH('Report Dashboard'!M23,invoice[شماره پیش فاکتور],0)),"") -> 1404/10/07 | O23: =IFERROR(INDEX(invoice[تاریخ مجوز بهره برداری],MATCH('Report Dashboard'!M23,invoice[شماره پیش فاکتور],0)),"") -> 1404/10/09 | P23: =IFERROR(INDEX(invoice[تاریخ انقضا],MATCH('Report Dashboard'!M23,invoice[شماره پیش فاکتور],0)),"") -> 46466 | Q23: =IFERROR(INDEX(invoice[نوع شرکت],MATCH('Report Dashboard'!M23,invoice[شماره پیش فاکتور],0)),"") -> تولید کننده | R23: =IFERROR(INDEX(invoice[میزان سفارش],MATCH('Report Dashboard'!M23,invoice[شماره پیش فاکتور],0)),"") -> 500000 | S23: {=IFERROR(INDEX(invoice[نوع سفارش],MATCH('Report Dashboard'!M23,invoice[شماره پیش فاکتور],0)),"")} -> عادی | T23: =IFERROR(INDEX(invoice[فی],MATCH('Report Dashboard'!M23,invoice[شماره پیش فاکتور],0)),"") -> 125000 | U23: =IF(INDEX(calc!$AB$7:$AB$400,'Report Dashboard'!$L23,1)<>"",INDEX(calc!$AB$7:$AB$400,'Report Dashboard'!$L23,1),"") -> 500000 | V23: =IFERROR(IF(AND(R23<>"",U23=""),"در انتظار بارگیری",IF(R23<>0,U23/R23,0)),"") -> 1 | W23: =IF(U23="",R23,R23-U23) -> 0
L24: =L23+1 -> 7 | M24: =IF(INDEX(calc!$Z$7:$Z$400,'Report Dashboard'!$L24,1)<>"",INDEX(calc!$Z$7:$Z$400,'Report Dashboard'!$L24,1),"") -> پ/48-1403 | N24: =IFERROR(INDEX(invoice[تاریخ],MATCH('Report Dashboard'!M24,invoice[شماره پیش فاکتور],0)),"") -> 1403/10/29 | O24: =IFERROR(INDEX(invoice[تاریخ مجوز بهره برداری],MATCH('Report Dashboard'!M24,invoice[شماره پیش فاکتور],0)),"") -> 1403/11/15 | P24: =IFERROR(INDEX(invoice[تاریخ انقضا],MATCH('Report Dashboard'!M24,invoice[شماره پیش فاکتور],0)),"") -> 46466 | Q24: =IFERROR(INDEX(invoice[نوع شرکت],MATCH('Report Dashboard'!M24,invoice[شماره پیش فاکتور],0)),"") -> تولید کننده | R24: =IFERROR(INDEX(invoice[میزان سفارش],MATCH('Report Dashboard'!M24,invoice[شماره پیش فاکتور],0)),"") -> 300000 | S24: {=IFERROR(INDEX(invoice[نوع سفارش],MATCH('Report Dashboard'!M24,invoice[شماره پیش فاکتور],0)),"")} -> عادی | T24: =IFERROR(INDEX(invoice[فی],MATCH('Report Dashboard'!M24,invoice[شماره پیش فاکتور],0)),"") -> 80000 | U24: =IF(INDEX(calc!$AB$7:$AB$400,'Report Dashboard'!$L24,1)<>"",INDEX(calc!$AB$7:$AB$400,'Report Dashboard'!$L24,1),"") -> 300000 | V24: =IFERROR(IF(AND(R24<>"",U24=""),"در انتظار بارگیری",IF(R24<>0,U24/R24,0)),"") -> 1 | W24: =IF(U24="",R24,R24-U24) -> 0 | Y24: خرداد | AD24: آذر
L25: =L24+1 -> 8 | M25: =IF(INDEX(calc!$Z$7:$Z$400,'Report Dashboard'!$L25,1)<>"",INDEX(calc!$Z$7:$Z$400,'Report Dashboard'!$L25,1),"") -> پ/32-1403 | N25: =IFERROR(INDEX(invoice[تاریخ],MATCH('Report Dashboard'!M25,invoice[شماره پیش فاکتور],0)),"") -> 1403/11/03 | O25: =IFERROR(INDEX(invoice[تاریخ مجوز بهره برداری],MATCH('Report Dashboard'!M25,invoice[شماره پیش فاکتور],0)),"") -> 1403/11/03 | P25: =IFERROR(INDEX(invoice[تاریخ انقضا],MATCH('Report Dashboard'!M25,invoice[شماره پیش فاکتور],0)),"") -> 46466 | Q25: =IFERROR(INDEX(invoice[نوع شرکت],MATCH('Report Dashboard'!M25,invoice[شماره پیش فاکتور],0)),"") -> تولید کننده | R25: =IFERROR(INDEX(invoice[میزان سفارش],MATCH('Report Dashboard'!M25,invoice[شماره پیش فاکتور],0)),"") -> 1000000 | S25: {=IFERROR(INDEX(invoice[نوع سفارش],MATCH('Report Dashboard'!M25,invoice[شماره پیش فاکتور],0)),"")} -> عادی | T25: =IFERROR(INDEX(invoice[فی],MATCH('Report Dashboard'!M25,invoice[شماره پیش فاکتور],0)),"") -> 80000 | U25: =IF(INDEX(calc!$AB$7:$AB$400,'Report Dashboard'!$L25,1)<>"",INDEX(calc!$AB$7:$AB$400,'Report Dashboard'!$L25,1),"") -> 1000000 | V25: =IFERROR(IF(AND(R25<>"",U25=""),"در انتظار بارگیری",IF(R25<>0,U25/R25,0)),"") -> 1 | W25: =IF(U25="",R25,R25-U25) -> 0
L26: =L25+1 -> 9 | M26: =IF(INDEX(calc!$Z$7:$Z$400,'Report Dashboard'!$L26,1)<>"",INDEX(calc!$Z$7:$Z$400,'Report Dashboard'!$L26,1),"") -> پ/68-1404 | N26: =IFERROR(INDEX(invoice[تاریخ],MATCH('Report Dashboard'!M26,invoice[شماره پیش فاکتور],0)),"") -> 1404/06/30 | O26: =IFERROR(INDEX(invoice[تاریخ مجوز بهره برداری],MATCH('Report Dashboard'!M26,invoice[شماره پیش فاکتور],0)),"") -> 45923 | P26: =IFERROR(INDEX(invoice[تاریخ انقضا],MATCH('Report Dashboard'!M26,invoice[شماره پیش فاکتور],0)),"") -> 46466 | Q26: =IFERROR(INDEX(invoice[نوع شرکت],MATCH('Report Dashboard'!M26,invoice[شماره پیش فاکتور],0)),"") -> تولید کننده | R26: =IFERROR(INDEX(invoice[میزان سفارش],MATCH('Report Dashboard'!M26,invoice[شماره پیش فاکتور],0)),"") -> 500000 | S26: {=IFERROR(INDEX(invoice[نوع سفارش],MATCH('Report Dashboard'!M26,invoice[شماره پیش فاکتور],0)),"")} -> عادی | T26: =IFERROR(INDEX(invoice[فی],MATCH('Report Dashboard'!M26,invoice[شماره پیش فاکتور],0)),"") -> 111000 | U26: =IF(INDEX(calc!$AB$7:$AB$400,'Report Dashboard'!$L26,1)<>"",INDEX(calc!$AB$7:$AB$400,'Report Dashboard'!$L26,1),"") -> 500000 | V26: =IFERROR(IF(AND(R26<>"",U26=""),"در انتظار بارگیری",IF(R26<>0,U26/R26,0)),"") -> 1 | W26: =IF(U26="",R26,R26-U26) -> 0 | Y26: تیر | AD26: دی
L27: =L26+1 -> 10 | M27: =IF(INDEX(calc!$Z$7:$Z$400,'Report Dashboard'!$L27,1)<>"",INDEX(calc!$Z$7:$Z$400,'Report Dashboard'!$L27,1),"") | N27: =IFERROR(INDEX(invoice[تاریخ],MATCH('Report Dashboard'!M27,invoice[شماره پیش فاکتور],0)),"") | O27: =IFERROR(INDEX(invoice[تاریخ مجوز بهره برداری],MATCH('Report Dashboard'!M27,invoice[شماره پیش فاکتور],0)),"") | P27: =IFERROR(INDEX(invoice[تاریخ انقضا],MATCH('Report Dashboard'!M27,invoice[شماره پیش فاکتور],0)),"") | Q27: =IFERROR(INDEX(invoice[نوع شرکت],MATCH('Report Dashboard'!M27,invoice[شماره پیش فاکتور],0)),"") | R27: =IFERROR(INDEX(invoice[میزان سفارش],MATCH('Report Dashboard'!M27,invoice[شماره پیش فاکتور],0)),"") | S27: {=IFERROR(INDEX(invoice[نوع سفارش],MATCH('Report Dashboard'!M27,invoice[شماره پیش فاکتور],0)),"")} | T27: =IFERROR(INDEX(invoice[فی],MATCH('Report Dashboard'!M27,invoice[شماره پیش فاکتور],0)),"") | U27: =IF(INDEX(calc!$AB$7:$AB$400,'Report Dashboard'!$L27,1)<>"",INDEX(calc!$AB$7:$AB$400,'Report Dashboard'!$L27,1),"") | V27: =IFERROR(IF(AND(R27<>"",U27=""),"در انتظار بارگیری",IF(R27<>0,U27/R27,0)),"") | W27: =IF(U27="",R27,R27-U27)
L28: =L27+1 -> 11 | M28: =IF(INDEX(calc!$Z$7:$Z$400,'Report Dashboard'!$L28,1)<>"",INDEX(calc!$Z$7:$Z$400,'Report Dashboard'!$L28,1),"") | N28: =IFERROR(INDEX(invoice[تاریخ],MATCH('Report Dashboard'!M28,invoice[شماره پیش فاکتور],0)),"") | O28: =IFERROR(INDEX(invoice[تاریخ مجوز بهره برداری],MATCH('Report Dashboard'!M28,invoice[شماره پیش فاکتور],0)),"") | P28: =IFERROR(INDEX(invoice[تاریخ انقضا],MATCH('Report Dashboard'!M28,invoice[شماره پیش فاکتور],0)),"") | Q28: =IFERROR(INDEX(invoice[نوع شرکت],MATCH('Report Dashboard'!M28,invoice[شماره پیش فاکتور],0)),"") | R28: =IFERROR(INDEX(invoice[میزان سفارش],MATCH('Report Dashboard'!M28,invoice[شماره پیش فاکتور],0)),"") | S28: {=IFERROR(INDEX(invoice[نوع سفارش],MATCH('Report Dashboard'!M28,invoice[شماره پیش فاکتور],0)),"")} | T28: =IFERROR(INDEX(invoice[فی],MATCH('Report Dashboard'!M28,invoice[شماره پیش فاکتور],0)),"") | U28: =IF(INDEX(calc!$AB$7:$AB$400,'Report Dashboard'!$L28,1)<>"",INDEX(calc!$AB$7:$AB$400,'Report Dashboard'!$L28,1),"") | V28: =IFERROR(IF(AND(R28<>"",U28=""),"در انتظار بارگیری",IF(R28<>0,U28/R28,0)),"") | W28: =IF(U28="",R28,R28-U28) | Y28: مرداد | AD28: بهمن
L29: =L28+1 -> 12 | M29: =IF(INDEX(calc!$Z$7:$Z$400,'Report Dashboard'!$L29,1)<>"",INDEX(calc!$Z$7:$Z$400,'Report Dashboard'!$L29,1),"") | N29: =IFERROR(INDEX(invoice[تاریخ],MATCH('Report Dashboard'!M29,invoice[شماره پیش فاکتور],0)),"") | O29: =IFERROR(INDEX(invoice[تاریخ مجوز بهره برداری],MATCH('Report Dashboard'!M29,invoice[شماره پیش فاکتور],0)),"") | P29: =IFERROR(INDEX(invoice[تاریخ انقضا],MATCH('Report Dashboard'!M29,invoice[شماره پیش فاکتور],0)),"") | Q29: =IFERROR(INDEX(invoice[نوع شرکت],MATCH('Report Dashboard'!M29,invoice[شماره پیش فاکتور],0)),"") | R29: =IFERROR(INDEX(invoice[میزان سفارش],MATCH('Report Dashboard'!M29,invoice[شماره پیش فاکتور],0)),"") | S29: =IFERROR(INDEX(invoice[نوع سفارش],MATCH('Report Dashboard'!M29,invoice[شماره پیش فاکتور],0)),"") | T29: =IFERROR(INDEX(invoice[فی],MATCH('Report Dashboard'!M29,invoice[شماره پیش فاکتور],0)),"") | U29: =IF(INDEX(calc!$AB$7:$AB$400,'Report Dashboard'!$L29,1)<>"",INDEX(calc!$AB$7:$AB$400,'Report Dashboard'!$L29,1),"") | V29: =IFERROR(IF(AND(R29<>"",U29=""),"در انتظار بارگیری",IF(R29<>0,U29/R29,0)),"") | W29: =IF(U29="",R29,R29-U29)
L30: =L29+1 -> 13 | M30: =IF(INDEX(calc!$Z$7:$Z$400,'Report Dashboard'!$L30,1)<>"",INDEX(calc!$Z$7:$Z$400,'Report Dashboard'!$L30,1),"") | N30: =IFERROR(INDEX(invoice[تاریخ],MATCH('Report Dashboard'!M30,invoice[شماره پیش فاکتور],0)),"") | O30: =IFERROR(INDEX(invoice[تاریخ مجوز بهره برداری],MATCH('Report Dashboard'!M30,invoice[شماره پیش فاکتور],0)),"") | P30: =IFERROR(INDEX(invoice[تاریخ انقضا],MATCH('Report Dashboard'!M30,invoice[شماره پیش فاکتور],0)),"") | Q30: =IFERROR(INDEX(invoice[نوع شرکت],MATCH('Report Dashboard'!M30,invoice[شماره پیش فاکتور],0)),"") | R30: =IFERROR(INDEX(invoice[میزان سفارش],MATCH('Report Dashboard'!M30,invoice[شماره پیش فاکتور],0)),"") | S30: {=IFERROR(INDEX(invoice[نوع سفارش],MATCH('Report Dashboard'!M30,invoice[شماره پیش فاکتور],0)),"")} | T30: =IFERROR(INDEX(invoice[فی],MATCH('Report Dashboard'!M30,invoice[شماره پیش فاکتور],0)),"") | U30: =IF(INDEX(calc!$AB$7:$AB$400,'Report Dashboard'!$L30,1)<>"",INDEX(calc!$AB$7:$AB$400,'Report Dashboard'!$L30,1),"") | V30: =IFERROR(IF(AND(R30<>"",U30=""),"در انتظار بارگیری",IF(R30<>0,U30/R30,0)),"") | W30: =IF(U30="",R30,R30-U30) | Y30: شهریور | AD30: اسفند
L31: =L30+1 -> 14 | M31: =IF(INDEX(calc!$Z$7:$Z$400,'Report Dashboard'!$L31,1)<>"",INDEX(calc!$Z$7:$Z$400,'Report Dashboard'!$L31,1),"") | N31: =IFERROR(INDEX(invoice[تاریخ],MATCH('Report Dashboard'!M31,invoice[شماره پیش فاکتور],0)),"") | O31: =IFERROR(INDEX(invoice[تاریخ مجوز بهره برداری],MATCH('Report Dashboard'!M31,invoice[شماره پیش فاکتور],0)),"") | P31: =IFERROR(INDEX(invoice[تاریخ انقضا],MATCH('Report Dashboard'!M31,invoice[شماره پیش فاکتور],0)),"") | Q31: =IFERROR(INDEX(invoice[نوع شرکت],MATCH('Report Dashboard'!M31,invoice[شماره پیش فاکتور],0)),"") | R31: =IFERROR(INDEX(invoice[میزان سفارش],MATCH('Report Dashboard'!M31,invoice[شماره پیش فاکتور],0)),"") | S31: {=IFERROR(INDEX(invoice[نوع سفارش],MATCH('Report Dashboard'!M31,invoice[شماره پیش فاکتور],0)),"")} | T31: =IFERROR(INDEX(invoice[فی],MATCH('Report Dashboard'!M31,invoice[شماره پیش فاکتور],0)),"") | U31: =IF(INDEX(calc!$AB$7:$AB$400,'Report Dashboard'!$L31,1)<>"",INDEX(calc!$AB$7:$AB$400,'Report Dashboard'!$L31,1),"") | V31: =IFERROR(IF(AND(R31<>"",U31=""),"در انتظار بارگیری",IF(R31<>0,U31/R31,0)),"") | W31: =IF(U31="",R31,R31-U31)
L32: =L31+1 -> 15 | M32: =IF(INDEX(calc!$Z$7:$Z$400,'Report Dashboard'!$L32,1)<>"",INDEX(calc!$Z$7:$Z$400,'Report Dashboard'!$L32,1),"") | N32: =IFERROR(INDEX(invoice[تاریخ],MATCH('Report Dashboard'!M32,invoice[شماره پیش فاکتور],0)),"") | O32: =IFERROR(INDEX(invoice[تاریخ مجوز بهره برداری],MATCH('Report Dashboard'!M32,invoice[شماره پیش فاکتور],0)),"") | P32: =IFERROR(INDEX(invoice[تاریخ انقضا],MATCH('Report Dashboard'!M32,invoice[شماره پیش فاکتور],0)),"") | Q32: =IFERROR(INDEX(invoice[نوع شرکت],MATCH('Report Dashboard'!M32,invoice[شماره پیش فاکتور],0)),"") | R32: =IFERROR(INDEX(invoice[میزان سفارش],MATCH('Report Dashboard'!M32,invoice[شماره پیش فاکتور],0)),"") | S32: {=IFERROR(INDEX(invoice[نوع سفارش],MATCH('Report Dashboard'!M32,invoice[شماره پیش فاکتور],0)),"")} | T32: =IFERROR(INDEX(invoice[فی],MATCH('Report Dashboard'!M32,invoice[شماره پیش فاکتور],0)),"") | U32: =IF(INDEX(calc!$AB$7:$AB$400,'Report Dashboard'!$L32,1)<>"",INDEX(calc!$AB$7:$AB$400,'Report Dashboard'!$L32,1),"") | V32: =IFERROR(IF(AND(R32<>"",U32=""),"در انتظار بارگیری",IF(R32<>0,U32/R32,0)),"")
L33: =L32+1 -> 16 | M33: =IF(INDEX(calc!$Z$7:$Z$400,'Report Dashboard'!$L33,1)<>"",INDEX(calc!$Z$7:$Z$400,'Report Dashboard'!$L33,1),"") | N33: =IFERROR(INDEX(invoice[تاریخ],MATCH('Report Dashboard'!M33,invoice[شماره پیش فاکتور],0)),"") | O33: =IFERROR(INDEX(invoice[تاریخ مجوز بهره برداری],MATCH('Report Dashboard'!M33,invoice[شماره پیش فاکتور],0)),"") | P33: =IFERROR(INDEX(invoice[تاریخ انقضا],MATCH('Report Dashboard'!M33,invoice[شماره پیش فاکتور],0)),"") | Q33: =IFERROR(INDEX(invoice[نوع شرکت],MATCH('Report Dashboard'!M33,invoice[شماره پیش فاکتور],0)),"") | R33: =IFERROR(INDEX(invoice[میزان سفارش],MATCH('Report Dashboard'!M33,invoice[شماره پیش فاکتور],0)),"") | S33: {=IFERROR(INDEX(invoice[نوع سفارش],MATCH('Report Dashboard'!M33,invoice[شماره پیش فاکتور],0)),"")} | T33: =IFERROR(INDEX(invoice[فی],MATCH('Report Dashboard'!M33,invoice[شماره پیش فاکتور],0)),"") | U33: =IF(INDEX(calc!$AB$7:$AB$400,'Report Dashboard'!$L33,1)<>"",INDEX(calc!$AB$7:$AB$400,'Report Dashboard'!$L33,1),"") | V33: =IFERROR(IF(AND(R33<>"",U33=""),"در انتظار بارگیری",IF(R33<>0,U33/R33,0)),"") | W33: =IF(U33="",R33,R33-U33)
L34: =L33+1 -> 17 | M34: =IF(INDEX(calc!$Z$7:$Z$400,'Report Dashboard'!$L34,1)<>"",INDEX(calc!$Z$7:$Z$400,'Report Dashboard'!$L34,1),"") | N34: =IFERROR(INDEX(invoice[تاریخ],MATCH('Report Dashboard'!M34,invoice[شماره پیش فاکتور],0)),"") | O34: =IFERROR(INDEX(invoice[تاریخ مجوز بهره برداری],MATCH('Report Dashboard'!M34,invoice[شماره پیش فاکتور],0)),"") | P34: =IFERROR(INDEX(invoice[تاریخ انقضا],MATCH('Report Dashboard'!M34,invoice[شماره پیش فاکتور],0)),"") | Q34: =IFERROR(INDEX(invoice[نوع شرکت],MATCH('Report Dashboard'!M34,invoice[شماره پیش فاکتور],0)),"") | R34: =IFERROR(INDEX(invoice[میزان سفارش],MATCH('Report Dashboard'!M34,invoice[شماره پیش فاکتور],0)),"") | S34: {=IFERROR(INDEX(invoice[نوع سفارش],MATCH('Report Dashboard'!M34,invoice[شماره پیش فاکتور],0)),"")} | T34: =IFERROR(INDEX(invoice[فی],MATCH('Report Dashboard'!M34,invoice[شماره پیش فاکتور],0)),"") | U34: =IF(INDEX(calc!$AB$7:$AB$400,'Report Dashboard'!$L34,1)<>"",INDEX(calc!$AB$7:$AB$400,'Report Dashboard'!$L34,1),"") | V34: =IFERROR(IF(AND(R34<>"",U34=""),"در انتظار بارگیری",IF(R34<>0,U34/R34,0)),"") | W34: =IF(U34="",R34,R34-U34)
L35: =L34+1 -> 18 | M35: =IF(INDEX(calc!$Z$7:$Z$400,'Report Dashboard'!$L35,1)<>"",INDEX(calc!$Z$7:$Z$400,'Report Dashboard'!$L35,1),"") | N35: =IFERROR(INDEX(invoice[تاریخ],MATCH('Report Dashboard'!M35,invoice[شماره پیش فاکتور],0)),"") | O35: =IFERROR(INDEX(invoice[تاریخ مجوز بهره برداری],MATCH('Report Dashboard'!M35,invoice[شماره پیش فاکتور],0)),"") | P35: =IFERROR(INDEX(invoice[تاریخ انقضا],MATCH('Report Dashboard'!M35,invoice[شماره پیش فاکتور],0)),"") | Q35: =IFERROR(INDEX(invoice[نوع شرکت],MATCH('Report Dashboard'!M35,invoice[شماره پیش فاکتور],0)),"") | R35: =IFERROR(INDEX(invoice[میزان سفارش],MATCH('Report Dashboard'!M35,invoice[شماره پیش فاکتور],0)),"") | S35: {=IFERROR(INDEX(invoice[نوع سفارش],MATCH('Report Dashboard'!M35,invoice[شماره پیش فاکتور],0)),"")} | T35: =IFERROR(INDEX(invoice[فی],MATCH('Report Dashboard'!M35,invoice[شماره پیش فاکتور],0)),"") | U35: =IF(INDEX(calc!$AB$7:$AB$400,'Report Dashboard'!$L35,1)<>"",INDEX(calc!$AB$7:$AB$400,'Report Dashboard'!$L35,1),"") | V35: =IFERROR(IF(AND(R35<>"",U35=""),"در انتظار بارگیری",IF(R35<>0,U35/R35,0)),"") | W35: =IF(U35="",R35,R35-U35)
L36: =L35+1 -> 19 | M36: =IF(INDEX(calc!$Z$7:$Z$400,'Report Dashboard'!$L36,1)<>"",INDEX(calc!$Z$7:$Z$400,'Report Dashboard'!$L36,1),"") | N36: =IFERROR(INDEX(invoice[تاریخ],MATCH('Report Dashboard'!M36,invoice[شماره پیش فاکتور],0)),"") | O36: =IFERROR(INDEX(invoice[تاریخ مجوز بهره برداری],MATCH('Report Dashboard'!M36,invoice[شماره پیش فاکتور],0)),"") | P36: =IFERROR(INDEX(invoice[تاریخ انقضا],MATCH('Report Dashboard'!M36,invoice[شماره پیش فاکتور],0)),"") | Q36: =IFERROR(INDEX(invoice[نوع شرکت],MATCH('Report Dashboard'!M36,invoice[شماره پیش فاکتور],0)),"") | R36: =IFERROR(INDEX(invoice[میزان سفارش],MATCH('Report Dashboard'!M36,invoice[شماره پیش فاکتور],0)),"") | S36: {=IFERROR(INDEX(invoice[نوع سفارش],MATCH('Report Dashboard'!M36,invoice[شماره پیش فاکتور],0)),"")} | T36: =IFERROR(INDEX(invoice[فی],MATCH('Report Dashboard'!M36,invoice[شماره پیش فاکتور],0)),"") | U36: =IF(INDEX(calc!$AB$7:$AB$400,'Report Dashboard'!$L36,1)<>"",INDEX(calc!$AB$7:$AB$400,'Report Dashboard'!$L36,1),"") | V36: =IFERROR(IF(AND(R36<>"",U36=""),"در انتظار بارگیری",IF(R36<>0,U36/R36,0)),"") | W36: =IF(U36="",R36,R36-U36)
L37: =L36+1 -> 20 | M37: =IF(INDEX(calc!$Z$7:$Z$400,'Report Dashboard'!$L37,1)<>"",INDEX(calc!$Z$7:$Z$400,'Report Dashboard'!$L37,1),"") | N37: =IFERROR(INDEX(invoice[تاریخ],MATCH('Report Dashboard'!M37,invoice[شماره پیش فاکتور],0)),"") | O37: =IFERROR(INDEX(invoice[تاریخ مجوز بهره برداری],MATCH('Report Dashboard'!M37,invoice[شماره پیش فاکتور],0)),"") | P37: =IFERROR(INDEX(invoice[تاریخ انقضا],MATCH('Report Dashboard'!M37,invoice[شماره پیش فاکتور],0)),"") | Q37: =IFERROR(INDEX(invoice[نوع شرکت],MATCH('Report Dashboard'!M37,invoice[شماره پیش فاکتور],0)),"") | R37: =IFERROR(INDEX(invoice[میزان سفارش],MATCH('Report Dashboard'!M37,invoice[شماره پیش فاکتور],0)),"") | S37: {=IFERROR(INDEX(invoice[نوع سفارش],MATCH('Report Dashboard'!M37,invoice[شماره پیش فاکتور],0)),"")} | T37: =IFERROR(INDEX(invoice[فی],MATCH('Report Dashboard'!M37,invoice[شماره پیش فاکتور],0)),"") | U37: =IF(INDEX(calc!$AB$7:$AB$400,'Report Dashboard'!$L37,1)<>"",INDEX(calc!$AB$7:$AB$400,'Report Dashboard'!$L37,1),"") | V37: =IFERROR(IF(AND(R37<>"",U37=""),"در انتظار بارگیری",IF(R37<>0,U37/R37,0)),"") | W37: =IF(U37="",R37,R37-U37)

Sheet Sheet2
D6: =F6*E6 -> 55378560000 | E6: 115372 | F6: 480000
D7: =F7*E7 -> 5025000000 | E7: 167500 | F7: 30000
D8: =F8*E8 -> 3495000000 | E8: 116500 | F8: 30000
D9: =F9*E9 -> 25200000000 | E9: 105000 | F9: 240000
D10: =F10*E10 -> 2556000000 | E10: 142000 | F10: 18000
D11: =F11*E11 -> 2840000000 | E11: 142000 | F11: 20000
D12: =F12*E12 -> 3350000000 | E12: 167500 | F12: 20000
D13: =F13*E13 -> 1958000000 | E13: 89000 | F13: 22000
D14: =F14*E14 -> 1562000000 | E14: 142000 | F14: 11000
D15: =F15*E15 -> 8520000000 | E15: 142000 | F15: 60000
D16: =F16*E16 -> 3350000000 | E16: 167500 | F16: 20000
D17: =F17*E17 -> 2840000000 | E17: 142000 | F17: 20000
... D23: =F23*E23 -> 1500000000 | E23: 75000 | F23: 20000
B24: =D32/F32 -> 119761.05 | D24: =F24*E24 -> 2840000000 | E24: 142000 | F24: 20000
D25: =F25*E25 -> 1900000000 | E25: 95000 | F25: 20000
D26: =F26*E26 -> 3350000000 | E26: 167500 | F26: 20000
D27: =F27*E27 -> 2840000000 | E27: 142000 | F27: 20000
D28: =F28*E28 -> 4800000000 | E28: 120000 | F28: 40000
D29: =F29*E29 -> 5680000000 | E29: 142000 | F29: 40000
D30: =F30*E30 -> 994000000 | E30: 142000 | F30: 7000
D31: =F31*E31 -> 5670000000 | E31: 135000 | F31: 42000
D32: =SUM(D6:D31) -> 174132560000 | F32: =SUM(F6:F31) -> 1454000

Sheet calc
A1: لیست مشتریان | E1: محاسبات کلی | Z1: محاسبات مشتریان جزئی | AN1: محاسبات مشتریان کلی | BJ1: ماه ارسال | CC1: قیمت تعادلی بورس | CJ1: قیمت میانگین | CT1: میانگین وزنی
Z2: Calculated Column 1 | AA2: بله
Z3: نام مشتری | AA3: خوش نوش همدان | AF3: نام مشتری | AG3: خوش نوش همدان | DH3: عرضه بورس
Z4: نوع سفارش | AA4: (Multiple Items) | AF4: نوع سفارش | AG4: (Multiple Items) | AN4: سال | AO4: 1403 | BB4: scroll bar | BC4: 1
E5: نمودار نوع فروش | AW5: year | AX5: =year -> 1405 | BJ5: سال | BK5: 1403 | BO5: سال | BP5: 1403 | BU5: سال | BV5: =INDEX(years,BV23) -> 1405 | CC5: نام مشتری | CD5: ارومیه گاز | CJ5: نام مشتری | CK5: خوش نوش همدان | CN5: جمع مانده | CO5: =SUM(CO9:CO131) -> 304410 | DH5: scroll bar | DI5: 12
F6: میزان سفارش | G6: مانده | H6: میزان حمل شده | I6: درصد مانده | Z6: شماره پیش فاکتور | AA6: میانگین فی | AB6: میزان بارگیری شده | AC6: میزان سفارش | AD6: Sum of درصد میزان بارگیری شده | AF6: میزان سفارش | AG6: میزان بارگیری شده | AH6: میانگین فی | AI6: تعداد پیش فاکتور | AJ6: تعداد بارگیری | AK6: درصد بارگیری | AL6: درصد مانده | AN6: نام مشتری | AO6: میزان سفارش | AP6: میزان بارگیری شده | AQ6: میانگین فی | AR6: تعداد پیش فاکتور | AS6: تعداد بارگیری | AT6: %از کل سفارش ها | AU6: درصد مانده | AW6: نام مشتری | AX6: Column1 | BA6: ردیف | BB6: نام مشتری | BC6: میزان سفارش | BD6: میزان بارگیری شده | BE6: درصد مانده | BX6: FALSE | BY6: FALSE | CC6: نوع | CD6: بورس | CJ6: نوع سفارش | CK6: (Multiple Items) | CT6: ماه | CU6: میانگین وزنی قیمت(ریال) | CV6: میانگین بار حمل شده(کیلوگرم) | DA6: میانگین بار حمل شده بر اساس سال | DB6: =year -> 1405
A7: ارومیه گاز | E7: تعادلی | F7: =SUMIF(invoice2[[نوع ]],calc!E7,invoice2[میزان سفارش]) -> 307700 | G7: =SUMIF(invoice2[[نوع ]],calc!E7,invoice2[مانده]) -> #REF! | H7: =SUMIF(invoice2[[نوع ]],calc!E7,invoice2[حمل شده]) -> #REF! | I7: =G7/F7 -> #REF! | K7: Distinct Count of نام مشتری | L7: تعداد پیش فاکتور | M7: تعداد بارگیری | N7: میزان سفارش | O7: میزان بارگیری شده | P7: میانگین فی | Q7: میانگین سفارش | R7: میانگین بارگیری | S7: انحراف بارگیری | T7: انحراف سفارش | U7: % محقق شده | Z7: پ/113-1404 | AA7: 125000 | AB7: 95590 | AC7: 400000 | AD7: 0.238975 | AF7: 4002430 | AG7: 3698020 | AH7: 86080.851 | AI7: 9 | AJ7: 235 | AK7: =AG7/AF7 -> 0.9239437 | AL7: =1-AK7 -> 0.076056296 | AN7: عراق اربیل | AO7: 15907060 | AP7: 4190990 | AQ7: 57104.168 | AR7: 18 | AS7: 202 | AT7: 0.22018522 | AU7: =1-(AP7/AO7) -> 0.73653271 | AW7: عراق اربیل | AX7: =IFERROR(SUMIFS(invoice[میزان سفارش],invoice[سال],calc!$AX$5,invoice[نام مشتری],calc!AW7)+IFERROR(SUMIFS(invoice[میزان سفارش],invoice[سال],(calc!$AX$5)-1,invoice[نام مشتری],calc!AW7),0)-SUMIFS(bargiri[میزان بارگیری شده],bargiri[نام مشتری],calc!AW7,bargiri[سال],(calc!$AX$5)-1),"") -> 1520150 | BA7: 1 | BB7: =INDEX($AW$7:$AW$101,$BC$4+ROW(A1)-1) -> عراق اربیل | BC7: =SUMIFS(invoice[میزان سفارش],invoice[سال],calc!$AX$5,invoice[نام مشتری],calc!BB7)+IFERROR(SUMIFS(invoice[میزان سفارش],invoice[سال],(calc!$AX$5)-1,invoice[نام مشتری],calc!BB7),0)-SUMIFS(bargiri[میزان بارگیری شده],bargiri[نام مشتری],calc!BB7,bargiri[سال],(calc!$AX$5)-1) -> 1520150 | BD7: =SUMIFS(bargiri[میزان بارگیری شده],bargiri[نام مشتری],calc!BB7,bargiri[سال],(calc!$AX$5)) -> 4492710 | BE7: =BD7/BC7 -> 2.9554386 | BJ7: شماره پیش فاکتور | BK7: میزان بارگیری شده(هزار تن) | BL7: تعداد بارگیری | BO7: شماره پیش فاکتور | BP7: میزان سفارش(هزار تن) | BQ7: تعداد پیش فاکتور | BT7: ماه | BU7: میزان سفارش(هزار تن) | BV7: میزان بارگیری شده(هزار تن) | BW7: مانده تعهدات | BX7: تعداد پیش فاکتور | BY7: تعداد بارگیری | BZ7: میانگین قیمت | CA7: % بارگیری به مانده سفارشات | CT7: فروردین | CU7: =IFERROR(SUMPRODUCT((bargiri[ماه]=CT7)*(bargiri[سال]=$BV$5)*(bargiri[میزان بارگیری شده])*(bargiri[فی])) /SUMIFS(bargiri[میزان بارگیری شده], bargiri[ماه], CT7, bargiri[سال], calc!$BV$5), "") -> 130065.24 | CV7: =IFERROR(SUMPRODUCT((bargiri[ماه]=CT7)*(bargiri[سال]=$BV$5)*(bargiri[میزان بارگیری شده])*(bargiri[فی])) /SUMIFS(bargiri[فی], bargiri[ماه], CT7, bargiri[سال], calc!$BV$5), "") -> 16240.351 | DA7: {=IFERROR(SUMPRODUCT((bargiri[سال]=$BV$5)*(bargiri[میزان بارگیری شده])*(bargiri[فی])) /SUMIF(bargiri[سال],DB6,bargiri[میزان بارگیری شده] ), "")} -> 146291.69 | DH7: حمل شده | DI7: عادی | DJ7: =SUMIFS(bargiri[میزان بارگیری شده], bargiri[سال],year, bargiri[نوع سفارش], "عادی") -> 7559740
A8: پارس اکسیر | E8: انجمن | F8: =SUMIF(invoice2[[نوع ]],calc!E8,invoice2[میزان سفارش]) -> 9130000 | G8: =SUMIF(invoice2[[نوع ]],calc!E8,invoice2[مانده]) -> #REF! | H8: =SUMIF(invoice2[[نوع ]],calc!E8,invoice2[حمل شده]) -> #REF! | I8: =G8/F8 -> #REF! | K8: 34 | L8: 280 | M8: 3161 | N8: 66585078 | O8: 51400945 | P8: 100749.71 | Q8: 237803.85 | R8: 16281.579 | S8: 5853.9238 | T8: 507783.02 | U8: =O13/P13 -> 0.40559911 | V8: =1-U8 -> 0.59440089 | W8: 1 | Z8: پ/37-1402 | AA8: 50000 | AB8: 100000 | AC8: 100000 | AD8: 1 | AN8: طوس قزوین | AO8: 7689400 | AP8: 2925360 | AQ8: 68753.28 | AR8: 50 | AS8: 164 | AT8: 0.15369185 | AU8: =1-(AP8/AO8) -> 0.61955939 | AW8: طوس قزوین | AX8: =IFERROR(SUMIFS(invoice[میزان سفارش],invoice[سال],calc!$AX$5,invoice[نام مشتری],calc!AW8)+IFERROR(SUMIFS(invoice[میزان سفارش],invoice[سال],(calc!$AX$5)-1,invoice[نام مشتری],calc!AW8),0)-SUMIFS(bargiri[میزان بارگیری شده],bargiri[نام مشتری],calc!AW8,bargiri[سال],(calc!$AX$5)-1),"") -> 831810 | BA8: =BA7+1 -> 2 | BB8: =INDEX($AW$7:$AW$101,$BC$4+ROW(A3)-1) -> سپهر سرمد | BC8: =SUMIFS(invoice[میزان سفارش],invoice[سال],calc!$AX$5,invoice[نام مشتری],calc!BB8)+IFERROR(SUMIFS(invoice[میزان سفارش],invoice[سال],(calc!$AX$5)-1,invoice[نام مشتری],calc!BB8),0)-SUMIFS(bargiri[میزان بارگیری شده],bargiri[نام مشتری],calc!BB8,bargiri[سال],(calc!$AX$5)-1) -> 1952745 | BD8: =SUMIFS(bargiri[میزان بارگیری شده],bargiri[نام مشتری],calc!BB8,bargiri[سال],(calc!$AX$5)) -> 227540 | BE8: =BD8/BC8 -> 0.11652315 | BJ8: آبان | BK8: 1837830 | BL8: 98 | BO8: آبان | BP8: 2922955 | BQ8: 18 | BT8: فروردین | BU8: =IF(SUMIFS(invoice[میزان سفارش],invoice[ماه],calc!BT8,invoice[سال],calc!$BV$5)=0,"",SUMIFS(invoice[میزان سفارش],invoice[ماه],calc!BT8,invoice[سال],calc!$BV$5)) | BV8: =IF(SUMIFS(bargiri[میزان بارگیری شده],bargiri[ماه],calc!BT8,bargiri[سال],calc!$BV$5)=0,"",SUMIFS(bargiri[میزان بارگیری شده],bargiri[ماه],calc!BT8,bargiri[سال],calc!$BV$5)) -> 61800 | BW8: =(SUMIF(invoice[سال],$BV$5-1,invoice[میزان سفارش])+SUMIF(invoice[سال],$BV$5-2,invoice[میزان سفارش]))-(SUMIF(bargiri[سال],calc!$BV$5-1,bargiri[میزان بارگیری شده])+SUMIF(bargiri[سال],calc!$BV$5-2,bargiri[میزان بارگیری شده])) -> 14986180 | BX8: =IF($BX$6=TRUE,IF(COUNTIFS(invoice[ماه],calc!BT8,invoice[سال],calc!$BV$5)=0,"",COUNTIFS(invoice[ماه],calc!BT8,invoice[سال],calc!$BV$5)),"") | BY8: =IF($BY$6=TRUE,IF(COUNTIFS(bargiri[ماه],calc!BT8,bargiri[سال],calc!$BV$5)=0,"",COUNTIFS(bargiri[ماه],calc!BT8,bargiri[سال],calc!$BV$5)),"") | BZ8: =IF(AVERAGEIFS(bargiri[فی],bargiri[ماه],calc!BT8,bargiri[سال],calc!$BV$5)=0,"",AVERAGEIFS(bargiri[فی],bargiri[ماه],calc!BT8,bargiri[سال],calc!$BV$5)) -> 123735.5 | CA8: =IFERROR(BV8/(BW8+BU8),NA()) -> #N/A | CC8: شماره پیش فاکتور | CD8: Sum of میزان سفارش | CE8: Average of فی | CJ8: شماره پیش فاکتور | CK8: Sum of میزان سفارش | CL8: پیش فاکتور فی | CM8: Sum of میزان بارگیری شده | CN8: فی | CO8: مانده | CQ8: مانده کل | CR8: =SUM(CO9:CO158) -> 304410 | CT8: اردیبهشت | CU8: =IFERROR(SUMPRODUCT((bargiri[ماه]=CT8)*(bargiri[سال]=$BV$5)*(bargiri[میزان بارگیری شده])*(bargiri[فی])) /SUMIFS(bargiri[میزان بارگیری شده], bargiri[ماه], CT8, bargiri[سال], calc!$BV$5), "") -> 134335.12 | CV8: =IFERROR(SUMPRODUCT((bargiri[ماه]=CT8)*(bargiri[سال]=$BV$5)*(bargiri[میزان بارگیری شده])*(bargiri[فی])) /SUMIFS(bargiri[فی], bargiri[ماه], CT8, bargiri[سال], calc!$BV$5), "") -> 17714.384 | DI8: انجمن | DJ8: =SUMIFS(bargiri[میزان بارگیری شده], bargiri[سال], year, bargiri[نوع سفارش], "انجمن") -> 1769910 | DL8: ماه/نوع فروش | DM8: عادی | DN8: انجمن | DO8: بورس | DP8: تعادلی | DR8: 4 | DS8: کمکی | EB8: 110000000
A9: پارس کربنیک کردستان | E9: بورس | F9: =SUMIF(invoice2[[نوع ]],calc!E9,invoice2[میزان سفارش]) -> 150000 | G9: =SUMIF(invoice2[[نوع ]],calc!E9,invoice2[مانده]) -> #REF! | H9: =SUMIF(invoice2[[نوع ]],calc!E9,invoice2[حمل شده]) -> #REF! | I9: =G9/F9 -> #REF! | O9: =P13-O13 -> 15184133 | Z9: پ/38-1402 | AA9: 65000 | AB9: 902430 | AC9: 902430 | AD9: 1 | AN9: خوش نوش همدان | AO9: 4002430 | AP9: 1455175 | AQ9: 64767.442 | AR9: 9 | AS9: 86 | AT9: 0.076451631 | AU9: =1-(AP9/AO9) -> 0.63642712 | AW9: سپهر سرمد | AX9: =IFERROR(SUMIFS(invoice[میزان سفارش],invoice[سال],calc!$AX$5,invoice[نام مشتری],calc!AW9)+IFERROR(SUMIFS(invoice[میزان سفارش],invoice[سال],(calc!$AX$5)-1,invoice[نام مشتری],calc!AW9),0)-SUMIFS(bargiri[میزان بارگیری شده],bargiri[نام مشتری],calc!AW9,bargiri[سال],(calc!$AX$5)-1),"") -> 1952745 | BA9: =BA8+1 -> 3 | BB9: =INDEX($AW$7:$AW$101,$BC$4+ROW(A4)-1) -> گاز کربنیک غرب | BC9: =SUMIFS(invoice[میزان سفارش],invoice[سال],calc!$AX$5,invoice[نام مشتری],calc!BB9)+IFERROR(SUMIFS(invoice[میزان سفارش],invoice[سال],(calc!$AX$5)-1,invoice[نام مشتری],calc!BB9),0)-SUMIFS(bargiri[میزان بارگیری شده],bargiri[نام مشتری],calc!BB9,bargiri[سال],(calc!$AX$5)-1) -> 993115 | BD9: =SUMIFS(bargiri[میزان بارگیری شده],bargiri[نام مشتری],calc!BB9,bargiri[سال],(calc!$AX$5)) -> 278280 | BE9: =BD9/BC9 -> 0.28020924 | BJ9: آذر | BK9: 1643255 | BL9: 95 | BM9: =AVERAGE(BK9:BK22) -> 1563281.8 | BO9: آذر | BP9: 2062358 | BQ9: 16 | BR9: =AVERAGE(BP9:BP22) -> 5787465.7 | BT9: اردیبهشت | BU9: =IF(SUMIFS(invoice[میزان سفارش],invoice[ماه],calc!BT9,invoice[سال],calc!$BV$5)=0,"",SUMIFS(invoice[میزان سفارش],invoice[ماه],calc!BT9,invoice[سال],calc!$BV$5)) -> 9309093 | BV9: =IF(SUMIFS(bargiri[میزان بارگیری شده],bargiri[ماه],calc!BT9,bargiri[سال],calc!$BV$5)=0,"",SUMIFS(bargiri[میزان بارگیری شده],bargiri[ماه],calc!BT9,bargiri[سال],calc!$BV$5)) -> 2102090 | BW9: =IF(BV9="","",SUM($BU$8:BU8)-SUM($BV$8:BV8)+$BW$8) -> 14924380 | BX9: =IF($BX$6=TRUE,IF(COUNTIFS(invoice[ماه],calc!BT9,invoice[سال],calc!$BV$5)=0,"",COUNTIFS(invoice[ماه],calc!BT9,invoice[سال],calc!$BV$5)),"") | BY9: =IF($BY$6=TRUE,IF(COUNTIFS(bargiri[ماه],calc!BT9,bargiri[سال],calc!$BV$5)=0,"",COUNTIFS(bargiri[ماه],calc!BT9,bargiri[سال],calc!$BV$5)),"") | BZ9: =IF(AVERAGEIFS(bargiri[فی],bargiri[ماه],calc!BT9,bargiri[سال],calc!$BV$5)=0,"",AVERAGEIFS(bargiri[فی],bargiri[ماه],calc!BT9,bargiri[سال],calc!$BV$5)) -> 135092.99 | CA9: =IFERROR(BV9/(BW9+BU9),NA()) -> 0.086743241 | CC9: پ/70-1403 | CD9: 20000 | CE9: 92180 | CJ9: پ/102-1404 | CK9: 500000 | CL9: 125000 | CM9: 500000 | CN9: 125000 | CO9: =IF(CK9-CM9>0,CK9-CM9,"") | CP9: =IF(CO9<>"",CL9,"") | CT9: خرداد | CU9: =IFERROR(SUMPRODUCT((bargiri[ماه]=CT9)*(bargiri[سال]=$BV$5)*(bargiri[میزان بارگیری شده])*(bargiri[فی])) /SUMIFS(bargiri[میزان بارگیری شده], bargiri[ماه], CT9, bargiri[سال], calc!$BV$5), "") -> 139127.62 | CV9: =IFERROR(SUMPRODUCT((bargiri[ماه]=CT9)*(bargiri[سال]=$BV$5)*(bargiri[میزان بارگیری شده])*(bargiri[فی])) /SUMIFS(bargiri[فی], bargiri[ماه], CT9, bargiri[سال], calc!$BV$5), "") -> 16124.773 | DA9: میانگین بار حمل شده بر اساس شرکت | DB9: =CK5 -> خوش نوش همدان | DI9: بورس | DJ9: =SUMIFS(bargiri[میزان بارگیری شده], bargiri[سال], year, bargiri[نوع سفارش], "بورس") -> 214525 | DL9: فروردین | DM9: =SUMIFS(bargiri[میزان بارگیری شده],bargiri[سال],year,bargiri[ماه],insale[[#This Row],[ماه/نوع فروش]],bargiri[نوع سفارش],insale[[#Headers],[عادی]]) -> 46050 | DN9: =SUMIFS(bargiri[میزان بارگیری شده],bargiri[سال],year,bargiri[ماه],insale[[#This Row],[ماه/نوع فروش]],bargiri[نوع سفارش],insale[[#Headers],[انجمن]]) -> 15750 | DO9: =SUMIFS(bargiri[میزان بارگیری شده],bargiri[سال],year,bargiri[ماه],insale[[#This Row],[ماه/نوع فروش]],bargiri[نوع سفارش],insale[[#Headers],[بورس]]) -> 0 | DP9: =SUMIFS(bargiri[میزان بارگیری شده],bargiri[سال],year,bargiri[ماه],insale[[#This Row],[ماه/نوع فروش]],bargiri[نوع سفارش],insale[[#Headers],[تعادلی]]) -> 0 | DR9: فروردین | DS9: {=INDEX(insale[[#This Row],[عادی]:[تعادلی]], DR8)} -> 0 | EB9: 200000
A10: پاینده ساز فردوس | E10: عادی | F10: =SUMIF(invoice2[[نوع ]],calc!E10,invoice2[میزان سفارش]) -> 20991960 | G10: =SUMIF(invoice2[[نوع ]],calc!E10,invoice2[مانده]) -> #REF! | H10: =SUMIF(invoice2[[نوع ]],calc!E10,invoice2[حمل شده]) -> #REF! | I10: =G10/F10 -> #REF! | Z10: پ/2-1403 | AA10: 70000 | AB10: 200000 | AC10: 200000 | AD10: 1 | AN10: پارس اکسیر البرز شمالی | AO10: 3162140 | AP10: 1164165 | AQ10: 62656.25 | AR10: 4 | AS10: 64 | AT10: 0.061162619 | AU10: =1-(AP10/AO10) -> 0.63184268 | AW10: گاز کربنیک غرب | AX10: =IFERROR(SUMIFS(invoice[میزان سفارش],invoice[سال],calc!$AX$5,invoice[نام مشتری],calc!AW10)+IFERROR(SUMIFS(invoice[میزان سفارش],invoice[سال],(calc!$AX$5)-1,invoice[نام مشتری],calc!AW10),0)-SUMIFS(bargiri[میزان بارگیری شده],bargiri[نام مشتری],calc!AW10,bargiri[سال],(calc!$AX$5)-1),"") -> 993115 | BA10: =BA9+1 -> 4 | BB10: =INDEX($AW$7:$AW$101,$BC$4+ROW(A5)-1) -> تعاونی ماهان گاز | BC10: =SUMIFS(invoice[میزان سفارش],invoice[سال],calc!$AX$5,invoice[نام مشتری],calc!BB10)+IFERROR(SUMIFS(invoice[میزان سفارش],invoice[سال],(calc!$AX$5)-1,invoice[نام مشتری],calc!BB10),0)-SUMIFS(bargiri[میزان بارگیری شده],bargiri[نام مشتری],calc!BB10,bargiri[سال],(calc!$AX$5)-1) -> 720540 | BD10: =SUMIFS(bargiri[میزان بارگیری شده],bargiri[نام مشتری],calc!BB10,bargiri[سال],(calc!$AX$5)) -> 314940 | BE10: =BD10/BC10 -> 0.43708885 | BJ10: اردیبهشت | BK10: 694700 | BL10: 44 | BO10: اردیبهشت | BP10: 16907570 | BQ10: 63 | BT10: خرداد | BU10: =IF(SUMIFS(invoice[میزان سفارش],invoice[ماه],calc!BT10,invoice[سال],calc!$BV$5)=0,"",SUMIFS(invoice[میزان سفارش],invoice[ماه],calc!BT10,invoice[سال],calc!$BV$5)) -> 100000 | BV10: =IF(SUMIFS(bargiri[میزان بارگیری شده],bargiri[ماه],calc!BT10,bargiri[سال],calc!$BV$5)=0,"",SUMIFS(bargiri[میزان بارگیری شده],bargiri[ماه],calc!BT10,bargiri[سال],calc!$BV$5)) -> 2095860 | BW10: =IF(BV10="","",SUM($BU$8:BU9)-SUM($BV$8:BV9)+$BW$8) -> 22131383 | BX10: =IF($BX$6=TRUE,IF(COUNTIFS(invoice[ماه],calc!BT10,invoice[سال],calc!$BV$5)=0,"",COUNTIFS(invoice[ماه],calc!BT10,invoice[سال],calc!$BV$5)),"") | BY10: =IF($BY$6=TRUE,IF(COUNTIFS(bargiri[ماه],calc!BT10,bargiri[سال],calc!$BV$5)=0,"",COUNTIFS(bargiri[ماه],calc!BT10,bargiri[سال],calc!$BV$5)),"") | BZ10: =IF(AVERAGEIFS(bargiri[فی],bargiri[ماه],calc!BT10,bargiri[سال],calc!$BV$5)=0,"",AVERAGEIFS(bargiri[فی],bargiri[ماه],calc!BT10,bargiri[سال],calc!$BV$5)) -> 142389.61 | CA10: =IFERROR(BV10/(BW10+BU10),NA()) -> 0.094274837 | CJ10: پ/113-1404 | CK10: 400000 | CL10: 125000 | CM10: 95590 | CN10: 125000 | CO10: =IF(CK10-CM10>0,CK10-CM10,"") -> 304410 | CP10: =IF(CO10<>"",CL10,"") -> 125000 | CT10: تیر | CU10: =IFERROR(SUMPRODUCT((bargiri[ماه]=CT10)*(bargiri[سال]=$BV$5)*(bargiri[میزان بارگیری شده])*(bargiri[فی])) /SUMIFS(bargiri[میزان بارگیری شده], bargiri[ماه], CT10, bargiri[سال], calc!$BV$5), "") -> 150448.47 | CV10: =IFERROR(SUMPRODUCT((bargiri[ماه]=CT10)*(bargiri[سال]=$BV$5)*(bargiri[میزان بارگیری شده])*(bargiri[فی])) /SUMIFS(bargiri[فی], bargiri[ماه], CT10, bargiri[سال], calc!$BV$5), "") -> 16313.327 | DI10: تعادلی | DJ10: =SUMIFS(bargiri[میزان بارگیری شده], bargiri[سال], year, bargiri[نوع سفارش], "تعادلی") -> 816965 | DL10: اردیبهشت | DM10: =SUMIFS(bargiri[میزان بارگیری شده],bargiri[سال],year,bargiri[ماه],insale[[#This Row],[ماه/نوع فروش]],bargiri[نوع سفارش],insale[[#Headers],[عادی]]) -> 1514850 | DN10: =SUMIFS(bargiri[میزان بارگیری شده],bargiri[سال],year,bargiri[ماه],insale[[#This Row],[ماه/نوع فروش]],bargiri[نوع سفارش],insale[[#Headers],[انجمن]]) -> 344065 | DO10: =SUMIFS(bargiri[میزان بارگیری شده],bargiri[سال],year,bargiri[ماه],insale[[#This Row],[ماه/نوع فروش]],bargiri[نوع سفارش],insale[[#Headers],[بورس]]) -> 80180 | DP10: =SUMIFS(bargiri[میزان بارگیری شده],bargiri[سال],year,bargiri[ماه],insale[[#This Row],[ماه/نوع فروش]],bargiri[نوع سفارش],insale[[#Headers],[تعادلی]]) -> 162995 | DR10: اردیبهشت | DS10: {=INDEX(insale[[#This Row],[عادی]:[تعادلی]], DR8)} -> 162995 | EB10: =EB8*EB9 -> 22000000000000
A11: تعاونی ماهان گاز | Z11: پ/40-1402 | AA11: 50000 | AB11: 100000 | AC11: 100000 | AD11: 1 | AN11: شرکت گروه صنعتی پاژ گاز خراسان | AO11: 2999320 | AP11: 542385 | AQ11: 75000 | AR11: 3 | AS11: 30 | AT11: 0.028495692 | AU11: =1-(AP11/AO11) -> 0.81916401 | AW11: تعاونی ماهان گاز | AX11: =IFERROR(SUMIFS(invoice[میزان سفارش],invoice[سال],calc!$AX$5,invoice[نام مشتری],calc!AW11)+IFERROR(SUMIFS(invoice[میزان سفارش],invoice[سال],(calc!$AX$5)-1,invoice[نام مشتری],calc!AW11),0)-SUMIFS(bargiri[میزان بارگیری شده],bargiri[نام مشتری],calc!AW11,bargiri[سال],(calc!$AX$5)-1),"") -> 720540 | BA11: =BA10+1 -> 5 | BB11: =INDEX($AW$7:$AW$101,$BC$4+ROW(A6)-1) -> تولید گازهای طبی و صنعتی مددکاران اصفهان | BC11: =SUMIFS(invoice[میزان سفارش],invoice[سال],calc!$AX$5,invoice[نام مشتری],calc!BB11)+IFERROR(SUMIFS(invoice[میزان سفارش],invoice[سال],(calc!$AX$5)-1,invoice[نام مشتری],calc!BB11),0)-SUMIFS(bargiri[میزان بارگیری شده],bargiri[نام مشتری],calc!BB11,bargiri[سال],(calc!$AX$5)-1) -> 438020 | BD11: =SUMIFS(bargiri[میزان بارگیری شده],bargiri[نام مشتری],calc!BB11,bargiri[سال],(calc!$AX$5)) -> 153870 | BE11: =BD11/BC11 -> 0.35128533 | BJ11: اسفند | BK11: 1699765 | BL11: 105 | BO11: اسفند | BP11: 1318440 | BQ11: 15 | BT11: تیر | BU11: =IF(SUMIFS(invoice[میزان سفارش],invoice[ماه],calc!BT11,invoice[سال],calc!$BV$5)=0,"",SUMIFS(invoice[میزان سفارش],invoice[ماه],calc!BT11,invoice[سال],calc!$BV$5)) -> 600000 | BV11: =IF(SUMIFS(bargiri[میزان بارگیری شده],bargiri[ماه],calc!BT11,bargiri[سال],calc!$BV$5)=0,"",SUMIFS(bargiri[میزان بارگیری شده],bargiri[ماه],calc!BT11,bargiri[سال],calc!$BV$5)) -> 1177140 | BW11: =IF(BV11="","",SUM($BU$8:BU10)-SUM($BV$8:BV10)+$BW$8) -> 20135523 | BX11: =IF($BX$6=TRUE,IF(COUNTIFS(invoice[ماه],calc!BT11,invoice[سال],calc!$BV$5)=0,"",COUNTIFS(invoice[ماه],calc!BT11,invoice[سال],calc!$BV$5)),"") | BY11: =IF($BY$6=TRUE,IF(COUNTIFS(bargiri[ماه],calc!BT11,bargiri[سال],calc!$BV$5)=0,"",COUNTIFS(bargiri[ماه],calc!BT11,bargiri[سال],calc!$BV$5)),"") | BZ11: =IF(AVERAGEIFS(bargiri[فی],bargiri[ماه],calc!BT11,bargiri[سال],calc!$BV$5)=0,"",AVERAGEIFS(bargiri[فی],bargiri[ماه],calc!BT11,bargiri[سال],calc!$BV$5)) -> 152902.65 | CA11: =IFERROR(BV11/(BW11+BU11),NA()) -> 0.056769246 | CJ11: پ/2-1403 | CK11: 200000 | CL11: 70000 | CM11: 200000 | CN11: 70000 | CO11: =IF(CK11-CM11>0,CK11-CM11,"") | CP11: =IF(CO11<>"",CL11,"") | CT11: مرداد | CU11: =IFERROR(SUMPRODUCT((bargiri[ماه]=CT11)*(bargiri[سال]=$BV$5)*(bargiri[میزان بارگیری شده])*(bargiri[فی])) /SUMIFS(bargiri[میزان بارگیری شده], bargiri[ماه], CT11, bargiri[سال], calc!$BV$5), "") -> 145293.39 | CV11: =IFERROR(SUMPRODUCT((bargiri[ماه]=CT11)*(bargiri[سال]=$BV$5)*(bargiri[میزان بارگیری شده])*(bargiri[فی])) /SUMIFS(bargiri[فی], bargiri[ماه], CT11, bargiri[سال], calc!$BV$5), "") -> 16531.871 | DI11: جمع کل | DJ11: =SUM(DJ7:DJ10) -> 10361140 | DL11: خرداد | DM11: =SUMIFS(bargiri[میزان بارگیری شده],bargiri[سال],year,bargiri[ماه],insale[[#This Row],[ماه/نوع فروش]],bargiri[نوع سفارش],insale[[#Headers],[عادی]]) -> 1571740 | DN11: =SUMIFS(bargiri[میزان بارگیری شده],bargiri[سال],year,bargiri[ماه],insale[[#This Row],[ماه/نوع فروش]],bargiri[نوع سفارش],insale[[#Headers],[انجمن]]) -> 274880 | DO11: =SUMIFS(bargiri[میزان بارگیری شده],bargiri[سال],year,bargiri[ماه],insale[[#This Row],[ماه/نوع فروش]],bargiri[نوع سفارش],insale[[#Headers],[بورس]]) -> 31140 | DP11: =SUMIFS(bargiri[میزان بارگیری شده],bargiri[سال],year,bargiri[ماه],insale[[#This Row],[ماه/نوع فروش]],bargiri[نوع سفارش],insale[[#Headers],[تعادلی]]) -> 218100 | DR11: خرداد | DS11: {=INDEX(insale[[#This Row],[عادی]:[تعادلی]], DR8)} -> 218100
A12: مددکاران | K12: تعداد مشتری | L12: تعداد پیش فاکتور | M12: تعداد بارگیری | N12: میانگین قیمت | O12: میزان بارگیری شده | P12: میزان سفارش | Z12: پ/102-1404 | AA12: 125000 | AB12: 500000 | AC12: 500000 | AD12: 1 | AN12: تعاونی ماهان گاز | AO12: 2799340 | AP12: 751925 | AQ12: 66780.822 | AR12: 9 | AS12: 73 | AT12: 0.039504453 | AU12: =1-(AP12/AO12) -> 0.73139204 | AW12: تولید گازهای طبی و صنعتی مددکاران اصفهان | AX12: =IFERROR(SUMIFS(invoice[میزان سفارش],invoice[سال],calc!$AX$5,invoice[نام مشتری],calc!AW12)+IFERROR(SUMIFS(invoice[میزان سفارش],invoice[سال],(calc!$AX$5)-1,invoice[نام مشتری],calc!AW12),0)-SUMIFS(bargiri[میزان بارگیری شده],bargiri[نام مشتری],calc!AW12,bargiri[سال],(calc!$AX$5)-1),"") -> 438020 | BA12: =BA11+1 -> 6 | BB12: =INDEX($AW$7:$AW$101,$BC$4+ROW(A7)-1) -> خوش نوش همدان | BC12: =SUMIFS(invoice[میزان سفارش],invoice[سال],calc!$AX$5,invoice[نام مشتری],calc!BB12)+IFERROR(SUMIFS(invoice[میزان سفارش],invoice[سال],(calc!$AX$5)-1,invoice[نام مشتری],calc!BB12),0)-SUMIFS(bargiri[میزان بارگیری شده],bargiri[نام مشتری],calc!BB12,bargiri[سال],(calc!$AX$5)-1) -> -314155 | BD12: =SUMIFS(bargiri[میزان بارگیری شده],bargiri[نام مشتری],calc!BB12,bargiri[سال],(calc!$AX$5)) -> 528690 | BE12: =BD12/BC12 -> -1.6828954 | BJ12: بهمن | BK12: 2161055 | BL12: 137 | BO12: بهمن | BP12: 3364100 | BQ12: 17 | BT12: مرداد | BU12: =IF(SUMIFS(invoice[میزان سفارش],invoice[ماه],calc!BT12,invoice[سال],calc!$BV$5)=0,"",SUMIFS(invoice[میزان سفارش],invoice[ماه],calc!BT12,invoice[سال],calc!$BV$5)) -> 100000 | BV12: =IF(SUMIFS(bargiri[میزان بارگیری شده],bargiri[ماه],calc!BT12,bargiri[سال],calc!$BV$5)=0,"",SUMIFS(bargiri[میزان بارگیری شده],bargiri[ماه],calc!BT12,bargiri[سال],calc!$BV$5)) -> 1930670 | BW12: =IF(BV12="","",SUM($BU$8:BU11)-SUM($BV$8:BV11)+$BW$8) -> 19558383 | BX12: =IF($BX$6=TRUE,IF(COUNTIFS(invoice[ماه],calc!BT12,invoice[سال],calc!$BV$5)=0,"",COUNTIFS(invoice[ماه],calc!BT12,invoice[سال],calc!$BV$5)),"") | BY12: =IF($BY$6=TRUE,IF(COUNTIFS(bargiri[ماه],calc!BT12,bargiri[سال],calc!$BV$5)=0,"",COUNTIFS(bargiri[ماه],calc!BT12,bargiri[سال],calc!$BV$5)),"") | BZ12: =IF(AVERAGEIFS(bargiri[فی],bargiri[ماه],calc!BT12,bargiri[سال],calc!$BV$5)=0,"",AVERAGEIFS(bargiri[فی],bargiri[ماه],calc!BT12,bargiri[سال],calc!$BV$5)) -> 148842.53 | CA12: =IFERROR(BV12/(BW12+BU12),NA()) -> 0.098211028 | CJ12: پ/32-1403 | CK12: 1000000 | CL12: 80000 | CM12: 1000000 | CN12: 80000 | CO12: =IF(CK12-CM12>0,CK12-CM12,"") | CP12: =IF(CO12<>"",CL12,"") | CT12: شهریور | CU12: =IFERROR(SUMPRODUCT((bargiri[ماه]=CT12)*(bargiri[سال]=$BV$5)*(bargiri[میزان بارگیری شده])*(bargiri[فی])) /SUMIFS(bargiri[میزان بارگیری شده], bargiri[ماه], CT12, bargiri[سال], calc!$BV$5), "") -> 157919.58 | CV12: =IFERROR(SUMPRODUCT((bargiri[ماه]=CT12)*(bargiri[سال]=$BV$5)*(bargiri[میزان بارگیری شده])*(bargiri[فی])) /SUMIFS(bargiri[فی], bargiri[ماه], CT12, bargiri[سال], calc!$BV$5), "") -> 16556.607 | DA12: میانگین بار حمل شده بر اساس شرکت | DB12: =DB9 -> خوش نوش همدان | DC12: سال | DD12: =DB6 -> 1405 | DL12: تیر | DM12: =SUMIFS(bargiri[میزان بارگیری شده],bargiri[سال],year,bargiri[ماه],insale[[#This Row],[ماه/نوع فروش]],bargiri[نوع سفارش],insale[[#Headers],[عادی]]) -> 724730 | DN12: =SUMIFS(bargiri[میزان بارگیری شده],bargiri[سال],year,bargiri[ماه],insale[[#This Row],[ماه/نوع فروش]],bargiri[نوع سفارش],insale[[#Headers],[انجمن]]) -> 284915 | DO12: =SUMIFS(bargiri[میزان بارگیری شده],bargiri[سال],year,bargiri[ماه],insale[[#This Row],[ماه/نوع فروش]],bargiri[نوع سفارش],insale[[#Headers],[بورس]]) -> 17435 | DP12: =SUMIFS(bargiri[میزان بارگیری شده],bargiri[سال],year,bargiri[ماه],insale[[#This Row],[ماه/نوع فروش]],bargiri[نوع سفارش],insale[[#Headers],[تعادلی]]) -> 150060 | DR12: تیر | DS12: {=INDEX(insale[[#This Row],[عادی]:[تعادلی]], DR8)} -> 150060
A13: طوس سبزوار | K13: 25 | L13: =COUNTIF(invoice[سال],calc!$BV$5) -> 37 | M13: =COUNTIF(bargiri[سال],calc!$BV$5) -> 615 | O13: =SUMIF(bargiri[سال],year,bargiri[میزان بارگیری شده]) -> 10361140 | P13: =SUMIF(invoice[سال],year,invoice[میزان سفارش])+(SUMIF(invoice[سال],$BV$5-1,invoice[میزان سفارش])+SUMIF(invoice[سال],$BV$5-2,invoice[میزان سفارش]))-(SUMIF(bargiri[سال],calc!$BV$5-1,bargiri[میزان بارگیری شده])+SUMIF(bargiri[سال],calc!$BV$5-2,bargiri[میزان بارگیری شده])) -> 25545273 | Z13: پ/48-1403 | AA13: 80000 | AB13: 300000 | AC13: 300000 | AD13: 1 | AN13: طاها اندیشان همپای البرز | AO13: 2600000 | AP13: 215790 | AQ13: 75000 | AR13: 5 | AS13: 10 | AT13: 0.011337123 | AU13: =1-(AP13/AO13) -> 0.91700385 | AW13: خوش نوش همدان | AX13: =IFERROR(SUMIFS(invoice[میزان سفارش],invoice[سال],calc!$AX$5,invoice[نام مشتری],calc!AW13)+IFERROR(SUMIFS(invoice[میزان سفارش],invoice[سال],(calc!$AX$5)-1,invoice[نام مشتری],calc!AW13),0)-SUMIFS(bargiri[میزان بارگیری شده],bargiri[نام مشتری],calc!AW13,bargiri[سال],(calc!$AX$5)-1),"") -> -314155 | BA13: =BA12+1 -> 7 | BB13: =INDEX($AW$7:$AW$101,$BC$4+ROW(A8)-1) -> تولیدی گازهای طبی و صنعتی طوس سبزوار | BC13: =SUMIFS(invoice[میزان سفارش],invoice[سال],calc!$AX$5,invoice[نام مشتری],calc!BB13)+IFERROR(SUMIFS(invoice[میزان سفارش],invoice[سال],(calc!$AX$5)-1,invoice[نام مشتری],calc!BB13),0)-SUMIFS(bargiri[میزان بارگیری شده],bargiri[نام مشتری],calc!BB13,bargiri[سال],(calc!$AX$5)-1) -> 522380 | BD13: =SUMIFS(bargiri[میزان بارگیری شده],bargiri[نام مشتری],calc!BB13,bargiri[سال],(calc!$AX$5)) -> 354200 | BE13: =BD13/BC13 -> 0.67805046 | BJ13: تیر | BK13: 1858710 | BL13: 112 | BO13: تیر | BP13: 2229650 | BQ13: 21 | BT13: شهریور | BU13: =IF(SUMIFS(invoice[میزان سفارش],invoice[ماه],calc!BT13,invoice[سال],calc!$BV$5)=0,"",SUMIFS(invoice[میزان سفارش],invoice[ماه],calc!BT13,invoice[سال],calc!$BV$5)) -> 450000 | BV13: =IF(SUMIFS(bargiri[میزان بارگیری شده],bargiri[ماه],calc!BT13,bargiri[سال],calc!$BV$5)=0,"",SUMIFS(bargiri[میزان بارگیری شده],bargiri[ماه],calc!BT13,bargiri[سال],calc!$BV$5)) -> 2067530 | BW13: =IF(BV13="","",SUM($BU$8:BU12)-SUM($BV$8:BV12)+$BW$8) -> 17727713 | BX13: =IF($BX$6=TRUE,IF(COUNTIFS(invoice[ماه],calc!BT13,invoice[سال],calc!$BV$5)=0,"",COUNTIFS(invoice[ماه],calc!BT13,invoice[سال],calc!$BV$5)),"") | BY13: =IF($BY$6=TRUE,IF(COUNTIFS(bargiri[ماه],calc!BT13,bargiri[سال],calc!$BV$5)=0,"",COUNTIFS(bargiri[ماه],calc!BT13,bargiri[سال],calc!$BV$5)),"") | BZ13: =IF(AVERAGEIFS(bargiri[فی],bargiri[ماه],calc!BT13,bargiri[سال],calc!$BV$5)=0,"",AVERAGEIFS(bargiri[فی],bargiri[ماه],calc!BT13,bargiri[سال],calc!$BV$5)) -> 161642.9 | CA13: =IFERROR(BV13/(BW13+BU13),NA()) -> 0.11373983 | CJ13: پ/37-1402 | CK13: 100000 | CL13: 50000 | CM13: 100000 | CN13: 50000 | CO13: =IF(CK13-CM13>0,CK13-CM13,"") | CP13: =IF(CO13<>"",CL13,"") | CT13: مهر | CU13: =IFERROR(SUMPRODUCT((bargiri[ماه]=CT13)*(bargiri[سال]=$BV$5)*(bargiri[میزان بارگیری شده])*(bargiri[فی])) /SUMIFS(bargiri[میزان بارگیری شده], bargiri[ماه], CT13, bargiri[سال], calc!$BV$5), "") -> 161566 | CV13: =IFERROR(SUMPRODUCT((bargiri[ماه]=CT13)*(bargiri[سال]=$BV$5)*(bargiri[میزان بارگیری شده])*(bargiri[فی])) /SUMIFS(bargiri[فی], bargiri[ماه], CT13, bargiri[سال], calc!$BV$5), "") -> 15081.122 | DA13: {=IFERROR(SUMPRODUCT((bargiri[نام مشتری]=DB12)*(bargiri[سال]=DD12)*(bargiri[میزان بارگیری شده])*(bargiri[فی])) /SUMIFS(bargiri[میزان بارگیری شده], bargiri[نام مشتری], DB12, bargiri[سال], DD12), "")} -> 125000 | DH13: حمل نشده | DI13: عادی | DJ13: =SUMIFS(invoice[[میزان حمل نشده ]],invoice[نوع سفارش],"عادی")+345 -> 6543880 | DL13: مرداد | DM13: =SUMIFS(bargiri[میزان بارگیری شده],bargiri[سال],year,bargiri[ماه],insale[[#This Row],[ماه/نوع فروش]],bargiri[نوع سفارش],insale[[#Headers],[عادی]]) -> 1459650 | DN13: =SUMIFS(bargiri[میزان بارگیری شده],bargiri[سال],year,bargiri[ماه],insale[[#This Row],[ماه/نوع فروش]],bargiri[نوع سفارش],insale[[#Headers],[انجمن]]) -> 276640 | DO13: =SUMIFS(bargiri[میزان بارگیری شده],bargiri[سال],year,bargiri[ماه],insale[[#This Row],[ماه/نوع فروش]],bargiri[نوع سفارش],insale[[#Headers],[بورس]]) -> 20000 | DP13: =SUMIFS(bargiri[میزان بارگیری شده],bargiri[سال],year,bargiri[ماه],insale[[#This Row],[ماه/نوع فروش]],bargiri[نوع سفارش],insale[[#Headers],[تعادلی]]) -> 174380 | DR13: مرداد | DS13: {=INDEX(insale[[#This Row],[عادی]:[تعادلی]], DR8)} -> 174380
A14: جوش شیرین خراسان | Z14: پ/32-1403 | AA14: 80000 | AB14: 1000000 | AC14: 1000000 | AD14: 1 | AN14: عبیر شیمی | AO14: 2572300 | AP14: 887195 | AQ14: 65848.485 | AR14: 23 | AS14: 66 | AT14: 0.046611236 | AU14: =1-(AP14/AO14) -> 0.65509661 | AW14: تولیدی گازهای طبی و صنعتی طوس سبزوار | AX14: =IFERROR(SUMIFS(invoice[میزان سفارش],invoice[سال],calc!$AX$5,invoice[نام مشتری],calc!AW14)+IFERROR(SUMIFS(invoice[میزان سفارش],invoice[سال],(calc!$AX$5)-1,invoice[نام مشتری],calc!AW14),0)-SUMIFS(bargiri[میزان بارگیری شده],bargiri[نام مشتری],calc!AW14,bargiri[سال],(calc!$AX$5)-1),"") -> 522380 | BA14: =BA13+1 -> 8 | BB14: =INDEX($AW$7:$AW$101,$BC$4+ROW(A9)-1) -> پارس اکسیر البرز شمالی | BC14: =SUMIFS(invoice[میزان سفارش],invoice[سال],calc!$AX$5,invoice[نام مشتری],calc!BB14)+IFERROR(SUMIFS(invoice[میزان سفارش],invoice[سال],(calc!$AX$5)-1,invoice[نام مشتری],calc!BB14),0)-SUMIFS(bargiri[میزان بارگیری شده],bargiri[نام مشتری],calc!BB14,bargiri[سال],(calc!$AX$5)-1) -> -163275 | BD14: =SUMIFS(bargiri[میزان بارگیری شده],bargiri[نام مشتری],calc!BB14,bargiri[سال],(calc!$AX$5)) -> 576830 | BE14: =BD14/BC14 -> -3.532874 | BJ14: خرداد | BK14: 154150 | BL14: 10 | BO14: خرداد | BP14: 2323085 | BQ14: 17 | BR14: 1 | BT14: مهر | BU14: =IF(SUMIFS(invoice[میزان سفارش],invoice[ماه],calc!BT14,invoice[سال],calc!$BV$5)=0,"",SUMIFS(invoice[میزان سفارش],invoice[ماه],calc!BT14,invoice[سال],calc!$BV$5)) | BV14: =IF(SUMIFS(bargiri[میزان بارگیری شده],bargiri[ماه],calc!BT14,bargiri[سال],calc!$BV$5)=0,"",SUMIFS(bargiri[میزان بارگیری شده],bargiri[ماه],calc!BT14,bargiri[سال],calc!$BV$5)) -> 926050 | BW14: =IF(BV14="","",SUM($BU$8:BU13)-SUM($BV$8:BV13)+$BW$8) -> 16110183 | BX14: =IF($BX$6=TRUE,IF(COUNTIFS(invoice[ماه],calc!BT14,invoice[سال],calc!$BV$5)=0,"",COUNTIFS(invoice[ماه],calc!BT14,invoice[سال],calc!$BV$5)),"") | BY14: =IF($BY$6=TRUE,IF(COUNTIFS(bargiri[ماه],calc!BT14,bargiri[سال],calc!$BV$5)=0,"",COUNTIFS(bargiri[ماه],calc!BT14,bargiri[سال],calc!$BV$5)),"") | BZ14: =IF(AVERAGEIFS(bargiri[فی],bargiri[ماه],calc!BT14,bargiri[سال],calc!$BV$5)=0,"",AVERAGEIFS(bargiri[فی],bargiri[ماه],calc!BT14,bargiri[سال],calc!$BV$5)) -> 168150.73 | CA14: =IFERROR(BV14/(BW14+BU14),NA()) -> #N/A | CJ14: پ/38-1402 | CK14: 902430 | CL14: 65000 | CM14: 902430 | CN14: 65000 | CO14: =IF(CK14-CM14>0,CK14-CM14,"") | CP14: =IF(CO14<>"",CL14,"") | CT14: آبان | CU14: =IFERROR(SUMPRODUCT((bargiri[ماه]=CT14)*(bargiri[سال]=$BV$5)*(bargiri[میزان بارگیری شده])*(bargiri[فی])) /SUMIFS(bargiri[میزان بارگیری شده], bargiri[ماه], CT14, bargiri[سال], calc!$BV$5), "") | CV14: =IFERROR(SUMPRODUCT((bargiri[ماه]=CT14)*(bargiri[سال]=$BV$5)*(bargiri[میزان بارگیری شده])*(bargiri[فی])) /SUMIFS(bargiri[فی], bargiri[ماه], CT14, bargiri[سال], calc!$BV$5), "") | DI14: انجمن | DJ14: =SUMIFS(invoice[[میزان حمل نشده ]],invoice[نوع سفارش],"انجمن") -> 7743818 | DL14: شهریور | DM14: =SUMIFS(bargiri[میزان بارگیری شده],bargiri[سال],year,bargiri[ماه],insale[[#This Row],[ماه/نوع فروش]],bargiri[نوع سفارش],insale[[#Headers],[عادی]]) -> 1533010 | DN14: =SUMIFS(bargiri[میزان بارگیری شده],bargiri[سال],year,bargiri[ماه],insale[[#This Row],[ماه/نوع فروش]],bargiri[نوع سفارش],insale[[#Headers],[انجمن]]) -> 410440 | DO14: =SUMIFS(bargiri[میزان بارگیری شده],bargiri[سال],year,bargiri[ماه],insale[[#This Row],[ماه/نوع فروش]],bargiri[نوع سفارش],insale[[#Headers],[بورس]]) -> 53410 | DP14: =SUMIFS(bargiri[میزان بارگیری شده],bargiri[سال],year,bargiri[ماه],insale[[#This Row],[ماه/نوع فروش]],bargiri[نوع سفارش],insale[[#Headers],[تعادلی]]) -> 70670 | DR14: شهریور | DS14: {=INDEX(insale[[#This Row],[عادی]:[تعادلی]], DR8)} -> 70670
A15: خوش نوش همدان | Z15: پ/68-1404 | AA15: 111000 | AB15: 500000 | AC15: 500000 | AD15: 1 | AN15: سپهر سرمد | AO15: 2500000 | AR15: 3 | AT15: 0 | AU15: =1-(AP15/AO15) -> 1 | AW15: پارس اکسیر البرز شمالی | AX15: =IFERROR(SUMIFS(invoice[میزان سفارش],invoice[سال],calc!$AX$5,invoice[نام مشتری],calc!AW15)+IFERROR(SUMIFS(invoice[میزان سفارش],invoice[سال],(calc!$AX$5)-1,invoice[نام مشتری],calc!AW15),0)-SUMIFS(bargiri[میزان بارگیری شده],bargiri[نام مشتری],calc!AW15,bargiri[سال],(calc!$AX$5)-1),"") -> -163275 | BA15: =BA14+1 -> 9 | BB15: =INDEX($AW$7:$AW$101,$BC$4+ROW(A10)-1) -> اکسیژن ارومیه گاز | BC15: =SUMIFS(invoice[میزان سفارش],invoice[سال],calc!$AX$5,invoice[نام مشتری],calc!BB15)+IFERROR(SUMIFS(invoice[میزان سفارش],invoice[سال],(calc!$AX$5)-1,invoice[نام مشتری],calc!BB15),0)-SUMIFS(bargiri[میزان بارگیری شده],bargiri[نام مشتری],calc!BB15,bargiri[سال],(calc!$AX$5)-1) -> 116055 | BD15: =SUMIFS(bargiri[میزان بارگیری شده],bargiri[نام مشتری],calc!BB15,bargiri[سال],(calc!$AX$5)) -> 44880 | BE15: =BD15/BC15 -> 0.3867132 | BJ15: دی | BK15: 2312705 | BL15: 145 | BO15: دی | BP15: 10142650 | BQ15: 38 | BT15: آبان | BU15: =IF(SUMIFS(invoice[میزان سفارش],invoice[ماه],calc!BT15,invoice[سال],calc!$BV$5)=0,"",SUMIFS(invoice[میزان سفارش],invoice[ماه],calc!BT15,invoice[سال],calc!$BV$5)) | BV15: =IF(SUMIFS(bargiri[میزان بارگیری شده],bargiri[ماه],calc!BT15,bargiri[سال],calc!$BV$5)=0,"",SUMIFS(bargiri[میزان بارگیری شده],bargiri[ماه],calc!BT15,bargiri[سال],calc!$BV$5)) | BW15: =IF(BV15="","",SUM($BU$8:BU14)-SUM($BV$8:BV14)+$BW$8) | BX15: =IF($BX$6=TRUE,IF(COUNTIFS(invoice[ماه],calc!BT15,invoice[سال],calc!$BV$5)=0,"",COUNTIFS(invoice[ماه],calc!BT15,invoice[سال],calc!$BV$5)),"") | BY15: =IF($BY$6=TRUE,IF(COUNTIFS(bargiri[ماه],calc!BT15,bargiri[سال],calc!$BV$5)=0,"",COUNTIFS(bargiri[ماه],calc!BT15,bargiri[سال],calc!$BV$5)),"") | BZ15: =IF(AVERAGEIFS(bargiri[فی],bargiri[ماه],calc!BT15,bargiri[سال],calc!$BV$5)=0,"",AVERAGEIFS(bargiri[فی],bargiri[ماه],calc!BT15,bargiri[سال],calc!$BV$5)) -> #DIV/0! | CA15: =IFERROR(BV15/(BW15+BU15),NA()) -> #N/A | CJ15: پ/40-1402 | CK15: 100000 | CL15: 50000 | CM15: 100000 | CN15: 50000 | CO15: =IF(CK15-CM15>0,CK15-CM15,"") | CP15: =IF(CO15<>"",CL15,"") | CT15: آذر | CU15: =IFERROR(SUMPRODUCT((bargiri[ماه]=CT15)*(bargiri[سال]=$BV$5)*(bargiri[میزان بارگیری شده])*(bargiri[فی])) /SUMIFS(bargiri[میزان بارگیری شده], bargiri[ماه], CT15, bargiri[سال], calc!$BV$5), "") | CV15: =IFERROR(SUMPRODUCT((bargiri[ماه]=CT15)*(bargiri[سال]=$BV$5)*(bargiri[میزان بارگیری شده])*(bargiri[فی])) /SUMIFS(bargiri[فی], bargiri[ماه], CT15, bargiri[سال], calc!$BV$5), "") | DA15: میانگین بار حمل شده بر اساس شرکت | DC15: سال | DD15: =DD12 -> 1405 | DI15: بورس | DJ15: =SUMIFS(invoice[[میزان حمل نشده ]],invoice[نوع سفارش],"بورس") -> 654230 | DL15: مهر | DM15: =SUMIFS(bargiri[میزان بارگیری شده],bargiri[سال],year,bargiri[ماه],insale[[#This Row],[ماه/نوع فروش]],bargiri[نوع سفارش],insale[[#Headers],[عادی]]) -> 709710 | DN15: =SUMIFS(bargiri[میزان بارگیری شده],bargiri[سال],year,bargiri[ماه],insale[[#This Row],[ماه/نوع فروش]],bargiri[نوع سفارش],insale[[#Headers],[انجمن]]) -> 163220 | DO15: =SUMIFS(bargiri[میزان بارگیری شده],bargiri[سال],year,bargiri[ماه],insale[[#This Row],[ماه/نوع فروش]],bargiri[نوع سفارش],insale[[#Headers],[بورس]]) -> 12360 | DP15: =SUMIFS(bargiri[میزان بارگیری شده],bargiri[سال],year,bargiri[ماه],insale[[#This Row],[ماه/نوع فروش]],bargiri[نوع سفارش],insale[[#Headers],[تعادلی]]) -> 40760 | DR15: مهر | DS15: {=INDEX(insale[[#This Row],[عادی]:[تعادلی]], DR8)} -> 40760
