Workbook
Name Slicer_نام_مشتری: #N/A
Name year: calc!$BV$5
Name years: calc!$BU$24:$BU$34

Sheet Report Dashboard
Y5: میانگین قیمت بورس (ریال) | AA5: 240000 | AD5: قیمت میانگین بورس (ریال) | AF5: 240000
Y7: تناژ قابل فروش(کیلوگرم) | AA7: 20000 | AD7: قیمت گذاری جدید (ریال) | AF7: 194000
Y9: قیمت فروش رفته بورس(ریال) | AA9: 90000 | AD9: قیمت فروش رفته بورس(ریال) | AF9: 90000
Y11: تناژ بورس(کیلوگرم) | AA11: 20000 | AD11: تناژ بورس(کیلوگرم) | AF11: 20000
Y13: قیمت گذاری جدید (ریال) | AA13: =((($AA$11+$AA$7)*$AA$5)-($AA$11*$AA$9))/$AA$7 -> 390000 | AD13: تناژ قابل فروش(کیلوگرم) | AF13: =AF11*(AF5-AF9)/(-AF5+AF7) -> -65217.391
L17: ردیف | M17: شماره پیش فاکتور | N17: تاریخ پیش فاکتور | O17: تاریخ بهره برداری | P17: تاریخ انقضا | Q17: نوع شرکت | R17: میزان سفارش | S17: نوع پیش فاکتور | T17: قیمت(ریال) | U17: میزان حمل شده | V17: % حمل شده | W17: حمل نشده
L18: 1 | M18: =IF(INDEX(calc!$Z$7:$Z$400,'Report Dashboard'!$L18,1)<>"",INDEX(calc!$Z$7:$Z$400,'Report Dashboard'!$L18,1),"") -> پ/113-1404 | N18: =IFERROR(INDEX(invoice[تاریخ],MATCH('Report Dashboard'!M18,invoice[شماره پیش فاکتور],0)),"") -> 1404/10/30 | O18: =IFERROR(INDEX(invoice[تاریخ مجوز بهره برداری],MATCH('Report Dashboard'!M18,invoice[شماره پیش فاکتور],0)),"") -> 46042 | P18: =IFERROR(INDEX(invoice[تاریخ انقضا],MATCH('Report Dashboard'!M18,invoice[شماره پیش فاکتور],0)),"") -> 46466 | Q18: =IFERROR(INDEX(invoice[نوع شرکت],MATCH('Report Dashboard'!M18,invoice[شماره پیش فاکتور],0)),"") -> تولید کننده | R18: =IFERROR(INDEX(invoice[میزان سفارش],MATCH('Report Dashboard'!M18,invoice[شماره پیش فاکتور],0)),"") -> 400000 | S18: {=IFERROR(INDEX(invoice[نوع سفارش],MATCH('Report Dashboard'!M18,invoice[شماره پیش فاکتور],0)),"")} -> عادی | T18: =IFERROR(INDEX(invoice[فی],MATCH('Report Dashboard'!M18,invoice[شماره پیش فاکتور],0)),"") -> 125000 | U18: =IF(INDEX(calc!$AB$7:$AB$400,'Report Dashboard'!$L18,1)<>"",INDEX(calc!$AB$7:$AB$400,'Report Dashboard'!$L18,1),"") -> 95590 | V18: =IFERROR(IF(AND(R18<>"",U18=""),"در انتظار بارگیری",IF(R18<>0,U18/R18,0)),"") -> 0.238975 | W18: =IF(U18="",R18,R18-U18) -> 304410
L19: =L18+1 -> 2 | M19: =IF(INDEX(calc!$Z$7:$Z$400,'Report Dashboard'!$L19,1)<>"",INDEX(calc!$Z$7:$Z$400,'Report Dashboard'!$L19,1),"") -> پ/37-1402 | N19: =IFERROR(INDEX(invoice[تاریخ],MATCH('Report Dashboard'!M19,invoice[شماره پیش فاکتور],0)),"") -> 1403/01/01 | O19: =IFERROR(INDEX(invoice[تاریخ مجوز بهره برداری],MATCH('Report Dashboard'!M19,invoice[شماره پیش فاکتور],0)),"") -> 1403/03/31 | P19: =IFERROR(INDEX(invoice[تاریخ انقضا],MATCH('Report Dashboard'!M19,invoice[شماره پیش فاکتور],0)),"") -> 46466 | Q19: =IFERROR(INDEX(invoice[نوع شرکت],MATCH('Report Dashboard'!M19,invoice[شماره پیش فاکتور],0)),"") -> تولید کننده | R19: =IFERROR(INDEX(invoice[میزان سفارش],MATCH('Report Dashboard'!M19,invoice[شماره پیش فاکتور],0)),"") -> 100000 | S19: {=IFERROR(INDEX(invoice[نوع سفارش],MATCH('Report Dashboard'!M19,invoice[شماره پیش فاکتور],0)),"")} -> عادی | T19: =IFERROR(INDEX(invoice[فی],MATCH('Report Dashboard'!M19,invoice[شماره پیش فاکتور],0)),"") -> 50000 | U19: =IF(INDEX(calc!$AB$7:$AB$400,'Report Dashboard'!$L19,1)<>"",INDEX(calc!$AB$7:$AB$400,'Report Dashboard'!$L19,1),"") -> 100000 | V19: =IFERROR(IF(AND(R19<>"",U19=""),"در انتظار بارگیری",IF(R19<>0,U19/R19,0)),"") -> 1 | W19: =IF(U19="",R19,R19-U19) -> 0
L20: =L19+1 -> 3 | M20: =IF(INDEX(calc!$Z$7:$Z$400,'Report Dashboard'!$L20,1)<>"",INDEX(calc!$Z$7:$Z$400,'Report Dashboard'!$L20,1),"") -> پ/38-1402 | N20: =IFERROR(INDEX(invoice[تاریخ],MATCH('Report Dashboard'!M20,invoice[شماره پیش فاکتور],0)),"") -> 1403/01/01 | O20: =IFERROR(INDEX(invoice[تاریخ مجوز بهره برداری],MATCH('Report Dashboard'!M20,invoice[شماره پیش فاکتور],0)),"") -> 1403/01/07 | P20: =IFERROR(INDEX(invoice[تاریخ انقضا],MATCH('Report Dashboard'!M20,invoice[شماره پیش فاکتور],0)),"") -> 46466 | Q20: =IFERROR(INDEX(invoice[نوع شرکت],MATCH('Report Dashboard'!M20,invoice[شماره پیش فاکتور],0)),"") -> تولید کننده | R20: =IFERROR(INDEX(invoice[میزان سفارش],MATCH('Report Dashboard'!M20,invoice[شماره پیش فاکتور],0)),"") -> 902430 | S20: {=IFERROR(INDEX(invoice[نوع سفارش],MATCH('Report Dashboard'!M20,invoice[شماره پیش فاکتور],0)),"")} -> عادی | T20: =IFERROR(INDEX(invoice[فی],MATCH('Report Dashboard'!M20,invoice[شماره پیش فاکتور],0)),"") -> 65000 | U20: =IF(INDEX(calc!$AB$7:$AB$400,'Report Dashboard'!$L20,1)<>"",INDEX(calc!$AB$7:$AB$400,'Report Dashboard'!$L20,1),"") -> 902430 | V20: =IFERROR(IF(AND(R20<>"",U20=""),"در انتظار بارگیری",IF(R20<>0,U20/R20,0)),"") -> 1 | W20: =IF(U20="",R20,R20-U20) -> 0 | Y20: فروردین | AD20: مهر
L21: =L20+1 -> 4 | M21: =IF(INDEX(calc!$Z$7:$Z$400,'Report Dashboard'!$L21,1)<>"",INDEX(calc!$Z$7:$Z$400,'Report Dashboard'!$L21,1),"") -> پ/2-1403 | N21: =IFERROR(INDEX(invoice[تاریخ],MATCH('Report Dashboard'!M21,invoice[شماره پیش فاکتور],0)),"") -> 1403/01/25 | O21: =IFERROR(INDEX(invoice[تاریخ مجوز بهره برداری],MATCH('Report Dashboard'!M21,invoice[شماره پیش فاکتور],0)),"") -> 1403/10/26 | P21: =IFERROR(INDEX(invoice[تاریخ انقضا],MATCH('Report Dashboard'!M21,invoice[شماره پیش فاکتور],0)),"") -> 46466 | Q21: =IFERROR(INDEX(invoice[نوع شرکت],MATCH('Report Dashboard'!M21,invoice[شماره پیش فاکتور],0)),"") -> تولید کننده | R21: =IFERROR(INDEX(invoice[میزان سفارش],MATCH('Report Dashboard'!M21,invoice[شماره پیش فاکتور],0)),"") -> 200000 | S21: {=IFERROR(INDEX(invoice[نوع سفارش],MATCH('Report Dashboard'!M21,invoice[شماره پیش فاکتور],0)),"")} -> عادی | T21: =IFERROR(INDEX(invoice[فی],MATCH('Report Dashboard'!M21,invoice[شماره پیش فاکتور],0)),"") -> 70000 | U21: =IF(INDEX(calc!$AB$7:$AB$400,'Report Dashboard'!$L21,1)<>"",INDEX(calc!$AB$7:$AB$400,'Report Dashboard'!$L21,1),"") -> 200000 | V21: =IFERROR(IF(AND(R21<>"",U21=""),"در انتظار بارگیری",IF(R21<>0,U21/R21,0)),"") -> 1 | W21: =IF(U21="",R21,R21-U21) -> 0
L22: =L21+1 -> 5 | M22: =IF(INDEX(calc!$Z$7:$Z$400,'Report Dashboard'!$L22,1)<>"",INDEX(calc!$Z$7:$Z$400,'Report Dashboard'!$L22,1),"") -> پ/40-1402 | N22: =IFERROR(INDEX(invoice[تاریخ],MATCH('Report Dashboard'!M22,invoice[شماره پیش فاکتور],0)),"") -> 1403/01/01 | O22: =IFERROR(INDEX(invoice[تاریخ مجوز بهره برداری],MATCH('Report Dashboard'!M22,invoice[شماره پیش فاکتور],0)),"") -> 1403/01/25 | P22: =IFERROR(INDEX(invoice[تاریخ انقضا],MATCH('Report Dashboard'!M22,invoice[شماره پیش فاکتور],0)),"") -> 46466 | Q22: =IFERROR(INDEX(invoice[نوع شرکت],MATCH('Report Dashboard'!M22,invoice[شماره پیش فاکتور],0)),"") -> تولید کننده | R22: =IFERROR(INDEX(invoice[میزان سفارش],MATCH('Report Dashboard'!M22,invoice[شماره پیش فاکتور],0)),"") -> 100000 | S22: {=IFERROR(INDEX(invoice[نوع سفارش],MATCH('Report Dashboard'!M22,invoice[شماره پیش فاکتور],0)),"")} -> عادی | T22: =IFERROR(INDEX(invoice[فی],MATCH('Report Dashboard'!M22,invoice[شماره پیش فاکتور],0)),"") -> 50000 | U22: =IF(INDEX(calc!$AB$7:$AB$400,'Report Dashboard'!$L22,1)<>"",INDEX(calc!$AB$7:$AB$400,'Report Dashboard'!$L22,1),"") -> 100000 | V22: =IFERROR(IF(AND(R22<>"",U22=""),"در انتظار بارگیری",IF(R22<>0,U22/R22,0)),"") -> 1 | W22: =IF(U22="",R22,R22-U22) -> 0 | Y22: اردیبهشت | AD22: آبان
L23: =L22+1 -> 6 | M23: =IF(INDEX(calc!$Z$7:$Z$400,'Report Dashboard'!$L23,1)<>"",INDEX(calc!$Z$7:$Z$400,'Report Dashboard'!$L23,1),"") -> پ/102-1404 | N23: =IFERROR(INDEX(invoice[تاریخ],MATCH('Report Dashboard'!M23,invoice[شماره پیش فاکتور],0)),"") -> 1404/10/07 | O23: =IFERROR(INDEX(invoice[تاریخ مجوز بهره برداری],MATCH('Report Dashboard'!M23,invoice[شماره پیش فاکتور],0)),"") -> 1404/10/09 | P23: =IFERROR(INDEX(invoice[تاریخ انقضا],MATCH('Report Dashboard'!M23,invoice[شماره پیش فاکتور],0)),"") -> 46466 | Q23: =IFERROR(INDEX(invoice[نوع شرکت],MATCH('Report Dashboard'!M23,invoice[شماره پیش فاکتور],0)),"") -> تولید کننده | R23: =IFERROR(INDEX(invoice[میزان سفارش],MATCH('Report Dashboard'!M23,invoice[شماره پیش فاکتور],0)),"") -> 500000 | S23: {=IFERROR(INDEX(invoice[نوع سفارش],MATCH('Report Dashboard'!M23,invoice[شماره پیش فاکتور],0)),"")} -> عادی | T23: =IFERROR(INDEX(invoice[فی],MATCH('Report Dashboard'!M23,invoice[شماره پیش فاکتور],0)),"") -> 125000 | U23: =IF(INDEX(calc!$AB$7:$AB$400,'Report Dashboard'!$L23,1)<>"",INDEX(calc!$AB$7:$AB$400,'Report Dashboard'!$L23,1),"") -> 500000 | V23: =IFERROR(IF(AND(R23<>"",U23=""),"در انتظار بارگیری",IF(R23<>0,U23/R23,0)),"") -> 1 | W23: =IF(U23="",R23,R23-U23) -> 0
L24: =L23+1 -> 7 | M24: =IF(INDEX(calc!$Z$7:$Z$400,'Report Dashboard'!$L24,1)<>"",INDEX(calc!$Z$7:$Z$400,'Report Dashboard'!$L24,1),"") -> پ/48-1403 | N24: =IFERROR(INDEX(invoice[تاریخ],MATCH('Report Dashboard'!M24,invoice[شماره پیش فاکتور],0)),"") -> 1403/10/29 | O24: =IFERROR(INDEX(invoice[تاریخ مجوز بهره برداری],MATCH('Report Dashboard'!M24,invoice[شماره پیش فاکتور],0)),"") -> 1403/11/15 | P24: =IFERROR(INDEX(invoice[تاریخ انقضا],MATCH('Report Dashboard'!M24,invoice[شماره پیش فاکتور],0)),"") -> 46466 | Q24: =IFERROR(INDEX(invoice[نوع شرکت],MATCH('Report Dashboard'!M24,invoice[شماره پیش فاکتور],0)),"") -> تولید کننده | R24: =IFERROR(INDEX(invoice[میزان سفارش],MATCH('Report Dashboard'!M24,invoice[شماره پیش فاکتور],0)),"") -> 300000 | S24: {=IFERROR(INDEX(invoice[نوع سفارش],MATCH('Report Dashboard'!M24,invoice[شماره پیش فاکتور],0)),"")} -> عادی | T24: =IFERROR(INDEX(invoice[فی],MATCH('Report Dashboard'!M24,invoice[شماره پیش فاکتور],0)),"") -> 80000 | U24: =IF(INDEX(calc!$AB$7:$AB$400,'Report Dashboard'!$L24,1)<>"",INDEX(calc!$AB$7:$AB$400,'Report Dashboard'!$L24,1),"") -> 300000 | V24: =IFERROR(IF(AND(R24<>"",U24=""),"در انتظار بارگیری",IF(R24<>0,U24/R24,0)),"") -> 1 | W24: =IF(U24="",R24,R24-U24) -> 0 | Y24: خرداد | AD24: آذر
L25: =L24+1 -> 8 | M25: =IF(INDEX(calc!$Z$7:$Z$400,'Report Dashboard'!$L25,1)<>"",INDEX(calc!$Z$7:$Z$400,'Report Dashboard'!$L25,1),"") -> پ/32-1403 | N25: =IFERROR(INDEX(invoice[تاریخ],MATCH('Report Dashboard'!M25,invoice[شماره پیش فاکتور],0)),"") -> 1403/11/03 | O25: =IFERROR(INDEX(invoice[تاریخ مجوز بهره برداری],MATCH('Report Dashboard'!M25,invoice[شماره پیش فاکتور],0)),"") -> 1403/11/03 | P25: =IFERROR(INDEX(invoice[تاریخ انقضا],MATCH('Report Dashboard'!M25,invoice[شماره پیش فاکتور],0)),"") -> 46466 | Q25: =IFERROR(INDEX(invoice[نوع شرکت],MATCH('Report Dashboard'!M25,invoice[شماره پیش فاکتور],0)),"") -> تولید کننده | R25: =IFERROR(INDEX(invoice[میزان سفارش],MATCH('Report Dashboard'!M25,invoice[شماره پیش فاکتور],0)),"") -> 1000000 | S25: {=IFERROR(INDEX(invoice[نوع سفارش],MATCH('Report Dashboard'!M25,invoice[شماره پیش فاکتور],0)),"")} -> عادی | T25: =IFERROR(INDEX(invoice[فی],MATCH('Report Dashboard'!M25,invoice[شماره پیش فاکتور],0)),"") -> 80000 | U25: =IF(INDEX(calc!$AB$7:$AB$400,'Report Dashboard'!$L25,1)<>"",INDEX(calc!$AB$7:$AB$400,'Report Dashboard'!$L25,1),"") -> 1000000 | V25: =IFERROR(IF(AND(R25<>"",U25=""),"در انتظار بارگیری",IF(R25<>0,U25/R25,0)),"") -> 1 | W25: =IF(U25="",R25,R25-U25) -> 0
L26: =L25+1 -> 9 | M26: =IF(INDEX(calc!$Z$7:$Z$400,'Report Dashboard'!$L26,1)<>"",INDEX(calc!$Z$7:$Z$400,'Report Dashboard'!$L26,1),"") -> پ/68-1404 | N26: =IFERROR(INDEX(invoice[تاریخ],MATCH('Report Dashboard'!M26,invoice[شماره پیش فاکتور],0)),"") -> 1404/06/30 | O26: =IFERROR(INDEX(invoice[تاریخ مجوز بهره برداری],MATCH('Report Dashboard'!M26,invoice[شماره پیش فاکتور],0)),"") -> 45923 | P26: =IFERROR(INDEX(invoice[تاریخ انقضا],MATCH('Report Dashboard'!M26,invoice[شماره پیش فاکتور],0)),"") -> 46466 | Q26: =IFERROR(INDEX(invoice[نوع شرکت],MATCH('Report Dashboard'!M26,invoice[شماره پیش فاکتور],0)),"") -> تولید کننده | R26: =IFERROR(INDEX(invoice[میزان سفارش],MATCH('Report Dashboard'!M26,invoice[شماره پیش فاکتور],0)),"") -> 500000 | S26: {=IFERROR(INDEX(invoice[نوع سفارش],MATCH('Report Dashboard'!M26,invoice[شماره پیش فاکتور],0)),"")} -> عادی | T26: =IFERROR(INDEX(invoice[فی],MATCH('Report Dashboard'!M26,invoice[شماره پیش فاکتور],0)),"") -> 111000 | U26: =IF(INDEX(calc!$AB$7:$AB$400,'Report Dashboard'!$L26,1)<>"",INDEX(calc!$AB$7:$AB$400,'Report Dashboard'!$L26,1),"") -> 500000 | V26: =IFERROR(IF(AND(R26<>"",U26=""),"در انتظار بارگیری",IF(R26<>0,U26/R26,0)),"") -> 1 | W26: =IF(U26="",R26,R26-U26) -> 0 | Y26: تیر | AD26: دی
L27: =L26+1 -> 10 | M27: =IF(INDEX(calc!$Z$7:$Z$400,'Report Dashboard'!$L27,1)<>"",INDEX(calc!$Z$7:$Z$400,'Report Dashboard'!$L27,1),"") | N27: =IFERROR(INDEX(invoice[تاریخ],MATCH('Report Dashboard'!M27,invoice[شماره پیش فاکتور],0)),"") | O27: =IFERROR(INDEX(invoice[تاریخ مجوز بهره برداری],MATCH('Report Dashboard'!M27,invoice[شماره پیش فاکتور],0)),"") | P27: =IFERROR(INDEX(invoice[تاریخ انقضا],MATCH('Report Dashboard'!M27,invoice[شماره پیش فاکتور],0)),"") | Q27: =IFERROR(INDEX(invoice[نوع شرکت],MATCH('Report Dashboard'!M27,invoice[شماره پیش فاکتور],0)),"") | R27: =IFERROR(INDEX(invoice[میزان سفارش],MATCH('Report Dashboard'!M27,invoice[شماره پیش فاکتور],0)),"") | S27: {=IFERROR(INDEX(invoice[نوع سفارش],MATCH('Report Dashboard'!M27,invoice[شماره پیش فاکتور],0)),"")} | T27: =IFERROR(INDEX(invoice[فی],MATCH('Report Dashboard'!M27,invoice[شماره پیش فاکتور],0)),"") | U27: =IF(INDEX(calc!$AB$7:$AB$400,'Report Dashboard'!$L27,1)<>"",INDEX(calc!$AB$7:$AB$400,'Report Dashboard'!$L27,1),"") | V27: =IFERROR(IF(AND(R27<>"",U27=""),"در انتظار بارگیری",IF(R27<>0,U27/R27,0)),"") | W27: =IF(U27="",R27,R27-U27)
L28: =L27+1 -> 11 | M28: =IF(INDEX(calc!$Z$7:$Z$400,'Report Dashboard'!$L28,1)<>"",INDEX(calc!$Z$7:$Z$400,'Report Dashboard'!$L28,1),"") | N28: =IFERROR(INDEX(invoice[تاریخ],MATCH('Report Dashboard'!M28,invoice[شماره پیش فاکتور],0)),"") | O28: =IFERROR(INDEX(invoice[تاریخ مجوز بهره برداری],MATCH('Report Dashboard'!M28,invoice[شماره پیش فاکتور],0)),"") | P28: =IFERROR(INDEX(invoice[تاریخ انقضا],MATCH('Report Dashboard'!M28,invoice[شماره پیش فاکتور],0)),"") | Q28: =IFERROR(INDEX(invoice[نوع شرکت],MATCH('Report Dashboard'!M28,invoice[شماره پیش فاکتور],0)),"") | R28: =IFERROR(INDEX(invoice[میزان سفارش],MATCH('Report Dashboard'!M28,invoice[شماره پیش فاکتور],0)),"") | S28: {=IFERROR(INDEX(invoice[نوع سفارش],MATCH('Report Dashboard'!M28,invoice[شماره پیش فاکتور],0)),"")} | T28: =IFERROR(INDEX(invoice[فی],MATCH('Report Dashboard'!M28,invoice[شماره پیش فاکتور],0)),"") | U28: =IF(INDEX(calc!$AB$7:$AB$400,'Report Dashboard'!$L28,1)<>"",INDEX(calc!$AB$7:$AB$400,'Report Dashboard'!$L28,1),"") | V28: =IFERROR(IF(AND(R28<>"",U28=""),"در انتظار بارگیری",IF(R28<>0,U28/R28,0)),"") | W28: =IF(U28="",R28,R28-U28) | Y28: مرداد | AD28: بهمن
L29: =L28+1 -> 12 | M29: =IF(INDEX(calc!$Z$7:$Z$400,'Report Dashboard'!$L29,1)<>"",INDEX(calc!$Z$7:$Z$400,'Report Dashboard'!$L29,1),"") | N29: =IFERROR(INDEX(invoice[تاریخ],MATCH('Report Dashboard'!M29,invoice[شماره پیش فاکتور],0)),"") | O29: =IFERROR(INDEX(invoice[تاریخ مجوز بهره برداری],MATCH('Report Dashboard'!M29,invoice[شماره پیش فاکتور],0)),"") | P29: =IFERROR(INDEX(invoice[تاریخ انقضا],MATCH('Report Dashboard'!M29,invoice[شماره پیش فاکتور],0)),"") | Q29: =IFERROR(INDEX(invoice[نوع شرکت],MATCH('Report Dashboard'!M29,invoice[شماره پیش فاکتور],0)),"") | R29: =IFERROR(INDEX(invoice[میزان سفارش],MATCH('Report Dashboard'!M29,invoice[شماره پیش فاکتور],0)),"") | S29: =IFERROR(INDEX(invoice[نوع سفارش],MATCH('Report Dashboard'!M29,invoice[شماره پیش فاکتور],0)),"") | T29: =IFERROR(INDEX(invoice[فی],MATCH('Report Dashboard'!M29,invoice[شماره پیش فاکتور],0)),"") | U29: =IF(INDEX(calc!$AB$7:$AB$400,'Report Dashboard'!$L29,1)<>"",INDEX(calc!$AB$7:$AB$400,'Report Dashboard'!$L29,1),"") | V29: =IFERROR(IF(AND(R29<>"",U29=""),"در انتظار بارگیری",IF(R29<>0,U29/R29,0)),"") | W29: =IF(U29="",R29,R29-U29)
L30: =L29+1 -> 13 | M30: =IF(INDEX(calc!$Z$7:$Z$400,'Report Dashboard'!$L30,1)<>"",INDEX(calc!$Z$7:$Z$400,'Report Dashboard'!$L30,1),"") | N30: =IFERROR(INDEX(invoice[تاریخ],MATCH('Report Dashboard'!M30,invoice[شماره پیش فاکتور],0)),"") | O30: =IFERROR(INDEX(invoice[تاریخ مجوز بهره برداری],MATCH('Report Dashboard'!M30,invoice[شماره پیش فاکتور],0)),"") | P30: =IFERROR(INDEX(invoice[تاریخ انقضا],MATCH('Report Dashboard'!M30,invoice[شماره پیش فاکتور],0)),"") | Q30: =IFERROR(INDEX(invoice[نوع شرکت],MATCH('Report Dashboard'!M30,invoice[شماره پیش فاکتور],0)),"") | R30: =IFERROR(INDEX(invoice[میزان سفارش],MATCH('Report Dashboard'!M30,invoice[شماره پیش فاکتور],0)),"") | S30: {=IFERROR(INDEX(invoice[نوع سفارش],MATCH('Report Dashboard'!M30,invoice[شماره پیش فاکتور],0)),"")} | T30: =IFERROR(INDEX(invoice[فی],MATCH('Report Dashboard'!M30,invoice[شماره پیش فاکتور],0)),"") | U30: =IF(INDEX(calc!$AB$7:$AB$400,'Report Dashboard'!$L30,1)<>"",INDEX(calc!$AB$7:$AB$400,'Report Dashboard'!$L30,1),"") | V30: =IFERROR(IF(AND(R30<>"",U30=""),"در انتظار بارگیری",IF(R30<>0,U30/R30,0)),"") | W30: =IF(U30="",R30,R30-U30) | Y30: شهریور | AD30: اسفند
L31: =L30+1 -> 14 | M31: =IF(INDEX(calc!$Z$7:$Z$400,'Report Dashboard'!$L31,1)<>"",INDEX(calc!$Z$7:$Z$400,'Report Dashboard'!$L31,1),"") | N31: =IFERROR(INDEX(invoice[تاریخ],MATCH('Report Dashboard'!M31,invoice[شماره پیش فاکتور],0)),"") | O31: =IFERROR(INDEX(invoice[تاریخ مجوز بهره برداری],MATCH('Report Dashboard'!M31,invoice[شماره پیش فاکتور],0)),"") | P31: =IFERROR(INDEX(invoice[تاریخ انقضا],MATCH('Report Dashboard'!M31,invoice[شماره پیش فاکتور],0)),"") | Q31: =IFERROR(INDEX(invoice[نوع شرکت],MATCH('Report Dashboard'!M31,invoice[شماره پیش فاکتور],0)),"") | R31: =IFERROR(INDEX(invoice[میزان سفارش],MATCH('Report Dashboard'!M31,invoice[شماره پیش فاکتور],0)),"") | S31: {=IFERROR(INDEX(invoice[نوع سفارش],MATCH('Report Dashboard'!M31,invoice[شماره پیش فاکتور],0)),"")} | T31: =IFERROR(INDEX(invoice[فی],MATCH('Report Dashboard'!M31,invoice[شماره پیش فاکتور],0)),"") | U31: =IF(INDEX(calc!$AB$7:$AB$400,'Report Dashboard'!$L31,1)<>"",INDEX(calc!$AB$7:$AB$400,'Report Dashboard'!$L31,1),"") | V31: =IFERROR(IF(AND(R31<>"",U31=""),"در انتظار بارگیری",IF(R31<>0,U31/R31,0)),"") | W31: =IF(U31="",R31,R31-U31)
L32: =L31+1 -> 15 | M32: =IF(INDEX(calc!$Z$7:$Z$400,'Report Dashboard'!$L32,1)<>"",INDEX(calc!$Z$7:$Z$400,'Report Dashboard'!$L32,1),"") | N32: =IFERROR(INDEX(invoice[تاریخ],MATCH('Report Dashboard'!M32,invoice[شماره پیش فاکتور],0)),"") | O32: =IFERROR(INDEX(invoice[تاریخ مجوز بهره برداری],MATCH('Report Dashboard'!M32,invoice[شماره پیش فاکتور],0)),"") | P32: =IFERROR(INDEX(invoice[تاریخ انقضا],MATCH('Report Dashboard'!M32,invoice[شماره پیش فاکتور],0)),"") | Q32: =IFERROR(INDEX(invoice[نوع شرکت],MATCH('Report Dashboard'!M32,invoice[شماره پیش فاکتور],0)),"") | R32: =IFERROR(INDEX(invoice[میزان سفارش],MATCH('Report Dashboard'!M32,invoice[شماره پیش فاکتور],0)),"") | S32: {=IFERROR(INDEX(invoice[نوع سفارش],MATCH('Report Dashboard'!M32,invoice[شماره پیش فاکتور],0)),"")} | T32: =IFERROR(INDEX(invoice[فی],MATCH('Report Dashboard'!M32,invoice[شماره پیش فاکتور],0)),"") | U32: =IF(INDEX(calc!$AB$7:$AB$400,'Report Dashboard'!$L32,1)<>"",INDEX(calc!$AB$7:$AB$400,'Report Dashboard'!$L32,1),"") | V32: =IFERROR(IF(AND(R32<>"",U32=""),"در انتظار بارگیری",IF(R32<>0,U32/R32,0)),"")
L33: =L32+1 -> 16 | M33: =IF(INDEX(calc!$Z$7:$Z$400,'Report Dashboard'!$L33,1)<>"",INDEX(calc!$Z$7:$Z$400,'Report Dashboard'!$L33,1),"") | N33: =IFERROR(INDEX(invoice[تاریخ],MATCH('Report Dashboard'!M33,invoice[شماره پیش فاکتور],0)),"") | O33: =IFERROR(INDEX(invoice[تاریخ مجوز بهره برداری],MATCH('Report Dashboard'!M33,invoice[شماره پیش فاکتور],0)),"") | P33: =IFERROR(INDEX(invoice[تاریخ انقضا],MATCH('Report Dashboard'!M33,invoice[شماره پیش فاکتور],0)),"") | Q33: =IFERROR(INDEX(invoice[نوع شرکت],MATCH('Report Dashboard'!M33,invoice[شماره پیش فاکتور],0)),"") | R33: =IFERROR(INDEX(invoice[میزان سفارش],MATCH('Report Dashboard'!M33,invoice[شماره پیش فاکتور],0)),"") | S33: {=IFERROR(INDEX(invoice[نوع سفارش],MATCH('Report Dashboard'!M33,invoice[شماره پیش فاکتور],0)),"")} | T33: =IFERROR(INDEX(invoice[فی],MATCH('Report Dashboard'!M33,invoice[شماره پیش فاکتور],0)),"") | U33: =IF(INDEX(calc!$AB$7:$AB$400,'Report Dashboard'!$L33,1)<>"",INDEX(calc!$AB$7:$AB$400,'Report Dashboard'!$L33,1),"") | V33: =IFERROR(IF(AND(R33<>"",U33=""),"در انتظار بارگیری",IF(R33<>0,U33/R33,0)),"") | W33: =IF(U33="",R33,R33-U33)
L34: =L33+1 -> 17 | M34: =IF(INDEX(calc!$Z$7:$Z$400,'Report Dashboard'!$L34,1)<>"",INDEX(calc!$Z$7:$Z$400,'Report Dashboard'!$L34,1),"") | N34: =IFERROR(INDEX(invoice[تاریخ],MATCH('Report Dashboard'!M34,invoice[شماره پیش فاکتور],0)),"") | O34: =IFERROR(INDEX(invoice[تاریخ مجوز بهره برداری],MATCH('Report Dashboard'!M34,invoice[شماره پیش فاکتور],0)),"") | P34: =IFERROR(INDEX(invoice[تاریخ انقضا],MATCH('Report Dashboard'!M34,invoice[شماره پیش فاکتور],0)),"") | Q34: =IFERROR(INDEX(invoice[نوع شرکت],MATCH('Report Dashboard'!M34,invoice[شماره پیش فاکتور],0)),"") | R34: =IFERROR(INDEX(invoice[میزان سفارش],MATCH('Report Dashboard'!M34,invoice[شماره پیش فاکتور],0)),"") | S34: {=IFERROR(INDEX(invoice[نوع سفارش],MATCH('Report Dashboard'!M34,invoice[شماره پیش فاکتور],0)),"")} | T34: =IFERROR(INDEX(invoice[فی],MATCH('Report Dashboard'!M34,invoice[شماره پیش فاکتور],0)),"") | U34: =IF(INDEX(calc!$AB$7:$AB$400,'Report Dashboard'!$L34,1)<>"",INDEX(calc!$AB$7:$AB$400,'Report Dashboard'!$L34,1),"") | V34: =IFERROR(IF(AND(R34<>"",U34=""),"در انتظار بارگیری",IF(R34<>0,U34/R34,0)),"") | W34: =IF(U34="",R34,R34-U34)
L35: =L34+1 -> 18 | M35: =IF(INDEX(calc!$Z$7:$Z$400,'Report Dashboard'!$L35,1)<>"",INDEX(calc!$Z$7:$Z$400,'Report Dashboard'!$L35,1),"") | N35: =IFERROR(INDEX(invoice[تاریخ],MATCH('Report Dashboard'!M35,invoice[شماره پیش فاکتور],0)),"") | O35: =IFERROR(INDEX(invoice[تاریخ مجوز بهره برداری],MATCH('Report Dashboard'!M35,invoice[شماره پیش فاکتور],0)),"") | P35: =IFERROR(INDEX(invoice[تاریخ انقضا],MATCH('Report Dashboard'!M35,invoice[شماره پیش فاکتور],0)),"") | Q35: =IFERROR(INDEX(invoice[نوع شرکت],MATCH('Report Dashboard'!M35,invoice[شماره پیش فاکتور],0)),"") | R35: =IFERROR(INDEX(invoice[میزان سفارش],MATCH('Report Dashboard'!M35,invoice[شماره پیش فاکتور],0)),"") | S35: {=IFERROR(INDEX(invoice[نوع سفارش],MATCH('Report Dashboard'!M35,invoice[شماره پیش فاکتور],0)),"")} | T35: =IFERROR(INDEX(invoice[فی],MATCH('Report Dashboard'!M35,invoice[شماره پیش فاکتور],0)),"") | U35: =IF(INDEX(calc!$AB$7:$AB$400,'Report Dashboard'!$L35,1)<>"",INDEX(calc!$AB$7:$AB$400,'Report Dashboard'!$L35,1),"") | V35: =IFERROR(IF(AND(R35<>"",U35=""),"در انتظار بارگیری",IF(R35<>0,U35/R35,0)),"") | W35: =IF(U35="",R35,R35-U35)
L36: =L35+1 -> 19 | M36: =IF(INDEX(calc!$Z$7:$Z$400,'Report Dashboard'!$L36,1)<>"",INDEX(calc!$Z$7:$Z$400,'Report Dashboard'!$L36,1),"") | N36: =IFERROR(INDEX(invoice[تاریخ],MATCH('Report Dashboard'!M36,invoice[شماره پیش فاکتور],0)),"") | O36: =IFERROR(INDEX(invoice[تاریخ مجوز بهره برداری],MATCH('Report Dashboard'!M36,invoice[شماره پیش فاکتور],0)),"") | P36: =IFERROR(INDEX(invoice[تاریخ انقضا],MATCH('Report Dashboard'!M36,invoice[شماره پیش فاکتور],0)),"") | Q36: =IFERROR(INDEX(invoice[نوع شرکت],MATCH('Report Dashboard'!M36,invoice[شماره پیش فاکتور],0)),"") | R36: =IFERROR(INDEX(invoice[میزان سفارش],MATCH('Report Dashboard'!M36,invoice[شماره پیش فاکتور],0)),"") | S36: {=IFERROR(INDEX(invoice[نوع سفارش],MATCH('Report Dashboard'!M36,invoice[شماره پیش فاکتور],0)),"")} | T36: =IFERROR(INDEX(invoice[فی],MATCH('Report Dashboard'!M36,invoice[شماره پیش فاکتور],0)),"") | U36: =IF(INDEX(calc!$AB$7:$AB$400,'Report Dashboard'!$L36,1)<>"",INDEX(calc!$AB$7:$AB$400,'Report Dashboard'!$L36,1),"") | V36: =IFERROR(IF(AND(R36<>"",U36=""),"در انتظار بارگیری",IF(R36<>0,U36/R36,0)),"") | W36: =IF(U36="",R36,R36-U36)
L37: =L36+1 -> 20 | M37: =IF(INDEX(calc!$Z$7:$Z$400,'Report Dashboard'!$L37,1)<>"",INDEX(calc!$Z$7:$Z$400,'Report Dashboard'!$L37,1),"") | N37: =IFERROR(INDEX(invoice[تاریخ],MATCH('Report Dashboard'!M37,invoice[شماره پیش فاکتور],0)),"") | O37: =IFERROR(INDEX(invoice[تاریخ مجوز بهره برداری],MATCH('Report Dashboard'!M37,invoice[شماره پیش فاکتور],0)),"") | P37: =IFERROR(INDEX(invoice[تاریخ انقضا],MATCH('Report Dashboard'!M37,invoice[شماره پیش فاکتور],0)),"") | Q37: =IFERROR(INDEX(invoice[نوع شرکت],MATCH('Report Dashboard'!M37,invoice[شماره پیش فاکتور],0)),"") | R37: =IFERROR(INDEX(invoice[میزان سفارش],MATCH('Report Dashboard'!M37,invoice[شماره پیش فاکتور],0)),"") | S37: {=IFERROR(INDEX(invoice[نوع سفارش],MATCH('Report Dashboard'!M37,invoice[شماره پیش فاکتور],0)),"")} | T37: =IFERROR(INDEX(invoice[فی],MATCH('Report Dashboard'!M37,invoice[شماره پیش فاکتور],0)),"") | U37: =IF(INDEX(calc!$AB$7:$AB$400,'Report Dashboard'!$L37,1)<>"",INDEX(calc!$AB$7:$AB$400,'Report Dashboard'!$L37,1),"") | V37: =IFERROR(IF(AND(R37<>"",U37=""),"در انتظار بارگیری",IF(R37<>0,U37/R37,0)),"") | W37: =IF(U37="",R37,R37-U37)

Sheet Sheet2
D6: =F6*E6 -> 55378560000 | E6: 115372 | F6: 480000
D7: =F7*E7 -> 5025000000 | E7: 167500 | F7: 30000
D8: =F8*E8 -> 3495000000 | E8: 116500 | F8: 30000
D9: =F9*E9 -> 25200000000 | E9: 105000 | F9: 240000
D10: =F10*E10 -> 2556000000 | E10: 142000 | F10: 18000
D11: =F11*E11 -> 2840000000 | E11: 142000 | F11: 20000
D12: =F12*E12 -> 3350000000 | E12: 167500 | F12: 20000
D13: =F13*E13 -> 1958000000 | E13: 89000 | F13: 22000
D14: =F14*E14 -> 1562000000 | E14: 142000 | F14: 11000
D15: =F15*E15 -> 8520000000 | E15: 142000 | F15: 60000
D16: =F16*E16 -> 3350000000 | E16: 167500 | F16: 20000
D17: =F17*E17 -> 2840000000 | E17: 142000 | F17: 20000
... D23: =F23*E23 -> 1500000000 | E23: 75000 | F23: 20000
B24: =D32/F32 -> 119761.05 | D24: =F24*E24 -> 2840000000 | E24: 142000 | F24: 20000
D25: =F25*E25 -> 1900000000 | E25: 95000 | F25: 20000
D26: =F26*E26 -> 3350000000 | E26: 167500 | F26: 20000
D27: =F27*E27 -> 2840000000 | E27: 142000 | F27: 20000
D28: =F28*E28 -> 4800000000 | E28: 120000 | F28: 40000
D29: =F29*E29 -> 5680000000 | E29: 142000 | F29: 40000
D30: =F30*E30 -> 994000000 | E30: 142000 | F30: 7000
D31: =F31*E31 -> 5670000000 | E31: 135000 | F31: 42000
D32: =SUM(D6:D31) -> 174132560000 | F32: =SUM(F6:F31) -> 1454000

Sheet calc
A1: لیست مشتریان | E1: محاسبات کلی | Z1: محاسبات مشتریان جزئی | AN1: محاسبات مشتریان کلی | BJ1: ماه ارسال | CC1: قیمت تعادلی بورس | CJ1: قیمت میانگین | CT1: میانگین وزنی
Z2: Calculated Column 1 | AA2: بله
Z3: نام مشتری | AA3: خوش نوش همدان | AF3: نام مشتری | AG3: خوش نوش همدان | DH3: عرضه بورس
Z4: نوع سفارش | AA4: (Multiple Items) | AF4: نوع سفارش | AG4: (Multiple Items) | AN4: سال | AO4: 1403 | BB4: scroll bar | BC4: 1
E5: نمودار نوع فروش | AW5: year | AX5: =year -> 1405 | BJ5: سال | BK5: 1403 | BO5: سال | BP5: 1403 | BU5: سال | BV5: =INDEX(years,BV23) -> 1405 | CC5: نام مشتری | CD5: ارومیه گاز | CJ5: نام مشتری | CK5: خوش نوش همدان | CN5: جمع مانده | CO5: =SUM(CO9:CO131) -> 304410 | DH5: scroll bar | DI5: 12
F6: میزان سفارش | G6: مانده | H6: میزان حمل شده | I6: درصد مانده | Z6: شماره پیش فاکتور | AA6: میانگین فی | AB6: میزان بارگیری شده | AC6: میزان سفارش | AD6: Sum of درصد میزان بارگیری شده | AF6: میزان سفارش | AG6: میزان بارگیری شده | AH6: میانگین فی | AI6: تعداد پیش فاکتور | AJ6: تعداد بارگیری | AK6: درصد بارگیری | AL6: درصد مانده | AN6: نام مشتری | AO6: میزان سفارش | AP6: میزان بارگیری شده | AQ6: میانگین فی | AR6: تعداد پیش فاکتور | AS6: تعداد بارگیری | AT6: %از کل سفارش ها | AU6: درصد مانده | AW6: نام مشتری | AX6: Column1 | BA6: ردیف | BB6: نام مشتری | BC6: میزان سفارش | BD6: میزان بارگیری شده | BE6: درصد مانده | BX6: FALSE | BY6: FALSE | CC6: نوع | CD6: بورس | CJ6: نوع سفارش | CK6: (Multiple Items) | CT6: ماه | CU6: میانگین وزنی قیمت(ریال) | CV6: میانگین بار حمل شده(کیلوگرم) | DA6: میانگین بار حمل شده بر اساس سال | DB6: =year -> 1405
A7: ارومیه گاز | E7: تعادلی | F7: =SUMIF(invoice2[[نوع ]],calc!E7,invoice2[میزان سفارش]) -> 307700 | G7: =SUMIF(invoice2[[نوع ]],calc!E7,invoice2[مانده]) -> #REF! | H7: =SUMIF(invoice2[[نوع ]],calc!E7,invoice2[حمل شده]) -> #REF! | I7: =G7/F7 -> #REF! | K7: Distinct Count of نام مشتری | L7: تعداد پیش فاکتور | M7: تعداد بارگیری | N7: میزان سفارش | O7: میزان بارگیری شده | P7: میانگین فی | Q7: میانگین سفارش | R7: میانگین بارگیری | S7: انحراف بارگیری | T7: انحراف سفارش | U7: % محقق شده | Z7: پ/113-1404 | AA7: 125000 | AB7: 95590 | AC7: 400000 | AD7: 0.238975 | AF7: 4002430 | AG7: 3698020 | AH7: 86080.851 | AI7: 9 | AJ7: 235 | AK7: =AG7/AF7 -> 0.9239437 | AL7: =1-AK7 -> 0.076056296 | AN7: عراق اربیل | AO7: 15907060 | AP7: 4190990 | AQ7: 57104.168 | AR7: 18 | AS7: 202 | AT7: 0.22018522 | AU7: =1-(AP7/AO7) -> 0.73653271 | AW7: عراق اربیل | AX7: =IFERROR(SUMIFS(invoice[میزان سفارش],invoice[سال],calc!$AX$5,invoice[نام مشتری],calc!AW7)+IFERROR(SUMIFS(invoice[میزان سفارش],invoice[سال],(calc!$AX$5)-1,invoice[نام مشتری],calc!AW7),0)-SUMIFS(bargiri[میزان بارگیری شده],bargiri[نام مشتری],calc!AW7,bargiri[سال],(calc!$AX$5)-1),"") -> 1520150 | BA7: 1 | BB7: =INDEX($AW$7:$AW$101,$BC$4+ROW(A1)-1) -> عراق اربیل | BC7: =SUMIFS(invoice[میزان سفارش],invoice[سال],calc!$AX$5,invoice[نام مشتری],calc!BB7)+IFERROR(SUMIFS(invoice[میزان سفارش],invoice[سال],(calc!$AX$5)-1,invoice[نام مشتری],calc!BB7),0)-SUMIFS(bargiri[میزان بارگیری شده],bargiri[نام مشتری],calc!BB7,bargiri[سال],(calc!$AX$5)-1) -> 1520150 | BD7: =SUMIFS(bargiri[میزان بارگیری شده],bargiri[نام مشتری],calc!BB7,bargiri[سال],(calc!$AX$5)) -> 4492710 | BE7: =BD7/BC7 -> 2.9554386 | BJ7: شماره پیش فاکتور | BK7: میزان بارگیری شده(هزار تن) | BL7: تعداد بارگیری | BO7: شماره پیش فاکتور | BP7: میزان سفارش(هزار تن) | BQ7: تعداد پیش فاکتور | BT7: ماه | BU7: میزان سفارش(هزار تن) | BV7: میزان بارگیری شده(هزار تن) | BW7: مانده تعهدات | BX7: تعداد پیش فاکتور | BY7: تعداد بارگیری | BZ7: میانگین قیمت | CA7: % بارگیری به مانده سفارشات | CT7: فروردین | CU7: =IFERROR(SUMPRODUCT((bargiri[ماه]=CT7)*(bargiri[سال]=$BV$5)*(bargiri[میزان بارگیری شده])*(bargiri[فی])) /SUMIFS(bargiri[میزان بارگیری شده], bargiri[ماه], CT7, bargiri[سال], calc!$BV$5), "") -> 130065.24 | CV7: =IFERROR(SUMPRODUCT((bargiri[ماه]=CT7)*(bargiri[سال]=$BV$5)*(bargiri[میزان بارگیری شده])*(bargiri[فی])) /SUMIFS(bargiri[فی], bargiri[ماه], CT7, bargiri[سال], calc!$BV$5), "") -> 16240.351 | DA7: {=IFERROR(SUMPRODUCT((bargiri[سال]=$BV$5)*(bargiri[میزان بارگیری شده])*(bargiri[فی])) /SUMIF(bargiri[سال],DB6,bargiri[میزان بارگیری شده] ), "")} -> 146291.69 | DH7: حمل شده | DI7: عادی | DJ7: =SUMIFS(bargiri[میزان بارگیری شده], bargiri[سال],year, bargiri[نوع سفارش], "عادی") -> 7559740
A8: پارس اکسیر | E8: انجمن | F8: =SUMIF(invoice2[[نوع ]],calc!E8,invoice2[میزان سفارش]) -> 9130000 | G8: =SUMIF(invoice2[[نوع ]],calc!E8,invoice2[مانده]) -> #REF! | H8: =SUMIF(invoice2[[نوع ]],calc!E8,invoice2[حمل شده]) -> #REF! | I8: =G8/F8 -> #REF! | K8: 34 | L8: 280 | M8: 3161 | N8: 66585078 | O8: 51400945 | P8: 100749.71 | Q8: 237803.85 | R8: 16281.579 | S8: 5853.9238 | T8: 507783.02 | U8: =O13/P13 -> 0.40559911 | V8: =1-U8 -> 0.59440089 | W8: 1 | Z8: پ/37-1402 | AA8: 50000 | AB8: 100000 | AC8: 100000 | AD8: 1 | AN8: طوس قزوین | AO8: 7689400 | AP8: 2925360 | AQ8: 68753.28 | AR8: 50 | AS8: 164 | AT8: 0.15369185 | AU8: =1-(AP8/AO8) -> 0.61955939 | AW8: طوس قزوین | AX8: =IFERROR(SUMIFS(invoice[میزان سفارش],invoice[سال],calc!$AX$5,invoice[نام مشتری],calc!AW8)+IFERROR(SUMIFS(invoice[میزان سفارش],invoice[سال],(calc!$AX$5)-1,invoice[نام مشتری],calc!AW8),0)-SUMIFS(bargiri[میزان بارگیری شده],bargiri[نام مشتری],calc!AW8,bargiri[سال],(calc!$AX$5)-1),"") -> 831810 | BA8: =BA7+1 -> 2 | BB8: =INDEX($AW$7:$AW$101,$BC$4+ROW(A3)-1) -> سپهر سرمد | BC8: =SUMIFS(invoice[میزان سفارش],invoice[سال],calc!$AX$5,invoice[نام مشتری],calc!BB8)+IFERROR(SUMIFS(invoice[میزان سفارش],invoice[سال],(calc!$AX$5)-1,invoice[نام مشتری],calc!BB8),0)-SUMIFS(bargiri[میزان بارگیری شده],bargiri[نام مشتری],calc!BB8,bargiri[سال],(calc!$AX$5)-1) -> 1952745 | BD8: =SUMIFS(bargiri[میزان بارگیری شده],bargiri[نام مشتری],calc!BB8,bargiri[سال],(calc!$AX$5)) -> 227540 | BE8: =BD8/BC8 -> 0.11652315 | BJ8: آبان | BK8: 1837830 | BL8: 98 | BO8: آبان | BP8: 2922955 | BQ8: 18 | BT8: فروردین | BU8: =IF(SUMIFS(invoice[میزان سفارش],invoice[ماه],calc!BT8,invoice[سال],calc!$BV$5)=0,"",SUMIFS(invoice[میزان سفارش],invoice[ماه],calc!BT8,invoice[سال],calc!$BV$5)) | BV8: =IF(SUMIFS(bargiri[میزان بارگیری شده],bargiri[ماه],calc!BT8,bargiri[سال],calc!$BV$5)=0,"",SUMIFS(bargiri[میزان بارگیری شده],bargiri[ماه],calc!BT8,bargiri[سال],calc!$BV$5)) -> 61800 | BW8: =(SUMIF(invoice[سال],$BV$5-1,invoice[میزان سفارش])+SUMIF(invoice[سال],$BV$5-2,invoice[میزان سفارش]))-(SUMIF(bargiri[سال],calc!$BV$5-1,bargiri[میزان بارگیری شده])+SUMIF(bargiri[سال],calc!$BV$5-2,bargiri[میزان بارگیری شده])) -> 14986180 | BX8: =IF($BX$6=TRUE,IF(COUNTIFS(invoice[ماه],calc!BT8,invoice[سال],calc!$BV$5)=0,"",COUNTIFS(invoice[ماه],calc!BT8,invoice[سال],calc!$BV$5)),"") | BY8: =IF($BY$6=TRUE,IF(COUNTIFS(bargiri[ماه],calc!BT8,bargiri[سال],calc!$BV$5)=0,"",COUNTIFS(bargiri[ماه],calc!BT8,bargiri[سال],calc!$BV$5)),"") | BZ8: =IF(AVERAGEIFS(bargiri[فی],bargiri[ماه],calc!BT8,bargiri[سال],calc!$BV$5)=0,"",AVERAGEIFS(bargiri[فی],bargiri[ماه],calc!BT8,bargiri[سال],calc!$BV$5)) -> 123735.5 | CA8: =IFERROR(BV8/(BW8+BU8),NA()) -> #N/A | CC8: شماره پیش فاکتور | CD8: Sum of میزان سفارش | CE8: Average of فی | CJ8: شماره پیش فاکتور | CK8: Sum of میزان سفارش | CL8: پیش فاکتور فی | CM8: Sum of میزان بارگیری شده | CN8: فی | CO8: مانده | CQ8: مانده کل | CR8: =SUM(CO9:CO158) -> 304410 | CT8: اردیبهشت | CU8: =IFERROR(SUMPRODUCT((bargiri[ماه]=CT8)*(bargiri[سال]=$BV$5)*(bargiri[میزان بارگیری شده])*(bargiri[فی])) /SUMIFS(bargiri[میزان بارگیری شده], bargiri[ماه], CT8, bargiri[سال], calc!$BV$5), "") -> 134335.12 | CV8: =IFERROR(SUMPRODUCT((bargiri[ماه]=CT8)*(bargiri[سال]=$BV$5)*(bargiri[میزان بارگیری شده])*(bargiri[فی])) /SUMIFS(bargiri[فی], bargiri[ماه], CT8, bargiri[سال], calc!$BV$5), "") -> 17714.384 | DI8: انجمن | DJ8: =SUMIFS(bargiri[میزان بارگیری شده], bargiri[سال], year, bargiri[نوع سفارش], "انجمن") -> 1769910 | DL8: ماه/نوع فروش | DM8: عادی | DN8: انجمن | DO8: بورس | DP8: تعادلی | DR8: 4 | DS8: کمکی | EB8: 110000000
A9: پارس کربنیک کردستان | E9: بورس | F9: =SUMIF(invoice2[[نوع ]],calc!E9,invoice2[میزان سفارش]) -> 150000 | G9: =SUMIF(invoice2[[نوع ]],calc!E9,invoice2[مانده]) -> #REF! | H9: =SUMIF(invoice2[[نوع ]],calc!E9,invoice2[حمل شده]) -> #REF! | I9: =G9/F9 -> #REF! | O9: =P13-O13 -> 15184133 | Z9: پ/38-1402 | AA9: 65000 | AB9: 902430 | AC9: 902430 | AD9: 1 | AN9: خوش نوش همدان | AO9: 4002430 | AP9: 1455175 | AQ9: 64767.442 | AR9: 9 | AS9: 86 | AT9: 0.076451631 | AU9: =1-(AP9/AO9) -> 0.63642712 | AW9: سپهر سرمد | AX9: =IFERROR(SUMIFS(invoice[میزان سفارش],invoice[سال],calc!$AX$5,invoice[نام مشتری],calc!AW9)+IFERROR(SUMIFS(invoice[میزان سفارش],invoice[سال],(calc!$AX$5)-1,invoice[نام مشتری],calc!AW9),0)-SUMIFS(bargiri[میزان بارگیری شده],bargiri[نام مشتری],calc!AW9,bargiri[سال],(calc!$AX$5)-1),"") -> 1952745 | BA9: =BA8+1 -> 3 | BB9: =INDEX($AW$7:$AW$101,$BC$4+ROW(A4)-1) -> گاز کربنیک غرب | BC9: =SUMIFS(invoice[میزان سفارش],invoice[سال],calc!$AX$5,invoice[نام مشتری],calc!BB9)+IFERROR(SUMIFS(invoice[میزان سفارش],invoice[سال],(calc!$AX$5)-1,invoice[نام مشتری],calc!BB9),0)-SUMIFS(bargiri[میزان بارگیری شده],bargiri[نام مشتری],calc!BB9,bargiri[سال],(calc!$AX$5)-1) -> 993115 | BD9: =SUMIFS(bargiri[میزان بارگیری شده],bargiri[نام مشتری],calc!BB9,bargiri[سال],(calc!$AX$5)) -> 278280 | BE9: =BD9/BC9 -> 0.28020924 | BJ9: آذر | BK9: 1643255 | BL9: 95 | BM9: =AVERAGE(BK9:BK22) -> 1563281.8 | BO9: آذر | BP9: 2062358 | BQ9: 16 | BR9: =AVERAGE(BP9:BP22) -> 5787465.7 | BT9: اردیبهشت | BU9: =IF(SUMIFS(invoice[میزان سفارش],invoice[ماه],calc!BT9,invoice[سال],calc!$BV$5)=0,"",SUMIFS(invoice[میزان سفارش],invoice[ماه],calc!BT9,invoice[سال],calc!$BV$5)) -> 9309093 | BV9: =IF(SUMIFS(bargiri[میزان بارگیری شده],bargiri[ماه],calc!BT9,bargiri[سال],calc!$BV$5)=0,"",SUMIFS(bargiri[میزان بارگیری شده],bargiri[ماه],calc!BT9,bargiri[سال],calc!$BV$5)) -> 2102090 | BW9: =IF(BV9="","",SUM($BU$8:BU8)-SUM($BV$8:BV8)+$BW$8) -> 14924380 | BX9: =IF($BX$6=TRUE,IF(COUNTIFS(invoice[ماه],calc!BT9,invoice[سال],calc!$BV$5)=0,"",COUNTIFS(invoice[ماه],calc!BT9,invoice[سال],calc!$BV$5)),"") | BY9: =IF($BY$6=TRUE,IF(COUNTIFS(bargiri[ماه],calc!BT9,bargiri[سال],calc!$BV$5)=0,"",COUNTIFS(bargiri[ماه],calc!BT9,bargiri[سال],calc!$BV$5)),"") | BZ9: =IF(AVERAGEIFS(bargiri[فی],bargiri[ماه],calc!BT9,bargiri[سال],calc!$BV$5)=0,"",AVERAGEIFS(bargiri[فی],bargiri[ماه],calc!BT9,bargiri[سال],calc!$BV$5)) -> 135092.99 | CA9: =IFERROR(BV9/(BW9+BU9),NA()) -> 0.086743241 | CC9: پ/70-1403 | CD9: 20000 | CE9: 92180 | CJ9: پ/102-1404 | CK9: 500000 | CL9: 125000 | CM9: 500000 | CN9: 125000 | CO9: =IF(CK9-CM9>0,CK9-CM9,"") | CP9: =IF(CO9<>"",CL9,"") | CT9: خرداد | CU9: =IFERROR(SUMPRODUCT((bargiri[ماه]=CT9)*(bargiri[سال]=$BV$5)*(bargiri[میزان بارگیری شده])*(bargiri[فی])) /SUMIFS(bargiri[میزان بارگیری شده], bargiri[ماه], CT9, bargiri[سال], calc!$BV$5), "") -> 139127.62 | CV9: =IFERROR(SUMPRODUCT((bargiri[ماه]=CT9)*(bargiri[سال]=$BV$5)*(bargiri[میزان بارگیری شده])*(bargiri[فی])) /SUMIFS(bargiri[فی], bargiri[ماه], CT9, bargiri[سال], calc!$BV$5), "") -> 16124.773 | DA9: میانگین بار حمل شده بر اساس شرکت | DB9: =CK5 -> خوش نوش همدان | DI9: بورس | DJ9: =SUMIFS(bargiri[میزان بارگیری شده], bargiri[سال], year, bargiri[نوع سفارش], "بورس") -> 214525 | DL9: فروردین | DM9: =SUMIFS(bargiri[میزان بارگیری شده],bargiri[سال],year,bargiri[ماه],insale[[#This Row],[ماه/نوع فروش]],bargiri[نوع سفارش],insale[[#Headers],[عادی]]) -> 46050 | DN9: =SUMIFS(bargiri[میزان بارگیری شده],bargiri[سال],year,bargiri[ماه],insale[[#This Row],[ماه/نوع فروش]],bargiri[نوع سفارش],insale[[#Headers],[انجمن]]) -> 15750 | DO9: =SUMIFS(bargiri[میزان بارگیری شده],bargiri[سال],year,bargiri[ماه],insale[[#This Row],[ماه/نوع فروش]],bargiri[نوع سفارش],insale[[#Headers],[بورس]]) -> 0 | DP9: =SUMIFS(bargiri[میزان بارگیری شده],bargiri[سال],year,bargiri[ماه],insale[[#This Row],[ماه/نوع فروش]],bargiri[نوع سفارش],insale[[#Headers],[تعادلی]]) -> 0 | DR9: فروردین | DS9: {=INDEX(insale[[#This Row],[عادی]:[تعادلی]], DR8)} -> 0 | EB9: 200000
A10: پاینده ساز فردوس | E10: عادی | F10: =SUMIF(invoice2[[نوع ]],calc!E10,invoice2[میزان سفارش]) -> 20991960 | G10: =SUMIF(invoice2[[نوع ]],calc!E10,invoice2[مانده]) -> #REF! | H10: =SUMIF(invoice2[[نوع ]],calc!E10,invoice2[حمل شده]) -> #REF! | I10: =G10/F10 -> #REF! | Z10: پ/2-1403 | AA10: 70000 | AB10: 200000 | AC10: 200000 | AD10: 1 | AN10: پارس اکسیر البرز شمالی | AO10: 3162140 | AP10: 1164165 | AQ10: 62656.25 | AR10: 4 | AS10: 64 | AT10: 0.061162619 | AU10: =1-(AP10/AO10) -> 0.63184268 | AW10: گاز کربنیک غرب | AX10: =IFERROR(SUMIFS(invoice[میزان سفارش],invoice[سال],calc!$AX$5,invoice[نام مشتری],calc!AW10)+IFERROR(SUMIFS(invoice[میزان سفارش],invoice[سال],(calc!$AX$5)-1,invoice[نام مشتری],calc!AW10),0)-SUMIFS(bargiri[میزان بارگیری شده],bargiri[نام مشتری],calc!AW10,bargiri[سال],(calc!$AX$5)-1),"") -> 993115 | BA10: =BA9+1 -> 4 | BB10: =INDEX($AW$7:$AW$101,$BC$4+ROW(A5)-1) -> تعاونی ماهان گاز | BC10: =SUMIFS(invoice[میزان سفارش],invoice[سال],calc!$AX$5,invoice[نام مشتری],calc!BB10)+IFERROR(SUMIFS(invoice[میزان سفارش],invoice[سال],(calc!$AX$5)-1,invoice[نام مشتری],calc!BB10),0)-SUMIFS(bargiri[میزان بارگیری شده],bargiri[نام مشتری],calc!BB10,bargiri[سال],(calc!$AX$5)-1) -> 720540 | BD10: =SUMIFS(bargiri[میزان بارگیری شده],bargiri[نام مشتری],calc!BB10,bargiri[سال],(calc!$AX$5)) -> 314940 | BE10: =BD10/BC10 -> 0.43708885 | BJ10: اردیبهشت | BK10: 694700 | BL10: 44 | BO10: اردیبهشت | BP10: 16907570 | BQ10: 63 | BT10: خرداد | BU10: =IF(SUMIFS(invoice[میزان سفارش],invoice[ماه],calc!BT10,invoice[سال],calc!$BV$5)=0,"",SUMIFS(invoice[میزان سفارش],invoice[ماه],calc!BT10,invoice[سال],calc!$BV$5)) -> 100000 | BV10: =IF(SUMIFS(bargiri[میزان بارگیری شده],bargiri[ماه],calc!BT10,bargiri[سال],calc!$BV$5)=0,"",SUMIFS(bargiri[میزان بارگیری شده],bargiri[ماه],calc!BT10,bargiri[سال],calc!$BV$5)) -> 2095860 | BW10: =IF(BV10="","",SUM($BU$8:BU9)-SUM($BV$8:BV9)+$BW$8) -> 22131383 | BX10: =IF($BX$6=TRUE,IF(COUNTIFS(invoice[ماه],calc!BT10,invoice[سال],calc!$BV$5)=0,"",COUNTIFS(invoice[ماه],calc!BT10,invoice[سال],calc!$BV$5)),"") | BY10: =IF($BY$6=TRUE,IF(COUNTIFS(bargiri[ماه],calc!BT10,bargiri[سال],calc!$BV$5)=0,"",COUNTIFS(bargiri[ماه],calc!BT10,bargiri[سال],calc!$BV$5)),"") | BZ10: =IF(AVERAGEIFS(bargiri[فی],bargiri[ماه],calc!BT10,bargiri[سال],calc!$BV$5)=0,"",AVERAGEIFS(bargiri[فی],bargiri[ماه],calc!BT10,bargiri[سال],calc!$BV$5)) -> 142389.61 | CA10: =IFERROR(BV10/(BW10+BU10),NA()) -> 0.094274837 | CJ10: پ/113-1404 | CK10: 400000 | CL10: 125000 | CM10: 95590 | CN10: 125000 | CO10: =IF(CK10-CM10>0,CK10-CM10,"") -> 304410 | CP10: =IF(CO10<>"",CL10,"") -> 125000 | CT10: تیر | CU10: =IFERROR(SUMPRODUCT((bargiri[ماه]=CT10)*(bargiri[سال]=$BV$5)*(bargiri[میزان بارگیری شده])*(bargiri[فی])) /SUMIFS(bargiri[میزان بارگیری شده], bargiri[ماه], CT10, bargiri[سال], calc!$BV$5), "") -> 150448.47 | CV10: =IFERROR(SUMPRODUCT((bargiri[ماه]=CT10)*(bargiri[سال]=$BV$5)*(bargiri[میزان بارگیری شده])*(bargiri[فی])) /SUMIFS(bargiri[فی], bargiri[ماه], CT10, bargiri[سال], calc!$BV$5), "") -> 16313.327 | DI10: تعادلی | DJ10: =SUMIFS(bargiri[میزان بارگیری شده], bargiri[سال], year, bargiri[نوع سفارش], "تعادلی") -> 816965 | DL10: اردیبهشت | DM10: =SUMIFS(bargiri[میزان بارگیری شده],bargiri[سال],year,bargiri[ماه],insale[[#This Row],[ماه/نوع فروش]],bargiri[نوع سفارش],insale[[#Headers],[عادی]]) -> 1514850 | DN10: =SUMIFS(bargiri[میزان بارگیری شده],bargiri[سال],year,bargiri[ماه],insale[[#This Row],[ماه/نوع فروش]],bargiri[نوع سفارش],insale[[#Headers],[انجمن]]) -> 344065 | DO10: =SUMIFS(bargiri[میزان بارگیری شده],bargiri[سال],year,bargiri[ماه],insale[[#This Row],[ماه/نوع فروش]],bargiri[نوع سفارش],insale[[#Headers],[بورس]]) -> 80180 | DP10: =SUMIFS(bargiri[میزان بارگیری شده],bargiri[سال],year,bargiri[ماه],insale[[#This Row],[ماه/نوع فروش]],bargiri[نوع سفارش],insale[[#Headers],[تعادلی]]) -> 162995 | DR10: اردیبهشت | DS10: {=INDEX(insale[[#This Row],[عادی]:[تعادلی]], DR8)} -> 162995 | EB10: =EB8*EB9 -> 22000000000000
A11: تعاونی ماهان گاز | Z11: پ/40-1402 | AA11: 50000 | AB11: 100000 | AC11: 100000 | AD11: 1 | AN11: شرکت گروه صنعتی پاژ گاز خراسان | AO11: 2999320 | AP11: 542385 | AQ11: 75000 | AR11: 3 | AS11: 30 | AT11: 0.028495692 | AU11: =1-(AP11/AO11) -> 0.81916401 | AW11: تعاونی ماهان گاز | AX11: =IFERROR(SUMIFS(invoice[میزان سفارش],invoice[سال],calc!$AX$5,invoice[نام مشتری],calc!AW11)+IFERROR(SUMIFS(invoice[میزان سفارش],invoice[سال],(calc!$AX$5)-1,invoice[نام مشتری],calc!AW11),0)-SUMIFS(bargiri[میزان بارگیری شده],bargiri[نام مشتری],calc!AW11,bargiri[سال],(calc!$AX$5)-1),"") -> 720540 | BA11: =BA10+1 -> 5 | BB11: =INDEX($AW$7:$AW$101,$BC$4+ROW(A6)-1) -> تولید گازهای طبی و صنعتی مددکاران اصفهان | BC11: =SUMIFS(invoice[میزان سفارش],invoice[سال],calc!$AX$5,invoice[نام مشتری],calc!BB11)+IFERROR(SUMIFS(invoice[میزان سفارش],invoice[سال],(calc!$AX$5)-1,invoice[نام مشتری],calc!BB11),0)-SUMIFS(bargiri[میزان بارگیری شده],bargiri[نام مشتری],calc!BB11,bargiri[سال],(calc!$AX$5)-1) -> 438020 | BD11: =SUMIFS(bargiri[میزان بارگیری شده],bargiri[نام مشتری],calc!BB11,bargiri[سال],(calc!$AX$5)) -> 153870 | BE11: =BD11/BC11 -> 0.35128533 | BJ11: اسفند | BK11: 1699765 | BL11: 105 | BO11: اسفند | BP11: 1318440 | BQ11: 15 | BT11: تیر | BU11: =IF(SUMIFS(invoice[میزان سفارش],invoice[ماه],calc!BT11,invoice[سال],calc!$BV$5)=0,"",SUMIFS(invoice[میزان سفارش],invoice[ماه],calc!BT11,invoice[سال],calc!$BV$5)) -> 600000 | BV11: =IF(SUMIFS(bargiri[میزان بارگیری شده],bargiri[ماه],calc!BT11,bargiri[سال],calc!$BV$5)=0,"",SUMIFS(bargiri[میزان بارگیری شده],bargiri[ماه],calc!BT11,bargiri[سال],calc!$BV$5)) -> 1177140 | BW11: =IF(BV11="","",SUM($BU$8:BU10)-SUM($BV$8:BV10)+$BW$8) -> 20135523 | BX11: =IF($BX$6=TRUE,IF(COUNTIFS(invoice[ماه],calc!BT11,invoice[سال],calc!$BV$5)=0,"",COUNTIFS(invoice[ماه],calc!BT11,invoice[سال],calc!$BV$5)),"") | BY11: =IF($BY$6=TRUE,IF(COUNTIFS(bargiri[ماه],calc!BT11,bargiri[سال],calc!$BV$5)=0,"",COUNTIFS(bargiri[ماه],calc!BT11,bargiri[سال],calc!$BV$5)),"") | BZ11: =IF(AVERAGEIFS(bargiri[فی],bargiri[ماه],calc!BT11,bargiri[سال],calc!$BV$5)=0,"",AVERAGEIFS(bargiri[فی],bargiri[ماه],calc!BT11,bargiri[سال],calc!$BV$5)) -> 152902.65 | CA11: =IFERROR(BV11/(BW11+BU11),NA()) -> 0.056769246 | CJ11: پ/2-1403 | CK11: 200000 | CL11: 70000 | CM11: 200000 | CN11: 70000 | CO11: =IF(CK11-CM11>0,CK11-CM11,"") | CP11: =IF(CO11<>"",CL11,"") | CT11: مرداد | CU11: =IFERROR(SUMPRODUCT((bargiri[ماه]=CT11)*(bargiri[سال]=$BV$5)*(bargiri[میزان بارگیری شده])*(bargiri[فی])) /SUMIFS(bargiri[میزان بارگیری شده], bargiri[ماه], CT11, bargiri[سال], calc!$BV$5), "") -> 145293.39 | CV11: =IFERROR(SUMPRODUCT((bargiri[ماه]=CT11)*(bargiri[سال]=$BV$5)*(bargiri[میزان بارگیری شده])*(bargiri[فی])) /SUMIFS(bargiri[فی], bargiri[ماه], CT11, bargiri[سال], calc!$BV$5), "") -> 16531.871 | DI11: جمع کل | DJ11: =SUM(DJ7:DJ10) -> 10361140 | DL11: خرداد | DM11: =SUMIFS(bargiri[میزان بارگیری شده],bargiri[سال],year,bargiri[ماه],insale[[#This Row],[ماه/نوع فروش]],bargiri[نوع سفارش],insale[[#Headers],[عادی]]) -> 1571740 | DN11: =SUMIFS(bargiri[میزان بارگیری شده],bargiri[سال],year,bargiri[ماه],insale[[#This Row],[ماه/نوع فروش]],bargiri[نوع سفارش],insale[[#Headers],[انجمن]]) -> 274880 | DO11: =SUMIFS(bargiri[میزان بارگیری شده],bargiri[سال],year,bargiri[ماه],insale[[#This Row],[ماه/نوع فروش]],bargiri[نوع سفارش],insale[[#Headers],[بورس]]) -> 31140 | DP11: =SUMIFS(bargiri[میزان بارگیری شده],bargiri[سال],year,bargiri[ماه],insale[[#This Row],[ماه/نوع فروش]],bargiri[نوع سفارش],insale[[#Headers],[تعادلی]]) -> 218100 | DR11: خرداد | DS11: {=INDEX(insale[[#This Row],[عادی]:[تعادلی]], DR8)} -> 218100
A12: مددکاران | K12: تعداد مشتری | L12: تعداد پیش فاکتور | M12: تعداد بارگیری | N12: میانگین قیمت | O12: میزان بارگیری شده | P12: میزان سفارش | Z12: پ/102-1404 | AA12: 125000 | AB12: 500000 | AC12: 500000 | AD12: 1 | AN12: تعاونی ماهان گاز | AO12: 2799340 | AP12: 751925 | AQ12: 66780.822 | AR12: 9 | AS12: 73 | AT12: 0.039504453 | AU12: =1-(AP12/AO12) -> 0.73139204 | AW12: تولید گازهای طبی و صنعتی مددکاران اصفهان | AX12: =IFERROR(SUMIFS(invoice[میزان سفارش],invoice[سال],calc!$AX$5,invoice[نام مشتری],calc!AW12)+IFERROR(SUMIFS(invoice[میزان سفارش],invoice[سال],(calc!$AX$5)-1,invoice[نام مشتری],calc!AW12),0)-SUMIFS(bargiri[میزان بارگیری شده],bargiri[نام مشتری],calc!AW12,bargiri[سال],(calc!$AX$5)-1),"") -> 438020 | BA12: =BA11+1 -> 6 | BB12: =INDEX($AW$7:$AW$101,$BC$4+ROW(A7)-1) -> خوش نوش همدان | BC12: =SUMIFS(invoice[میزان سفارش],invoice[سال],calc!$AX$5,invoice[نام مشتری],calc!BB12)+IFERROR(SUMIFS(invoice[میزان سفارش],invoice[سال],(calc!$AX$5)-1,invoice[نام مشتری],calc!BB12),0)-SUMIFS(bargiri[میزان بارگیری شده],bargiri[نام مشتری],calc!BB12,bargiri[سال],(calc!$AX$5)-1) -> -314155 | BD12: =SUMIFS(bargiri[میزان بارگیری شده],bargiri[نام مشتری],calc!BB12,bargiri[سال],(calc!$AX$5)) -> 528690 | BE12: =BD12/BC12 -> -1.6828954 | BJ12: بهمن | BK12: 2161055 | BL12: 137 | BO12: بهمن | BP12: 3364100 | BQ12: 17 | BT12: مرداد | BU12: =IF(SUMIFS(invoice[میزان سفارش],invoice[ماه],calc!BT12,invoice[سال],calc!$BV$5)=0,"",SUMIFS(invoice[میزان سفارش],invoice[ماه],calc!BT12,invoice[سال],calc!$BV$5)) -> 100000 | BV12: =IF(SUMIFS(bargiri[میزان بارگیری شده],bargiri[ماه],calc!BT12,bargiri[سال],calc!$BV$5)=0,"",SUMIFS(bargiri[میزان بارگیری شده],bargiri[ماه],calc!BT12,bargiri[سال],calc!$BV$5)) -> 1930670 | BW12: =IF(BV12="","",SUM($BU$8:BU11)-SUM($BV$8:BV11)+$BW$8) -> 19558383 | BX12: =IF($BX$6=TRUE,IF(COUNTIFS(invoice[ماه],calc!BT12,invoice[سال],calc!$BV$5)=0,"",COUNTIFS(invoice[ماه],calc!BT12,invoice[سال],calc!$BV$5)),"") | BY12: =IF($BY$6=TRUE,IF(COUNTIFS(bargiri[ماه],calc!BT12,bargiri[سال],calc!$BV$5)=0,"",COUNTIFS(bargiri[ماه],calc!BT12,bargiri[سال],calc!$BV$5)),"") | BZ12: =IF(AVERAGEIFS(bargiri[فی],bargiri[ماه],calc!BT12,bargiri[سال],calc!$BV$5)=0,"",AVERAGEIFS(bargiri[فی],bargiri[ماه],calc!BT12,bargiri[سال],calc!$BV$5)) -> 148842.53 | CA12: =IFERROR(BV12/(BW12+BU12),NA()) -> 0.098211028 | CJ12: پ/32-1403 | CK12: 1000000 | CL12: 80000 | CM12: 1000000 | CN12: 80000 | CO12: =IF(CK12-CM12>0,CK12-CM12,"") | CP12: =IF(CO12<>"",CL12,"") | CT12: شهریور | CU12: =IFERROR(SUMPRODUCT((bargiri[ماه]=CT12)*(bargiri[سال]=$BV$5)*(bargiri[میزان بارگیری شده])*(bargiri[فی])) /SUMIFS(bargiri[میزان بارگیری شده], bargiri[ماه], CT12, bargiri[سال], calc!$BV$5), "") -> 157919.58 | CV12: =IFERROR(SUMPRODUCT((bargiri[ماه]=CT12)*(bargiri[سال]=$BV$5)*(bargiri[میزان بارگیری شده])*(bargiri[فی])) /SUMIFS(bargiri[فی], bargiri[ماه], CT12, bargiri[سال], calc!$BV$5), "") -> 16556.607 | DA12: میانگین بار حمل شده بر اساس شرکت | DB12: =DB9 -> خوش نوش همدان | DC12: سال | DD12: =DB6 -> 1405 | DL12: تیر | DM12: =SUMIFS(bargiri[میزان بارگیری شده],bargiri[سال],year,bargiri[ماه],insale[[#This Row],[ماه/نوع فروش]],bargiri[نوع سفارش],insale[[#Headers],[عادی]]) -> 724730 | DN12: =SUMIFS(bargiri[میزان بارگیری شده],bargiri[سال],year,bargiri[ماه],insale[[#This Row],[ماه/نوع فروش]],bargiri[نوع سفارش],insale[[#Headers],[انجمن]]) -> 284915 | DO12: =SUMIFS(bargiri[میزان بارگیری شده],bargiri[سال],year,bargiri[ماه],insale[[#This Row],[ماه/نوع فروش]],bargiri[نوع سفارش],insale[[#Headers],[بورس]]) -> 17435 | DP12: =SUMIFS(bargiri[میزان بارگیری شده],bargiri[سال],year,bargiri[ماه],insale[[#This Row],[ماه/نوع فروش]],bargiri[نوع سفارش],insale[[#Headers],[تعادلی]]) -> 150060 | DR12: تیر | DS12: {=INDEX(insale[[#This Row],[عادی]:[تعادلی]], DR8)} -> 150060
A13: طوس سبزوار | K13: 25 | L13: =COUNTIF(invoice[سال],calc!$BV$5) -> 37 | M13: =COUNTIF(bargiri[سال],calc!$BV$5) -> 615 | O13: =SUMIF(bargiri[سال],year,bargiri[میزان بارگیری شده]) -> 10361140 | P13: =SUMIF(invoice[سال],year,invoice[میزان سفارش])+(SUMIF(invoice[سال],$BV$5-1,invoice[میزان سفارش])+SUMIF(invoice[سال],$BV$5-2,invoice[میزان سفارش]))-(SUMIF(bargiri[سال],calc!$BV$5-1,bargiri[میزان بارگیری شده])+SUMIF(bargiri[سال],calc!$BV$5-2,bargiri[میزان بارگیری شده])) -> 25545273 | Z13: پ/48-1403 | AA13: 80000 | AB13: 300000 | AC13: 300000 | AD13: 1 | AN13: طاها اندیشان همپای البرز | AO13: 2600000 | AP13: 215790 | AQ13: 75000 | AR13: 5 | AS13: 10 | AT13: 0.011337123 | AU13: =1-(AP13/AO13) -> 0.91700385 | AW13: خوش نوش همدان | AX13: =IFERROR(SUMIFS(invoice[میزان سفارش],invoice[سال],calc!$AX$5,invoice[نام مشتری],calc!AW13)+IFERROR(SUMIFS(invoice[میزان سفارش],invoice[سال],(calc!$AX$5)-1,invoice[نام مشتری],calc!AW13),0)-SUMIFS(bargiri[میزان بارگیری شده],bargiri[نام مشتری],calc!AW13,bargiri[سال],(calc!$AX$5)-1),"") -> -314155 | BA13: =BA12+1 -> 7 | BB13: =INDEX($AW$7:$AW$101,$BC$4+ROW(A8)-1) -> تولیدی گازهای طبی و صنعتی طوس سبزوار | BC13: =SUMIFS(invoice[میزان سفارش],invoice[سال],calc!$AX$5,invoice[نام مشتری],calc!BB13)+IFERROR(SUMIFS(invoice[میزان سفارش],invoice[سال],(calc!$AX$5)-1,invoice[نام مشتری],calc!BB13),0)-SUMIFS(bargiri[میزان بارگیری شده],bargiri[نام مشتری],calc!BB13,bargiri[سال],(calc!$AX$5)-1) -> 522380 | BD13: =SUMIFS(bargiri[میزان بارگیری شده],bargiri[نام مشتری],calc!BB13,bargiri[سال],(calc!$AX$5)) -> 354200 | BE13: =BD13/BC13 -> 0.67805046 | BJ13: تیر | BK13: 1858710 | BL13: 112 | BO13: تیر | BP13: 2229650 | BQ13: 21 | BT13: شهریور | BU13: =IF(SUMIFS(invoice[میزان سفارش],invoice[ماه],calc!BT13,invoice[سال],calc!$BV$5)=0,"",SUMIFS(invoice[میزان سفارش],invoice[ماه],calc!BT13,invoice[سال],calc!$BV$5)) -> 450000 | BV13: =IF(SUMIFS(bargiri[میزان بارگیری شده],bargiri[ماه],calc!BT13,bargiri[سال],calc!$BV$5)=0,"",SUMIFS(bargiri[میزان بارگیری شده],bargiri[ماه],calc!BT13,bargiri[سال],calc!$BV$5)) -> 2067530 | BW13: =IF(BV13="","",SUM($BU$8:BU12)-SUM($BV$8:BV12)+$BW$8) -> 17727713 | BX13: =IF($BX$6=TRUE,IF(COUNTIFS(invoice[ماه],calc!BT13,invoice[سال],calc!$BV$5)=0,"",COUNTIFS(invoice[ماه],calc!BT13,invoice[سال],calc!$BV$5)),"") | BY13: =IF($BY$6=TRUE,IF(COUNTIFS(bargiri[ماه],calc!BT13,bargiri[سال],calc!$BV$5)=0,"",COUNTIFS(bargiri[ماه],calc!BT13,bargiri[سال],calc!$BV$5)),"") | BZ13: =IF(AVERAGEIFS(bargiri[فی],bargiri[ماه],calc!BT13,bargiri[سال],calc!$BV$5)=0,"",AVERAGEIFS(bargiri[فی],bargiri[ماه],calc!BT13,bargiri[سال],calc!$BV$5)) -> 161642.9 | CA13: =IFERROR(BV13/(BW13+BU13),NA()) -> 0.11373983 | CJ13: پ/37-1402 | CK13: 100000 | CL13: 50000 | CM13: 100000 | CN13: 50000 | CO13: =IF(CK13-CM13>0,CK13-CM13,"") | CP13: =IF(CO13<>"",CL13,"") | CT13: مهر | CU13: =IFERROR(SUMPRODUCT((bargiri[ماه]=CT13)*(bargiri[سال]=$BV$5)*(bargiri[میزان بارگیری شده])*(bargiri[فی])) /SUMIFS(bargiri[میزان بارگیری شده], bargiri[ماه], CT13, bargiri[سال], calc!$BV$5), "") -> 161566 | CV13: =IFERROR(SUMPRODUCT((bargiri[ماه]=CT13)*(bargiri[سال]=$BV$5)*(bargiri[میزان بارگیری شده])*(bargiri[فی])) /SUMIFS(bargiri[فی], bargiri[ماه], CT13, bargiri[سال], calc!$BV$5), "") -> 15081.122 | DA13: {=IFERROR(SUMPRODUCT((bargiri[نام مشتری]=DB12)*(bargiri[سال]=DD12)*(bargiri[میزان بارگیری شده])*(bargiri[فی])) /SUMIFS(bargiri[میزان بارگیری شده], bargiri[نام مشتری], DB12, bargiri[سال], DD12), "")} -> 125000 | DH13: حمل نشده | DI13: عادی | DJ13: =SUMIFS(invoice[[میزان حمل نشده ]],invoice[نوع سفارش],"عادی")+345 -> 6543880 | DL13: مرداد | DM13: =SUMIFS(bargiri[میزان بارگیری شده],bargiri[سال],year,bargiri[ماه],insale[[#This Row],[ماه/نوع فروش]],bargiri[نوع سفارش],insale[[#Headers],[عادی]]) -> 1459650 | DN13: =SUMIFS(bargiri[میزان بارگیری شده],bargiri[سال],year,bargiri[ماه],insale[[#This Row],[ماه/نوع فروش]],bargiri[نوع سفارش],insale[[#Headers],[انجمن]]) -> 276640 | DO13: =SUMIFS(bargiri[میزان بارگیری شده],bargiri[سال],year,bargiri[ماه],insale[[#This Row],[ماه/نوع فروش]],bargiri[نوع سفارش],insale[[#Headers],[بورس]]) -> 20000 | DP13: =SUMIFS(bargiri[میزان بارگیری شده],bargiri[سال],year,bargiri[ماه],insale[[#This Row],[ماه/نوع فروش]],bargiri[نوع سفارش],insale[[#Headers],[تعادلی]]) -> 174380 | DR13: مرداد | DS13: {=INDEX(insale[[#This Row],[عادی]:[تعادلی]], DR8)} -> 174380
A14: جوش شیرین خراسان | Z14: پ/32-1403 | AA14: 80000 | AB14: 1000000 | AC14: 1000000 | AD14: 1 | AN14: عبیر شیمی | AO14: 2572300 | AP14: 887195 | AQ14: 65848.485 | AR14: 23 | AS14: 66 | AT14: 0.046611236 | AU14: =1-(AP14/AO14) -> 0.65509661 | AW14: تولیدی گازهای طبی و صنعتی طوس سبزوار | AX14: =IFERROR(SUMIFS(invoice[میزان سفارش],invoice[سال],calc!$AX$5,invoice[نام مشتری],calc!AW14)+IFERROR(SUMIFS(invoice[میزان سفارش],invoice[سال],(calc!$AX$5)-1,invoice[نام مشتری],calc!AW14),0)-SUMIFS(bargiri[میزان بارگیری شده],bargiri[نام مشتری],calc!AW14,bargiri[سال],(calc!$AX$5)-1),"") -> 522380 | BA14: =BA13+1 -> 8 | BB14: =INDEX($AW$7:$AW$101,$BC$4+ROW(A9)-1) -> پارس اکسیر البرز شمالی | BC14: =SUMIFS(invoice[میزان سفارش],invoice[سال],calc!$AX$5,invoice[نام مشتری],calc!BB14)+IFERROR(SUMIFS(invoice[میزان سفارش],invoice[سال],(calc!$AX$5)-1,invoice[نام مشتری],calc!BB14),0)-SUMIFS(bargiri[میزان بارگیری شده],bargiri[نام مشتری],calc!BB14,bargiri[سال],(calc!$AX$5)-1) -> -163275 | BD14: =SUMIFS(bargiri[میزان بارگیری شده],bargiri[نام مشتری],calc!BB14,bargiri[سال],(calc!$AX$5)) -> 576830 | BE14: =BD14/BC14 -> -3.532874 | BJ14: خرداد | BK14: 154150 | BL14: 10 | BO14: خرداد | BP14: 2323085 | BQ14: 17 | BR14: 1 | BT14: مهر | BU14: =IF(SUMIFS(invoice[میزان سفارش],invoice[ماه],calc!BT14,invoice[سال],calc!$BV$5)=0,"",SUMIFS(invoice[میزان سفارش],invoice[ماه],calc!BT14,invoice[سال],calc!$BV$5)) | BV14: =IF(SUMIFS(bargiri[میزان بارگیری شده],bargiri[ماه],calc!BT14,bargiri[سال],calc!$BV$5)=0,"",SUMIFS(bargiri[میزان بارگیری شده],bargiri[ماه],calc!BT14,bargiri[سال],calc!$BV$5)) -> 926050 | BW14: =IF(BV14="","",SUM($BU$8:BU13)-SUM($BV$8:BV13)+$BW$8) -> 16110183 | BX14: =IF($BX$6=TRUE,IF(COUNTIFS(invoice[ماه],calc!BT14,invoice[سال],calc!$BV$5)=0,"",COUNTIFS(invoice[ماه],calc!BT14,invoice[سال],calc!$BV$5)),"") | BY14: =IF($BY$6=TRUE,IF(COUNTIFS(bargiri[ماه],calc!BT14,bargiri[سال],calc!$BV$5)=0,"",COUNTIFS(bargiri[ماه],calc!BT14,bargiri[سال],calc!$BV$5)),"") | BZ14: =IF(AVERAGEIFS(bargiri[فی],bargiri[ماه],calc!BT14,bargiri[سال],calc!$BV$5)=0,"",AVERAGEIFS(bargiri[فی],bargiri[ماه],calc!BT14,bargiri[سال],calc!$BV$5)) -> 168150.73 | CA14: =IFERROR(BV14/(BW14+BU14),NA()) -> #N/A | CJ14: پ/38-1402 | CK14: 902430 | CL14: 65000 | CM14: 902430 | CN14: 65000 | CO14: =IF(CK14-CM14>0,CK14-CM14,"") | CP14: =IF(CO14<>"",CL14,"") | CT14: آبان | CU14: =IFERROR(SUMPRODUCT((bargiri[ماه]=CT14)*(bargiri[سال]=$BV$5)*(bargiri[میزان بارگیری شده])*(bargiri[فی])) /SUMIFS(bargiri[میزان بارگیری شده], bargiri[ماه], CT14, bargiri[سال], calc!$BV$5), "") | CV14: =IFERROR(SUMPRODUCT((bargiri[ماه]=CT14)*(bargiri[سال]=$BV$5)*(bargiri[میزان بارگیری شده])*(bargiri[فی])) /SUMIFS(bargiri[فی], bargiri[ماه], CT14, bargiri[سال], calc!$BV$5), "") | DI14: انجمن | DJ14: =SUMIFS(invoice[[میزان حمل نشده ]],invoice[نوع سفارش],"انجمن") -> 7743818 | DL14: شهریور | DM14: =SUMIFS(bargiri[میزان بارگیری شده],bargiri[سال],year,bargiri[ماه],insale[[#This Row],[ماه/نوع فروش]],bargiri[نوع سفارش],insale[[#Headers],[عادی]]) -> 1533010 | DN14: =SUMIFS(bargiri[میزان بارگیری شده],bargiri[سال],year,bargiri[ماه],insale[[#This Row],[ماه/نوع فروش]],bargiri[نوع سفارش],insale[[#Headers],[انجمن]]) -> 410440 | DO14: =SUMIFS(bargiri[میزان بارگیری شده],bargiri[سال],year,bargiri[ماه],insale[[#This Row],[ماه/نوع فروش]],bargiri[نوع سفارش],insale[[#Headers],[بورس]]) -> 53410 | DP14: =SUMIFS(bargiri[میزان بارگیری شده],bargiri[سال],year,bargiri[ماه],insale[[#This Row],[ماه/نوع فروش]],bargiri[نوع سفارش],insale[[#Headers],[تعادلی]]) -> 70670 | DR14: شهریور | DS14: {=INDEX(insale[[#This Row],[عادی]:[تعادلی]], DR8)} -> 70670
A15: خوش نوش همدان | Z15: پ/68-1404 | AA15: 111000 | AB15: 500000 | AC15: 500000 | AD15: 1 | AN15: سپهر سرمد | AO15: 2500000 | AR15: 3 | AT15: 0 | AU15: =1-(AP15/AO15) -> 1 | AW15: پارس اکسیر البرز شمالی | AX15: =IFERROR(SUMIFS(invoice[میزان سفارش],invoice[سال],calc!$AX$5,invoice[نام مشتری],calc!AW15)+IFERROR(SUMIFS(invoice[میزان سفارش],invoice[سال],(calc!$AX$5)-1,invoice[نام مشتری],calc!AW15),0)-SUMIFS(bargiri[میزان بارگیری شده],bargiri[نام مشتری],calc!AW15,bargiri[سال],(calc!$AX$5)-1),"") -> -163275 | BA15: =BA14+1 -> 9 | BB15: =INDEX($AW$7:$AW$101,$BC$4+ROW(A10)-1) -> اکسیژن ارومیه گاز | BC15: =SUMIFS(invoice[میزان سفارش],invoice[سال],calc!$AX$5,invoice[نام مشتری],calc!BB15)+IFERROR(SUMIFS(invoice[میزان سفارش],invoice[سال],(calc!$AX$5)-1,invoice[نام مشتری],calc!BB15),0)-SUMIFS(bargiri[میزان بارگیری شده],bargiri[نام مشتری],calc!BB15,bargiri[سال],(calc!$AX$5)-1) -> 116055 | BD15: =SUMIFS(bargiri[میزان بارگیری شده],bargiri[نام مشتری],calc!BB15,bargiri[سال],(calc!$AX$5)) -> 44880 | BE15: =BD15/BC15 -> 0.3867132 | BJ15: دی | BK15: 2312705 | BL15: 145 | BO15: دی | BP15: 10142650 | BQ15: 38 | BT15: آبان | BU15: =IF(SUMIFS(invoice[میزان سفارش],invoice[ماه],calc!BT15,invoice[سال],calc!$BV$5)=0,"",SUMIFS(invoice[میزان سفارش],invoice[ماه],calc!BT15,invoice[سال],calc!$BV$5)) | BV15: =IF(SUMIFS(bargiri[میزان بارگیری شده],bargiri[ماه],calc!BT15,bargiri[سال],calc!$BV$5)=0,"",SUMIFS(bargiri[میزان بارگیری شده],bargiri[ماه],calc!BT15,bargiri[سال],calc!$BV$5)) | BW15: =IF(BV15="","",SUM($BU$8:BU14)-SUM($BV$8:BV14)+$BW$8) | BX15: =IF($BX$6=TRUE,IF(COUNTIFS(invoice[ماه],calc!BT15,invoice[سال],calc!$BV$5)=0,"",COUNTIFS(invoice[ماه],calc!BT15,invoice[سال],calc!$BV$5)),"") | BY15: =IF($BY$6=TRUE,IF(COUNTIFS(bargiri[ماه],calc!BT15,bargiri[سال],calc!$BV$5)=0,"",COUNTIFS(bargiri[ماه],calc!BT15,bargiri[سال],calc!$BV$5)),"") | BZ15: =IF(AVERAGEIFS(bargiri[فی],bargiri[ماه],calc!BT15,bargiri[سال],calc!$BV$5)=0,"",AVERAGEIFS(bargiri[فی],bargiri[ماه],calc!BT15,bargiri[سال],calc!$BV$5)) -> #DIV/0! | CA15: =IFERROR(BV15/(BW15+BU15),NA()) -> #N/A | CJ15: پ/40-1402 | CK15: 100000 | CL15: 50000 | CM15: 100000 | CN15: 50000 | CO15: =IF(CK15-CM15>0,CK15-CM15,"") | CP15: =IF(CO15<>"",CL15,"") | CT15: آذر | CU15: =IFERROR(SUMPRODUCT((bargiri[ماه]=CT15)*(bargiri[سال]=$BV$5)*(bargiri[میزان بارگیری شده])*(bargiri[فی])) /SUMIFS(bargiri[میزان بارگیری شده], bargiri[ماه], CT15, bargiri[سال], calc!$BV$5), "") | CV15: =IFERROR(SUMPRODUCT((bargiri[ماه]=CT15)*(bargiri[سال]=$BV$5)*(bargiri[میزان بارگیری شده])*(bargiri[فی])) /SUMIFS(bargiri[فی], bargiri[ماه], CT15, bargiri[سال], calc!$BV$5), "") | DA15: میانگین بار حمل شده بر اساس شرکت | DC15: سال | DD15: =DD12 -> 1405 | DI15: بورس | DJ15: =SUMIFS(invoice[[میزان حمل نشده ]],invoice[نوع سفارش],"بورس") -> 654230 | DL15: مهر | DM15: =SUMIFS(bargiri[میزان بارگیری شده],bargiri[سال],year,bargiri[ماه],insale[[#This Row],[ماه/نوع فروش]],bargiri[نوع سفارش],insale[[#Headers],[عادی]]) -> 709710 | DN15: =SUMIFS(bargiri[میزان بارگیری شده],bargiri[سال],year,bargiri[ماه],insale[[#This Row],[ماه/نوع فروش]],bargiri[نوع سفارش],insale[[#Headers],[انجمن]]) -> 163220 | DO15: =SUMIFS(bargiri[میزان بارگیری شده],bargiri[سال],year,bargiri[ماه],insale[[#This Row],[ماه/نوع فروش]],bargiri[نوع سفارش],insale[[#Headers],[بورس]]) -> 12360 | DP15: =SUMIFS(bargiri[میزان بارگیری شده],bargiri[سال],year,bargiri[ماه],insale[[#This Row],[ماه/نوع فروش]],bargiri[نوع سفارش],insale[[#Headers],[تعادلی]]) -> 40760 | DR15: مهر | DS15: {=INDEX(insale[[#This Row],[عادی]:[تعادلی]], DR8)} -> 40760
A16: رایا شیمی پارسیان | AN16: جوش شیرین خراسان | AO16: 2400000 | AR16: 4 | AT16: 0 | AU16: =1-(AP16/AO16) -> 1 | AW16: اکسیژن ارومیه گاز | AX16: =IFERROR(SUMIFS(invoice[میزان سفارش],invoice[سال],calc!$AX$5,invoice[نام مشتری],calc!AW16)+IFERROR(SUMIFS(invoice[میزان سفارش],invoice[سال],(calc!$AX$5)-1,invoice[نام مشتری],calc!AW16),0)-SUMIFS(bargiri[میزان بارگیری شده],bargiri[نام مشتری],calc!AW16,bargiri[سال],(calc!$AX$5)-1),"") -> 116055 | BA16: =BA15+1 -> 10 | BB16: =INDEX($AW$7:$AW$101,$BC$4+ROW(A11)-1) -> گاز اکسیژن طوس | BC16: =SUMIFS(invoice[میزان سفارش],invoice[سال],calc!$AX$5,invoice[نام مشتری],calc!BB16)+IFERROR(SUMIFS(invoice[میزان سفارش],invoice[سال],(calc!$AX$5)-1,invoice[نام مشتری],calc!BB16),0)-SUMIFS(bargiri[میزان بارگیری شده],bargiri[نام مشتری],calc!BB16,bargiri[سال],(calc!$AX$5)-1) -> 617815 | BD16: =SUMIFS(bargiri[میزان بارگیری شده],bargiri[نام مشتری],calc!BB16,bargiri[سال],(calc!$AX$5)) -> 175310 | BE16: =BD16/BC16 -> 0.28375808 | BJ16: شهریور | BK16: 2227410 | BL16: 126 | BO16: شهریور | BP16: 4686685 | BQ16: 21 | BT16: آذر | BU16: =IF(SUMIFS(invoice[میزان سفارش],invoice[ماه],calc!BT16,invoice[سال],calc!$BV$5)=0,"",SUMIFS(invoice[میزان سفارش],invoice[ماه],calc!BT16,invoice[سال],calc!$BV$5)) | BV16: =IF(SUMIFS(bargiri[میزان بارگیری شده],bargiri[ماه],calc!BT16,bargiri[سال],calc!$BV$5)=0,"",SUMIFS(bargiri[میزان بارگیری شده],bargiri[ماه],calc!BT16,bargiri[سال],calc!$BV$5)) | BW16: =IF(BV16="","",SUM($BU$8:BU15)-SUM($BV$8:BV15)+$BW$8) | BX16: =IF($BX$6=TRUE,IF(COUNTIFS(invoice[ماه],calc!BT16,invoice[سال],calc!$BV$5)=0,"",COUNTIFS(invoice[ماه],calc!BT16,invoice[سال],calc!$BV$5)),"") | BY16: =IF($BY$6=TRUE,IF(COUNTIFS(bargiri[ماه],calc!BT16,bargiri[سال],calc!$BV$5)=0,"",COUNTIFS(bargiri[ماه],calc!BT16,bargiri[سال],calc!$BV$5)),"") | BZ16: =IF(AVERAGEIFS(bargiri[فی],bargiri[ماه],calc!BT16,bargiri[سال],calc!$BV$5)=0,"",AVERAGEIFS(bargiri[فی],bargiri[ماه],calc!BT16,bargiri[سال],calc!$BV$5)) -> #DIV/0! | CA16: =IFERROR(BV16/(BW16+BU16),NA()) -> #N/A | CJ16: پ/48-1403 | CK16: 300000 | CL16: 80000 | CM16: 300000 | CN16: 80000 | CO16: =IF(CK16-CM16>0,CK16-CM16,"") | CP16: =IF(CO16<>"",CL16,"") | CT16: دی | CU16: =IFERROR(SUMPRODUCT((bargiri[ماه]=CT16)*(bargiri[سال]=$BV$5)*(bargiri[میزان بارگیری شده])*(bargiri[فی])) /SUMIFS(bargiri[میزان بارگیری شده], bargiri[ماه], CT16, bargiri[سال], calc!$BV$5), "") | CV16: =IFERROR(SUMPRODUCT((bargiri[ماه]=CT16)*(bargiri[سال]=$BV$5)*(bargiri[میزان بارگیری شده])*(bargiri[فی])) /SUMIFS(bargiri[فی], bargiri[ماه], CT16, bargiri[سال], calc!$BV$5), "") | DA16: ماه | DB16: میانگین وزنی قیمت(ریال) | DI16: تعادلی | DJ16: =SUMIFS(invoice[[میزان حمل نشده ]],invoice[نوع سفارش],"تعادلی") -> 252020 | DL16: آبان | DM16: =SUMIFS(bargiri[میزان بارگیری شده],bargiri[سال],year,bargiri[ماه],insale[[#This Row],[ماه/نوع فروش]],bargiri[نوع سفارش],insale[[#Headers],[عادی]]) -> 0 | DN16: =SUMIFS(bargiri[میزان بارگیری شده],bargiri[سال],year,bargiri[ماه],insale[[#This Row],[ماه/نوع فروش]],bargiri[نوع سفارش],insale[[#Headers],[انجمن]]) -> 0 | DO16: =SUMIFS(bargiri[میزان بارگیری شده],bargiri[سال],year,bargiri[ماه],insale[[#This Row],[ماه/نوع فروش]],bargiri[نوع سفارش],insale[[#Headers],[بورس]]) -> 0 | DP16: =SUMIFS(bargiri[میزان بارگیری شده],bargiri[سال],year,bargiri[ماه],insale[[#This Row],[ماه/نوع فروش]],bargiri[نوع سفارش],insale[[#Headers],[تعادلی]]) -> 0 | DR16: آبان | DS16: {=INDEX(insale[[#This Row],[عادی]:[تعادلی]], DR8)} -> 0
A17: رهام گاز | K17: کمکی | L17: All | AN17: تولیدی گازهای طبی و صنعتی طوس سبزوار | AO17: 2361830 | AP17: 769710 | AQ17: 83330.638 | AR17: 30 | AS17: 47 | AT17: 0.040438837 | AU17: =1-(AP17/AO17) -> 0.6741044 | AW17: گاز اکسیژن طوس | AX17: =IFERROR(SUMIFS(invoice[میزان سفارش],invoice[سال],calc!$AX$5,invoice[نام مشتری],calc!AW17)+IFERROR(SUMIFS(invoice[میزان سفارش],invoice[سال],(calc!$AX$5)-1,invoice[نام مشتری],calc!AW17),0)-SUMIFS(bargiri[میزان بارگیری شده],bargiri[نام مشتری],calc!AW17,bargiri[سال],(calc!$AX$5)-1),"") -> 617815 | BJ17: فروردین | BK17: 1070380 | BL17: 83 | BO17: فروردین | BP17: 16739615 | BQ17: 26 | BT17: دی | BU17: =IF(SUMIFS(invoice[میزان سفارش],invoice[ماه],calc!BT17,invoice[سال],calc!$BV$5)=0,"",SUMIFS(invoice[میزان سفارش],invoice[ماه],calc!BT17,invoice[سال],calc!$BV$5)) | BV17: =IF(SUMIFS(bargiri[میزان بارگیری شده],bargiri[ماه],calc!BT17,bargiri[سال],calc!$BV$5)=0,"",SUMIFS(bargiri[میزان بارگیری شده],bargiri[ماه],calc!BT17,bargiri[سال],calc!$BV$5)) | BW17: =IF(BV17="","",SUM($BU$8:BU16)-SUM($BV$8:BV16)+$BW$8) | BX17: =IF($BX$6=TRUE,IF(COUNTIFS(invoice[ماه],calc!BT17,invoice[سال],calc!$BV$5)=0,"",COUNTIFS(invoice[ماه],calc!BT17,invoice[سال],calc!$BV$5)),"") | BY17: =IF($BY$6=TRUE,IF(COUNTIFS(bargiri[ماه],calc!BT17,bargiri[سال],calc!$BV$5)=0,"",COUNTIFS(bargiri[ماه],calc!BT17,bargiri[سال],calc!$BV$5)),"") | BZ17: =IF(AVERAGEIFS(bargiri[فی],bargiri[ماه],calc!BT17,bargiri[سال],calc!$BV$5)=0,"",AVERAGEIFS(bargiri[فی],bargiri[ماه],calc!BT17,bargiri[سال],calc!$BV$5)) -> #DIV/0! | CA17: =IFERROR(BV17/(BW17+BU17),NA()) -> #N/A | CJ17: پ/68-1404 | CK17: 500000 | CL17: 111000 | CM17: 500000 | CN17: 111000 | CO17: =IF(CK17-CM17>0,CK17-CM17,"") | CP17: =IF(CO17<>"",CL17,"") | CT17: بهمن | CU17: =IFERROR(SUMPRODUCT((bargiri[ماه]=CT17)*(bargiri[سال]=$BV$5)*(bargiri[میزان بارگیری شده])*(bargiri[فی])) /SUMIFS(bargiri[میزان بارگیری شده], bargiri[ماه], CT17, bargiri[سال], calc!$BV$5), "") | CV17: =IFERROR(SUMPRODUCT((bargiri[ماه]=CT17)*(bargiri[سال]=$BV$5)*(bargiri[میزان بارگیری شده])*(bargiri[فی])) /SUMIFS(bargiri[فی], bargiri[ماه], CT17, bargiri[سال], calc!$BV$5), "") | DA17: فروردین | DB17: {=IFERROR( SUMPRODUCT( (bargiri[سال]=$BV$5)* (MATCH(bargiri[ماه],{"فروردین","اردیبهشت","خرداد","تیر","مرداد","شهریور","مهر","آبان","آذر","دی","بهمن","اسفند"},0) <=MATCH(CT7,{"فروردین","اردیبهشت","خرداد","تیر","مرداد","شهریور","مهر","آبان","آذر","دی","بهمن","اسفند"},0))* (bargiri[میزان بارگیری شده])* (bargiri[فی]) ) / SUMPRODUCT( (bargiri[سال]=$BV$5)* (MATCH(bargiri[ماه],{"فروردین","اردیبهشت","خرداد","تیر","مرداد","شهریور","مهر","آبان","آذر","دی","بهمن","اسفند"},0) <=MATCH(CT7,{"فروردین","اردیبهشت","خرداد","تیر","مرداد","شهریور","مهر","آبان","آذر","دی","بهمن","اسفند"},0))* (bargiri[میزان بارگیری شده]) ), "")} -> 130065.24 | DI17: جمع کل | DJ17: =SUM(DJ13:DJ16) -> 15193948 | DL17: آذر | DM17: =SUMIFS(bargiri[میزان بارگیری شده],bargiri[سال],year,bargiri[ماه],insale[[#This Row],[ماه/نوع فروش]],bargiri[نوع سفارش],insale[[#Headers],[عادی]]) -> 0 | DN17: =SUMIFS(bargiri[میزان بارگیری شده],bargiri[سال],year,bargiri[ماه],insale[[#This Row],[ماه/نوع فروش]],bargiri[نوع سفارش],insale[[#Headers],[انجمن]]) -> 0 | DO17: =SUMIFS(bargiri[میزان بارگیری شده],bargiri[سال],year,bargiri[ماه],insale[[#This Row],[ماه/نوع فروش]],bargiri[نوع سفارش],insale[[#Headers],[بورس]]) -> 0 | DP17: =SUMIFS(bargiri[میزان بارگیری شده],bargiri[سال],year,bargiri[ماه],insale[[#This Row],[ماه/نوع فروش]],bargiri[نوع سفارش],insale[[#Headers],[تعادلی]]) -> 0 | DR17: آذر | DS17: {=INDEX(insale[[#This Row],[عادی]:[تعادلی]], DR8)} -> 0
A18: سپهر سرمد | AN18: تولید گازهای طبی و صنعتی مددکاران اصفهان | AO18: 2146708 | AP18: 551720 | AQ18: 75844.156 | AR18: 8 | AS18: 77 | AT18: 0.028986132 | AU18: =1-(AP18/AO18) -> 0.74299253 | AW18: عبیر شیمی | AX18: =IFERROR(SUMIFS(invoice[میزان سفارش],invoice[سال],calc!$AX$5,invoice[نام مشتری],calc!AW18)+IFERROR(SUMIFS(invoice[میزان سفارش],invoice[سال],(calc!$AX$5)-1,invoice[نام مشتری],calc!AW18),0)-SUMIFS(bargiri[میزان بارگیری شده],bargiri[نام مشتری],calc!AW18,bargiri[سال],(calc!$AX$5)-1),"") -> 730520 | BJ18: مرداد | BK18: 1222105 | BL18: 78 | BO18: مرداد | BP18: 620000 | BQ18: 18 | BT18: بهمن | BU18: =IF(SUMIFS(invoice[میزان سفارش],invoice[ماه],calc!BT18,invoice[سال],calc!$BV$5)=0,"",SUMIFS(invoice[میزان سفارش],invoice[ماه],calc!BT18,invoice[سال],calc!$BV$5)) | BV18: =IF(SUMIFS(bargiri[میزان بارگیری شده],bargiri[ماه],calc!BT18,bargiri[سال],calc!$BV$5)=0,"",SUMIFS(bargiri[میزان بارگیری شده],bargiri[ماه],calc!BT18,bargiri[سال],calc!$BV$5)) | BW18: =IF(BV18="","",SUM($BU$8:BU17)-SUM($BV$8:BV17)+$BW$8) | BX18: =IF($BX$6=TRUE,IF(COUNTIFS(invoice[ماه],calc!BT18,invoice[سال],calc!$BV$5)=0,"",COUNTIFS(invoice[ماه],calc!BT18,invoice[سال],calc!$BV$5)),"") | BY18: =IF($BY$6=TRUE,IF(COUNTIFS(bargiri[ماه],calc!BT18,bargiri[سال],calc!$BV$5)=0,"",COUNTIFS(bargiri[ماه],calc!BT18,bargiri[سال],calc!$BV$5)),"") | BZ18: =IF(AVERAGEIFS(bargiri[فی],bargiri[ماه],calc!BT18,bargiri[سال],calc!$BV$5)=0,"",AVERAGEIFS(bargiri[فی],bargiri[ماه],calc!BT18,bargiri[سال],calc!$BV$5)) -> #DIV/0! | CA18: =IFERROR(BV18/(BW18+BU18),NA()) -> #N/A | CO18: =IF(CK18-CM18>0,CK18-CM18,"") | CP18: =IF(CO18<>"",CL18,"") | CT18: اسفند | CU18: =IFERROR(SUMPRODUCT((bargiri[ماه]=CT18)*(bargiri[سال]=$BV$5)*(bargiri[میزان بارگیری شده])*(bargiri[فی])) /SUMIFS(bargiri[میزان بارگیری شده], bargiri[ماه], CT18, bargiri[سال], calc!$BV$5), "") | CV18: =IFERROR(SUMPRODUCT((bargiri[ماه]=CT18)*(bargiri[سال]=$BV$5)*(bargiri[میزان بارگیری شده])*(bargiri[فی])) /SUMIFS(bargiri[فی], bargiri[ماه], CT18, bargiri[سال], calc!$BV$5), "") | DA18: اردیبهشت | DB18: {=IFERROR( SUMPRODUCT( (bargiri[سال]=$BV$5)* (MATCH(bargiri[ماه],{"فروردین","اردیبهشت","خرداد","تیر","مرداد","شهریور","مهر","آبان","آذر","دی","بهمن","اسفند"},0) <=MATCH(CT8,{"فروردین","اردیبهشت","خرداد","تیر","مرداد","شهریور","مهر","آبان","آذر","دی","بهمن","اسفند"},0))* (bargiri[میزان بارگیری شده])* (bargiri[فی]) ) / SUMPRODUCT( (bargiri[سال]=$BV$5)* (MATCH(bargiri[ماه],{"فروردین","اردیبهشت","خرداد","تیر","مرداد","شهریور","مهر","آبان","آذر","دی","بهمن","اسفند"},0) <=MATCH(CT8,{"فروردین","اردیبهشت","خرداد","تیر","مرداد","شهریور","مهر","آبان","آذر","دی","بهمن","اسفند"},0))* (bargiri[میزان بارگیری شده]) ), "")} -> 134213.18 | DL18: دی | DM18: =SUMIFS(bargiri[میزان بارگیری شده],bargiri[سال],year,bargiri[ماه],insale[[#This Row],[ماه/نوع فروش]],bargiri[نوع سفارش],insale[[#Headers],[عادی]]) -> 0 | DN18: =SUMIFS(bargiri[میزان بارگیری شده],bargiri[سال],year,bargiri[ماه],insale[[#This Row],[ماه/نوع فروش]],bargiri[نوع سفارش],insale[[#Headers],[انجمن]]) -> 0 | DO18: =SUMIFS(bargiri[میزان بارگیری شده],bargiri[سال],year,bargiri[ماه],insale[[#This Row],[ماه/نوع فروش]],bargiri[نوع سفارش],insale[[#Headers],[بورس]]) -> 0 | DP18: =SUMIFS(bargiri[میزان بارگیری شده],bargiri[سال],year,bargiri[ماه],insale[[#This Row],[ماه/نوع فروش]],bargiri[نوع سفارش],insale[[#Headers],[تعادلی]]) -> 0 | DR18: دی | DS18: {=INDEX(insale[[#This Row],[عادی]:[تعادلی]], DR8)} -> 0
A19: سهیل گاز کاسپین | K19: تعداد مشتری | L19: تعداد پیش فاکتور | M19: تعداد بارگیری | N19: میزان سفارش | O19: میزان بارگیری شده | P19: میانگین فی | Q19: میانگین سفارش | R19: میانگین بارگیری | S19: انحراف بارگیری | T19: انحراف سفارش | AN19: گاز کربنیک غرب | AO19: 2000000 | AP19: 290805 | AQ19: 75000 | AR19: 5 | AS19: 17 | AT19: 0.015278243 | AU19: =1-(AP19/AO19) -> 0.8545975 | AW19: پاینده ساز فردوس | AX19: =IFERROR(SUMIFS(invoice[میزان سفارش],invoice[سال],calc!$AX$5,invoice[نام مشتری],calc!AW19)+IFERROR(SUMIFS(invoice[میزان سفارش],invoice[سال],(calc!$AX$5)-1,invoice[نام مشتری],calc!AW19),0)-SUMIFS(bargiri[میزان بارگیری شده],bargiri[نام مشتری],calc!AW19,bargiri[سال],(calc!$AX$5)-1),"") -> 13520 | BJ19: مهر | BK19: 2151865 | BL19: 114 | BO19: مهر | BP19: 3267970 | BQ19: 10 | BT19: اسفند | BU19: =IF(SUMIFS(invoice[میزان سفارش],invoice[ماه],calc!BT19,invoice[سال],calc!$BV$5)=0,"",SUMIFS(invoice[میزان سفارش],invoice[ماه],calc!BT19,invoice[سال],calc!$BV$5)) | BV19: =IF(SUMIFS(bargiri[میزان بارگیری شده],bargiri[ماه],calc!BT19,bargiri[سال],calc!$BV$5)=0,"",SUMIFS(bargiri[میزان بارگیری شده],bargiri[ماه],calc!BT19,bargiri[سال],calc!$BV$5)) | BW19: =IF(BV19="","",SUM($BU$8:BU18)-SUM($BV$8:BV18)+$BW$8) | BX19: =IF($BX$6=TRUE,IF(COUNTIFS(invoice[ماه],calc!BT19,invoice[سال],calc!$BV$5)=0,"",COUNTIFS(invoice[ماه],calc!BT19,invoice[سال],calc!$BV$5)),"") | BY19: =IF($BY$6=TRUE,IF(COUNTIFS(bargiri[ماه],calc!BT19,bargiri[سال],calc!$BV$5)=0,"",COUNTIFS(bargiri[ماه],calc!BT19,bargiri[سال],calc!$BV$5)),"") | BZ19: =IF(AVERAGEIFS(bargiri[فی],bargiri[ماه],calc!BT19,bargiri[سال],calc!$BV$5)=0,"",AVERAGEIFS(bargiri[فی],bargiri[ماه],calc!BT19,bargiri[سال],calc!$BV$5)) -> #DIV/0! | CA19: =IFERROR(BV19/(BW19+BU19),NA()) -> #N/A | CO19: =IF(CK19-CM19>0,CK19-CM19,"") | CP19: =IF(CO19<>"",CL19,"") | DA19: خرداد | DB19: {=IFERROR( SUMPRODUCT( (bargiri[سال]=$BV$5)* (MATCH(bargiri[ماه],{"فروردین","اردیبهشت","خرداد","تیر","مرداد","شهریور","مهر","آبان","آذر","دی","بهمن","اسفند"},0) <=MATCH(CT9,{"فروردین","اردیبهشت","خرداد","تیر","مرداد","شهریور","مهر","آبان","آذر","دی","بهمن","اسفند"},0))* (bargiri[میزان بارگیری شده])* (bargiri[فی]) ) / SUMPRODUCT( (bargiri[سال]=$BV$5)* (MATCH(bargiri[ماه],{"فروردین","اردیبهشت","خرداد","تیر","مرداد","شهریور","مهر","آبان","آذر","دی","بهمن","اسفند"},0) <=MATCH(CT9,{"فروردین","اردیبهشت","خرداد","تیر","مرداد","شهریور","مهر","آبان","آذر","دی","بهمن","اسفند"},0))* (bargiri[میزان بارگیری شده]) ), "")} -> 136631.15 | DI19: کمتر از 80.000 ریال | DJ19: =SUMIFS(invoice[[میزان حمل نشده ]],invoice[فی],"<80000") -> 0 | DL19: بهمن | DM19: =SUMIFS(bargiri[میزان بارگیری شده],bargiri[سال],year,bargiri[ماه],insale[[#This Row],[ماه/نوع فروش]],bargiri[نوع سفارش],insale[[#Headers],[عادی]]) -> 0 | DN19: =SUMIFS(bargiri[میزان بارگیری شده],bargiri[سال],year,bargiri[ماه],insale[[#This Row],[ماه/نوع فروش]],bargiri[نوع سفارش],insale[[#Headers],[انجمن]]) -> 0 | DO19: =SUMIFS(bargiri[میزان بارگیری شده],bargiri[سال],year,bargiri[ماه],insale[[#This Row],[ماه/نوع فروش]],bargiri[نوع سفارش],insale[[#Headers],[بورس]]) -> 0 | DP19: =SUMIFS(bargiri[میزان بارگیری شده],bargiri[سال],year,bargiri[ماه],insale[[#This Row],[ماه/نوع فروش]],bargiri[نوع سفارش],insale[[#Headers],[تعادلی]]) -> 0 | DR19: بهمن | DS19: {=INDEX(insale[[#This Row],[عادی]:[تعادلی]], DR8)} -> 0
A20: پاژ گاز | K20: 34 | L20: 280 | M20: 3161 | N20: 66585078 | O20: 51400945 | P20: 100749.71 | Q20: 237803.85 | R20: 16281.579 | S20: 5853.9238 | T20: 507783.02 | AN20: اکسیژن ارومیه گاز | AO20: 1973860 | AP20: 786265 | AQ20: 76738.5 | AR20: 26 | AS20: 40 | AT20: 0.0413086 | AU20: =1-(AP20/AO20) -> 0.60166121 | AW20: جوش شیرین خراسان | AX20: =IFERROR(SUMIFS(invoice[میزان سفارش],invoice[سال],calc!$AX$5,invoice[نام مشتری],calc!AW20)+IFERROR(SUMIFS(invoice[میزان سفارش],invoice[سال],(calc!$AX$5)-1,invoice[نام مشتری],calc!AW20),0)-SUMIFS(bargiri[میزان بارگیری شده],bargiri[نام مشتری],calc!AW20,bargiri[سال],(calc!$AX$5)-1),"") -> 2087210 | CO20: =IF(CK20-CM20>0,CK20-CM20,"") | CP20: =IF(CO20<>"",CL20,"") | DA20: تیر | DB20: {=IFERROR( SUMPRODUCT( (bargiri[سال]=$BV$5)* (MATCH(bargiri[ماه],{"فروردین","اردیبهشت","خرداد","تیر","مرداد","شهریور","مهر","آبان","آذر","دی","بهمن","اسفند"},0) <=MATCH(CT10,{"فروردین","اردیبهشت","خرداد","تیر","مرداد","شهریور","مهر","آبان","آذر","دی","بهمن","اسفند"},0))* (bargiri[میزان بارگیری شده])* (bargiri[فی]) ) / SUMPRODUCT( (bargiri[سال]=$BV$5)* (MATCH(bargiri[ماه],{"فروردین","اردیبهشت","خرداد","تیر","مرداد","شهریور","مهر","آبان","آذر","دی","بهمن","اسفند"},0) <=MATCH(CT10,{"فروردین","اردیبهشت","خرداد","تیر","مرداد","شهریور","مهر","آبان","آذر","دی","بهمن","اسفند"},0))* (bargiri[میزان بارگیری شده]) ), "")} -> 139622.74 | DI20: از 80.000 تا کمتر از 100.000 ریال | DJ20: =SUMIFS(invoice[[میزان حمل نشده ]],invoice[فی],">=80000",invoice[فی],"<100000") -> 0 | DL20: اسفند | DM20: =SUMIFS(bargiri[میزان بارگیری شده],bargiri[سال],year,bargiri[ماه],insale[[#This Row],[ماه/نوع فروش]],bargiri[نوع سفارش],insale[[#Headers],[عادی]]) -> 0 | DN20: =SUMIFS(bargiri[میزان بارگیری شده],bargiri[سال],year,bargiri[ماه],insale[[#This Row],[ماه/نوع فروش]],bargiri[نوع سفارش],insale[[#Headers],[انجمن]]) -> 0 | DO20: =SUMIFS(bargiri[میزان بارگیری شده],bargiri[سال],year,bargiri[ماه],insale[[#This Row],[ماه/نوع فروش]],bargiri[نوع سفارش],insale[[#Headers],[بورس]]) -> 0 | DP20: =SUMIFS(bargiri[میزان بارگیری شده],bargiri[سال],year,bargiri[ماه],insale[[#This Row],[ماه/نوع فروش]],bargiri[نوع سفارش],insale[[#Headers],[تعادلی]]) -> 0 | DR20: اسفند | DS20: {=INDEX(insale[[#This Row],[عادی]:[تعادلی]], DR8)} -> 0
A21: طاها اندیشان | AN21: پاینده ساز فردوس | AO21: 1854380 | AP21: 653845 | AQ21: 69682.927 | AR21: 23 | AS21: 41 | AT21: 0.03435155 | AU21: =1-(AP21/AO21) -> 0.64740506 | AW21: طاها اندیشان همپای البرز | AX21: =IFERROR(SUMIFS(invoice[میزان سفارش],invoice[سال],calc!$AX$5,invoice[نام مشتری],calc!AW21)+IFERROR(SUMIFS(invoice[میزان سفارش],invoice[سال],(calc!$AX$5)-1,invoice[نام مشتری],calc!AW21),0)-SUMIFS(bargiri[میزان بارگیری شده],bargiri[نام مشتری],calc!AW21,bargiri[سال],(calc!$AX$5)-1),"") -> 1064110 | CO21: =IF(CK21-CM21>0,CK21-CM21,"") | CP21: =IF(CO21<>"",CL21,"") | DA21: مرداد | DB21: {=IFERROR( SUMPRODUCT( (bargiri[سال]=$BV$5)* (MATCH(bargiri[ماه],{"فروردین","اردیبهشت","خرداد","تیر","مرداد","شهریور","مهر","آبان","آذر","دی","بهمن","اسفند"},0) <=MATCH(CT11,{"فروردین","اردیبهشت","خرداد","تیر","مرداد","شهریور","مهر","آبان","آذر","دی","بهمن","اسفند"},0))* (bargiri[میزان بارگیری شده])* (bargiri[فی]) ) / SUMPRODUCT( (bargiri[سال]=$BV$5)* (MATCH(bargiri[ماه],{"فروردین","اردیبهشت","خرداد","تیر","مرداد","شهریور","مهر","آبان","آذر","دی","بهمن","اسفند"},0) <=MATCH(CT11,{"فروردین","اردیبهشت","خرداد","تیر","مرداد","شهریور","مهر","آبان","آذر","دی","بهمن","اسفند"},0))* (bargiri[میزان بارگیری شده]) ), "")} -> 141108.73 | DI21: از 100.000 تا کمتر از 120.000 ریال | DJ21: =SUMIFS(invoice[[میزان حمل نشده ]],invoice[فی],">=100000",invoice[فی],"<120000") -> 3085360
A22: طوس قزوین | AN22: رایا شیمی پارسیان | AO22: 1837365 | AP22: 1454650 | AQ22: 70052.632 | AR22: 2 | AS22: 76 | AT22: 0.076424049 | AU22: =1-(AP22/AO22) -> 0.20829558 | AW22: گروه صنایع شیمیایی به آفرین گاز تیسفون | AX22: =IFERROR(SUMIFS(invoice[میزان سفارش],invoice[سال],calc!$AX$5,invoice[نام مشتری],calc!AW22)+IFERROR(SUMIFS(invoice[میزان سفارش],invoice[سال],(calc!$AX$5)-1,invoice[نام مشتری],calc!AW22),0)-SUMIFS(bargiri[میزان بارگیری شده],bargiri[نام مشتری],calc!AW22,bargiri[سال],(calc!$AX$5)-1),"") -> 601105 | CO22: =IF(CK22-CM22>0,CK22-CM22,"") | CP22: =IF(CO22<>"",CL22,"") | DA22: شهریور | DB22: {=IFERROR( SUMPRODUCT( (bargiri[سال]=$BV$5)* (MATCH(bargiri[ماه],{"فروردین","اردیبهشت","خرداد","تیر","مرداد","شهریور","مهر","آبان","آذر","دی","بهمن","اسفند"},0) <=MATCH(CT12,{"فروردین","اردیبهشت","خرداد","تیر","مرداد","شهریور","مهر","آبان","آذر","دی","بهمن","اسفند"},0))* (bargiri[میزان بارگیری شده])* (bargiri[فی]) ) / SUMPRODUCT( (bargiri[سال]=$BV$5)* (MATCH(bargiri[ماه],{"فروردین","اردیبهشت","خرداد","تیر","مرداد","شهریور","مهر","آبان","آذر","دی","بهمن","اسفند"},0) <=MATCH(CT12,{"فروردین","اردیبهشت","خرداد","تیر","مرداد","شهریور","مهر","آبان","آذر","دی","بهمن","اسفند"},0))* (bargiri[میزان بارگیری شده]) ), "")} -> 144792.53 | DI22: از 120.000 تا کمتر از 150.000 ریال | DJ22: =SUMIFS(invoice[[میزان حمل نشده ]],invoice[فی],">=120000",invoice[فی],"<150000") -> 1830270
A23: عبیر شیمی | AN23: محمود احمدی زلتی | AO23: 1150000 | AR23: 5 | AT23: 0 | AU23: =1-(AP23/AO23) -> 1 | AW23: شرکت گروه صنعتی پاژ گاز خراسان | AX23: =IFERROR(SUMIFS(invoice[میزان سفارش],invoice[سال],calc!$AX$5,invoice[نام مشتری],calc!AW23)+IFERROR(SUMIFS(invoice[میزان سفارش],invoice[سال],(calc!$AX$5)-1,invoice[نام مشتری],calc!AW23),0)-SUMIFS(bargiri[میزان بارگیری شده],bargiri[نام مشتری],calc!AW23,bargiri[سال],(calc!$AX$5)-1),"") -> 1407225 | BU23: سال | BV23: 3 | CO23: =IF(CK23-CM23>0,CK23-CM23,"") | CP23: =IF(CO23<>"",CL23,"") | DA23: مهر | DB23: {=IFERROR( SUMPRODUCT( (bargiri[سال]=$BV$5)* (MATCH(bargiri[ماه],{"فروردین","اردیبهشت","خرداد","تیر","مرداد","شهریور","مهر","آبان","آذر","دی","بهمن","اسفند"},0) <=MATCH(CT13,{"فروردین","اردیبهشت","خرداد","تیر","مرداد","شهریور","مهر","آبان","آذر","دی","بهمن","اسفند"},0))* (bargiri[میزان بارگیری شده])* (bargiri[فی]) ) / SUMPRODUCT( (bargiri[سال]=$BV$5)* (MATCH(bargiri[ماه],{"فروردین","اردیبهشت","خرداد","تیر","مرداد","شهریور","مهر","آبان","آذر","دی","بهمن","اسفند"},0) <=MATCH(CT13,{"فروردین","اردیبهشت","خرداد","تیر","مرداد","شهریور","مهر","آبان","آذر","دی","بهمن","اسفند"},0))* (bargiri[میزان بارگیری شده]) ), "")} -> 146291.69 | DI23: 150.000 ریال و بالاتر | DJ23: =SUMIFS(invoice[[میزان حمل نشده ]],invoice[فی],">=150000") -> 10277973
A24: عراق اربیل | AN24: گروه صنایع شیمیایی به آفرین گاز تیسفون | AO24: 870000 | AP24: 53370 | AQ24: 75000 | AR24: 5 | AS24: 7 | AT24: 0.0028039401 | AU24: =1-(AP24/AO24) -> 0.93865517 | AW24: رایا شیمی پارسیان | AX24: =IFERROR(SUMIFS(invoice[میزان سفارش],invoice[سال],calc!$AX$5,invoice[نام مشتری],calc!AW24)+IFERROR(SUMIFS(invoice[میزان سفارش],invoice[سال],(calc!$AX$5)-1,invoice[نام مشتری],calc!AW24),0)-SUMIFS(bargiri[میزان بارگیری شده],bargiri[نام مشتری],calc!AW24,bargiri[سال],(calc!$AX$5)-1),"") -> -382790 | BU24: 1403 | CO24: =IF(CK24-CM24>0,CK24-CM24,"") | CP24: =IF(CO24<>"",CL24,"") | DA24: آبان | DB24: {=IFERROR(SUMPRODUCT((bargiri[ماه]=CT14)*(bargiri[سال]=$BV$5)*(bargiri[میزان بارگیری شده])*(bargiri[فی])) /SUMIFS(bargiri[میزان بارگیری شده], bargiri[ماه], CT14, bargiri[سال], calc!$BV$5), "")}
A25: کوشا تجارت زاگرس | AN25: گاز اکسیژن طوس | AO25: 860000 | AR25: 12 | AT25: 0 | AU25: =1-(AP25/AO25) -> 1 | AW25: محمود احمدی زلتی | AX25: =IFERROR(SUMIFS(invoice[میزان سفارش],invoice[سال],calc!$AX$5,invoice[نام مشتری],calc!AW25)+IFERROR(SUMIFS(invoice[میزان سفارش],invoice[سال],(calc!$AX$5)-1,invoice[نام مشتری],calc!AW25),0)-SUMIFS(bargiri[میزان بارگیری شده],bargiri[نام مشتری],calc!AW25,bargiri[سال],(calc!$AX$5)-1),"") -> 603090 | BU25: 1404 | CO25: =IF(CK25-CM25>0,CK25-CM25,"") | CP25: =IF(CO25<>"",CL25,"") | DA25: آذر | DB25: {=IFERROR(SUMPRODUCT((bargiri[ماه]=CT15)*(bargiri[سال]=$BV$5)*(bargiri[میزان بارگیری شده])*(bargiri[فی])) /SUMIFS(bargiri[میزان بارگیری شده], bargiri[ماه], CT15, bargiri[سال], calc!$BV$5), "")}
A26: گاز اکسیژن طوس | AN26: طاهر افروز همپای البرز | AO26: 842395 | AP26: 842395 | AQ26: 64024.39 | AR26: 3 | AS26: 41 | AT26: 0.044257544 | AU26: =1-(AP26/AO26) -> 0 | AW26: پارس کربنیک کردستان | AX26: =IFERROR(SUMIFS(invoice[میزان سفارش],invoice[سال],calc!$AX$5,invoice[نام مشتری],calc!AW26)+IFERROR(SUMIFS(invoice[میزان سفارش],invoice[سال],(calc!$AX$5)-1,invoice[نام مشتری],calc!AW26),0)-SUMIFS(bargiri[میزان بارگیری شده],bargiri[نام مشتری],calc!AW26,bargiri[سال],(calc!$AX$5)-1),"") -> 242125 | BU26: 1405 | CO26: =IF(CK26-CM26>0,CK26-CM26,"") | CP26: =IF(CO26<>"",CL26,"") | DA26: دی | DB26: {=IFERROR(SUMPRODUCT((bargiri[ماه]=CT16)*(bargiri[سال]=$BV$5)*(bargiri[میزان بارگیری شده])*(bargiri[فی])) /SUMIFS(bargiri[میزان بارگیری شده], bargiri[ماه], CT16, bargiri[سال], calc!$BV$5), "")} | DH26: جمع کل | DI26: عادی | DJ26: =DJ7+DJ13 -> 14103620
A27: گاز کربنیک غرب | AN27: فرافن گاز تهران | AO27: 824870 | AP27: 74870 | AQ27: 76720.4 | AR27: 5 | AS27: 5 | AT27: 0.0039335019 | AU27: =1-(AP27/AO27) -> 0.90923418 | AW27: ماشین سازی پیشتازان گاز کربنیک اردستان | AX27: =IFERROR(SUMIFS(invoice[میزان سفارش],invoice[سال],calc!$AX$5,invoice[نام مشتری],calc!AW27)+IFERROR(SUMIFS(invoice[میزان سفارش],invoice[سال],(calc!$AX$5)-1,invoice[نام مشتری],calc!AW27),0)-SUMIFS(bargiri[میزان بارگیری شده],bargiri[نام مشتری],calc!AW27,bargiri[سال],(calc!$AX$5)-1),"") -> 303900 | BU27: 1406 | CO27: =IF(CK27-CM27>0,CK27-CM27,"") | CP27: =IF(CO27<>"",CL27,"") | DA27: بهمن | DB27: {=IFERROR(SUMPRODUCT((bargiri[ماه]=CT17)*(bargiri[سال]=$BV$5)*(bargiri[میزان بارگیری شده])*(bargiri[فی])) /SUMIFS(bargiri[میزان بارگیری شده], bargiri[ماه], CT17, bargiri[سال], calc!$BV$5), "")} | DI27: انجمن | DJ27: =DJ8+DJ14 -> 9513728
A28: به آفرین گاز | AN28: ماشین سازی پیشتازان گاز کربنیک اردستان | AO28: 621045 | AP28: 294565 | AQ28: 70714.286 | AR28: 4 | AS28: 14 | AT28: 0.015475785 | AU28: =1-(AP28/AO28) -> 0.5256946 | AW28: کوشا تجارت زاگرس | AX28: =IFERROR(SUMIFS(invoice[میزان سفارش],invoice[سال],calc!$AX$5,invoice[نام مشتری],calc!AW28)+IFERROR(SUMIFS(invoice[میزان سفارش],invoice[سال],(calc!$AX$5)-1,invoice[نام مشتری],calc!AW28),0)-SUMIFS(bargiri[میزان بارگیری شده],bargiri[نام مشتری],calc!AW28,bargiri[سال],(calc!$AX$5)-1),"") -> -144195 | BU28: 1407 | CO28: =IF(CK28-CM28>0,CK28-CM28,"") | CP28: =IF(CO28<>"",CL28,"") | DA28: اسفند | DB28: {=IFERROR(SUMPRODUCT((bargiri[ماه]=CT18)*(bargiri[سال]=$BV$5)*(bargiri[میزان بارگیری شده])*(bargiri[فی])) /SUMIFS(bargiri[میزان بارگیری شده], bargiri[ماه], CT18, bargiri[سال], calc!$BV$5), "")} | DI28: بورس | DJ28: =DJ9+DJ15 -> 868755
A29: محمود احمدی زلتی | AN29: پارس کربنیک کردستان | AO29: 500000 | AR29: 4 | AT29: 0 | AU29: =1-(AP29/AO29) -> 1 | AW29: طاهر افروز همپای البرز | AX29: =IFERROR(SUMIFS(invoice[میزان سفارش],invoice[سال],calc!$AX$5,invoice[نام مشتری],calc!AW29)+IFERROR(SUMIFS(invoice[میزان سفارش],invoice[سال],(calc!$AX$5)-1,invoice[نام مشتری],calc!AW29),0)-SUMIFS(bargiri[میزان بارگیری شده],bargiri[نام مشتری],calc!AW29,bargiri[سال],(calc!$AX$5)-1),"") -> 0 | CO29: =IF(CK29-CM29>0,CK29-CM29,"") | CP29: =IF(CO29<>"",CL29,"") | DI29: تعادلی | DJ29: =DJ10+DJ16 -> 1068985
AN30: کوشا تجارت زاگرس | AO30: 417970 | AP30: 273775 | AQ30: 80000 | AR30: 1 | AS30: 31 | AT30: 0.014383525 | AU30: =1-(AP30/AO30) -> 0.34498887 | AW30: سهیل گاز کاسپین | AX30: =IFERROR(SUMIFS(invoice[میزان سفارش],invoice[سال],calc!$AX$5,invoice[نام مشتری],calc!AW30)+IFERROR(SUMIFS(invoice[میزان سفارش],invoice[سال],(calc!$AX$5)-1,invoice[نام مشتری],calc!AW30),0)-SUMIFS(bargiri[میزان بارگیری شده],bargiri[نام مشتری],calc!AW30,bargiri[سال],(calc!$AX$5)-1),"") -> -44485 | CO30: =IF(CK30-CM30>0,CK30-CM30,"") | CP30: =IF(CO30<>"",CL30,"") | DA30: میانگین بار حمل نشده | DB30: =DB31/DB32 -> 191079.46 | DI30: جمع کل | DJ30: =SUM(DJ26:DJ29) -> 25555088
AN31: سهیل گاز کاسپین | AO31: 415775 | AP31: 371290 | AQ31: 78000 | AR31: 1 | AS31: 22 | AT31: 0.019506744 | AU31: =1-(AP31/AO31) -> 0.10699296 | AW31: رهام گاز | AX31: =IFERROR(SUMIFS(invoice[میزان سفارش],invoice[سال],calc!$AX$5,invoice[نام مشتری],calc!AW31)+IFERROR(SUMIFS(invoice[میزان سفارش],invoice[سال],(calc!$AX$5)-1,invoice[نام مشتری],calc!AW31),0)-SUMIFS(bargiri[میزان بارگیری شده],bargiri[نام مشتری],calc!AW31,bargiri[سال],(calc!$AX$5)-1),"") -> 6250 | CO31: =IF(CK31-CM31>0,CK31-CM31,"") | DA31: جمع حاصلضرب حمل نشده | DB31: =SUMPRODUCT(invoice[[میزان حمل نشده ]],invoice[فی]) -> 2903185472400
AN32: رهام گاز | AO32: 369915 | AP32: 316590 | AQ32: 73529.412 | AR32: 6 | AS32: 17 | AT32: 0.016632929 | AU32: =1-(AP32/AO32) -> 0.14415474 | AW32: شرکت امین گاز ایرانیان | AX32: =IFERROR(SUMIFS(invoice[میزان سفارش],invoice[سال],calc!$AX$5,invoice[نام مشتری],calc!AW32)+IFERROR(SUMIFS(invoice[میزان سفارش],invoice[سال],(calc!$AX$5)-1,invoice[نام مشتری],calc!AW32),0)-SUMIFS(bargiri[میزان بارگیری شده],bargiri[نام مشتری],calc!AW32,bargiri[سال],(calc!$AX$5)-1),"") -> -14550 | CO32: =IF(CK32-CM32>0,CK32-CM32,"") | DA32: جمع حمل نشده | DB32: =SUM(invoice[[میزان حمل نشده ]]) -> 15193603
AN33: چشمه بهشت | AO33: 200000 | AR33: 1 | AT33: 0 | AU33: =1-(AP33/AO33) -> 1 | AW33: شرکت دیبا گاز پارسه | AX33: =IFERROR(SUMIFS(invoice[میزان سفارش],invoice[سال],calc!$AX$5,invoice[نام مشتری],calc!AW33)+IFERROR(SUMIFS(invoice[میزان سفارش],invoice[سال],(calc!$AX$5)-1,invoice[نام مشتری],calc!AW33),0)-SUMIFS(bargiri[میزان بارگیری شده],bargiri[نام مشتری],calc!AW33,bargiri[سال],(calc!$AX$5)-1),"") -> 0 | CO33: =IF(CK33-CM33>0,CK33-CM33,"")
AN34: طوفان کویر | AO34: 200000 | AR34: 2 | AT34: 0 | AU34: =1-(AP34/AO34) -> 1 | AW34: میثاق گاز فراز کرج | AX34: =IFERROR(SUMIFS(invoice[میزان سفارش],invoice[سال],calc!$AX$5,invoice[نام مشتری],calc!AW34)+IFERROR(SUMIFS(invoice[میزان سفارش],invoice[سال],(calc!$AX$5)-1,invoice[نام مشتری],calc!AW34),0)-SUMIFS(bargiri[میزان بارگیری شده],bargiri[نام مشتری],calc!AW34,bargiri[سال],(calc!$AX$5)-1),"") -> 0 | CO34: =IF(CK34-CM34>0,CK34-CM34,"")
AN35: شرکت امین گاز ایرانیان | AO35: 158880 | AP35: 139000 | AQ35: 80000 | AR35: 3 | AS35: 15 | AT35: 0.0073027483 | AU35: =1-(AP35/AO35) -> 0.12512588 | AW35: فرافن گاز تهران | AX35: =IFERROR(SUMIFS(invoice[میزان سفارش],invoice[سال],calc!$AX$5,invoice[نام مشتری],calc!AW35)+IFERROR(SUMIFS(invoice[میزان سفارش],invoice[سال],(calc!$AX$5)-1,invoice[نام مشتری],calc!AW35),0)-SUMIFS(bargiri[میزان بارگیری شده],bargiri[نام مشتری],calc!AW35,bargiri[سال],(calc!$AX$5)-1),"") -> 750000 | CO35: =IF(CK35-CM35>0,CK35-CM35,"")
AN36: گاز کربنیک نورین ابهر | AO36: 150000 | AR36: 1 | AT36: 0 | AU36: =1-(AP36/AO36) -> 1 | AW36: =IF(AN36<>"",AN36,"") -> گاز کربنیک نورین ابهر | AX36: =IFERROR(SUMIFS(invoice[میزان سفارش],invoice[سال],calc!$AX$5,invoice[نام مشتری],calc!AW36)+IFERROR(SUMIFS(invoice[میزان سفارش],invoice[سال],(calc!$AX$5)-1,invoice[نام مشتری],calc!AW36),0)-SUMIFS(bargiri[میزان بارگیری شده],bargiri[نام مشتری],calc!AW36,bargiri[سال],(calc!$AX$5)-1),"") -> 150000 | CO36: =IF(CK36-CM36>0,CK36-CM36,"")
AN37: برفاب گاز تبریز | AO37: 130000 | AR37: 1 | AT37: 0 | AU37: =1-(AP37/AO37) -> 1 | AW37: =IF(AN37<>"",AN37,"") -> برفاب گاز تبریز | AX37: =IFERROR(SUMIFS(invoice[میزان سفارش],invoice[سال],calc!$AX$5,invoice[نام مشتری],calc!AW37)+IFERROR(SUMIFS(invoice[میزان سفارش],invoice[سال],(calc!$AX$5)-1,invoice[نام مشتری],calc!AW37),0)-SUMIFS(bargiri[میزان بارگیری شده],bargiri[نام مشتری],calc!AW37,bargiri[سال],(calc!$AX$5)-1),"") -> 130000 | CO37: =IF(CK37-CM37>0,CK37-CM37,"")
AN38: راسا پایدار مصباح | AO38: 20000 | AR38: 1 | AT38: 0 | AU38: =1-(AP38/AO38) -> 1 | AW38: =IF(AN38<>"",AN38,"") -> راسا پایدار مصباح | AX38: =IFERROR(SUMIFS(invoice[میزان سفارش],invoice[سال],calc!$AX$5,invoice[نام مشتری],calc!AW38)+IFERROR(SUMIFS(invoice[میزان سفارش],invoice[سال],(calc!$AX$5)-1,invoice[نام مشتری],calc!AW38),0)-SUMIFS(bargiri[میزان بارگیری شده],bargiri[نام مشتری],calc!AW38,bargiri[سال],(calc!$AX$5)-1),"") -> 20000 | CO38: =IF(CK38-CM38>0,CK38-CM38,"")
AN39: آیس کار | AO39: 20000 | AR39: 1 | AT39: 0 | AU39: =1-(AP39/AO39) -> 1 | AW39: =IF(AN39<>"",AN39,"") -> آیس کار | AX39: =IFERROR(SUMIFS(invoice[میزان سفارش],invoice[سال],calc!$AX$5,invoice[نام مشتری],calc!AW39)+IFERROR(SUMIFS(invoice[میزان سفارش],invoice[سال],(calc!$AX$5)-1,invoice[نام مشتری],calc!AW39),0)-SUMIFS(bargiri[میزان بارگیری شده],bargiri[نام مشتری],calc!AW39,bargiri[سال],(calc!$AX$5)-1),"") -> 11125 | CO39: =IF(CK39-CM39>0,CK39-CM39,"")
AN40: شرکت دیبا گاز پارسه | AO40: 18375 | AP40: 18375 | AQ40: 73000 | AR40: 1 | AS40: 1 | AT40: 0.0009653813 | AU40: =1-(AP40/AO40) -> 0 | AW40: =IF(AN40<>"",AN40,"") -> شرکت دیبا گاز پارسه | AX40: =IFERROR(SUMIFS(invoice[میزان سفارش],invoice[سال],calc!$AX$5,invoice[نام مشتری],calc!AW40)+IFERROR(SUMIFS(invoice[میزان سفارش],invoice[سال],(calc!$AX$5)-1,invoice[نام مشتری],calc!AW40),0)-SUMIFS(bargiri[میزان بارگیری شده],bargiri[نام مشتری],calc!AW40,bargiri[سال],(calc!$AX$5)-1),"") -> 0 | CO40: =IF(CK40-CM40>0,CK40-CM40,"")
AN41: میثاق گاز فراز کرج | AO41: 9720 | AP41: 9720 | AQ41: 110000 | AR41: 1 | AS41: 1 | AT41: 0.000510667 | AU41: =1-(AP41/AO41) -> 0 | AW41: =IF(AN41<>"",AN41,"") -> میثاق گاز فراز کرج | AX41: =IFERROR(SUMIFS(invoice[میزان سفارش],invoice[سال],calc!$AX$5,invoice[نام مشتری],calc!AW41)+IFERROR(SUMIFS(invoice[میزان سفارش],invoice[سال],(calc!$AX$5)-1,invoice[نام مشتری],calc!AW41),0)-SUMIFS(bargiri[میزان بارگیری شده],bargiri[نام مشتری],calc!AW41,bargiri[سال],(calc!$AX$5)-1),"") -> 0 | CO41: =IF(CK41-CM41>0,CK41-CM41,"")
AU42: =1-(AP42/AO42) -> #DIV/0! | AW42: =IF(AN42<>"",AN42,"") | AX42: =IFERROR(SUMIFS(invoice[میزان سفارش],invoice[سال],calc!$AX$5,invoice[نام مشتری],calc!AW42)+IFERROR(SUMIFS(invoice[میزان سفارش],invoice[سال],(calc!$AX$5)-1,invoice[نام مشتری],calc!AW42),0)-SUMIFS(bargiri[میزان بارگیری شده],bargiri[نام مشتری],calc!AW42,bargiri[سال],(calc!$AX$5)-1),"") -> 0 | CO42: =IF(CK42-CM42>0,CK42-CM42,"")
AU43: =1-(AP43/AO43) -> #DIV/0! | AW43: =IF(AN43<>"",AN43,"") | AX43: =IFERROR(SUMIFS(invoice[میزان سفارش],invoice[سال],calc!$AX$5,invoice[نام مشتری],calc!AW43)+IFERROR(SUMIFS(invoice[میزان سفارش],invoice[سال],(calc!$AX$5)-1,invoice[نام مشتری],calc!AW43),0)-SUMIFS(bargiri[میزان بارگیری شده],bargiri[نام مشتری],calc!AW43,bargiri[سال],(calc!$AX$5)-1),"") -> 0 | CO43: =IF(CK43-CM43>0,CK43-CM43,"")
AU44: =1-(AP44/AO44) -> #DIV/0! | AW44: =IF(AN44<>"",AN44,"") | AX44: =IFERROR(SUMIFS(invoice[میزان سفارش],invoice[سال],calc!$AX$5,invoice[نام مشتری],calc!AW44)+IFERROR(SUMIFS(invoice[میزان سفارش],invoice[سال],(calc!$AX$5)-1,invoice[نام مشتری],calc!AW44),0)-SUMIFS(bargiri[میزان بارگیری شده],bargiri[نام مشتری],calc!AW44,bargiri[سال],(calc!$AX$5)-1),"") -> 0 | CO44: =IF(CK44-CM44>0,CK44-CM44,"")
AU45: =1-(AP45/AO45) -> #DIV/0! | AW45: =IF(AN45<>"",AN45,"") | AX45: =IFERROR(SUMIFS(invoice[میزان سفارش],invoice[سال],calc!$AX$5,invoice[نام مشتری],calc!AW45)+IFERROR(SUMIFS(invoice[میزان سفارش],invoice[سال],(calc!$AX$5)-1,invoice[نام مشتری],calc!AW45),0)-SUMIFS(bargiri[میزان بارگیری شده],bargiri[نام مشتری],calc!AW45,bargiri[سال],(calc!$AX$5)-1),"") -> 0 | CO45: =IF(CK45-CM45>0,CK45-CM45,"")
AU46: =1-(AP46/AO46) -> #DIV/0! | AW46: =IF(AN46<>"",AN46,"") | AX46: =IFERROR(SUMIFS(invoice[میزان سفارش],invoice[سال],calc!$AX$5,invoice[نام مشتری],calc!AW46)+IFERROR(SUMIFS(invoice[میزان سفارش],invoice[سال],(calc!$AX$5)-1,invoice[نام مشتری],calc!AW46),0)-SUMIFS(bargiri[میزان بارگیری شده],bargiri[نام مشتری],calc!AW46,bargiri[سال],(calc!$AX$5)-1),"") -> 0 | CO46: =IF(CK46-CM46>0,CK46-CM46,"")
AU47: =1-(AP47/AO47) -> #DIV/0! | AW47: =IF(AN47<>"",AN47,"") | AX47: =IFERROR(SUMIFS(invoice[میزان سفارش],invoice[سال],calc!$AX$5,invoice[نام مشتری],calc!AW47)+IFERROR(SUMIFS(invoice[میزان سفارش],invoice[سال],(calc!$AX$5)-1,invoice[نام مشتری],calc!AW47),0)-SUMIFS(bargiri[میزان بارگیری شده],bargiri[نام مشتری],calc!AW47,bargiri[سال],(calc!$AX$5)-1),"") -> 0 | CO47: =IF(CK47-CM47>0,CK47-CM47,"")
AU48: =1-(AP48/AO48) -> #DIV/0! | AW48: =IF(AN48<>"",AN48,"") | AX48: =IFERROR(SUMIFS(invoice[میزان سفارش],invoice[سال],calc!$AX$5,invoice[نام مشتری],calc!AW48)+IFERROR(SUMIFS(invoice[میزان سفارش],invoice[سال],(calc!$AX$5)-1,invoice[نام مشتری],calc!AW48),0)-SUMIFS(bargiri[میزان بارگیری شده],bargiri[نام مشتری],calc!AW48,bargiri[سال],(calc!$AX$5)-1),"") -> 0 | CO48: =IF(CK48-CM48>0,CK48-CM48,"")
AU49: =1-(AP49/AO49) -> #DIV/0! | AW49: =IF(AN49<>"",AN49,"") | AX49: =IFERROR(SUMIFS(invoice[میزان سفارش],invoice[سال],calc!$AX$5,invoice[نام مشتری],calc!AW49)+IFERROR(SUMIFS(invoice[میزان سفارش],invoice[سال],(calc!$AX$5)-1,invoice[نام مشتری],calc!AW49),0)-SUMIFS(bargiri[میزان بارگیری شده],bargiri[نام مشتری],calc!AW49,bargiri[سال],(calc!$AX$5)-1),"") -> 0 | CO49: =IF(CK49-CM49>0,CK49-CM49,"")
AU50: =1-(AP50/AO50) -> #DIV/0! | CO50: =IF(CK50-CM50>0,CK50-CM50,"")
AU51: =1-(AP51/AO51) -> #DIV/0! | CO51: =IF(CK51-CM51>0,CK51-CM51,"")
AU52: =1-(AP52/AO52) -> #DIV/0! | CO52: =IF(CK52-CM52>0,CK52-CM52,"")
AU53: =1-(AP53/AO53) -> #DIV/0! | CO53: =IF(CK53-CM53>0,CK53-CM53,"")
AU54: =1-(AP54/AO54) -> #DIV/0! | CO54: =IF(CK54-CM54>0,CK54-CM54,"")
AU55: =1-(AP55/AO55) -> #DIV/0! | CO55: =IF(CK55-CM55>0,CK55-CM55,"")
AU56: =1-(AP56/AO56) -> #DIV/0! | CO56: =IF(CK56-CM56>0,CK56-CM56,"")
AU57: =1-(AP57/AO57) -> #DIV/0! | CO57: =IF(CK57-CM57>0,CK57-CM57,"")
AU58: =1-(AP58/AO58) -> #DIV/0! | CO58: =IF(CK58-CM58>0,CK58-CM58,"")
AU59: =1-(AP59/AO59) -> #DIV/0! | CO59: =IF(CK59-CM59>0,CK59-CM59,"")
AU60: =1-(AP60/AO60) -> #DIV/0! | CO60: =IF(CK60-CM60>0,CK60-CM60,"")
AU61: =1-(AP61/AO61) -> #DIV/0! | CO61: =IF(CK61-CM61>0,CK61-CM61,"")
... AU113: =1-(AP113/AO113) -> #DIV/0! | CO113: =IF(CK113-CM113>0,CK113-CM113,"")
AB114: =SUM(AB50:AB113) -> 0 | AU114: =1-(AP114/AO114) -> #DIV/0! | CO114: =IF(CK114-CM114>0,CK114-CM114,"")
AU115: =1-(AP115/AO115) -> #DIV/0! | CO115: =IF(CK115-CM115>0,CK115-CM115,"")
AU116: =1-(AP116/AO116) -> #DIV/0! | CO116: =IF(CK116-CM116>0,CK116-CM116,"")
AU117: =1-(AP117/AO117) -> #DIV/0! | CO117: =IF(CK117-CM117>0,CK117-CM117,"")
AU118: =1-(AP118/AO118) -> #DIV/0! | CO118: =IF(CK118-CM118>0,CK118-CM118,"")
AU119: =1-(AP119/AO119) -> #DIV/0! | CO119: =IF(CK119-CM119>0,CK119-CM119,"")
AU120: =1-(AP120/AO120) -> #DIV/0! | CO120: =IF(CK120-CM120>0,CK120-CM120,"")
AU121: =1-(AP121/AO121) -> #DIV/0! | CO121: =IF(CK121-CM121>0,CK121-CM121,"")
AU122: =1-(AP122/AO122) -> #DIV/0! | CO122: =IF(CK122-CM122>0,CK122-CM122,"")
AU123: =1-(AP123/AO123) -> #DIV/0! | CO123: =IF(CK123-CM123>0,CK123-CM123,"")
AU124: =1-(AP124/AO124) -> #DIV/0! | CO124: =IF(CK124-CM124>0,CK124-CM124,"")
AU125: =1-(AP125/AO125) -> #DIV/0! | CO125: =IF(CK125-CM125>0,CK125-CM125,"")
AU126: =1-(AP126/AO126) -> #DIV/0! | CO126: =IF(CK126-CM126>0,CK126-CM126,"")
... AU129: =1-(AP129/AO129) -> #DIV/0! | CO129: =IF(CK129-CM129>0,CK129-CM129,"")
CO130: =IF(CK130-CM130>0,CK130-CM130,"")
CO131: =IF(CK131-CM131>0,CK131-CM131,"")
CO132: =IF(CK132-CM132>0,CK132-CM132,"")
CO133: =IF(CK133-CM133>0,CK133-CM133,"")
CO134: =IF(CK134-CM134>0,CK134-CM134,"")
CO135: =IF(CK135-CM135>0,CK135-CM135,"")
CO136: =IF(CK136-CM136>0,CK136-CM136,"")
CO137: =IF(CK137-CM137>0,CK137-CM137,"")
CO138: =IF(CK138-CM138>0,CK138-CM138,"")
CO139: =IF(CK139-CM139>0,CK139-CM139,"")
CO140: =IF(CK140-CM140>0,CK140-CM140,"")
CO141: =IF(CK141-CM141>0,CK141-CM141,"")
... CO158: =IF(CK158-CM158>0,CK158-CM158,"")

Sheet جزییات بارگیری
A1: تاریخ بارگیری | B1: نام مشتری | C1: شماره پیش فاکتور | D1: میزان بارگیری شده | E1: فی | F1: سال | G1: ماه | H1: قیمت کل بار | I1: کمکی2 | J1: نوع سفارش | K1: ناخالص | M1: آدرس فایل
A2: 1405/07/15 | B2: طاها اندیشان همپای البرز | C2: پ/125-1404 | D2: 20120 | E2: 130000 | F2: 1405 | G2: مهر | H2: =bargiri[[#This Row],[میزان بارگیری شده]]*bargiri[[#This Row],[فی]] -> 2615600000 | I2: =IF(year=bargiri[[#This Row],[سال]],1,0) -> 1 | J2: =VLOOKUP(bargiri[[#This Row],[شماره پیش فاکتور]],invoice[],16,0) -> عادی | K2: =bargiri[[#This Row],[فی]]*bargiri[[#This Row],[میزان بارگیری شده]] -> 2615600000 | M2: C:\Users\a.faraji\Desktop\فروش
A3: 1405/07/15 | B3: خوش نوش همدان | C3: پ/113-1404 | D3: 20140 | E3: 125000 | F3: 1405 | G3: مهر | H3: =bargiri[[#This Row],[میزان بارگیری شده]]*bargiri[[#This Row],[فی]] -> 2517500000 | I3: =IF(year=bargiri[[#This Row],[سال]],1,0) -> 1 | J3: =VLOOKUP(bargiri[[#This Row],[شماره پیش فاکتور]],invoice[],16,0) -> عادی | K3: =bargiri[[#This Row],[فی]]*bargiri[[#This Row],[میزان بارگیری شده]] -> 2517500000
A4: 1405/07/15 | B4: ماشین سازی پیشتازان گاز کربنیک اردستان | C4: پ/16-1405 | D4: 20190 | E4: 240000 | F4: 1405 | G4: مهر | H4: =bargiri[[#This Row],[میزان بارگیری شده]]*bargiri[[#This Row],[فی]] -> 4845600000 | I4: =IF(year=bargiri[[#This Row],[سال]],1,0) -> 1 | J4: =VLOOKUP(bargiri[[#This Row],[شماره پیش فاکتور]],invoice[],16,0) -> انجمن | K4: =bargiri[[#This Row],[فی]]*bargiri[[#This Row],[میزان بارگیری شده]] -> 4845600000
A5: 1405/07/15 | B5: عراق اربیل | C5: پ/92-1404-13 | D5: 20110 | E5: 170323 | F5: 1405 | G5: مهر | H5: =bargiri[[#This Row],[میزان بارگیری شده]]*bargiri[[#This Row],[فی]] -> 3425195530 | I5: =IF(year=bargiri[[#This Row],[سال]],1,0) -> 1 | J5: =VLOOKUP(bargiri[[#This Row],[شماره پیش فاکتور]],invoice[],16,0) -> عادی | K5: =bargiri[[#This Row],[فی]]*bargiri[[#This Row],[میزان بارگیری شده]] -> 3425195530
A6: 1405/07/15 | B6: عراق اربیل | C6: پ/92-1404-13 | D6: 20020 | E6: 170323 | F6: 1405 | G6: مهر | H6: =bargiri[[#This Row],[میزان بارگیری شده]]*bargiri[[#This Row],[فی]] -> 3409866460 | I6: =IF(year=bargiri[[#This Row],[سال]],1,0) -> 1 | J6: =VLOOKUP(bargiri[[#This Row],[شماره پیش فاکتور]],invoice[],16,0) -> عادی | K6: =bargiri[[#This Row],[فی]]*bargiri[[#This Row],[میزان بارگیری شده]] -> 3409866460
A7: 1405/07/15 | B7: عراق اربیل | C7: پ/92-1404-13 | D7: 20230 | E7: 170323 | F7: 1405 | G7: مهر | H7: =bargiri[[#This Row],[میزان بارگیری شده]]*bargiri[[#This Row],[فی]] -> 3445634290 | I7: =IF(year=bargiri[[#This Row],[سال]],1,0) -> 1 | J7: =VLOOKUP(bargiri[[#This Row],[شماره پیش فاکتور]],invoice[],16,0) -> عادی | K7: =bargiri[[#This Row],[فی]]*bargiri[[#This Row],[میزان بارگیری شده]] -> 3445634290
A8: 1405/07/15 | B8: عراق اربیل | C8: پ/92-1404-13 | D8: 20170 | E8: 170323 | F8: 1405 | G8: مهر | H8: =bargiri[[#This Row],[میزان بارگیری شده]]*bargiri[[#This Row],[فی]] -> 3435414910 | I8: =IF(year=bargiri[[#This Row],[سال]],1,0) -> 1 | J8: =VLOOKUP(bargiri[[#This Row],[شماره پیش فاکتور]],invoice[],16,0) -> عادی | K8: =bargiri[[#This Row],[فی]]*bargiri[[#This Row],[میزان بارگیری شده]] -> 3435414910
A9: 1405/07/14 | B9: طاها اندیشان همپای البرز | C9: پ/125-1404 | D9: 22430 | E9: 130000 | F9: 1405 | G9: مهر | H9: =bargiri[[#This Row],[میزان بارگیری شده]]*bargiri[[#This Row],[فی]] -> 2915900000 | I9: =IF(year=bargiri[[#This Row],[سال]],1,0) -> 1 | J9: =VLOOKUP(bargiri[[#This Row],[شماره پیش فاکتور]],invoice[],16,0) -> عادی | K9: =bargiri[[#This Row],[فی]]*bargiri[[#This Row],[میزان بارگیری شده]] -> 2915900000
A10: 1405/07/14 | B10: سپهر سرمد | C10: الحاقیه پ/69-1403-2 | D10: 7480 | E10: 240000 | F10: 1405 | G10: مهر | H10: =bargiri[[#This Row],[میزان بارگیری شده]]*bargiri[[#This Row],[فی]] -> 1795200000 | I10: =IF(year=bargiri[[#This Row],[سال]],1,0) -> 1 | J10: =VLOOKUP(bargiri[[#This Row],[شماره پیش فاکتور]],invoice[],16,0) -> انجمن | K10: =bargiri[[#This Row],[فی]]*bargiri[[#This Row],[میزان بارگیری شده]] -> 1795200000
A11: 1405/07/14 | B11: عبیر شیمی | C11: پ/74-1404 | D11: 10100 | E11: 116500 | F11: 1405 | G11: مهر | H11: =bargiri[[#This Row],[میزان بارگیری شده]]*bargiri[[#This Row],[فی]] -> 1176650000 | I11: =IF(year=bargiri[[#This Row],[سال]],1,0) -> 1 | J11: =VLOOKUP(bargiri[[#This Row],[شماره پیش فاکتور]],invoice[],16,0) -> تعادلی | K11: =bargiri[[#This Row],[فی]]*bargiri[[#This Row],[میزان بارگیری شده]] -> 1176650000
A12: 1405/07/14 | B12: عبیر شیمی | C12: پ/122-1404 | D12: 9950 | E12: 116500 | F12: 1405 | G12: مهر | H12: =bargiri[[#This Row],[میزان بارگیری شده]]*bargiri[[#This Row],[فی]] -> 1159175000 | I12: =IF(year=bargiri[[#This Row],[سال]],1,0) -> 1 | J12: =VLOOKUP(bargiri[[#This Row],[شماره پیش فاکتور]],invoice[],16,0) -> تعادلی | K12: =bargiri[[#This Row],[فی]]*bargiri[[#This Row],[میزان بارگیری شده]] -> 1159175000
A13: 1405/07/12 | B13: عراق اربیل | C13: پ/92-1404-13 | D13: 20080 | E13: 170323 | F13: 1405 | G13: مهر | H13: =bargiri[[#This Row],[میزان بارگیری شده]]*bargiri[[#This Row],[فی]] -> 3420085840 | I13: =IF(year=bargiri[[#This Row],[سال]],1,0) -> 1 | J13: =VLOOKUP(bargiri[[#This Row],[شماره پیش فاکتور]],invoice[],16,0) -> عادی | K13: =bargiri[[#This Row],[فی]]*bargiri[[#This Row],[میزان بارگیری شده]] -> 3420085840
A14: 1405/07/12 | B14: عراق اربیل | C14: پ/92-1404-13 | D14: 20020 | E14: 170323 | F14: 1405 | G14: مهر | H14: =bargiri[[#This Row],[میزان بارگیری شده]]*bargiri[[#This Row],[فی]] -> 3409866460 | I14: =IF(year=bargiri[[#This Row],[سال]],1,0) -> 1 | J14: =VLOOKUP(bargiri[[#This Row],[شماره پیش فاکتور]],invoice[],16,0) -> عادی | K14: =bargiri[[#This Row],[فی]]*bargiri[[#This Row],[میزان بارگیری شده]] -> 3409866460
... A741: 1404/11/16 | B741: تعاونی ماهان گاز | C741: پ/67-1403 | D741: 11540 | E741: 89000 | F741: 1404 | G741: بهمن | H741: =bargiri[[#This Row],[میزان بارگیری شده]]*bargiri[[#This Row],[فی]] -> 1027060000 | I741: =IF(year=bargiri[[#This Row],[سال]],1,0) -> 0 | J741: =VLOOKUP(bargiri[[#This Row],[شماره پیش فاکتور]],invoice[],16,0) -> عادی | K741: =bargiri[[#This Row],[فی]]*bargiri[[#This Row],[میزان بارگیری شده]] -> 1027060000
A742: 1404/11/16 | B742: عبیر شیمی | C742: الحاقیه پ/64-1403 | E742: 0 | F742: 1404 | G742: بهمن | H742: =bargiri[[#This Row],[میزان بارگیری شده]]*bargiri[[#This Row],[فی]] -> 0 | I742: =IF(year=bargiri[[#This Row],[سال]],1,0) -> 0 | J742: =VLOOKUP(bargiri[[#This Row],[شماره پیش فاکتور]],invoice[],16,0) -> انجمن | K742: =bargiri[[#This Row],[فی]]*bargiri[[#This Row],[میزان بارگیری شده]] -> 0
A743: 1404/11/16 | B743: گاز اکسیژن طوس | C743: الحاقیه پ/62-1403 | D743: 18830 | E743: 142000 | F743: 1404 | G743: بهمن | H743: =bargiri[[#This Row],[میزان بارگیری شده]]*bargiri[[#This Row],[فی]] -> 2673860000 | I743: =IF(year=bargiri[[#This Row],[سال]],1,0) -> 0 | J743: =VLOOKUP(bargiri[[#This Row],[شماره پیش فاکتور]],invoice[],16,0) -> انجمن | K743: =bargiri[[#This Row],[فی]]*bargiri[[#This Row],[میزان بارگیری شده]] -> 2673860000
A744: 1404/11/14 | B744: شرکت گروه صنعتی پاژ گاز خراسان | C744: پ/76-1404 | D744: 18410 | E744: 105000 | F744: 1404 | G744: بهمن | H744: =bargiri[[#This Row],[میزان بارگیری شده]]*bargiri[[#This Row],[فی]] -> 1933050000 | I744: =IF(year=bargiri[[#This Row],[سال]],1,0) -> 0 | J744: =VLOOKUP(bargiri[[#This Row],[شماره پیش فاکتور]],invoice[],16,0) -> عادی | K744: =bargiri[[#This Row],[فی]]*bargiri[[#This Row],[میزان بارگیری شده]] -> 1933050000
A745: 1404/11/14 | B745: طوس قزوین | C745: الحاقیه پ/43-1402 | D745: 5360 | E745: 95000 | F745: 1404 | G745: بهمن | H745: =bargiri[[#This Row],[میزان بارگیری شده]]*bargiri[[#This Row],[فی]] -> 509200000 | I745: =IF(year=bargiri[[#This Row],[سال]],1,0) -> 0 | J745: =VLOOKUP(bargiri[[#This Row],[شماره پیش فاکتور]],invoice[],16,0) -> عادی | K745: =bargiri[[#This Row],[فی]]*bargiri[[#This Row],[میزان بارگیری شده]] -> 509200000
A746: 1404/11/14 | B746: خوش نوش همدان | C746: پ/68-1404 | D746: 4160 | E746: 111000 | F746: 1404 | G746: بهمن | H746: =bargiri[[#This Row],[میزان بارگیری شده]]*bargiri[[#This Row],[فی]] -> 461760000 | I746: =IF(year=bargiri[[#This Row],[سال]],1,0) -> 0 | J746: =VLOOKUP(bargiri[[#This Row],[شماره پیش فاکتور]],invoice[],16,0) -> عادی | K746: =bargiri[[#This Row],[فی]]*bargiri[[#This Row],[میزان بارگیری شده]] -> 461760000
A747: 1404/11/14 | B747: پارس اکسیر البرز شمالی | C747: پ/75-1404 | D747: 19430 | E747: 105000 | F747: 1404 | G747: بهمن | H747: =bargiri[[#This Row],[میزان بارگیری شده]]*bargiri[[#This Row],[فی]] -> 2040150000 | I747: =IF(year=bargiri[[#This Row],[سال]],1,0) -> 0 | J747: =VLOOKUP(bargiri[[#This Row],[شماره پیش فاکتور]],invoice[],16,0) -> عادی | K747: =bargiri[[#This Row],[فی]]*bargiri[[#This Row],[میزان بارگیری شده]] -> 2040150000
A748: 1404/11/13 | B748: خوش نوش همدان | C748: پ/68-1404 | D748: 5640 | E748: 111000 | F748: 1404 | G748: بهمن | H748: =bargiri[[#This Row],[میزان بارگیری شده]]*bargiri[[#This Row],[فی]] -> 626040000 | I748: =IF(year=bargiri[[#This Row],[سال]],1,0) -> 0 | J748: =VLOOKUP(bargiri[[#This Row],[شماره پیش فاکتور]],invoice[],16,0) -> عادی | K748: =bargiri[[#This Row],[فی]]*bargiri[[#This Row],[میزان بارگیری شده]] -> 626040000
A749: 1404/11/13 | B749: تولید گازهای طبی و صنعتی مددکاران اصفهان | C749: الحاقیه پ/52-1403 | D749: 7110 | E749: 142000 | F749: 1404 | G749: بهمن | H749: =bargiri[[#This Row],[میزان بارگیری شده]]*bargiri[[#This Row],[فی]] -> 1009620000 | I749: =IF(year=bargiri[[#This Row],[سال]],1,0) -> 0 | J749: =VLOOKUP(bargiri[[#This Row],[شماره پیش فاکتور]],invoice[],16,0) -> انجمن | K749: =bargiri[[#This Row],[فی]]*bargiri[[#This Row],[میزان بارگیری شده]] -> 1009620000
A750: 1404/11/13 | B750: طوس قزوین | C750: الحاقیه پ/53-1403 | D750: 16080 | E750: 142000 | F750: 1404 | G750: بهمن | H750: =bargiri[[#This Row],[میزان بارگیری شده]]*bargiri[[#This Row],[فی]] -> 2283360000 | I750: =IF(year=bargiri[[#This Row],[سال]],1,0) -> 0 | J750: =VLOOKUP(bargiri[[#This Row],[شماره پیش فاکتور]],invoice[],16,0) -> انجمن | K750: =bargiri[[#This Row],[فی]]*bargiri[[#This Row],[میزان بارگیری شده]] -> 2283360000
A751: 1404/11/13 | B751: خوش نوش همدان | C751: پ/68-1404 | D751: 5880 | E751: 111000 | F751: 1404 | G751: بهمن | H751: =bargiri[[#This Row],[میزان بارگیری شده]]*bargiri[[#This Row],[فی]] -> 652680000 | I751: =IF(year=bargiri[[#This Row],[سال]],1,0) -> 0 | J751: =VLOOKUP(bargiri[[#This Row],[شماره پیش فاکتور]],invoice[],16,0) -> عادی | K751: =bargiri[[#This Row],[فی]]*bargiri[[#This Row],[میزان بارگیری شده]] -> 652680000
A752: 1404/11/13 | B752: تولیدی گازهای طبی و صنعتی طوس سبزوار | C752: پ/107-1404 | D752: 4590 | E752: 167500 | F752: 1404 | G752: بهمن | H752: =bargiri[[#This Row],[میزان بارگیری شده]]*bargiri[[#This Row],[فی]] -> 768825000 | I752: =IF(year=bargiri[[#This Row],[سال]],1,0) -> 0 | J752: =VLOOKUP(bargiri[[#This Row],[شماره پیش فاکتور]],invoice[],16,0) -> بورس | K752: =bargiri[[#This Row],[فی]]*bargiri[[#This Row],[میزان بارگیری شده]] -> 768825000
A753: 1404/11/13 | B753: تولیدی گازهای طبی و صنعتی طوس سبزوار | C753: پ/26-1404 | D753: 11180 | E753: 83000 | F753: 1404 | G753: بهمن | H753: =bargiri[[#This Row],[میزان بارگیری شده]]*bargiri[[#This Row],[فی]] -> 927940000 | I753: =IF(year=bargiri[[#This Row],[سال]],1,0) -> 0 | J753: =VLOOKUP(bargiri[[#This Row],[شماره پیش فاکتور]],invoice[],16,0) -> تعادلی | K753: =bargiri[[#This Row],[فی]]*bargiri[[#This Row],[میزان بارگیری شده]] -> 927940000
A754: 1404/11/13 | B754: تولیدی گازهای طبی و صنعتی طوس سبزوار | C754: الحاقیه پ/65-1403 | D754: 2470 | E754: 142000 | F754: 1404 | G754: بهمن | H754: =bargiri[[#This Row],[میزان بارگیری شده]]*bargiri[[#This Row],[فی]] -> 350740000 | I754: =IF(year=bargiri[[#This Row],[سال]],1,0) -> 0 | J754: =VLOOKUP(bargiri[[#This Row],[شماره پیش فاکتور]],invoice[],16,0) -> انجمن | K754: =bargiri[[#This Row],[فی]]*bargiri[[#This Row],[میزان بارگیری شده]] -> 350740000
... A856: 1404/10/27 | B856: تولید گازهای طبی و صنعتی مددکاران اصفهان | C856: الحاقیه پ/52-1403 | D856: 20110 | E856: 142000 | F856: 1404 | G856: دی | H856: =bargiri[[#This Row],[میزان بارگیری شده]]*bargiri[[#This Row],[فی]] -> 2855620000 | I856: =IF(year=bargiri[[#This Row],[سال]],1,0) -> 0 | J856: =VLOOKUP(bargiri[[#This Row],[شماره پیش فاکتور]],invoice[],16,0) -> انجمن | K856: =bargiri[[#This Row],[فی]]*bargiri[[#This Row],[میزان بارگیری شده]] -> 2855620000
A857: 1404/10/26 | B857: عبیر شیمی | C857: پ/13-1404 | E857: 0 | F857: 1404 | G857: دی | H857: =bargiri[[#This Row],[میزان بارگیری شده]]*bargiri[[#This Row],[فی]] -> 0 | I857: =IF(year=bargiri[[#This Row],[سال]],1,0) -> 0 | J857: =VLOOKUP(bargiri[[#This Row],[شماره پیش فاکتور]],invoice[],16,0) -> عادی | K857: =bargiri[[#This Row],[فی]]*bargiri[[#This Row],[میزان بارگیری شده]] -> 0
A858: 1404/10/26 | B858: تولیدی گازهای طبی و صنعتی طوس سبزوار | C858: پ/21-1404 | D858: 5330 | E858: 79520 | F858: 1404 | G858: دی | H858: =bargiri[[#This Row],[میزان بارگیری شده]]*bargiri[[#This Row],[فی]] -> 423841600 | I858: =IF(year=bargiri[[#This Row],[سال]],1,0) -> 0 | J858: =VLOOKUP(bargiri[[#This Row],[شماره پیش فاکتور]],invoice[],16,0) -> تعادلی | K858: =bargiri[[#This Row],[فی]]*bargiri[[#This Row],[میزان بارگیری شده]] -> 423841600
A859: 1404/10/26 | B859: تولیدی گازهای طبی و صنعتی طوس سبزوار | C859: پ/66-1404 | D859: 15110 | E859: 74000 | F859: 1404 | G859: دی | H859: =bargiri[[#This Row],[میزان بارگیری شده]]*bargiri[[#This Row],[فی]] -> 1118140000 | I859: =IF(year=bargiri[[#This Row],[سال]],1,0) -> 0 | J859: =VLOOKUP(bargiri[[#This Row],[شماره پیش فاکتور]],invoice[],16,0) -> تعادلی | K859: =bargiri[[#This Row],[فی]]*bargiri[[#This Row],[میزان بارگیری شده]] -> 1118140000
A860: 1404/10/24 | B860: پارس اکسیر البرز شمالی | C860: پ/49-1403 | D860: 22100 | E860: 86500 | F860: 1404 | G860: دی | H860: =bargiri[[#This Row],[میزان بارگیری شده]]*bargiri[[#This Row],[فی]] -> 1911650000 | I860: =IF(year=bargiri[[#This Row],[سال]],1,0) -> 0 | J860: =VLOOKUP(bargiri[[#This Row],[شماره پیش فاکتور]],invoice[],16,0) -> عادی | K860: =bargiri[[#This Row],[فی]]*bargiri[[#This Row],[میزان بارگیری شده]] -> 1911650000
A861: 1404/10/24 | B861: سپهر سرمد | C861: الحاقیه پ/69-1403 | D861: 7560 | E861: 142000 | F861: 1404 | G861: دی | H861: =bargiri[[#This Row],[میزان بارگیری شده]]*bargiri[[#This Row],[فی]] -> 1073520000 | I861: =IF(year=bargiri[[#This Row],[سال]],1,0) -> 0 | J861: =VLOOKUP(bargiri[[#This Row],[شماره پیش فاکتور]],invoice[],16,0) -> انجمن | K861: =bargiri[[#This Row],[فی]]*bargiri[[#This Row],[میزان بارگیری شده]] -> 1073520000
A862: 1404/10/24 | B862: خوش نوش همدان | C862: پ/68-1404 | D862: 4560 | E862: 111000 | F862: 1404 | G862: دی | H862: =bargiri[[#This Row],[میزان بارگیری شده]]*bargiri[[#This Row],[فی]] -> 506160000 | I862: =IF(year=bargiri[[#This Row],[سال]],1,0) -> 0 | J862: =VLOOKUP(bargiri[[#This Row],[شماره پیش فاکتور]],invoice[],16,0) -> عادی | K862: =bargiri[[#This Row],[فی]]*bargiri[[#This Row],[میزان بارگیری شده]] -> 506160000
A863: 1404/10/24 | B863: خوش نوش همدان | C863: پ/68-1404 | D863: 22300 | E863: 111000 | F863: 1404 | G863: دی | H863: =bargiri[[#This Row],[میزان بارگیری شده]]*bargiri[[#This Row],[فی]] -> 2475300000 | I863: =IF(year=bargiri[[#This Row],[سال]],1,0) -> 0 | J863: =VLOOKUP(bargiri[[#This Row],[شماره پیش فاکتور]],invoice[],16,0) -> عادی | K863: =bargiri[[#This Row],[فی]]*bargiri[[#This Row],[میزان بارگیری شده]] -> 2475300000
A864: 1404/10/24 | B864: تولید گازهای طبی و صنعتی مددکاران اصفهان | C864: الحاقیه پ/52-1403 | D864: 7810 | E864: 142000 | F864: 1404 | G864: دی | H864: =bargiri[[#This Row],[میزان بارگیری شده]]*bargiri[[#This Row],[فی]] -> 1109020000 | I864: =IF(year=bargiri[[#This Row],[سال]],1,0) -> 0 | J864: =VLOOKUP(bargiri[[#This Row],[شماره پیش فاکتور]],invoice[],16,0) -> انجمن | K864: =bargiri[[#This Row],[فی]]*bargiri[[#This Row],[میزان بارگیری شده]] -> 1109020000
A865: 1404/10/24 | B865: پارس کربنیک کردستان | C865: الحاقیه پ/55-1403 | D865: 6710 | E865: 142000 | F865: 1404 | G865: دی | H865: =bargiri[[#This Row],[میزان بارگیری شده]]*bargiri[[#This Row],[فی]] -> 952820000 | I865: =IF(year=bargiri[[#This Row],[سال]],1,0) -> 0 | J865: =VLOOKUP(bargiri[[#This Row],[شماره پیش فاکتور]],invoice[],16,0) -> انجمن | K865: =bargiri[[#This Row],[فی]]*bargiri[[#This Row],[میزان بارگیری شده]] -> 952820000
A866: 1404/10/23 | B866: طوس قزوین | C866: الحاقیه پ/43-1402 | D866: 21520 | E866: 95000 | F866: 1404 | G866: دی | H866: =bargiri[[#This Row],[میزان بارگیری شده]]*bargiri[[#This Row],[فی]] -> 2044400000 | I866: =IF(year=bargiri[[#This Row],[سال]],1,0) -> 0 | J866: =VLOOKUP(bargiri[[#This Row],[شماره پیش فاکتور]],invoice[],16,0) -> عادی | K866: =bargiri[[#This Row],[فی]]*bargiri[[#This Row],[میزان بارگیری شده]] -> 2044400000
A867: 1404/10/23 | B867: پارس اکسیر البرز شمالی | C867: پ/49-1403 | D867: 23000 | E867: 86500 | F867: 1404 | G867: دی | H867: =bargiri[[#This Row],[میزان بارگیری شده]]*bargiri[[#This Row],[فی]] -> 1989500000 | I867: =IF(year=bargiri[[#This Row],[سال]],1,0) -> 0 | J867: =VLOOKUP(bargiri[[#This Row],[شماره پیش فاکتور]],invoice[],16,0) -> عادی | K867: =bargiri[[#This Row],[فی]]*bargiri[[#This Row],[میزان بارگیری شده]] -> 1989500000
A868: 1404/10/22 | B868: طوس قزوین | C868: الحاقیه پ/53-1403 | D868: 20280 | E868: 142000 | F868: 1404 | G868: دی | H868: =bargiri[[#This Row],[میزان بارگیری شده]]*bargiri[[#This Row],[فی]] -> 2879760000 | I868: =IF(year=bargiri[[#This Row],[سال]],1,0) -> 0 | J868: =VLOOKUP(bargiri[[#This Row],[شماره پیش فاکتور]],invoice[],16,0) -> انجمن | K868: =bargiri[[#This Row],[فی]]*bargiri[[#This Row],[میزان بارگیری شده]] -> 2879760000
A869: 1404/10/22 | B869: پاینده ساز فردوس | C869: پ/67-1404 | D869: 13150 | E869: 87991 | F869: 1404 | G869: دی | H869: =bargiri[[#This Row],[میزان بارگیری شده]]*bargiri[[#This Row],[فی]] -> 1157081650 | I869: =IF(year=bargiri[[#This Row],[سال]],1,0) -> 0 | J869: =VLOOKUP(bargiri[[#This Row],[شماره پیش فاکتور]],invoice[],16,0) -> تعادلی | K869: =bargiri[[#This Row],[فی]]*bargiri[[#This Row],[میزان بارگیری شده]] -> 1157081650
... A2201: 1403/11/11 | B2201: طوس قزوین | C2201: پ/43-1402 | D2201: 20020 | E2201: 68500 | F2201: 1403 | G2201: بهمن | H2201: =bargiri[[#This Row],[میزان بارگیری شده]]*bargiri[[#This Row],[فی]] -> 1371370000 | I2201: =IF(year=bargiri[[#This Row],[سال]],1,0) -> 0 | J2201: =VLOOKUP(bargiri[[#This Row],[شماره پیش فاکتور]],invoice[],16,0) -> عادی | K2201: =bargiri[[#This Row],[فی]]*bargiri[[#This Row],[میزان بارگیری شده]] -> 1371370000
A2202: 1403/11/10 | B2202: پاینده ساز فردوس | C2202: پ/23-1403 | E2202: 0 | F2202: 1403 | G2202: بهمن | H2202: =bargiri[[#This Row],[میزان بارگیری شده]]*bargiri[[#This Row],[فی]] -> 0 | I2202: =IF(year=bargiri[[#This Row],[سال]],1,0) -> 0 | J2202: =VLOOKUP(bargiri[[#This Row],[شماره پیش فاکتور]],invoice[],16,0) -> عادی | K2202: =bargiri[[#This Row],[فی]]*bargiri[[#This Row],[میزان بارگیری شده]] -> 0
A2203: 1403/11/14 | B2203: عراق اربیل | C2203: پ/27-1402 | D2203: 20885 | E2203: 57273 | F2203: 1403 | G2203: بهمن | H2203: =bargiri[[#This Row],[میزان بارگیری شده]]*bargiri[[#This Row],[فی]] -> 1196146605 | I2203: =IF(year=bargiri[[#This Row],[سال]],1,0) -> 0 | J2203: =VLOOKUP(bargiri[[#This Row],[شماره پیش فاکتور]],invoice[],16,0) -> عادی | K2203: =bargiri[[#This Row],[فی]]*bargiri[[#This Row],[میزان بارگیری شده]] -> 1196146605
A2204: 1403/11/14 | B2204: عراق اربیل | C2204: پ/27-1402 | D2204: 20740 | E2204: 57273 | F2204: 1403 | G2204: بهمن | H2204: =bargiri[[#This Row],[میزان بارگیری شده]]*bargiri[[#This Row],[فی]] -> 1187842020 | I2204: =IF(year=bargiri[[#This Row],[سال]],1,0) -> 0 | J2204: =VLOOKUP(bargiri[[#This Row],[شماره پیش فاکتور]],invoice[],16,0) -> عادی | K2204: =bargiri[[#This Row],[فی]]*bargiri[[#This Row],[میزان بارگیری شده]] -> 1187842020
A2205: 1403/11/14 | B2205: کوشا تجارت زاگرس | C2205: پ/24-1403 | D2205: 9070 | E2205: 80000 | F2205: 1403 | G2205: بهمن | H2205: =bargiri[[#This Row],[میزان بارگیری شده]]*bargiri[[#This Row],[فی]] -> 725600000 | I2205: =IF(year=bargiri[[#This Row],[سال]],1,0) -> 0 | J2205: =VLOOKUP(bargiri[[#This Row],[شماره پیش فاکتور]],invoice[],16,0) -> عادی | K2205: =bargiri[[#This Row],[فی]]*bargiri[[#This Row],[میزان بارگیری شده]] -> 725600000
A2206: 1403/11/13 | B2206: تعاونی ماهان گاز | C2206: پ/11-1403 | D2206: 11590 | E2206: 65000 | F2206: 1403 | G2206: بهمن | H2206: =bargiri[[#This Row],[میزان بارگیری شده]]*bargiri[[#This Row],[فی]] -> 753350000 | I2206: =IF(year=bargiri[[#This Row],[سال]],1,0) -> 0 | J2206: =VLOOKUP(bargiri[[#This Row],[شماره پیش فاکتور]],invoice[],16,0) -> عادی | K2206: =bargiri[[#This Row],[فی]]*bargiri[[#This Row],[میزان بارگیری شده]] -> 753350000
A2207: 1403/11/13 | B2207: خوش نوش همدان | C2207: پ/2-1403 | D2207: 22010 | E2207: 70000 | F2207: 1403 | G2207: بهمن | H2207: =bargiri[[#This Row],[میزان بارگیری شده]]*bargiri[[#This Row],[فی]] -> 1540700000 | I2207: =IF(year=bargiri[[#This Row],[سال]],1,0) -> 0 | J2207: =VLOOKUP(bargiri[[#This Row],[شماره پیش فاکتور]],invoice[],16,0) -> عادی | K2207: =bargiri[[#This Row],[فی]]*bargiri[[#This Row],[میزان بارگیری شده]] -> 1540700000
A2208: 1403/11/13 | B2208: گاز کربنیک غرب | C2208: پ/34-1403 | D2208: 20270 | E2208: 75000 | F2208: 1403 | G2208: بهمن | H2208: =bargiri[[#This Row],[میزان بارگیری شده]]*bargiri[[#This Row],[فی]] -> 1520250000 | I2208: =IF(year=bargiri[[#This Row],[سال]],1,0) -> 0 | J2208: =VLOOKUP(bargiri[[#This Row],[شماره پیش فاکتور]],invoice[],16,0) -> عادی | K2208: =bargiri[[#This Row],[فی]]*bargiri[[#This Row],[میزان بارگیری شده]] -> 1520250000
A2209: 1403/11/12 | B2209: سهیل گاز کاسپین | C2209: پ/10-1403 | D2209: 21115 | E2209: 78000 | F2209: 1403 | G2209: بهمن | H2209: =bargiri[[#This Row],[میزان بارگیری شده]]*bargiri[[#This Row],[فی]] -> 1646970000 | I2209: =IF(year=bargiri[[#This Row],[سال]],1,0) -> 0 | J2209: =VLOOKUP(bargiri[[#This Row],[شماره پیش فاکتور]],invoice[],16,0) -> عادی | K2209: =bargiri[[#This Row],[فی]]*bargiri[[#This Row],[میزان بارگیری شده]] -> 1646970000
A2210: 1403/11/12 | B2210: شرکت گروه صنعتی پاژ گاز خراسان | C2210: پ/21-1403 | D2210: 18895 | E2210: 75000 | F2210: 1403 | G2210: بهمن | H2210: =bargiri[[#This Row],[میزان بارگیری شده]]*bargiri[[#This Row],[فی]] -> 1417125000 | I2210: =IF(year=bargiri[[#This Row],[سال]],1,0) -> 0 | J2210: =VLOOKUP(bargiri[[#This Row],[شماره پیش فاکتور]],invoice[],16,0) -> عادی | K2210: =bargiri[[#This Row],[فی]]*bargiri[[#This Row],[میزان بارگیری شده]] -> 1417125000
A2211: 1403/11/11 | B2211: خوش نوش همدان | C2211: پ/2-1403 | D2211: 18000 | E2211: 70000 | F2211: 1403 | G2211: بهمن | H2211: =bargiri[[#This Row],[میزان بارگیری شده]]*bargiri[[#This Row],[فی]] -> 1260000000 | I2211: =IF(year=bargiri[[#This Row],[سال]],1,0) -> 0 | J2211: =VLOOKUP(bargiri[[#This Row],[شماره پیش فاکتور]],invoice[],16,0) -> عادی | K2211: =bargiri[[#This Row],[فی]]*bargiri[[#This Row],[میزان بارگیری شده]] -> 1260000000
A2212: 1403/11/11 | B2212: رایا شیمی پارسیان | C2212: پ/20-1403 | D2212: 18980 | E2212: 70000 | F2212: 1403 | G2212: بهمن | H2212: =bargiri[[#This Row],[میزان بارگیری شده]]*bargiri[[#This Row],[فی]] -> 1328600000 | I2212: =IF(year=bargiri[[#This Row],[سال]],1,0) -> 0 | J2212: =VLOOKUP(bargiri[[#This Row],[شماره پیش فاکتور]],invoice[],16,0) -> عادی | K2212: =bargiri[[#This Row],[فی]]*bargiri[[#This Row],[میزان بارگیری شده]] -> 1328600000
A2213: 1403/11/11 | B2213: کوشا تجارت زاگرس | C2213: پ/24-1403 | D2213: 9075 | E2213: 80000 | F2213: 1403 | G2213: بهمن | H2213: =bargiri[[#This Row],[میزان بارگیری شده]]*bargiri[[#This Row],[فی]] -> 726000000 | I2213: =IF(year=bargiri[[#This Row],[سال]],1,0) -> 0 | J2213: =VLOOKUP(bargiri[[#This Row],[شماره پیش فاکتور]],invoice[],16,0) -> عادی | K2213: =bargiri[[#This Row],[فی]]*bargiri[[#This Row],[میزان بارگیری شده]] -> 726000000
A2214: 1403/11/11 | B2214: عراق اربیل | C2214: پ/27-1402 | D2214: 21020 | E2214: 57273 | F2214: 1403 | G2214: بهمن | H2214: =bargiri[[#This Row],[میزان بارگیری شده]]*bargiri[[#This Row],[فی]] -> 1203878460 | I2214: =IF(year=bargiri[[#This Row],[سال]],1,0) -> 0 | J2214: =VLOOKUP(bargiri[[#This Row],[شماره پیش فاکتور]],invoice[],16,0) -> عادی | K2214: =bargiri[[#This Row],[فی]]*bargiri[[#This Row],[میزان بارگیری شده]] -> 1203878460
... A2618: 1403/07/30 | B2618: رایا شیمی پارسیان | C2618: پ/20-1403 | D2618: 20120 | E2618: 70000 | F2618: 1403 | G2618: مهر | H2618: =bargiri[[#This Row],[میزان بارگیری شده]]*bargiri[[#This Row],[فی]] -> 1408400000 | I2618: =IF(year=bargiri[[#This Row],[سال]],1,0) -> 0 | J2618: =VLOOKUP(bargiri[[#This Row],[شماره پیش فاکتور]],invoice[],16,0) -> عادی | K2618: =bargiri[[#This Row],[فی]]*bargiri[[#This Row],[میزان بارگیری شده]] -> 1408400000
A2619: 1403/07/29 | B2619: طوس قزوین | C2619: پ/43-1402 | E2619: 0 | F2619: 1403 | G2619: مهر | H2619: =bargiri[[#This Row],[میزان بارگیری شده]]*bargiri[[#This Row],[فی]] -> 0 | I2619: =IF(year=bargiri[[#This Row],[سال]],1,0) -> 0 | J2619: =VLOOKUP(bargiri[[#This Row],[شماره پیش فاکتور]],invoice[],16,0) -> عادی | K2619: =bargiri[[#This Row],[فی]]*bargiri[[#This Row],[میزان بارگیری شده]] -> 0
A2620: 1403/07/28 | B2620: طوس قزوین | C2620: پ/43-1402 | D2620: 19995 | E2620: 68500 | F2620: 1403 | G2620: مهر | H2620: =bargiri[[#This Row],[میزان بارگیری شده]]*bargiri[[#This Row],[فی]] -> 1369657500 | I2620: =IF(year=bargiri[[#This Row],[سال]],1,0) -> 0 | J2620: =VLOOKUP(bargiri[[#This Row],[شماره پیش فاکتور]],invoice[],16,0) -> عادی | K2620: =bargiri[[#This Row],[فی]]*bargiri[[#This Row],[میزان بارگیری شده]] -> 1369657500
A2621: 1403/07/28 | B2621: تولیدی گازهای طبی و صنعتی طوس سبزوار | C2621: پ/13-1403 | D2621: 17945 | E2621: 85000 | F2621: 1403 | G2621: مهر | H2621: =bargiri[[#This Row],[میزان بارگیری شده]]*bargiri[[#This Row],[فی]] -> 1525325000 | I2621: =IF(year=bargiri[[#This Row],[سال]],1,0) -> 0 | J2621: =VLOOKUP(bargiri[[#This Row],[شماره پیش فاکتور]],invoice[],16,0) -> عادی | K2621: =bargiri[[#This Row],[فی]]*bargiri[[#This Row],[میزان بارگیری شده]] -> 1525325000
A2622: 1403/07/28 | B2622: فرافن گاز تهران | C2622: 121302 | D2622: 20065 | E2622: 75000 | F2622: 1403 | G2622: مهر | H2622: =bargiri[[#This Row],[میزان بارگیری شده]]*bargiri[[#This Row],[فی]] -> 1504875000 | I2622: =IF(year=bargiri[[#This Row],[سال]],1,0) -> 0 | J2622: =VLOOKUP(bargiri[[#This Row],[شماره پیش فاکتور]],invoice[],16,0) -> بورس | K2622: =bargiri[[#This Row],[فی]]*bargiri[[#This Row],[میزان بارگیری شده]] -> 1504875000
A2623: 1403/07/28 | B2623: طاهر افروز همپای البرز | C2623: پ/15-1403 | D2623: 22105 | E2623: 75000 | F2623: 1403 | G2623: مهر | H2623: =bargiri[[#This Row],[میزان بارگیری شده]]*bargiri[[#This Row],[فی]] -> 1657875000 | I2623: =IF(year=bargiri[[#This Row],[سال]],1,0) -> 0 | J2623: =VLOOKUP(bargiri[[#This Row],[شماره پیش فاکتور]],invoice[],16,0) -> عادی | K2623: =bargiri[[#This Row],[فی]]*bargiri[[#This Row],[میزان بارگیری شده]] -> 1657875000
A2624: 1403/07/28 | B2624: رایا شیمی پارسیان | C2624: پ/20-1403 | D2624: 20040 | E2624: 70000 | F2624: 1403 | G2624: مهر | H2624: =bargiri[[#This Row],[میزان بارگیری شده]]*bargiri[[#This Row],[فی]] -> 1402800000 | I2624: =IF(year=bargiri[[#This Row],[سال]],1,0) -> 0 | J2624: =VLOOKUP(bargiri[[#This Row],[شماره پیش فاکتور]],invoice[],16,0) -> عادی | K2624: =bargiri[[#This Row],[فی]]*bargiri[[#This Row],[میزان بارگیری شده]] -> 1402800000
A2625: 1403/07/28 | B2625: عبیر شیمی | C2625: پ/44-1402 | D2625: 19985 | E2625: 70000 | F2625: 1403 | G2625: مهر | H2625: =bargiri[[#This Row],[میزان بارگیری شده]]*bargiri[[#This Row],[فی]] -> 1398950000 | I2625: =IF(year=bargiri[[#This Row],[سال]],1,0) -> 0 | J2625: =VLOOKUP(bargiri[[#This Row],[شماره پیش فاکتور]],invoice[],16,0) -> عادی | K2625: =bargiri[[#This Row],[فی]]*bargiri[[#This Row],[میزان بارگیری شده]] -> 1398950000
A2626: 1403/01/25 | B2626: خوش نوش همدان | C2626: پ/40-1402 | D2626: 21120 | E2626: 50000 | F2626: 1403 | G2626: فروردین | H2626: =bargiri[[#This Row],[میزان بارگیری شده]]*bargiri[[#This Row],[فی]] -> 1056000000 | I2626: =IF(year=bargiri[[#This Row],[سال]],1,0) -> 0 | J2626: =VLOOKUP(bargiri[[#This Row],[شماره پیش فاکتور]],invoice[],16,0) -> عادی | K2626: =bargiri[[#This Row],[فی]]*bargiri[[#This Row],[میزان بارگیری شده]] -> 1056000000
A2627: 1403/07/26 | B2627: طوس قزوین | C2627: پ/43-1402 | D2627: 12010 | E2627: 68500 | F2627: 1403 | G2627: مهر | H2627: =bargiri[[#This Row],[میزان بارگیری شده]]*bargiri[[#This Row],[فی]] -> 822685000 | I2627: =IF(year=bargiri[[#This Row],[سال]],1,0) -> 0 | J2627: =VLOOKUP(bargiri[[#This Row],[شماره پیش فاکتور]],invoice[],16,0) -> عادی | K2627: =bargiri[[#This Row],[فی]]*bargiri[[#This Row],[میزان بارگیری شده]] -> 822685000
A2628: 1403/07/26 | B2628: طوس قزوین | C2628: پ/43-1402 | D2628: 19910 | E2628: 68500 | F2628: 1403 | G2628: مهر | H2628: =bargiri[[#This Row],[میزان بارگیری شده]]*bargiri[[#This Row],[فی]] -> 1363835000 | I2628: =IF(year=bargiri[[#This Row],[سال]],1,0) -> 0 | J2628: =VLOOKUP(bargiri[[#This Row],[شماره پیش فاکتور]],invoice[],16,0) -> عادی | K2628: =bargiri[[#This Row],[فی]]*bargiri[[#This Row],[میزان بارگیری شده]] -> 1363835000
A2629: 1403/07/26 | B2629: شرکت امین گاز ایرانیان | C2629: پ/41-1402 | D2629: 10080 | E2629: 80000 | F2629: 1403 | G2629: مهر | H2629: =bargiri[[#This Row],[میزان بارگیری شده]]*bargiri[[#This Row],[فی]] -> 806400000 | I2629: =IF(year=bargiri[[#This Row],[سال]],1,0) -> 0 | J2629: =VLOOKUP(bargiri[[#This Row],[شماره پیش فاکتور]],invoice[],16,0) -> عادی | K2629: =bargiri[[#This Row],[فی]]*bargiri[[#This Row],[میزان بارگیری شده]] -> 806400000
A2630: 1403/07/26 | B2630: رایا شیمی پارسیان | C2630: پ/20-1403 | D2630: 20125 | E2630: 70000 | F2630: 1403 | G2630: مهر | H2630: =bargiri[[#This Row],[میزان بارگیری شده]]*bargiri[[#This Row],[فی]] -> 1408750000 | I2630: =IF(year=bargiri[[#This Row],[سال]],1,0) -> 0 | J2630: =VLOOKUP(bargiri[[#This Row],[شماره پیش فاکتور]],invoice[],16,0) -> عادی | K2630: =bargiri[[#This Row],[فی]]*bargiri[[#This Row],[میزان بارگیری شده]] -> 1408750000
A2631: 1403/07/26 | B2631: پارس اکسیر البرز شمالی | C2631: پ/45-1402 | D2631: 18580 | E2631: 65000 | F2631: 1403 | G2631: مهر | H2631: =bargiri[[#This Row],[میزان بارگیری شده]]*bargiri[[#This Row],[فی]] -> 1207700000 | I2631: =IF(year=bargiri[[#This Row],[سال]],1,0) -> 0 | J2631: =VLOOKUP(bargiri[[#This Row],[شماره پیش فاکتور]],invoice[],16,0) -> عادی | K2631: =bargiri[[#This Row],[فی]]*bargiri[[#This Row],[میزان بارگیری شده]] -> 1207700000
... A3162: 1403/01/06 | B3162: خوش نوش همدان | C3162: پ/38-1402 | D3162: 21180 | E3162: 65000 | F3162: 1403 | G3162: فروردین | H3162: =bargiri[[#This Row],[میزان بارگیری شده]]*bargiri[[#This Row],[فی]] -> 1376700000 | I3162: =IF(year=bargiri[[#This Row],[سال]],1,0) -> 0 | J3162: =VLOOKUP(bargiri[[#This Row],[شماره پیش فاکتور]],invoice[],16,0) -> عادی | K3162: =bargiri[[#This Row],[فی]]*bargiri[[#This Row],[میزان بارگیری شده]] -> 1376700000

Sheet عرضه بورس
A1: ردیف | B1: شماره عرضه | C1: تاریخ عرضه | D1: میزان عرضه | E1: قیمت (ریال) | F1: سال | G1: ماه
A2: 1 | B2: عرضه اول | C2: 1403/02/01 | D2: 50000 | E2: 3750000000 | F2: =VALUE(LEFT(Table5[[#This Row],[تاریخ عرضه]],4)) -> 1403 | G2: =VALUE(MID(Table5[[#This Row],[تاریخ عرضه]],6,2)) -> 2
A3: 2 | B3: عرضه دوم | C3: 1403/03/01 | D3: 50000 | E3: 3750000000 | F3: =VALUE(LEFT(Table5[[#This Row],[تاریخ عرضه]],4)) -> 1403 | G3: =VALUE(MID(Table5[[#This Row],[تاریخ عرضه]],6,2)) -> 3
A4: 3 | B4: عرضه سوم | C4: 1403/04/01 | D4: 100000 | E4: 3957500000 | F4: =VALUE(LEFT(Table5[[#This Row],[تاریخ عرضه]],4)) -> 1403 | G4: =VALUE(MID(Table5[[#This Row],[تاریخ عرضه]],6,2)) -> 4
A5: 4 | B5: عرضه چهارم | C5: 1403/05/01 | D5: 100000 | E5: 3650000000 | F5: =VALUE(LEFT(Table5[[#This Row],[تاریخ عرضه]],4)) -> 1403 | G5: =VALUE(MID(Table5[[#This Row],[تاریخ عرضه]],6,2)) -> 5
A6: 5 | B6: عرضه پنجم | C6: 1403/06/01 | D6: 50000 | E6: 3750000000 | F6: =VALUE(LEFT(Table5[[#This Row],[تاریخ عرضه]],4)) -> 1403 | G6: =VALUE(MID(Table5[[#This Row],[تاریخ عرضه]],6,2)) -> 6
A7: 6 | B7: عرضه ششم | C7: 1403/06/01 | D7: 50000 | E7: 4600000000 | F7: =VALUE(LEFT(Table5[[#This Row],[تاریخ عرضه]],4)) -> 1403 | G7: =VALUE(MID(Table5[[#This Row],[تاریخ عرضه]],6,2)) -> 6
A8: 7 | B8: عرضه هفتم | C8: 1403/07/01 | D8: 50000 | E8: 4609000000 | F8: =VALUE(LEFT(Table5[[#This Row],[تاریخ عرضه]],4)) -> 1403 | G8: =VALUE(MID(Table5[[#This Row],[تاریخ عرضه]],6,2)) -> 7
A9: 8 | B9: عرضه هشتم | C9: 1403/07/01 | D9: 50000 | E9: 4609000000 | F9: =VALUE(LEFT(Table5[[#This Row],[تاریخ عرضه]],4)) -> 1403 | G9: =VALUE(MID(Table5[[#This Row],[تاریخ عرضه]],6,2)) -> 7
A10: 9 | B10: عرضه نهم | C10: 1403/08/01 | D10: 100000 | E10: 4609000000 | F10: =VALUE(LEFT(Table5[[#This Row],[تاریخ عرضه]],4)) -> 1403 | G10: =VALUE(MID(Table5[[#This Row],[تاریخ عرضه]],6,2)) -> 8
A11: 10 | B11: عرضه دهم | C11: 1403/09/01 | D11: 50000 | E11: 4190000000 | F11: =VALUE(LEFT(Table5[[#This Row],[تاریخ عرضه]],4)) -> 1403 | G11: =VALUE(MID(Table5[[#This Row],[تاریخ عرضه]],6,2)) -> 9
A12: 11 | B12: عرضه یازدهم | C12: 1403/10/01 | D12: 50000 | E12: 4190000000 | F12: =VALUE(LEFT(Table5[[#This Row],[تاریخ عرضه]],4)) -> 1403 | G12: =VALUE(MID(Table5[[#This Row],[تاریخ عرضه]],6,2)) -> 10
A13: 12 | B13: عرضه دوازدهم | C13: 1403/11/01 | D13: 100000 | E13: 4608970000 | F13: =VALUE(LEFT(Table5[[#This Row],[تاریخ عرضه]],4)) -> 1403 | G13: =VALUE(MID(Table5[[#This Row],[تاریخ عرضه]],6,2)) -> 11
... A19: 18 | B19: عرضه هجدهم | C19: 1404/04/24 | D19: 50000 | E19: 16750000000 | F19: =VALUE(LEFT(Table5[[#This Row],[تاریخ عرضه]],4)) -> 1404 | G19: =VALUE(MID(Table5[[#This Row],[تاریخ عرضه]],6,2)) -> 4
A20: 19 | B20: عرضه نوزدهم | C20: 1404/04/31 | F20: =VALUE(LEFT(Table5[[#This Row],[تاریخ عرضه]],4)) -> 1404 | G20: =VALUE(MID(Table5[[#This Row],[تاریخ عرضه]],6,2)) -> 4

Sheet Sheet1
C1: گزارش مانده تعهدات مشتریان انجمن
C2: نام مشتری | D2: تعادلی | E2: انجمن | F2: بورس | G2: بار نیشابور | H2: جمع سفارش مشتری
C3: اکسیژن ارومیه گاز | D3: =SUMIFS('لیست پیش فاکتور ها'!R:R,'لیست پیش فاکتور ها'!B:B,Sheet1!C3,'لیست پیش فاکتور ها'!I:I,"تعادلی") -> 21970 | E3: =SUMIFS('لیست پیش فاکتور ها'!R:R,'لیست پیش فاکتور ها'!B:B,Sheet1!C3,'لیست پیش فاکتور ها'!I:I,"انجمن") -> 0 | F3: =SUMIFS('لیست پیش فاکتور ها'!R:R,'لیست پیش فاکتور ها'!B:B,Sheet1!C3,'لیست پیش فاکتور ها'!I:I,"بورس") -> 0 | G3: =SUMIFS('لیست پیش فاکتور ها'!R:R,'لیست پیش فاکتور ها'!B:B,Sheet1!C3,'لیست پیش فاکتور ها'!I:I,"بار نیشابور") -> 0 | H3: =SUM(Table9[[#This Row],[تعادلی]:[بار نیشابور]]) -> 21970
C4: پاینده ساز فردوس | D4: =SUMIFS('لیست پیش فاکتور ها'!R:R,'لیست پیش فاکتور ها'!B:B,Sheet1!C4,'لیست پیش فاکتور ها'!I:I,"تعادلی") -> 0 | E4: =SUMIFS('لیست پیش فاکتور ها'!R:R,'لیست پیش فاکتور ها'!B:B,Sheet1!C4,'لیست پیش فاکتور ها'!I:I,"انجمن") -> 173705 | F4: =SUMIFS('لیست پیش فاکتور ها'!R:R,'لیست پیش فاکتور ها'!B:B,Sheet1!C4,'لیست پیش فاکتور ها'!I:I,"بورس") -> 0 | G4: =SUMIFS('لیست پیش فاکتور ها'!R:R,'لیست پیش فاکتور ها'!B:B,Sheet1!C4,'لیست پیش فاکتور ها'!I:I,"بار نیشابور") -> 0 | H4: =SUM(Table9[[#This Row],[تعادلی]:[بار نیشابور]]) -> 173705
C5: تعاونی ماهان گاز | D5: =SUMIFS('لیست پیش فاکتور ها'!R:R,'لیست پیش فاکتور ها'!B:B,Sheet1!C5,'لیست پیش فاکتور ها'!I:I,"تعادلی") -> 0 | E5: =SUMIFS('لیست پیش فاکتور ها'!R:R,'لیست پیش فاکتور ها'!B:B,Sheet1!C5,'لیست پیش فاکتور ها'!I:I,"انجمن") -> 459485 | F5: =SUMIFS('لیست پیش فاکتور ها'!R:R,'لیست پیش فاکتور ها'!B:B,Sheet1!C5,'لیست پیش فاکتور ها'!I:I,"بورس") -> 0 | G5: =SUMIFS('لیست پیش فاکتور ها'!R:R,'لیست پیش فاکتور ها'!B:B,Sheet1!C5,'لیست پیش فاکتور ها'!I:I,"بار نیشابور") -> 0 | H5: =SUM(Table9[[#This Row],[تعادلی]:[بار نیشابور]]) -> 459485
C6: تولید گازهای طبی و صنعتی مددکاران اصفهان | D6: =SUMIFS('لیست پیش فاکتور ها'!R:R,'لیست پیش فاکتور ها'!B:B,Sheet1!C6,'لیست پیش فاکتور ها'!I:I,"تعادلی") -> 0 | E6: =SUMIFS('لیست پیش فاکتور ها'!R:R,'لیست پیش فاکتور ها'!B:B,Sheet1!C6,'لیست پیش فاکتور ها'!I:I,"انجمن") -> 509138 | F6: =SUMIFS('لیست پیش فاکتور ها'!R:R,'لیست پیش فاکتور ها'!B:B,Sheet1!C6,'لیست پیش فاکتور ها'!I:I,"بورس") -> 0 | G6: =SUMIFS('لیست پیش فاکتور ها'!R:R,'لیست پیش فاکتور ها'!B:B,Sheet1!C6,'لیست پیش فاکتور ها'!I:I,"بار نیشابور") -> 0 | H6: =SUM(Table9[[#This Row],[تعادلی]:[بار نیشابور]]) -> 509138
C7: تولیدی گازهای طبی و صنعتی طوس سبزوار | D7: =SUMIFS('لیست پیش فاکتور ها'!R:R,'لیست پیش فاکتور ها'!B:B,Sheet1!C7,'لیست پیش فاکتور ها'!I:I,"تعادلی") -> 70000 | E7: =SUMIFS('لیست پیش فاکتور ها'!R:R,'لیست پیش فاکتور ها'!B:B,Sheet1!C7,'لیست پیش فاکتور ها'!I:I,"انجمن") -> 265300 | F7: =SUMIFS('لیست پیش فاکتور ها'!R:R,'لیست پیش فاکتور ها'!B:B,Sheet1!C7,'لیست پیش فاکتور ها'!I:I,"بورس") -> 0 | G7: =SUMIFS('لیست پیش فاکتور ها'!R:R,'لیست پیش فاکتور ها'!B:B,Sheet1!C7,'لیست پیش فاکتور ها'!I:I,"بار نیشابور") -> 0 | H7: =SUM(Table9[[#This Row],[تعادلی]:[بار نیشابور]]) -> 335300
C8: طوس قزوین | D8: =SUMIFS('لیست پیش فاکتور ها'!R:R,'لیست پیش فاکتور ها'!B:B,Sheet1!C8,'لیست پیش فاکتور ها'!I:I,"تعادلی") -> 0 | E8: =SUMIFS('لیست پیش فاکتور ها'!R:R,'لیست پیش فاکتور ها'!B:B,Sheet1!C8,'لیست پیش فاکتور ها'!I:I,"انجمن") -> 0 | F8: =SUMIFS('لیست پیش فاکتور ها'!R:R,'لیست پیش فاکتور ها'!B:B,Sheet1!C8,'لیست پیش فاکتور ها'!I:I,"بورس") -> 534150 | G8: =SUMIFS('لیست پیش فاکتور ها'!R:R,'لیست پیش فاکتور ها'!B:B,Sheet1!C8,'لیست پیش فاکتور ها'!I:I,"بار نیشابور") -> 0 | H8: =SUM(Table9[[#This Row],[تعادلی]:[بار نیشابور]]) -> 534150
C9: عبیر شیمی | D9: =SUMIFS('لیست پیش فاکتور ها'!R:R,'لیست پیش فاکتور ها'!B:B,Sheet1!C9,'لیست پیش فاکتور ها'!I:I,"تعادلی") -> 30050 | E9: =SUMIFS('لیست پیش فاکتور ها'!R:R,'لیست پیش فاکتور ها'!B:B,Sheet1!C9,'لیست پیش فاکتور ها'!I:I,"انجمن") -> 480020 | F9: =SUMIFS('لیست پیش فاکتور ها'!R:R,'لیست پیش فاکتور ها'!B:B,Sheet1!C9,'لیست پیش فاکتور ها'!I:I,"بورس") -> 0 | G9: =SUMIFS('لیست پیش فاکتور ها'!R:R,'لیست پیش فاکتور ها'!B:B,Sheet1!C9,'لیست پیش فاکتور ها'!I:I,"بار نیشابور") -> 0 | H9: =SUM(Table9[[#This Row],[تعادلی]:[بار نیشابور]]) -> 510070
C10: گاز کربنیک غرب | D10: =SUMIFS('لیست پیش فاکتور ها'!R:R,'لیست پیش فاکتور ها'!B:B,Sheet1!C10,'لیست پیش فاکتور ها'!I:I,"تعادلی") -> 0 | E10: =SUMIFS('لیست پیش فاکتور ها'!R:R,'لیست پیش فاکتور ها'!B:B,Sheet1!C10,'لیست پیش فاکتور ها'!I:I,"انجمن") -> 314740 | F10: =SUMIFS('لیست پیش فاکتور ها'!R:R,'لیست پیش فاکتور ها'!B:B,Sheet1!C10,'لیست پیش فاکتور ها'!I:I,"بورس") -> 0 | G10: =SUMIFS('لیست پیش فاکتور ها'!R:R,'لیست پیش فاکتور ها'!B:B,Sheet1!C10,'لیست پیش فاکتور ها'!I:I,"بار نیشابور") -> 0 | H10: =SUM(Table9[[#This Row],[تعادلی]:[بار نیشابور]]) -> 314740
C11: گروه صنایع شیمیایی به آفرین گاز تیسفون | D11: =SUMIFS('لیست پیش فاکتور ها'!R:R,'لیست پیش فاکتور ها'!B:B,Sheet1!C11,'لیست پیش فاکتور ها'!I:I,"تعادلی") -> 0 | E11: =SUMIFS('لیست پیش فاکتور ها'!R:R,'لیست پیش فاکتور ها'!B:B,Sheet1!C11,'لیست پیش فاکتور ها'!I:I,"انجمن") -> 449255 | F11: =SUMIFS('لیست پیش فاکتور ها'!R:R,'لیست پیش فاکتور ها'!B:B,Sheet1!C11,'لیست پیش فاکتور ها'!I:I,"بورس") -> 0 | G11: =SUMIFS('لیست پیش فاکتور ها'!R:R,'لیست پیش فاکتور ها'!B:B,Sheet1!C11,'لیست پیش فاکتور ها'!I:I,"بار نیشابور") -> 0 | H11: =SUM(Table9[[#This Row],[تعادلی]:[بار نیشابور]]) -> 449255
C12: پارس کربنیک کردستان | D12: =SUMIFS('لیست پیش فاکتور ها'!R:R,'لیست پیش فاکتور ها'!B:B,Sheet1!C12,'لیست پیش فاکتور ها'!I:I,"تعادلی") -> 0 | E12: =SUMIFS('لیست پیش فاکتور ها'!R:R,'لیست پیش فاکتور ها'!B:B,Sheet1!C12,'لیست پیش فاکتور ها'!I:I,"انجمن") -> 176430 | F12: =SUMIFS('لیست پیش فاکتور ها'!R:R,'لیست پیش فاکتور ها'!B:B,Sheet1!C12,'لیست پیش فاکتور ها'!I:I,"بورس") -> 0 | G12: =SUMIFS('لیست پیش فاکتور ها'!R:R,'لیست پیش فاکتور ها'!B:B,Sheet1!C12,'لیست پیش فاکتور ها'!I:I,"بار نیشابور") -> 0 | H12: =SUM(Table9[[#This Row],[تعادلی]:[بار نیشابور]]) -> 176430
C13: سپهر سرمد | D13: =SUMIFS('لیست پیش فاکتور ها'!R:R,'لیست پیش فاکتور ها'!B:B,Sheet1!C13,'لیست پیش فاکتور ها'!I:I,"تعادلی") -> 0 | E13: =SUMIFS('لیست پیش فاکتور ها'!R:R,'لیست پیش فاکتور ها'!B:B,Sheet1!C13,'لیست پیش فاکتور ها'!I:I,"انجمن") -> 1754960 | F13: =SUMIFS('لیست پیش فاکتور ها'!R:R,'لیست پیش فاکتور ها'!B:B,Sheet1!C13,'لیست پیش فاکتور ها'!I:I,"بورس") -> 0 | G13: =SUMIFS('لیست پیش فاکتور ها'!R:R,'لیست پیش فاکتور ها'!B:B,Sheet1!C13,'لیست پیش فاکتور ها'!I:I,"بار نیشابور") -> 0 | H13: =SUM(Table9[[#This Row],[تعادلی]:[بار نیشابور]]) -> 1754960
C14: گاز اکسیژن طوس | D14: =SUMIFS('لیست پیش فاکتور ها'!R:R,'لیست پیش فاکتور ها'!B:B,Sheet1!C14,'لیست پیش فاکتور ها'!I:I,"تعادلی") -> 130000 | E14: =SUMIFS('لیست پیش فاکتور ها'!R:R,'لیست پیش فاکتور ها'!B:B,Sheet1!C14,'لیست پیش فاکتور ها'!I:I,"انجمن") -> 7295 | F14: =SUMIFS('لیست پیش فاکتور ها'!R:R,'لیست پیش فاکتور ها'!B:B,Sheet1!C14,'لیست پیش فاکتور ها'!I:I,"بورس") -> 20000 | G14: =SUMIFS('لیست پیش فاکتور ها'!R:R,'لیست پیش فاکتور ها'!B:B,Sheet1!C14,'لیست پیش فاکتور ها'!I:I,"بار نیشابور") -> 0 | H14: =SUM(Table9[[#This Row],[تعادلی]:[بار نیشابور]]) -> 157295
... C17: گاز کربنیک نورین ابهر | D17: =SUMIFS('لیست پیش فاکتور ها'!R:R,'لیست پیش فاکتور ها'!B:B,Sheet1!C17,'لیست پیش فاکتور ها'!I:I,"تعادلی") -> 0 | E17: =SUMIFS('لیست پیش فاکتور ها'!R:R,'لیست پیش فاکتور ها'!B:B,Sheet1!C17,'لیست پیش فاکتور ها'!I:I,"انجمن") -> 150000 | F17: =SUMIFS('لیست پیش فاکتور ها'!R:R,'لیست پیش فاکتور ها'!B:B,Sheet1!C17,'لیست پیش فاکتور ها'!I:I,"بورس") -> 0 | G17: =SUMIFS('لیست پیش فاکتور ها'!R:R,'لیست پیش فاکتور ها'!B:B,Sheet1!C17,'لیست پیش فاکتور ها'!I:I,"بار نیشابور") -> 0 | H17: =SUM(Table9[[#This Row],[تعادلی]:[بار نیشابور]]) -> 150000
C18: جمع | D18: =SUBTOTAL(109,D3:D17) -> 252020 | E18: =SUBTOTAL(109,E3:E17) -> 5984538 | F18: =SUBTOTAL(109,F3:F17) -> 554150 | G18: =SUBTOTAL(109,G3:G17) -> 0 | H18: =SUM(Table9[[#This Row],[تعادلی]:[بار نیشابور]]) -> 6790708

Sheet لیست پیش فاکتور ها
A1: شماره پیش فاکتور | B1: نام مشتری | C1: تاریخ | D1: تاریخ مجوز بهره برداری | E1: میزان سفارش | F1: فی | G1: ماه | H1: سال | I1: نوع سفارش | J1: نوع شرکت | K1: تاریخ انقضا | L1: کمکی | M1: درصد مبلغ پیش دریافت | N1: ارزش افزوده | O1: درصد میزان بارگیری شده | P1: Column1 | Q1: میزان حمل شده | R1: میزان حمل نشده | S1: Column2
A2: پ/46-1402 | B2: اکسیژن ارومیه گاز | C2: 1403/01/01 | D2: 1403/04/02 | E2: 500000 | F2: 77000 | G2: =CHOOSE(MID(invoice[[#This Row],[تاریخ]],6,2),"فروردین","اردیبهشت","خرداد","تیر","مرداد","شهریور","مهر","آبان","آذر","دی","بهمن","اسفند") -> فروردین | H2: =_xlfn.NUMBERVALUE(MID(invoice[[#This Row],[تاریخ]],1,4)) -> 1403 | I2: عادی | J2: تولید کننده | K2: 46466 | L2: =IF(invoice[[#This Row],[سال]]=year,1,0) -> 0 | O2: =SUMIF(bargiri[شماره پیش فاکتور],invoice[[#This Row],[شماره پیش فاکتور]],bargiri[میزان بارگیری شده])/invoice[[#This Row],[میزان سفارش]] -> 1.00339 | P2: =IF(invoice[[#This Row],[نوع سفارش]]="غیرفعال","عادی",invoice[[#This Row],[نوع سفارش]]) -> عادی | Q2: =SUMIFS('جزییات بارگیری'!D:D,'جزییات بارگیری'!C:C,invoice[[#This Row],[شماره پیش فاکتور]]) -> 501695 | R2: =IF(invoice[[#This Row],[میزان سفارش]]-invoice[[#This Row],[میزان حمل شده ]]<0,0,invoice[[#This Row],[میزان سفارش]]-invoice[[#This Row],[میزان حمل شده ]]) -> 0 | S2: =invoice[[#This Row],[میزان حمل نشده ]]*invoice[[#This Row],[فی]] -> 0
A3: پ/45-1402 | B3: پارس اکسیر البرز شمالی | C3: 1403/01/01 | D3: 1403/04/10 | E3: 1000000 | F3: 65000 | G3: =CHOOSE(MID(invoice[[#This Row],[تاریخ]],6,2),"فروردین","اردیبهشت","خرداد","تیر","مرداد","شهریور","مهر","آبان","آذر","دی","بهمن","اسفند") -> فروردین | H3: =_xlfn.NUMBERVALUE(MID(invoice[[#This Row],[تاریخ]],1,4)) -> 1403 | I3: عادی | J3: تولید کننده | K3: 46466 | L3: =IF(invoice[[#This Row],[سال]]=year,1,0) -> 0 | O3: =SUMIF(bargiri[شماره پیش فاکتور],invoice[[#This Row],[شماره پیش فاکتور]],bargiri[میزان بارگیری شده])/invoice[[#This Row],[میزان سفارش]] -> 1.001955 | P3: =IF(invoice[[#This Row],[نوع سفارش]]="غیرفعال","عادی",invoice[[#This Row],[نوع سفارش]]) -> عادی | Q3: =SUMIFS('جزییات بارگیری'!D:D,'جزییات بارگیری'!C:C,invoice[[#This Row],[شماره پیش فاکتور]]) -> 1001955 | R3: =IF(invoice[[#This Row],[میزان سفارش]]-invoice[[#This Row],[میزان حمل شده ]]<0,0,invoice[[#This Row],[میزان سفارش]]-invoice[[#This Row],[میزان حمل شده ]]) -> 0 | S3: =invoice[[#This Row],[میزان حمل نشده ]]*invoice[[#This Row],[فی]] -> 0
A4: پ/5-1402 | B4: پارس اکسیر البرز شمالی | C4: 1403/01/01 | D4: 1403/02/02 | E4: 162140 | F4: 50000 | G4: =CHOOSE(MID(invoice[[#This Row],[تاریخ]],6,2),"فروردین","اردیبهشت","خرداد","تیر","مرداد","شهریور","مهر","آبان","آذر","دی","بهمن","اسفند") -> فروردین | H4: =_xlfn.NUMBERVALUE(MID(invoice[[#This Row],[تاریخ]],1,4)) -> 1403 | I4: عادی | J4: تولید کننده | K4: 46466 | L4: =IF(invoice[[#This Row],[سال]]=year,1,0) -> 0 | O4: =SUMIF(bargiri[شماره پیش فاکتور],invoice[[#This Row],[شماره پیش فاکتور]],bargiri[میزان بارگیری شده])/invoice[[#This Row],[میزان سفارش]] -> 1.0004317 | P4: =IF(invoice[[#This Row],[نوع سفارش]]="غیرفعال","عادی",invoice[[#This Row],[نوع سفارش]]) -> عادی | Q4: =SUMIFS('جزییات بارگیری'!D:D,'جزییات بارگیری'!C:C,invoice[[#This Row],[شماره پیش فاکتور]]) -> 162210 | R4: =IF(invoice[[#This Row],[میزان سفارش]]-invoice[[#This Row],[میزان حمل شده ]]<0,0,invoice[[#This Row],[میزان سفارش]]-invoice[[#This Row],[میزان حمل شده ]]) -> 0 | S4: =invoice[[#This Row],[میزان حمل نشده ]]*invoice[[#This Row],[فی]] -> 0
A5: پ/33-1402 | B5: پاینده ساز فردوس | C5: 1403/01/01 | D5: 1403/04/28 | E5: 300000 | F5: 68000 | G5: =CHOOSE(MID(invoice[[#This Row],[تاریخ]],6,2),"فروردین","اردیبهشت","خرداد","تیر","مرداد","شهریور","مهر","آبان","آذر","دی","بهمن","اسفند") -> فروردین | H5: =_xlfn.NUMBERVALUE(MID(invoice[[#This Row],[تاریخ]],1,4)) -> 1403 | I5: عادی | J5: تولید کننده | K5: 46466 | L5: =IF(invoice[[#This Row],[سال]]=year,1,0) -> 0 | O5: =SUMIF(bargiri[شماره پیش فاکتور],invoice[[#This Row],[شماره پیش فاکتور]],bargiri[میزان بارگیری شده])/invoice[[#This Row],[میزان سفارش]] -> 1 | P5: =IF(invoice[[#This Row],[نوع سفارش]]="غیرفعال","عادی",invoice[[#This Row],[نوع سفارش]]) -> عادی | Q5: =SUMIFS('جزییات بارگیری'!D:D,'جزییات بارگیری'!C:C,invoice[[#This Row],[شماره پیش فاکتور]]) -> 300000 | R5: =IF(invoice[[#This Row],[میزان سفارش]]-invoice[[#This Row],[میزان حمل شده ]]<0,0,invoice[[#This Row],[میزان سفارش]]-invoice[[#This Row],[میزان حمل شده ]]) -> 0 | S5: =invoice[[#This Row],[میزان حمل نشده ]]*invoice[[#This Row],[فی]] -> 0
A6: پ/29-1402 | B6: پاینده ساز فردوس | C6: 1403/01/01 | D6: 1403/04/09 | E6: 76560 | F6: 68000 | G6: =CHOOSE(MID(invoice[[#This Row],[تاریخ]],6,2),"فروردین","اردیبهشت","خرداد","تیر","مرداد","شهریور","مهر","آبان","آذر","دی","بهمن","اسفند") -> فروردین | H6: =_xlfn.NUMBERVALUE(MID(invoice[[#This Row],[تاریخ]],1,4)) -> 1403 | I6: عادی | J6: تولید کننده | K6: 46466 | L6: =IF(invoice[[#This Row],[سال]]=year,1,0) -> 0 | O6: =SUMIF(bargiri[شماره پیش فاکتور],invoice[[#This Row],[شماره پیش فاکتور]],bargiri[میزان بارگیری شده])/invoice[[#This Row],[میزان سفارش]] -> 1 | P6: =IF(invoice[[#This Row],[نوع سفارش]]="غیرفعال","عادی",invoice[[#This Row],[نوع سفارش]]) -> عادی | Q6: =SUMIFS('جزییات بارگیری'!D:D,'جزییات بارگیری'!C:C,invoice[[#This Row],[شماره پیش فاکتور]]) -> 76560 | R6: =IF(invoice[[#This Row],[میزان سفارش]]-invoice[[#This Row],[میزان حمل شده ]]<0,0,invoice[[#This Row],[میزان سفارش]]-invoice[[#This Row],[میزان حمل شده ]]) -> 0 | S6: =invoice[[#This Row],[میزان حمل نشده ]]*invoice[[#This Row],[فی]] -> 0
A7: پ/6-1402 | B7: تعاونی ماهان گاز | C7: 1403/01/01 | D7: 1403/01/09 | E7: 99340 | F7: 56000 | G7: =CHOOSE(MID(invoice[[#This Row],[تاریخ]],6,2),"فروردین","اردیبهشت","خرداد","تیر","مرداد","شهریور","مهر","آبان","آذر","دی","بهمن","اسفند") -> فروردین | H7: =_xlfn.NUMBERVALUE(MID(invoice[[#This Row],[تاریخ]],1,4)) -> 1403 | I7: عادی | J7: تولید کننده | K7: 46466 | L7: =IF(invoice[[#This Row],[سال]]=year,1,0) -> 0 | O7: =SUMIF(bargiri[شماره پیش فاکتور],invoice[[#This Row],[شماره پیش فاکتور]],bargiri[میزان بارگیری شده])/invoice[[#This Row],[میزان سفارش]] -> 1 | P7: =IF(invoice[[#This Row],[نوع سفارش]]="غیرفعال","عادی",invoice[[#This Row],[نوع سفارش]]) -> عادی | Q7: =SUMIFS('جزییات بارگیری'!D:D,'جزییات بارگیری'!C:C,invoice[[#This Row],[شماره پیش فاکتور]]) -> 99340 | R7: =IF(invoice[[#This Row],[میزان سفارش]]-invoice[[#This Row],[میزان حمل شده ]]<0,0,invoice[[#This Row],[میزان سفارش]]-invoice[[#This Row],[میزان حمل شده ]]) -> 0 | S7: =invoice[[#This Row],[میزان حمل نشده ]]*invoice[[#This Row],[فی]] -> 0
A8: پ/13-1402 | B8: تولید گازهای طبی و صنعتی مددکاران اصفهان | C8: 1403/01/01 | D8: 1403/01/07 | E8: 76730 | F8: 75000 | G8: =CHOOSE(MID(invoice[[#This Row],[تاریخ]],6,2),"فروردین","اردیبهشت","خرداد","تیر","مرداد","شهریور","مهر","آبان","آذر","دی","بهمن","اسفند") -> فروردین | H8: =_xlfn.NUMBERVALUE(MID(invoice[[#This Row],[تاریخ]],1,4)) -> 1403 | I8: عادی | J8: تولید کننده | K8: 46466 | L8: =IF(invoice[[#This Row],[سال]]=year,1,0) -> 0 | O8: =SUMIF(bargiri[شماره پیش فاکتور],invoice[[#This Row],[شماره پیش فاکتور]],bargiri[میزان بارگیری شده])/invoice[[#This Row],[میزان سفارش]] -> 1 | P8: =IF(invoice[[#This Row],[نوع سفارش]]="غیرفعال","عادی",invoice[[#This Row],[نوع سفارش]]) -> عادی | Q8: =SUMIFS('جزییات بارگیری'!D:D,'جزییات بارگیری'!C:C,invoice[[#This Row],[شماره پیش فاکتور]]) -> 76730 | R8: =IF(invoice[[#This Row],[میزان سفارش]]-invoice[[#This Row],[میزان حمل شده ]]<0,0,invoice[[#This Row],[میزان سفارش]]-invoice[[#This Row],[میزان حمل شده ]]) -> 0 | S8: =invoice[[#This Row],[میزان حمل نشده ]]*invoice[[#This Row],[فی]] -> 0
A9: پ/12-1402 | B9: تولیدی گازهای طبی و صنعتی طوس سبزوار | C9: 1403/01/01 | D9: 1403/04/03 | E9: 101000 | F9: 75000 | G9: =CHOOSE(MID(invoice[[#This Row],[تاریخ]],6,2),"فروردین","اردیبهشت","خرداد","تیر","مرداد","شهریور","مهر","آبان","آذر","دی","بهمن","اسفند") -> فروردین | H9: =_xlfn.NUMBERVALUE(MID(invoice[[#This Row],[تاریخ]],1,4)) -> 1403 | I9: عادی | J9: تولید کننده | K9: 46466 | L9: =IF(invoice[[#This Row],[سال]]=year,1,0) -> 0 | O9: =SUMIF(bargiri[شماره پیش فاکتور],invoice[[#This Row],[شماره پیش فاکتور]],bargiri[میزان بارگیری شده])/invoice[[#This Row],[میزان سفارش]] -> 1 | P9: =IF(invoice[[#This Row],[نوع سفارش]]="غیرفعال","عادی",invoice[[#This Row],[نوع سفارش]]) -> عادی | Q9: =SUMIFS('جزییات بارگیری'!D:D,'جزییات بارگیری'!C:C,invoice[[#This Row],[شماره پیش فاکتور]]) -> 101000 | R9: =IF(invoice[[#This Row],[میزان سفارش]]-invoice[[#This Row],[میزان حمل شده ]]<0,0,invoice[[#This Row],[میزان سفارش]]-invoice[[#This Row],[میزان حمل شده ]]) -> 0 | S9: =invoice[[#This Row],[میزان حمل نشده ]]*invoice[[#This Row],[فی]] -> 0
A10: پ/40-1402 | B10: خوش نوش همدان | C10: 1403/01/01 | D10: 1403/01/25 | E10: 100000 | F10: 50000 | G10: =CHOOSE(MID(invoice[[#This Row],[تاریخ]],6,2),"فروردین","اردیبهشت","خرداد","تیر","مرداد","شهریور","مهر","آبان","آذر","دی","بهمن","اسفند") -> فروردین | H10: =_xlfn.NUMBERVALUE(MID(invoice[[#This Row],[تاریخ]],1,4)) -> 1403 | I10: عادی | J10: تولید کننده | K10: 46466 | L10: =IF(invoice[[#This Row],[سال]]=year,1,0) -> 0 | O10: =SUMIF(bargiri[شماره پیش فاکتور],invoice[[#This Row],[شماره پیش فاکتور]],bargiri[میزان بارگیری شده])/invoice[[#This Row],[میزان سفارش]] -> 1 | P10: =IF(invoice[[#This Row],[نوع سفارش]]="غیرفعال","عادی",invoice[[#This Row],[نوع سفارش]]) -> عادی | Q10: =SUMIFS('جزییات بارگیری'!D:D,'جزییات بارگیری'!C:C,invoice[[#This Row],[شماره پیش فاکتور]]) -> 100000 | R10: =IF(invoice[[#This Row],[میزان سفارش]]-invoice[[#This Row],[میزان حمل شده ]]<0,0,invoice[[#This Row],[میزان سفارش]]-invoice[[#This Row],[میزان حمل شده ]]) -> 0 | S10: =invoice[[#This Row],[میزان حمل نشده ]]*invoice[[#This Row],[فی]] -> 0
A11: پ/38-1402 | B11: خوش نوش همدان | C11: 1403/01/01 | D11: 1403/01/07 | E11: 902430 | F11: 65000 | G11: =CHOOSE(MID(invoice[[#This Row],[تاریخ]],6,2),"فروردین","اردیبهشت","خرداد","تیر","مرداد","شهریور","مهر","آبان","آذر","دی","بهمن","اسفند") -> فروردین | H11: =_xlfn.NUMBERVALUE(MID(invoice[[#This Row],[تاریخ]],1,4)) -> 1403 | I11: عادی | J11: تولید کننده | K11: 46466 | L11: =IF(invoice[[#This Row],[سال]]=year,1,0) -> 0 | O11: =SUMIF(bargiri[شماره پیش فاکتور],invoice[[#This Row],[شماره پیش فاکتور]],bargiri[میزان بارگیری شده])/invoice[[#This Row],[میزان سفارش]] -> 1 | P11: =IF(invoice[[#This Row],[نوع سفارش]]="غیرفعال","عادی",invoice[[#This Row],[نوع سفارش]]) -> عادی | Q11: =SUMIFS('جزییات بارگیری'!D:D,'جزییات بارگیری'!C:C,invoice[[#This Row],[شماره پیش فاکتور]]) -> 902430 | R11: =IF(invoice[[#This Row],[میزان سفارش]]-invoice[[#This Row],[میزان حمل شده ]]<0,0,invoice[[#This Row],[میزان سفارش]]-invoice[[#This Row],[میزان حمل شده ]]) -> 0 | S11: =invoice[[#This Row],[میزان حمل نشده ]]*invoice[[#This Row],[فی]] -> 0
A12: پ/37-1402 | B12: خوش نوش همدان | C12: 1403/01/01 | D12: 1403/03/31 | E12: 100000 | F12: 50000 | G12: =CHOOSE(MID(invoice[[#This Row],[تاریخ]],6,2),"فروردین","اردیبهشت","خرداد","تیر","مرداد","شهریور","مهر","آبان","آذر","دی","بهمن","اسفند") -> فروردین | H12: =_xlfn.NUMBERVALUE(MID(invoice[[#This Row],[تاریخ]],1,4)) -> 1403 | I12: عادی | J12: تولید کننده | K12: 46466 | L12: =IF(invoice[[#This Row],[سال]]=year,1,0) -> 0 | O12: =SUMIF(bargiri[شماره پیش فاکتور],invoice[[#This Row],[شماره پیش فاکتور]],bargiri[میزان بارگیری شده])/invoice[[#This Row],[میزان سفارش]] -> 1 | P12: =IF(invoice[[#This Row],[نوع سفارش]]="غیرفعال","عادی",invoice[[#This Row],[نوع سفارش]]) -> عادی | Q12: =SUMIFS('جزییات بارگیری'!D:D,'جزییات بارگیری'!C:C,invoice[[#This Row],[شماره پیش فاکتور]]) -> 100000 | R12: =IF(invoice[[#This Row],[میزان سفارش]]-invoice[[#This Row],[میزان حمل شده ]]<0,0,invoice[[#This Row],[میزان سفارش]]-invoice[[#This Row],[میزان حمل شده ]]) -> 0 | S12: =invoice[[#This Row],[میزان حمل نشده ]]*invoice[[#This Row],[فی]] -> 0
A13: پ/42-1402 | B13: شرکت امین گاز ایرانیان | C13: 1403/01/01 | D13: 1403/05/30 | E13: 3550 | F13: 80000 | G13: =CHOOSE(MID(invoice[[#This Row],[تاریخ]],6,2),"فروردین","اردیبهشت","خرداد","تیر","مرداد","شهریور","مهر","آبان","آذر","دی","بهمن","اسفند") -> فروردین | H13: =_xlfn.NUMBERVALUE(MID(invoice[[#This Row],[تاریخ]],1,4)) -> 1403 | I13: عادی | J13: واسطه | K13: 46466 | L13: =IF(invoice[[#This Row],[سال]]=year,1,0) -> 0 | O13: =SUMIF(bargiri[شماره پیش فاکتور],invoice[[#This Row],[شماره پیش فاکتور]],bargiri[میزان بارگیری شده])/invoice[[#This Row],[میزان سفارش]] -> 1 | P13: =IF(invoice[[#This Row],[نوع سفارش]]="غیرفعال","عادی",invoice[[#This Row],[نوع سفارش]]) -> عادی | Q13: =SUMIFS('جزییات بارگیری'!D:D,'جزییات بارگیری'!C:C,invoice[[#This Row],[شماره پیش فاکتور]]) -> 3550 | R13: =IF(invoice[[#This Row],[میزان سفارش]]-invoice[[#This Row],[میزان حمل شده ]]<0,0,invoice[[#This Row],[میزان سفارش]]-invoice[[#This Row],[میزان حمل شده ]]) -> 0 | S13: =invoice[[#This Row],[میزان حمل نشده ]]*invoice[[#This Row],[فی]] -> 0
... A106: پ/08-1404 | B106: پاینده ساز فردوس | C106: 1404/02/17 | D106: 1404/02/18 | E106: 40000 | F106: 151200 | G106: =CHOOSE(MID(invoice[[#This Row],[تاریخ]],6,2),"فروردین","اردیبهشت","خرداد","تیر","مرداد","شهریور","مهر","آبان","آذر","دی","بهمن","اسفند") -> اردیبهشت | H106: =_xlfn.NUMBERVALUE(MID(invoice[[#This Row],[تاریخ]],1,4)) -> 1404 | I106: بورس | J106: تولید کننده | K106: 46466 | L106: =IF(invoice[[#This Row],[سال]]=year,1,0) -> 0 | O106: =SUMIF(bargiri[شماره پیش فاکتور],invoice[[#This Row],[شماره پیش فاکتور]],bargiri[میزان بارگیری شده])/invoice[[#This Row],[میزان سفارش]] -> 1 | P106: =IF(invoice[[#This Row],[نوع سفارش]]="غیرفعال","عادی",invoice[[#This Row],[نوع سفارش]]) -> بورس | Q106: =SUMIFS('جزییات بارگیری'!D:D,'جزییات بارگیری'!C:C,invoice[[#This Row],[شماره پیش فاکتور]]) -> 40000 | R106: =IF(invoice[[#This Row],[میزان سفارش]]-invoice[[#This Row],[میزان حمل شده ]]<0,0,invoice[[#This Row],[میزان سفارش]]-invoice[[#This Row],[میزان حمل شده ]]) -> 0 | S106: =invoice[[#This Row],[میزان حمل نشده ]]*invoice[[#This Row],[فی]] -> 0
A107: الحاقیه پ/09-1404 | B107: گاز اکسیژن طوس | C107: 1404/10/09 | D107: 46021 | E107: 40000 | F107: 132800 | G107: =CHOOSE(MID(invoice[[#This Row],[تاریخ]],6,2),"فروردین","اردیبهشت","خرداد","تیر","مرداد","شهریور","مهر","آبان","آذر","دی","بهمن","اسفند") -> دی | H107: =_xlfn.NUMBERVALUE(MID(invoice[[#This Row],[تاریخ]],1,4)) -> 1404 | I107: تعادلی | J107: تولید کننده | K107: 46466 | L107: =IF(invoice[[#This Row],[سال]]=year,1,0) -> 0 | O107: =SUMIF(bargiri[شماره پیش فاکتور],invoice[[#This Row],[شماره پیش فاکتور]],bargiri[میزان بارگیری شده])/invoice[[#This Row],[میزان سفارش]] -> 0 | P107: =IF(invoice[[#This Row],[نوع سفارش]]="غیرفعال","عادی",invoice[[#This Row],[نوع سفارش]]) -> تعادلی | Q107: =SUMIFS('جزییات بارگیری'!D:D,'جزییات بارگیری'!C:C,invoice[[#This Row],[شماره پیش فاکتور]]) -> 0 | R107: =IF(invoice[[#This Row],[میزان سفارش]]-invoice[[#This Row],[میزان حمل شده ]]<0,0,invoice[[#This Row],[میزان سفارش]]-invoice[[#This Row],[میزان حمل شده ]]) -> 40000 | S107: =invoice[[#This Row],[میزان حمل نشده ]]*invoice[[#This Row],[فی]] -> 5312000000
A108: پ/10-1404 | B108: اکسیژن ارومیه گاز | C108: 1404/02/22 | D108: 1404/02/25 | E108: 51200 | F108: 80000 | G108: =CHOOSE(MID(invoice[[#This Row],[تاریخ]],6,2),"فروردین","اردیبهشت","خرداد","تیر","مرداد","شهریور","مهر","آبان","آذر","دی","بهمن","اسفند") -> اردیبهشت | H108: =_xlfn.NUMBERVALUE(MID(invoice[[#This Row],[تاریخ]],1,4)) -> 1404 | I108: تعادلی | J108: تولید کننده | K108: 46466 | L108: =IF(invoice[[#This Row],[سال]]=year,1,0) -> 0 | O108: =SUMIF(bargiri[شماره پیش فاکتور],invoice[[#This Row],[شماره پیش فاکتور]],bargiri[میزان بارگیری شده])/invoice[[#This Row],[میزان سفارش]] -> 1 | P108: =IF(invoice[[#This Row],[نوع سفارش]]="غیرفعال","عادی",invoice[[#This Row],[نوع سفارش]]) -> تعادلی | Q108: =SUMIFS('جزییات بارگیری'!D:D,'جزییات بارگیری'!C:C,invoice[[#This Row],[شماره پیش فاکتور]]) -> 51200 | R108: =IF(invoice[[#This Row],[میزان سفارش]]-invoice[[#This Row],[میزان حمل شده ]]<0,0,invoice[[#This Row],[میزان سفارش]]-invoice[[#This Row],[میزان حمل شده ]]) -> 0 | S108: =invoice[[#This Row],[میزان حمل نشده ]]*invoice[[#This Row],[فی]] -> 0
A109: پ/11-1404 | B109: پاینده ساز فردوس | C109: 1404/02/22 | D109: 1404/02/25 | E109: 81920 | F109: 75000 | G109: =CHOOSE(MID(invoice[[#This Row],[تاریخ]],6,2),"فروردین","اردیبهشت","خرداد","تیر","مرداد","شهریور","مهر","آبان","آذر","دی","بهمن","اسفند") -> اردیبهشت | H109: =_xlfn.NUMBERVALUE(MID(invoice[[#This Row],[تاریخ]],1,4)) -> 1404 | I109: تعادلی | J109: تولید کننده | K109: 46466 | L109: =IF(invoice[[#This Row],[سال]]=year,1,0) -> 0 | O109: =SUMIF(bargiri[شماره پیش فاکتور],invoice[[#This Row],[شماره پیش فاکتور]],bargiri[میزان بارگیری شده])/invoice[[#This Row],[میزان سفارش]] -> 1 | P109: =IF(invoice[[#This Row],[نوع سفارش]]="غیرفعال","عادی",invoice[[#This Row],[نوع سفارش]]) -> تعادلی | Q109: =SUMIFS('جزییات بارگیری'!D:D,'جزییات بارگیری'!C:C,invoice[[#This Row],[شماره پیش فاکتور]]) -> 81920 | R109: =IF(invoice[[#This Row],[میزان سفارش]]-invoice[[#This Row],[میزان حمل شده ]]<0,0,invoice[[#This Row],[میزان سفارش]]-invoice[[#This Row],[میزان حمل شده ]]) -> 0 | S109: =invoice[[#This Row],[میزان حمل نشده ]]*invoice[[#This Row],[فی]] -> 0
A110: الحاقیه پ/53-1403 | B110: طوس قزوین | C110: 1404/02/29 | D110: 1404/03/01 | E110: 1000000 | F110: 142000 | G110: =CHOOSE(MID(invoice[[#This Row],[تاریخ]],6,2),"فروردین","اردیبهشت","خرداد","تیر","مرداد","شهریور","مهر","آبان","آذر","دی","بهمن","اسفند") -> اردیبهشت | H110: =_xlfn.NUMBERVALUE(MID(invoice[[#This Row],[تاریخ]],1,4)) -> 1404 | I110: انجمن | J110: تولید کننده | K110: 46466 | L110: =IF(invoice[[#This Row],[سال]]=year,1,0) -> 0 | O110: =SUMIF(bargiri[شماره پیش فاکتور],invoice[[#This Row],[شماره پیش فاکتور]],bargiri[میزان بارگیری شده])/invoice[[#This Row],[میزان سفارش]] -> 1 | P110: =IF(invoice[[#This Row],[نوع سفارش]]="غیرفعال","عادی",invoice[[#This Row],[نوع سفارش]]) -> انجمن | Q110: =SUMIFS('جزییات بارگیری'!D:D,'جزییات بارگیری'!C:C,invoice[[#This Row],[شماره پیش فاکتور]]) -> 1000000 | R110: =IF(invoice[[#This Row],[میزان سفارش]]-invoice[[#This Row],[میزان حمل شده ]]<0,0,invoice[[#This Row],[میزان سفارش]]-invoice[[#This Row],[میزان حمل شده ]]) -> 0 | S110: =invoice[[#This Row],[میزان حمل نشده ]]*invoice[[#This Row],[فی]] -> 0
A111: الحاقیه پ/59-1403 | B111: جوش شیرین خراسان | C111: 1404/02/29 | D111: 1404/02/01 | E111: 312790 | F111: 142000 | G111: =CHOOSE(MID(invoice[[#This Row],[تاریخ]],6,2),"فروردین","اردیبهشت","خرداد","تیر","مرداد","شهریور","مهر","آبان","آذر","دی","بهمن","اسفند") -> اردیبهشت | H111: =_xlfn.NUMBERVALUE(MID(invoice[[#This Row],[تاریخ]],1,4)) -> 1404 | I111: انجمن | J111: تولید کننده | K111: 46466 | L111: =IF(invoice[[#This Row],[سال]]=year,1,0) -> 0 | O111: =SUMIF(bargiri[شماره پیش فاکتور],invoice[[#This Row],[شماره پیش فاکتور]],bargiri[میزان بارگیری شده])/invoice[[#This Row],[میزان سفارش]] -> 1 | P111: =IF(invoice[[#This Row],[نوع سفارش]]="غیرفعال","عادی",invoice[[#This Row],[نوع سفارش]]) -> انجمن | Q111: =SUMIFS('جزییات بارگیری'!D:D,'جزییات بارگیری'!C:C,invoice[[#This Row],[شماره پیش فاکتور]]) -> 312790 | R111: =IF(invoice[[#This Row],[میزان سفارش]]-invoice[[#This Row],[میزان حمل شده ]]<0,0,invoice[[#This Row],[میزان سفارش]]-invoice[[#This Row],[میزان حمل شده ]]) -> 0 | S111: =invoice[[#This Row],[میزان حمل نشده ]]*invoice[[#This Row],[فی]] -> 0
A112: پ/12-1404 | B112: گاز کربنیک غرب | C112: 1404/02/30 | D112: 1404/07/15 | E112: 600000 | F112: 120000 | G112: =CHOOSE(MID(invoice[[#This Row],[تاریخ]],6,2),"فروردین","اردیبهشت","خرداد","تیر","مرداد","شهریور","مهر","آبان","آذر","دی","بهمن","اسفند") -> اردیبهشت | H112: =_xlfn.NUMBERVALUE(MID(invoice[[#This Row],[تاریخ]],1,4)) -> 1404 | I112: عادی | J112: تولید کننده | K112: 46466 | L112: =IF(invoice[[#This Row],[سال]]=year,1,0) -> 0 | O112: =SUMIF(bargiri[شماره پیش فاکتور],invoice[[#This Row],[شماره پیش فاکتور]],bargiri[میزان بارگیری شده])/invoice[[#This Row],[میزان سفارش]] -> 0.15118333 | P112: =IF(invoice[[#This Row],[نوع سفارش]]="غیرفعال","عادی",invoice[[#This Row],[نوع سفارش]]) -> عادی | Q112: =SUMIFS('جزییات بارگیری'!D:D,'جزییات بارگیری'!C:C,invoice[[#This Row],[شماره پیش فاکتور]]) -> 90710 | R112: =IF(invoice[[#This Row],[میزان سفارش]]-invoice[[#This Row],[میزان حمل شده ]]<0,0,invoice[[#This Row],[میزان سفارش]]-invoice[[#This Row],[میزان حمل شده ]]) -> 509290 | S112: =invoice[[#This Row],[میزان حمل نشده ]]*invoice[[#This Row],[فی]] -> 61114800000
A113: پ/13-1404 | B113: عبیر شیمی | C113: 1404/02/30 | D113: 1404/07/15 | E113: 71800 | F113: 120000 | G113: =CHOOSE(MID(invoice[[#This Row],[تاریخ]],6,2),"فروردین","اردیبهشت","خرداد","تیر","مرداد","شهریور","مهر","آبان","آذر","دی","بهمن","اسفند") -> اردیبهشت | H113: =_xlfn.NUMBERVALUE(MID(invoice[[#This Row],[تاریخ]],1,4)) -> 1404 | I113: عادی | J113: تولید کننده | K113: 46466 | L113: =IF(invoice[[#This Row],[سال]]=year,1,0) -> 0 | O113: =SUMIF(bargiri[شماره پیش فاکتور],invoice[[#This Row],[شماره پیش فاکتور]],bargiri[میزان بارگیری شده])/invoice[[#This Row],[میزان سفارش]] -> 1 | P113: =IF(invoice[[#This Row],[نوع سفارش]]="غیرفعال","عادی",invoice[[#This Row],[نوع سفارش]]) -> عادی | Q113: =SUMIFS('جزییات بارگیری'!D:D,'جزییات بارگیری'!C:C,invoice[[#This Row],[شماره پیش فاکتور]]) -> 71800 | R113: =IF(invoice[[#This Row],[میزان سفارش]]-invoice[[#This Row],[میزان حمل شده ]]<0,0,invoice[[#This Row],[میزان سفارش]]-invoice[[#This Row],[میزان حمل شده ]]) -> 0 | S113: =invoice[[#This Row],[میزان حمل نشده ]]*invoice[[#This Row],[فی]] -> 0
A114: پ/14-1404 | B114: گاز اکسیژن طوس | C114: 1404/02/30 | D114: 1404/07/15 | E114: 400000 | F114: 120000 | G114: =CHOOSE(MID(invoice[[#This Row],[تاریخ]],6,2),"فروردین","اردیبهشت","خرداد","تیر","مرداد","شهریور","مهر","آبان","آذر","دی","بهمن","اسفند") -> اردیبهشت | H114: =_xlfn.NUMBERVALUE(MID(invoice[[#This Row],[تاریخ]],1,4)) -> 1404 | I114: عادی | J114: تولید کننده | K114: 46466 | L114: =IF(invoice[[#This Row],[سال]]=year,1,0) -> 0 | O114: =SUMIF(bargiri[شماره پیش فاکتور],invoice[[#This Row],[شماره پیش فاکتور]],bargiri[میزان بارگیری شده])/invoice[[#This Row],[میزان سفارش]] -> 0.242075 | P114: =IF(invoice[[#This Row],[نوع سفارش]]="غیرفعال","عادی",invoice[[#This Row],[نوع سفارش]]) -> عادی | Q114: =SUMIFS('جزییات بارگیری'!D:D,'جزییات بارگیری'!C:C,invoice[[#This Row],[شماره پیش فاکتور]]) -> 96830 | R114: =IF(invoice[[#This Row],[میزان سفارش]]-invoice[[#This Row],[میزان حمل شده ]]<0,0,invoice[[#This Row],[میزان سفارش]]-invoice[[#This Row],[میزان حمل شده ]]) -> 303170 | S114: =invoice[[#This Row],[میزان حمل نشده ]]*invoice[[#This Row],[فی]] -> 36380400000
A115: پ/15-1404 | B115: اکسیژن ارومیه گاز | C115: 1404/02/30 | D115: 1404/07/15 | E115: 350000 | F115: 120000 | G115: =CHOOSE(MID(invoice[[#This Row],[تاریخ]],6,2),"فروردین","اردیبهشت","خرداد","تیر","مرداد","شهریور","مهر","آبان","آذر","دی","بهمن","اسفند") -> اردیبهشت | H115: =_xlfn.NUMBERVALUE(MID(invoice[[#This Row],[تاریخ]],1,4)) -> 1404 | I115: عادی | J115: تولید کننده | K115: 46466 | L115: =IF(invoice[[#This Row],[سال]]=year,1,0) -> 0 | O115: =SUMIF(bargiri[شماره پیش فاکتور],invoice[[#This Row],[شماره پیش فاکتور]],bargiri[میزان بارگیری شده])/invoice[[#This Row],[میزان سفارش]] -> 0.49127143 | P115: =IF(invoice[[#This Row],[نوع سفارش]]="غیرفعال","عادی",invoice[[#This Row],[نوع سفارش]]) -> عادی | Q115: =SUMIFS('جزییات بارگیری'!D:D,'جزییات بارگیری'!C:C,invoice[[#This Row],[شماره پیش فاکتور]]) -> 171945 | R115: =IF(invoice[[#This Row],[میزان سفارش]]-invoice[[#This Row],[میزان حمل شده ]]<0,0,invoice[[#This Row],[میزان سفارش]]-invoice[[#This Row],[میزان حمل شده ]]) -> 178055 | S115: =invoice[[#This Row],[میزان حمل نشده ]]*invoice[[#This Row],[فی]] -> 21366600000
A116: پ/17-1404 | B116: گاز اکسیژن طوس | C116: 1404/02/31 | D116: 1404/03/01 | E116: 50000 | F116: 151100 | G116: =CHOOSE(MID(invoice[[#This Row],[تاریخ]],6,2),"فروردین","اردیبهشت","خرداد","تیر","مرداد","شهریور","مهر","آبان","آذر","دی","بهمن","اسفند") -> اردیبهشت | H116: =_xlfn.NUMBERVALUE(MID(invoice[[#This Row],[تاریخ]],1,4)) -> 1404 | I116: بورس | J116: تولید کننده | K116: 46466 | L116: =IF(invoice[[#This Row],[سال]]=year,1,0) -> 0 | O116: =SUMIF(bargiri[شماره پیش فاکتور],invoice[[#This Row],[شماره پیش فاکتور]],bargiri[میزان بارگیری شده])/invoice[[#This Row],[میزان سفارش]] -> 1 | P116: =IF(invoice[[#This Row],[نوع سفارش]]="غیرفعال","عادی",invoice[[#This Row],[نوع سفارش]]) -> بورس | Q116: =SUMIFS('جزییات بارگیری'!D:D,'جزییات بارگیری'!C:C,invoice[[#This Row],[شماره پیش فاکتور]]) -> 50000 | R116: =IF(invoice[[#This Row],[میزان سفارش]]-invoice[[#This Row],[میزان حمل شده ]]<0,0,invoice[[#This Row],[میزان سفارش]]-invoice[[#This Row],[میزان حمل شده ]]) -> 0 | S116: =invoice[[#This Row],[میزان حمل نشده ]]*invoice[[#This Row],[فی]] -> 0
A117: پ/18-1404 | B117: اکسیژن ارومیه گاز | C117: 1404/02/31 | D117: 1404/03/01 | E117: 20000 | F117: 151200 | G117: =CHOOSE(MID(invoice[[#This Row],[تاریخ]],6,2),"فروردین","اردیبهشت","خرداد","تیر","مرداد","شهریور","مهر","آبان","آذر","دی","بهمن","اسفند") -> اردیبهشت | H117: =_xlfn.NUMBERVALUE(MID(invoice[[#This Row],[تاریخ]],1,4)) -> 1404 | I117: بورس | J117: تولید کننده | K117: 46466 | L117: =IF(invoice[[#This Row],[سال]]=year,1,0) -> 0 | O117: =SUMIF(bargiri[شماره پیش فاکتور],invoice[[#This Row],[شماره پیش فاکتور]],bargiri[میزان بارگیری شده])/invoice[[#This Row],[میزان سفارش]] -> 1 | P117: =IF(invoice[[#This Row],[نوع سفارش]]="غیرفعال","عادی",invoice[[#This Row],[نوع سفارش]]) -> بورس | Q117: =SUMIFS('جزییات بارگیری'!D:D,'جزییات بارگیری'!C:C,invoice[[#This Row],[شماره پیش فاکتور]]) -> 20000 | R117: =IF(invoice[[#This Row],[میزان سفارش]]-invoice[[#This Row],[میزان حمل شده ]]<0,0,invoice[[#This Row],[میزان سفارش]]-invoice[[#This Row],[میزان حمل شده ]]) -> 0 | S117: =invoice[[#This Row],[میزان حمل نشده ]]*invoice[[#This Row],[فی]] -> 0
A118: پ/19-1404 | B118: تولیدی گازهای طبی و صنعتی طوس سبزوار | C118: 1404/02/31 | D118: 1404/03/01 | E118: 30000 | F118: 151100 | G118: =CHOOSE(MID(invoice[[#This Row],[تاریخ]],6,2),"فروردین","اردیبهشت","خرداد","تیر","مرداد","شهریور","مهر","آبان","آذر","دی","بهمن","اسفند") -> اردیبهشت | H118: =_xlfn.NUMBERVALUE(MID(invoice[[#This Row],[تاریخ]],1,4)) -> 1404 | I118: بورس | J118: تولید کننده | K118: 46466 | L118: =IF(invoice[[#This Row],[سال]]=year,1,0) -> 0 | O118: =SUMIF(bargiri[شماره پیش فاکتور],invoice[[#This Row],[شماره پیش فاکتور]],bargiri[میزان بارگیری شده])/invoice[[#This Row],[میزان سفارش]] -> 1 | P118: =IF(invoice[[#This Row],[نوع سفارش]]="غیرفعال","عادی",invoice[[#This Row],[نوع سفارش]]) -> بورس | Q118: =SUMIFS('جزییات بارگیری'!D:D,'جزییات بارگیری'!C:C,invoice[[#This Row],[شماره پیش فاکتور]]) -> 30000 | R118: =IF(invoice[[#This Row],[میزان سفارش]]-invoice[[#This Row],[میزان حمل شده ]]<0,0,invoice[[#This Row],[میزان سفارش]]-invoice[[#This Row],[میزان حمل شده ]]) -> 0 | S118: =invoice[[#This Row],[میزان حمل نشده ]]*invoice[[#This Row],[فی]] -> 0
A119: پ/20-1404 | B119: اکسیژن ارومیه گاز | C119: 1404/03/06 | D119: 1404/03/10 | E119: 50000 | F119: 79520 | G119: =CHOOSE(MID(invoice[[#This Row],[تاریخ]],6,2),"فروردین","اردیبهشت","خرداد","تیر","مرداد","شهریور","مهر","آبان","آذر","دی","بهمن","اسفند") -> خرداد | H119: =_xlfn.NUMBERVALUE(MID(invoice[[#This Row],[تاریخ]],1,4)) -> 1404 | I119: تعادلی | J119: تولید کننده | K119: 46466 | L119: =IF(invoice[[#This Row],[سال]]=year,1,0) -> 0 | O119: =SUMIF(bargiri[شماره پیش فاکتور],invoice[[#This Row],[شماره پیش فاکتور]],bargiri[میزان بارگیری شده])/invoice[[#This Row],[میزان سفارش]] -> 1 | P119: =IF(invoice[[#This Row],[نوع سفارش]]="غیرفعال","عادی",invoice[[#This Row],[نوع سفارش]]) -> تعادلی | Q119: =SUMIFS('جزییات بارگیری'!D:D,'جزییات بارگیری'!C:C,invoice[[#This Row],[شماره پیش فاکتور]]) -> 50000 | R119: =IF(invoice[[#This Row],[میزان سفارش]]-invoice[[#This Row],[میزان حمل شده ]]<0,0,invoice[[#This Row],[میزان سفارش]]-invoice[[#This Row],[میزان حمل شده ]]) -> 0 | S119: =invoice[[#This Row],[میزان حمل نشده ]]*invoice[[#This Row],[فی]] -> 0
... A168: پ/67-1404 | B168: پاینده ساز فردوس | C168: 1404/06/16 | D168: 1404/06/22 | E168: 20000 | F168: 87991 | G168: =CHOOSE(MID(invoice[[#This Row],[تاریخ]],6,2),"فروردین","اردیبهشت","خرداد","تیر","مرداد","شهریور","مهر","آبان","آذر","دی","بهمن","اسفند") -> شهریور | H168: =_xlfn.NUMBERVALUE(MID(invoice[[#This Row],[تاریخ]],1,4)) -> 1404 | I168: تعادلی | J168: تولید کننده | K168: 46466 | L168: =IF(invoice[[#This Row],[سال]]=year,1,0) -> 0 | O168: =SUMIF(bargiri[شماره پیش فاکتور],invoice[[#This Row],[شماره پیش فاکتور]],bargiri[میزان بارگیری شده])/invoice[[#This Row],[میزان سفارش]] -> 1 | P168: =IF(invoice[[#This Row],[نوع سفارش]]="غیرفعال","عادی",invoice[[#This Row],[نوع سفارش]]) -> تعادلی | Q168: =SUMIFS('جزییات بارگیری'!D:D,'جزییات بارگیری'!C:C,invoice[[#This Row],[شماره پیش فاکتور]]) -> 20000 | R168: =IF(invoice[[#This Row],[میزان سفارش]]-invoice[[#This Row],[میزان حمل شده ]]<0,0,invoice[[#This Row],[میزان سفارش]]-invoice[[#This Row],[میزان حمل شده ]]) -> 0 | S168: =invoice[[#This Row],[میزان حمل نشده ]]*invoice[[#This Row],[فی]] -> 0
A169: پ/68-1404 | B169: خوش نوش همدان | C169: 1404/06/30 | D169: 45923 | E169: 500000 | F169: 111000 | G169: =CHOOSE(MID(invoice[[#This Row],[تاریخ]],6,2),"فروردین","اردیبهشت","خرداد","تیر","مرداد","شهریور","مهر","آبان","آذر","دی","بهمن","اسفند") -> شهریور | H169: =_xlfn.NUMBERVALUE(MID(invoice[[#This Row],[تاریخ]],1,4)) -> 1404 | I169: عادی | J169: تولید کننده | K169: 46466 | L169: =IF(invoice[[#This Row],[سال]]=year,1,0) -> 0 | O169: =SUMIF(bargiri[شماره پیش فاکتور],invoice[[#This Row],[شماره پیش فاکتور]],bargiri[میزان بارگیری شده])/invoice[[#This Row],[میزان سفارش]] -> 1 | P169: =IF(invoice[[#This Row],[نوع سفارش]]="غیرفعال","عادی",invoice[[#This Row],[نوع سفارش]]) -> عادی | Q169: =SUMIFS('جزییات بارگیری'!D:D,'جزییات بارگیری'!C:C,invoice[[#This Row],[شماره پیش فاکتور]]) -> 500000 | R169: =IF(invoice[[#This Row],[میزان سفارش]]-invoice[[#This Row],[میزان حمل شده ]]<0,0,invoice[[#This Row],[میزان سفارش]]-invoice[[#This Row],[میزان حمل شده ]]) -> 0 | S169: =invoice[[#This Row],[میزان حمل نشده ]]*invoice[[#This Row],[فی]] -> 0
A170: پ/69-1404 | B170: طوس قزوین | C170: 1404/06/25 | D170: 1404/06/25 | E170: 50000 | F170: 167500 | G170: =CHOOSE(MID(invoice[[#This Row],[تاریخ]],6,2),"فروردین","اردیبهشت","خرداد","تیر","مرداد","شهریور","مهر","آبان","آذر","دی","بهمن","اسفند") -> شهریور | H170: =_xlfn.NUMBERVALUE(MID(invoice[[#This Row],[تاریخ]],1,4)) -> 1404 | I170: بورس | J170: تولید کننده | K170: 46466 | L170: =IF(invoice[[#This Row],[سال]]=year,1,0) -> 0 | O170: =SUMIF(bargiri[شماره پیش فاکتور],invoice[[#This Row],[شماره پیش فاکتور]],bargiri[میزان بارگیری شده])/invoice[[#This Row],[میزان سفارش]] -> 1 | P170: =IF(invoice[[#This Row],[نوع سفارش]]="غیرفعال","عادی",invoice[[#This Row],[نوع سفارش]]) -> بورس | Q170: =SUMIFS('جزییات بارگیری'!D:D,'جزییات بارگیری'!C:C,invoice[[#This Row],[شماره پیش فاکتور]]) -> 50000 | R170: =IF(invoice[[#This Row],[میزان سفارش]]-invoice[[#This Row],[میزان حمل شده ]]<0,0,invoice[[#This Row],[میزان سفارش]]-invoice[[#This Row],[میزان حمل شده ]]) -> 0 | S170: =invoice[[#This Row],[میزان حمل نشده ]]*invoice[[#This Row],[فی]] -> 0
A171: پ/70-1404 | B171: تولیدی گازهای طبی و صنعتی طوس سبزوار | C171: 1404/06/25 | D171: 1404/06/25 | E171: 20000 | F171: 167500 | G171: =CHOOSE(MID(invoice[[#This Row],[تاریخ]],6,2),"فروردین","اردیبهشت","خرداد","تیر","مرداد","شهریور","مهر","آبان","آذر","دی","بهمن","اسفند") -> شهریور | H171: =_xlfn.NUMBERVALUE(MID(invoice[[#This Row],[تاریخ]],1,4)) -> 1404 | I171: بورس | J171: تولید کننده | K171: 46466 | L171: =IF(invoice[[#This Row],[سال]]=year,1,0) -> 0 | O171: =SUMIF(bargiri[شماره پیش فاکتور],invoice[[#This Row],[شماره پیش فاکتور]],bargiri[میزان بارگیری شده])/invoice[[#This Row],[میزان سفارش]] -> 1 | P171: =IF(invoice[[#This Row],[نوع سفارش]]="غیرفعال","عادی",invoice[[#This Row],[نوع سفارش]]) -> بورس | Q171: =SUMIFS('جزییات بارگیری'!D:D,'جزییات بارگیری'!C:C,invoice[[#This Row],[شماره پیش فاکتور]]) -> 20000 | R171: =IF(invoice[[#This Row],[میزان سفارش]]-invoice[[#This Row],[میزان حمل شده ]]<0,0,invoice[[#This Row],[میزان سفارش]]-invoice[[#This Row],[میزان حمل شده ]]) -> 0 | S171: =invoice[[#This Row],[میزان حمل نشده ]]*invoice[[#This Row],[فی]] -> 0
A172: پ/71-1404 | B172: عبیر شیمی | C172: 1404/06/25 | D172: 1404/06/25 | E172: 30000 | F172: 167500 | G172: =CHOOSE(MID(invoice[[#This Row],[تاریخ]],6,2),"فروردین","اردیبهشت","خرداد","تیر","مرداد","شهریور","مهر","آبان","آذر","دی","بهمن","اسفند") -> شهریور | H172: =_xlfn.NUMBERVALUE(MID(invoice[[#This Row],[تاریخ]],1,4)) -> 1404 | I172: بورس | J172: تولید کننده | K172: 46466 | L172: =IF(invoice[[#This Row],[سال]]=year,1,0) -> 0 | O172: =SUMIF(bargiri[شماره پیش فاکتور],invoice[[#This Row],[شماره پیش فاکتور]],bargiri[میزان بارگیری شده])/invoice[[#This Row],[میزان سفارش]] -> 1 | P172: =IF(invoice[[#This Row],[نوع سفارش]]="غیرفعال","عادی",invoice[[#This Row],[نوع سفارش]]) -> بورس | Q172: =SUMIFS('جزییات بارگیری'!D:D,'جزییات بارگیری'!C:C,invoice[[#This Row],[شماره پیش فاکتور]]) -> 30000 | R172: =IF(invoice[[#This Row],[میزان سفارش]]-invoice[[#This Row],[میزان حمل شده ]]<0,0,invoice[[#This Row],[میزان سفارش]]-invoice[[#This Row],[میزان حمل شده ]]) -> 0 | S172: =invoice[[#This Row],[میزان حمل نشده ]]*invoice[[#This Row],[فی]] -> 0
A173: پ/72-1404 | B173: طوس قزوین | C173: 1404/07/08 | D173: 1404/07/08 | E173: 100000 | F173: 167500 | G173: =CHOOSE(MID(invoice[[#This Row],[تاریخ]],6,2),"فروردین","اردیبهشت","خرداد","تیر","مرداد","شهریور","مهر","آبان","آذر","دی","بهمن","اسفند") -> مهر | H173: =_xlfn.NUMBERVALUE(MID(invoice[[#This Row],[تاریخ]],1,4)) -> 1404 | I173: بورس | J173: تولید کننده | K173: 46466 | L173: =IF(invoice[[#This Row],[سال]]=year,1,0) -> 0 | O173: =SUMIF(bargiri[شماره پیش فاکتور],invoice[[#This Row],[شماره پیش فاکتور]],bargiri[میزان بارگیری شده])/invoice[[#This Row],[میزان سفارش]] -> 1 | P173: =IF(invoice[[#This Row],[نوع سفارش]]="غیرفعال","عادی",invoice[[#This Row],[نوع سفارش]]) -> بورس | Q173: =SUMIFS('جزییات بارگیری'!D:D,'جزییات بارگیری'!C:C,invoice[[#This Row],[شماره پیش فاکتور]]) -> 100000 | R173: =IF(invoice[[#This Row],[میزان سفارش]]-invoice[[#This Row],[میزان حمل شده ]]<0,0,invoice[[#This Row],[میزان سفارش]]-invoice[[#This Row],[میزان حمل شده ]]) -> 0 | S173: =invoice[[#This Row],[میزان حمل نشده ]]*invoice[[#This Row],[فی]] -> 0
A174: پ/73-1404 | B174: تولیدی گازهای طبی و صنعتی طوس سبزوار | C174: 1404/07/01 | D174: 45929 | E174: 20000 | F174: 116500 | G174: =CHOOSE(MID(invoice[[#This Row],[تاریخ]],6,2),"فروردین","اردیبهشت","خرداد","تیر","مرداد","شهریور","مهر","آبان","آذر","دی","بهمن","اسفند") -> مهر | H174: =_xlfn.NUMBERVALUE(MID(invoice[[#This Row],[تاریخ]],1,4)) -> 1404 | I174: تعادلی | J174: تولید کننده | K174: 46466 | L174: =IF(invoice[[#This Row],[سال]]=year,1,0) -> 0 | O174: =SUMIF(bargiri[شماره پیش فاکتور],invoice[[#This Row],[شماره پیش فاکتور]],bargiri[میزان بارگیری شده])/invoice[[#This Row],[میزان سفارش]] -> 1 | P174: =IF(invoice[[#This Row],[نوع سفارش]]="غیرفعال","عادی",invoice[[#This Row],[نوع سفارش]]) -> تعادلی | Q174: =SUMIFS('جزییات بارگیری'!D:D,'جزییات بارگیری'!C:C,invoice[[#This Row],[شماره پیش فاکتور]]) -> 20000 | R174: =IF(invoice[[#This Row],[میزان سفارش]]-invoice[[#This Row],[میزان حمل شده ]]<0,0,invoice[[#This Row],[میزان سفارش]]-invoice[[#This Row],[میزان حمل شده ]]) -> 0 | S174: =invoice[[#This Row],[میزان حمل نشده ]]*invoice[[#This Row],[فی]] -> 0
A175: پ/74-1404 | B175: عبیر شیمی | C175: 1404/07/01 | D175: 1404/07/07 | E175: 30000 | F175: 116500 | G175: =CHOOSE(MID(invoice[[#This Row],[تاریخ]],6,2),"فروردین","اردیبهشت","خرداد","تیر","مرداد","شهریور","مهر","آبان","آذر","دی","بهمن","اسفند") -> مهر | H175: =_xlfn.NUMBERVALUE(MID(invoice[[#This Row],[تاریخ]],1,4)) -> 1404 | I175: تعادلی | J175: تولید کننده | K175: 46466 | L175: =IF(invoice[[#This Row],[سال]]=year,1,0) -> 0 | O175: =SUMIF(bargiri[شماره پیش فاکتور],invoice[[#This Row],[شماره پیش فاکتور]],bargiri[میزان بارگیری شده])/invoice[[#This Row],[میزان سفارش]] -> 1 | P175: =IF(invoice[[#This Row],[نوع سفارش]]="غیرفعال","عادی",invoice[[#This Row],[نوع سفارش]]) -> تعادلی | Q175: =SUMIFS('جزییات بارگیری'!D:D,'جزییات بارگیری'!C:C,invoice[[#This Row],[شماره پیش فاکتور]]) -> 30000 | R175: =IF(invoice[[#This Row],[میزان سفارش]]-invoice[[#This Row],[میزان حمل شده ]]<0,0,invoice[[#This Row],[میزان سفارش]]-invoice[[#This Row],[میزان حمل شده ]]) -> 0 | S175: =invoice[[#This Row],[میزان حمل نشده ]]*invoice[[#This Row],[فی]] -> 0
A176: پ/75-1404 | B176: پارس اکسیر البرز شمالی | C176: 1404/07/26 | D176: 1404/08/02 | E176: 1000000 | F176: 105000 | G176: =CHOOSE(MID(invoice[[#This Row],[تاریخ]],6,2),"فروردین","اردیبهشت","خرداد","تیر","مرداد","شهریور","مهر","آبان","آذر","دی","بهمن","اسفند") -> مهر | H176: =_xlfn.NUMBERVALUE(MID(invoice[[#This Row],[تاریخ]],1,4)) -> 1404 | I176: عادی | J176: تولید کننده | K176: 46466 | L176: =IF(invoice[[#This Row],[سال]]=year,1,0) -> 0 | O176: =SUMIF(bargiri[شماره پیش فاکتور],invoice[[#This Row],[شماره پیش فاکتور]],bargiri[میزان بارگیری شده])/invoice[[#This Row],[میزان سفارش]] -> 0.73825 | P176: =IF(invoice[[#This Row],[نوع سفارش]]="غیرفعال","عادی",invoice[[#This Row],[نوع سفارش]]) -> عادی | Q176: =SUMIFS('جزییات بارگیری'!D:D,'جزییات بارگیری'!C:C,invoice[[#This Row],[شماره پیش فاکتور]]) -> 738250 | R176: =IF(invoice[[#This Row],[میزان سفارش]]-invoice[[#This Row],[میزان حمل شده ]]<0,0,invoice[[#This Row],[میزان سفارش]]-invoice[[#This Row],[میزان حمل شده ]]) -> 261750 | S176: =invoice[[#This Row],[میزان حمل نشده ]]*invoice[[#This Row],[فی]] -> 27483750000
A177: پ/76-1404 | B177: شرکت گروه صنعتی پاژ گاز خراسان | C177: 1404/07/26 | D177: 1404/08/02 | E177: 1000000 | F177: 105000 | G177: =CHOOSE(MID(invoice[[#This Row],[تاریخ]],6,2),"فروردین","اردیبهشت","خرداد","تیر","مرداد","شهریور","مهر","آبان","آذر","دی","بهمن","اسفند") -> مهر | H177: =_xlfn.NUMBERVALUE(MID(invoice[[#This Row],[تاریخ]],1,4)) -> 1404 | I177: عادی | J177: تولید کننده | K177: 46466 | L177: =IF(invoice[[#This Row],[سال]]=year,1,0) -> 0 | O177: =SUMIF(bargiri[شماره پیش فاکتور],invoice[[#This Row],[شماره پیش فاکتور]],bargiri[میزان بارگیری شده])/invoice[[#This Row],[میزان سفارش]] -> 0.84571 | P177: =IF(invoice[[#This Row],[نوع سفارش]]="غیرفعال","عادی",invoice[[#This Row],[نوع سفارش]]) -> عادی | Q177: =SUMIFS('جزییات بارگیری'!D:D,'جزییات بارگیری'!C:C,invoice[[#This Row],[شماره پیش فاکتور]]) -> 845710 | R177: =IF(invoice[[#This Row],[میزان سفارش]]-invoice[[#This Row],[میزان حمل شده ]]<0,0,invoice[[#This Row],[میزان سفارش]]-invoice[[#This Row],[میزان حمل شده ]]) -> 154290 | S177: =invoice[[#This Row],[میزان حمل نشده ]]*invoice[[#This Row],[فی]] -> 16200450000
A178: پ/77-1404 | B178: تعاونی ماهان گاز | C178: 1404/08/03 | D178: 1405/01/01 | E178: 500000 | F178: 108000 | G178: =CHOOSE(MID(invoice[[#This Row],[تاریخ]],6,2),"فروردین","اردیبهشت","خرداد","تیر","مرداد","شهریور","مهر","آبان","آذر","دی","بهمن","اسفند") -> آبان | H178: =_xlfn.NUMBERVALUE(MID(invoice[[#This Row],[تاریخ]],1,4)) -> 1404 | I178: عادی | J178: تولید کننده | K178: 46466 | L178: =IF(invoice[[#This Row],[سال]]=year,1,0) -> 0 | O178: =SUMIF(bargiri[شماره پیش فاکتور],invoice[[#This Row],[شماره پیش فاکتور]],bargiri[میزان بارگیری شده])/invoice[[#This Row],[میزان سفارش]] -> 0.1932 | P178: =IF(invoice[[#This Row],[نوع سفارش]]="غیرفعال","عادی",invoice[[#This Row],[نوع سفارش]]) -> عادی | Q178: =SUMIFS('جزییات بارگیری'!D:D,'جزییات بارگیری'!C:C,invoice[[#This Row],[شماره پیش فاکتور]]) -> 96600 | R178: =IF(invoice[[#This Row],[میزان سفارش]]-invoice[[#This Row],[میزان حمل شده ]]<0,0,invoice[[#This Row],[میزان سفارش]]-invoice[[#This Row],[میزان حمل شده ]]) -> 403400 | S178: =invoice[[#This Row],[میزان حمل نشده ]]*invoice[[#This Row],[فی]] -> 43567200000
A179: پ/78-1404 | B179: طوس قزوین | C179: 1404/08/07 | D179: 1404/08/07 | E179: 20000 | F179: 167500 | G179: =CHOOSE(MID(invoice[[#This Row],[تاریخ]],6,2),"فروردین","اردیبهشت","خرداد","تیر","مرداد","شهریور","مهر","آبان","آذر","دی","بهمن","اسفند") -> آبان | H179: =_xlfn.NUMBERVALUE(MID(invoice[[#This Row],[تاریخ]],1,4)) -> 1404 | I179: بورس | J179: تولید کننده | K179: 46466 | L179: =IF(invoice[[#This Row],[سال]]=year,1,0) -> 0 | O179: =SUMIF(bargiri[شماره پیش فاکتور],invoice[[#This Row],[شماره پیش فاکتور]],bargiri[میزان بارگیری شده])/invoice[[#This Row],[میزان سفارش]] -> 1 | P179: =IF(invoice[[#This Row],[نوع سفارش]]="غیرفعال","عادی",invoice[[#This Row],[نوع سفارش]]) -> بورس | Q179: =SUMIFS('جزییات بارگیری'!D:D,'جزییات بارگیری'!C:C,invoice[[#This Row],[شماره پیش فاکتور]]) -> 20000 | R179: =IF(invoice[[#This Row],[میزان سفارش]]-invoice[[#This Row],[میزان حمل شده ]]<0,0,invoice[[#This Row],[میزان سفارش]]-invoice[[#This Row],[میزان حمل شده ]]) -> 0 | S179: =invoice[[#This Row],[میزان حمل نشده ]]*invoice[[#This Row],[فی]] -> 0
A180: پ/79-1404 | B180: تولیدی گازهای طبی و صنعتی طوس سبزوار | C180: 1404/08/07 | D180: 1404/08/07 | E180: 30000 | F180: 167500 | G180: =CHOOSE(MID(invoice[[#This Row],[تاریخ]],6,2),"فروردین","اردیبهشت","خرداد","تیر","مرداد","شهریور","مهر","آبان","آذر","دی","بهمن","اسفند") -> آبان | H180: =_xlfn.NUMBERVALUE(MID(invoice[[#This Row],[تاریخ]],1,4)) -> 1404 | I180: بورس | J180: تولید کننده | K180: 46466 | L180: =IF(invoice[[#This Row],[سال]]=year,1,0) -> 0 | O180: =SUMIF(bargiri[شماره پیش فاکتور],invoice[[#This Row],[شماره پیش فاکتور]],bargiri[میزان بارگیری شده])/invoice[[#This Row],[میزان سفارش]] -> 1 | P180: =IF(invoice[[#This Row],[نوع سفارش]]="غیرفعال","عادی",invoice[[#This Row],[نوع سفارش]]) -> بورس | Q180: =SUMIFS('جزییات بارگیری'!D:D,'جزییات بارگیری'!C:C,invoice[[#This Row],[شماره پیش فاکتور]]) -> 30000 | R180: =IF(invoice[[#This Row],[میزان سفارش]]-invoice[[#This Row],[میزان حمل شده ]]<0,0,invoice[[#This Row],[میزان سفارش]]-invoice[[#This Row],[میزان حمل شده ]]) -> 0 | S180: =invoice[[#This Row],[میزان حمل نشده ]]*invoice[[#This Row],[فی]] -> 0
A181: پ/80-1404 | B181: اکسیژن ارومیه گاز | C181: 1404/08/07 | D181: 1404/08/07 | E181: 30000 | F181: 167500 | G181: =CHOOSE(MID(invoice[[#This Row],[تاریخ]],6,2),"فروردین","اردیبهشت","خرداد","تیر","مرداد","شهریور","مهر","آبان","آذر","دی","بهمن","اسفند") -> آبان | H181: =_xlfn.NUMBERVALUE(MID(invoice[[#This Row],[تاریخ]],1,4)) -> 1404 | I181: بورس | J181: تولید کننده | K181: 46466 | L181: =IF(invoice[[#This Row],[سال]]=year,1,0) -> 0 | O181: =SUMIF(bargiri[شماره پیش فاکتور],invoice[[#This Row],[شماره پیش فاکتور]],bargiri[میزان بارگیری شده])/invoice[[#This Row],[میزان سفارش]] -> 1 | P181: =IF(invoice[[#This Row],[نوع سفارش]]="غیرفعال","عادی",invoice[[#This Row],[نوع سفارش]]) -> بورس | Q181: =SUMIFS('جزییات بارگیری'!D:D,'جزییات بارگیری'!C:C,invoice[[#This Row],[شماره پیش فاکتور]]) -> 30000 | R181: =IF(invoice[[#This Row],[میزان سفارش]]-invoice[[#This Row],[میزان حمل شده ]]<0,0,invoice[[#This Row],[میزان سفارش]]-invoice[[#This Row],[میزان حمل شده ]]) -> 0 | S181: =invoice[[#This Row],[میزان حمل نشده ]]*invoice[[#This Row],[فی]] -> 0
A182: پ/81-1404 | B182: طوس قزوین | C182: 1404/08/17 | D182: 1404/08/21 | E182: 20000 | F182: 116500 | G182: =CHOOSE(MID(invoice[[#This Row],[تاریخ]],6,2),"فروردین","اردیبهشت","خرداد","تیر","مرداد","شهریور","مهر","آبان","آذر","دی","بهمن","اسفند") -> آبان | H182: =_xlfn.NUMBERVALUE(MID(invoice[[#This Row],[تاریخ]],1,4)) -> 1404 | I182: تعادلی | J182: تولید کننده | K182: 46466 | L182: =IF(invoice[[#This Row],[سال]]=year,1,0) -> 0 | O182: =SUMIF(bargiri[شماره پیش فاکتور],invoice[[#This Row],[شماره پیش فاکتور]],bargiri[میزان بارگیری شده])/invoice[[#This Row],[میزان سفارش]] -> 1 | P182: =IF(invoice[[#This Row],[نوع سفارش]]="غیرفعال","عادی",invoice[[#This Row],[نوع سفارش]]) -> تعادلی | Q182: =SUMIFS('جزییات بارگیری'!D:D,'جزییات بارگیری'!C:C,invoice[[#This Row],[شماره پیش فاکتور]]) -> 20000 | R182: =IF(invoice[[#This Row],[میزان سفارش]]-invoice[[#This Row],[میزان حمل شده ]]<0,0,invoice[[#This Row],[میزان سفارش]]-invoice[[#This Row],[میزان حمل شده ]]) -> 0 | S182: =invoice[[#This Row],[میزان حمل نشده ]]*invoice[[#This Row],[فی]] -> 0
A183: پ/82-1404 | B183: تولیدی گازهای طبی و صنعتی طوس سبزوار | C183: 1404/08/17 | D183: 1404/08/21 | E183: 30000 | F183: 116500 | G183: =CHOOSE(MID(invoice[[#This Row],[تاریخ]],6,2),"فروردین","اردیبهشت","خرداد","تیر","مرداد","شهریور","مهر","آبان","آذر","دی","بهمن","اسفند") -> آبان | H183: =_xlfn.NUMBERVALUE(MID(invoice[[#This Row],[تاریخ]],1,4)) -> 1404 | I183: تعادلی | J183: تولید کننده | K183: 46466 | L183: =IF(invoice[[#This Row],[سال]]=year,1,0) -> 0 | O183: =SUMIF(bargiri[شماره پیش فاکتور],invoice[[#This Row],[شماره پیش فاکتور]],bargiri[میزان بارگیری شده])/invoice[[#This Row],[میزان سفارش]] -> 1 | P183: =IF(invoice[[#This Row],[نوع سفارش]]="غیرفعال","عادی",invoice[[#This Row],[نوع سفارش]]) -> تعادلی | Q183: =SUMIFS('جزییات بارگیری'!D:D,'جزییات بارگیری'!C:C,invoice[[#This Row],[شماره پیش فاکتور]]) -> 30000 | R183: =IF(invoice[[#This Row],[میزان سفارش]]-invoice[[#This Row],[میزان حمل شده ]]<0,0,invoice[[#This Row],[میزان سفارش]]-invoice[[#This Row],[میزان حمل شده ]]) -> 0 | S183: =invoice[[#This Row],[میزان حمل نشده ]]*invoice[[#This Row],[فی]] -> 0
A184: پ/83-1404 | B184: اکسیژن ارومیه گاز | C184: 1404/08/17 | D184: 1404/08/21 | E184: 30000 | F184: 116500 | G184: =CHOOSE(MID(invoice[[#This Row],[تاریخ]],6,2),"فروردین","اردیبهشت","خرداد","تیر","مرداد","شهریور","مهر","آبان","آذر","دی","بهمن","اسفند") -> آبان | H184: =_xlfn.NUMBERVALUE(MID(invoice[[#This Row],[تاریخ]],1,4)) -> 1404 | I184: تعادلی | J184: تولید کننده | K184: 46466 | L184: =IF(invoice[[#This Row],[سال]]=year,1,0) -> 0 | O184: =SUMIF(bargiri[شماره پیش فاکتور],invoice[[#This Row],[شماره پیش فاکتور]],bargiri[میزان بارگیری شده])/invoice[[#This Row],[میزان سفارش]] -> 1 | P184: =IF(invoice[[#This Row],[نوع سفارش]]="غیرفعال","عادی",invoice[[#This Row],[نوع سفارش]]) -> تعادلی | Q184: =SUMIFS('جزییات بارگیری'!D:D,'جزییات بارگیری'!C:C,invoice[[#This Row],[شماره پیش فاکتور]]) -> 30000 | R184: =IF(invoice[[#This Row],[میزان سفارش]]-invoice[[#This Row],[میزان حمل شده ]]<0,0,invoice[[#This Row],[میزان سفارش]]-invoice[[#This Row],[میزان حمل شده ]]) -> 0 | S184: =invoice[[#This Row],[میزان حمل نشده ]]*invoice[[#This Row],[فی]] -> 0
A185: پ/84-1404 | B185: شرکت گروه صنعتی پاژ گاز خراسان | C185: 1404/08/20 | D185: 1404/08/29 | E185: 1000000 | F185: 100000 | G185: =CHOOSE(MID(invoice[[#This Row],[تاریخ]],6,2),"فروردین","اردیبهشت","خرداد","تیر","مرداد","شهریور","مهر","آبان","آذر","دی","بهمن","اسفند") -> آبان | H185: =_xlfn.NUMBERVALUE(MID(invoice[[#This Row],[تاریخ]],1,4)) -> 1404 | I185: عادی | J185: تولید کننده | K185: 46466 | L185: =IF(invoice[[#This Row],[سال]]=year,1,0) -> 0 | O185: =SUMIF(bargiri[شماره پیش فاکتور],invoice[[#This Row],[شماره پیش فاکتور]],bargiri[میزان بارگیری شده])/invoice[[#This Row],[میزان سفارش]] -> 0 | P185: =IF(invoice[[#This Row],[نوع سفارش]]="غیرفعال","عادی",invoice[[#This Row],[نوع سفارش]]) -> عادی | Q185: =SUMIFS('جزییات بارگیری'!D:D,'جزییات بارگیری'!C:C,invoice[[#This Row],[شماره پیش فاکتور]]) -> 0 | R185: =IF(invoice[[#This Row],[میزان سفارش]]-invoice[[#This Row],[میزان حمل شده ]]<0,0,invoice[[#This Row],[میزان سفارش]]-invoice[[#This Row],[میزان حمل شده ]]) -> 1000000 | S185: =invoice[[#This Row],[میزان حمل نشده ]]*invoice[[#This Row],[فی]] -> 100000000000
A186: پ/85-1404 | B186: جوش شیرین خراسان | C186: 1404/08/20 | D186: 1404/08/29 | E186: 1000000 | F186: 100000 | G186: =CHOOSE(MID(invoice[[#This Row],[تاریخ]],6,2),"فروردین","اردیبهشت","خرداد","تیر","مرداد","شهریور","مهر","آبان","آذر","دی","بهمن","اسفند") -> آبان | H186: =_xlfn.NUMBERVALUE(MID(invoice[[#This Row],[تاریخ]],1,4)) -> 1404 | I186: عادی | J186: تولید کننده | K186: 46466 | L186: =IF(invoice[[#This Row],[سال]]=year,1,0) -> 0 | O186: =SUMIF(bargiri[شماره پیش فاکتور],invoice[[#This Row],[شماره پیش فاکتور]],bargiri[میزان بارگیری شده])/invoice[[#This Row],[میزان سفارش]] -> 0 | P186: =IF(invoice[[#This Row],[نوع سفارش]]="غیرفعال","عادی",invoice[[#This Row],[نوع سفارش]]) -> عادی | Q186: =SUMIFS('جزییات بارگیری'!D:D,'جزییات بارگیری'!C:C,invoice[[#This Row],[شماره پیش فاکتور]]) -> 0 | R186: =IF(invoice[[#This Row],[میزان سفارش]]-invoice[[#This Row],[میزان حمل شده ]]<0,0,invoice[[#This Row],[میزان سفارش]]-invoice[[#This Row],[میزان حمل شده ]]) -> 1000000 | S186: =invoice[[#This Row],[میزان حمل نشده ]]*invoice[[#This Row],[فی]] -> 100000000000
... A213: پ/110-1404 | B213: طوس قزوین | C213: 1404/10/22 | D213: 1404/10/25 | E213: 20000 | F213: 116500 | G213: =CHOOSE(MID(invoice[[#This Row],[تاریخ]],6,2),"فروردین","اردیبهشت","خرداد","تیر","مرداد","شهریور","مهر","آبان","آذر","دی","بهمن","اسفند") -> دی | H213: =_xlfn.NUMBERVALUE(MID(invoice[[#This Row],[تاریخ]],1,4)) -> 1404 | I213: تعادلی | J213: تولید کننده | K213: 46466 | L213: =IF(invoice[[#This Row],[سال]]=year,1,0) -> 0 | O213: =SUMIF(bargiri[شماره پیش فاکتور],invoice[[#This Row],[شماره پیش فاکتور]],bargiri[میزان بارگیری شده])/invoice[[#This Row],[میزان سفارش]] -> 1 | P213: =IF(invoice[[#This Row],[نوع سفارش]]="غیرفعال","عادی",invoice[[#This Row],[نوع سفارش]]) -> تعادلی | Q213: =SUMIFS('جزییات بارگیری'!D:D,'جزییات بارگیری'!C:C,invoice[[#This Row],[شماره پیش فاکتور]]) -> 20000 | R213: =IF(invoice[[#This Row],[میزان سفارش]]-invoice[[#This Row],[میزان حمل شده ]]<0,0,invoice[[#This Row],[میزان سفارش]]-invoice[[#This Row],[میزان حمل شده ]]) -> 0 | S213: =invoice[[#This Row],[میزان حمل نشده ]]*invoice[[#This Row],[فی]] -> 0
A214: پ/111-1404 | B214: تولیدی گازهای طبی و صنعتی طوس سبزوار | C214: 1404/10/22 | D214: 46037 | E214: 30000 | F214: 116500 | G214: =CHOOSE(MID(invoice[[#This Row],[تاریخ]],6,2),"فروردین","اردیبهشت","خرداد","تیر","مرداد","شهریور","مهر","آبان","آذر","دی","بهمن","اسفند") -> دی | H214: =_xlfn.NUMBERVALUE(MID(invoice[[#This Row],[تاریخ]],1,4)) -> 1404 | I214: تعادلی | J214: تولید کننده | K214: 46466 | L214: =IF(invoice[[#This Row],[سال]]=year,1,0) -> 0 | O214: =SUMIF(bargiri[شماره پیش فاکتور],invoice[[#This Row],[شماره پیش فاکتور]],bargiri[میزان بارگیری شده])/invoice[[#This Row],[میزان سفارش]] -> 0 | P214: =IF(invoice[[#This Row],[نوع سفارش]]="غیرفعال","عادی",invoice[[#This Row],[نوع سفارش]]) -> تعادلی | Q214: =SUMIFS('جزییات بارگیری'!D:D,'جزییات بارگیری'!C:C,invoice[[#This Row],[شماره پیش فاکتور]]) -> 0 | R214: =IF(invoice[[#This Row],[میزان سفارش]]-invoice[[#This Row],[میزان حمل شده ]]<0,0,invoice[[#This Row],[میزان سفارش]]-invoice[[#This Row],[میزان حمل شده ]]) -> 30000 | S214: =invoice[[#This Row],[میزان حمل نشده ]]*invoice[[#This Row],[فی]] -> 3495000000
A215: پ/112-1404 | B215: پاینده ساز فردوس | C215: 1404/10/22 | D215: 1404/10/25 | E215: 20000 | F215: 116500 | G215: =CHOOSE(MID(invoice[[#This Row],[تاریخ]],6,2),"فروردین","اردیبهشت","خرداد","تیر","مرداد","شهریور","مهر","آبان","آذر","دی","بهمن","اسفند") -> دی | H215: =_xlfn.NUMBERVALUE(MID(invoice[[#This Row],[تاریخ]],1,4)) -> 1404 | I215: تعادلی | J215: تولید کننده | K215: 46466 | L215: =IF(invoice[[#This Row],[سال]]=year,1,0) -> 0 | O215: =SUMIF(bargiri[شماره پیش فاکتور],invoice[[#This Row],[شماره پیش فاکتور]],bargiri[میزان بارگیری شده])/invoice[[#This Row],[میزان سفارش]] -> 1 | P215: =IF(invoice[[#This Row],[نوع سفارش]]="غیرفعال","عادی",invoice[[#This Row],[نوع سفارش]]) -> تعادلی | Q215: =SUMIFS('جزییات بارگیری'!D:D,'جزییات بارگیری'!C:C,invoice[[#This Row],[شماره پیش فاکتور]]) -> 20000 | R215: =IF(invoice[[#This Row],[میزان سفارش]]-invoice[[#This Row],[میزان حمل شده ]]<0,0,invoice[[#This Row],[میزان سفارش]]-invoice[[#This Row],[میزان حمل شده ]]) -> 0 | S215: =invoice[[#This Row],[میزان حمل نشده ]]*invoice[[#This Row],[فی]] -> 0
A216: پ/113-1404 | B216: خوش نوش همدان | C216: 1404/10/30 | D216: 46042 | E216: 400000 | F216: 125000 | G216: =CHOOSE(MID(invoice[[#This Row],[تاریخ]],6,2),"فروردین","اردیبهشت","خرداد","تیر","مرداد","شهریور","مهر","آبان","آذر","دی","بهمن","اسفند") -> دی | H216: =_xlfn.NUMBERVALUE(MID(invoice[[#This Row],[تاریخ]],1,4)) -> 1404 | I216: عادی | J216: تولید کننده | K216: 46466 | L216: =IF(invoice[[#This Row],[سال]]=year,1,0) -> 0 | O216: =SUMIF(bargiri[شماره پیش فاکتور],invoice[[#This Row],[شماره پیش فاکتور]],bargiri[میزان بارگیری شده])/invoice[[#This Row],[میزان سفارش]] -> 0.238975 | P216: =IF(invoice[[#This Row],[نوع سفارش]]="غیرفعال","عادی",invoice[[#This Row],[نوع سفارش]]) -> عادی | Q216: =SUMIFS('جزییات بارگیری'!D:D,'جزییات بارگیری'!C:C,invoice[[#This Row],[شماره پیش فاکتور]]) -> 95590 | R216: =IF(invoice[[#This Row],[میزان سفارش]]-invoice[[#This Row],[میزان حمل شده ]]<0,0,invoice[[#This Row],[میزان سفارش]]-invoice[[#This Row],[میزان حمل شده ]]) -> 304410 | S216: =invoice[[#This Row],[میزان حمل نشده ]]*invoice[[#This Row],[فی]] -> 38051250000
A217: پ/114-1404 | B217: طوس قزوین | C217: 1404/11/01 | D217: 1404/11/01 | E217: 80000 | F217: 167500 | G217: =CHOOSE(MID(invoice[[#This Row],[تاریخ]],6,2),"فروردین","اردیبهشت","خرداد","تیر","مرداد","شهریور","مهر","آبان","آذر","دی","بهمن","اسفند") -> بهمن | H217: =_xlfn.NUMBERVALUE(MID(invoice[[#This Row],[تاریخ]],1,4)) -> 1404 | I217: بورس | J217: تولید کننده | K217: 46466 | L217: =IF(invoice[[#This Row],[سال]]=year,1,0) -> 0 | O217: =SUMIF(bargiri[شماره پیش فاکتور],invoice[[#This Row],[شماره پیش فاکتور]],bargiri[میزان بارگیری شده])/invoice[[#This Row],[میزان سفارش]] -> 1 | P217: =IF(invoice[[#This Row],[نوع سفارش]]="غیرفعال","عادی",invoice[[#This Row],[نوع سفارش]]) -> بورس | Q217: =SUMIFS('جزییات بارگیری'!D:D,'جزییات بارگیری'!C:C,invoice[[#This Row],[شماره پیش فاکتور]]) -> 80000 | R217: =IF(invoice[[#This Row],[میزان سفارش]]-invoice[[#This Row],[میزان حمل شده ]]<0,0,invoice[[#This Row],[میزان سفارش]]-invoice[[#This Row],[میزان حمل شده ]]) -> 0 | S217: =invoice[[#This Row],[میزان حمل نشده ]]*invoice[[#This Row],[فی]] -> 0
A218: پ/115-1404 | B218: پاینده ساز فردوس | C218: 1404/11/01 | D218: 1404/11/01 | E218: 20000 | F218: 167500 | G218: =CHOOSE(MID(invoice[[#This Row],[تاریخ]],6,2),"فروردین","اردیبهشت","خرداد","تیر","مرداد","شهریور","مهر","آبان","آذر","دی","بهمن","اسفند") -> بهمن | H218: =_xlfn.NUMBERVALUE(MID(invoice[[#This Row],[تاریخ]],1,4)) -> 1404 | I218: بورس | J218: تولید کننده | K218: 46466 | L218: =IF(invoice[[#This Row],[سال]]=year,1,0) -> 0 | O218: =SUMIF(bargiri[شماره پیش فاکتور],invoice[[#This Row],[شماره پیش فاکتور]],bargiri[میزان بارگیری شده])/invoice[[#This Row],[میزان سفارش]] -> 1 | P218: =IF(invoice[[#This Row],[نوع سفارش]]="غیرفعال","عادی",invoice[[#This Row],[نوع سفارش]]) -> بورس | Q218: =SUMIFS('جزییات بارگیری'!D:D,'جزییات بارگیری'!C:C,invoice[[#This Row],[شماره پیش فاکتور]]) -> 20000 | R218: =IF(invoice[[#This Row],[میزان سفارش]]-invoice[[#This Row],[میزان حمل شده ]]<0,0,invoice[[#This Row],[میزان سفارش]]-invoice[[#This Row],[میزان حمل شده ]]) -> 0 | S218: =invoice[[#This Row],[میزان حمل نشده ]]*invoice[[#This Row],[فی]] -> 0
A219: پ/116-1404 | B219: طوس قزوین | C219: 1404/11/06 | D219: 1404/11/22 | E219: 80000 | F219: 116500 | G219: =CHOOSE(MID(invoice[[#This Row],[تاریخ]],6,2),"فروردین","اردیبهشت","خرداد","تیر","مرداد","شهریور","مهر","آبان","آذر","دی","بهمن","اسفند") -> بهمن | H219: =_xlfn.NUMBERVALUE(MID(invoice[[#This Row],[تاریخ]],1,4)) -> 1404 | I219: تعادلی | J219: تولید کننده | K219: 46101 | L219: =IF(invoice[[#This Row],[سال]]=year,1,0) -> 0 | O219: =SUMIF(bargiri[شماره پیش فاکتور],invoice[[#This Row],[شماره پیش فاکتور]],bargiri[میزان بارگیری شده])/invoice[[#This Row],[میزان سفارش]] -> 1 | P219: =IF(invoice[[#This Row],[نوع سفارش]]="غیرفعال","عادی",invoice[[#This Row],[نوع سفارش]]) -> تعادلی | Q219: =SUMIFS('جزییات بارگیری'!D:D,'جزییات بارگیری'!C:C,invoice[[#This Row],[شماره پیش فاکتور]]) -> 80000 | R219: =IF(invoice[[#This Row],[میزان سفارش]]-invoice[[#This Row],[میزان حمل شده ]]<0,0,invoice[[#This Row],[میزان سفارش]]-invoice[[#This Row],[میزان حمل شده ]]) -> 0 | S219: =invoice[[#This Row],[میزان حمل نشده ]]*invoice[[#This Row],[فی]] -> 0
A220: پ/117-1404 | B220: پاینده ساز فردوس | C220: 1404/11/06 | D220: 1404/11/11 | E220: 20000 | F220: 116500 | G220: =CHOOSE(MID(invoice[[#This Row],[تاریخ]],6,2),"فروردین","اردیبهشت","خرداد","تیر","مرداد","شهریور","مهر","آبان","آذر","دی","بهمن","اسفند") -> بهمن | H220: =_xlfn.NUMBERVALUE(MID(invoice[[#This Row],[تاریخ]],1,4)) -> 1404 | I220: تعادلی | J220: تولید کننده | K220: 46101 | L220: =IF(invoice[[#This Row],[سال]]=year,1,0) -> 0 | O220: =SUMIF(bargiri[شماره پیش فاکتور],invoice[[#This Row],[شماره پیش فاکتور]],bargiri[میزان بارگیری شده])/invoice[[#This Row],[میزان سفارش]] -> 1 | P220: =IF(invoice[[#This Row],[نوع سفارش]]="غیرفعال","عادی",invoice[[#This Row],[نوع سفارش]]) -> تعادلی | Q220: =SUMIFS('جزییات بارگیری'!D:D,'جزییات بارگیری'!C:C,invoice[[#This Row],[شماره پیش فاکتور]]) -> 20000 | R220: =IF(invoice[[#This Row],[میزان سفارش]]-invoice[[#This Row],[میزان حمل شده ]]<0,0,invoice[[#This Row],[میزان سفارش]]-invoice[[#This Row],[میزان حمل شده ]]) -> 0 | S220: =invoice[[#This Row],[میزان حمل نشده ]]*invoice[[#This Row],[فی]] -> 0
A221: پ/118-1404 | B221: تولیدی گازهای طبی و صنعتی طوس سبزوار | C221: 1404/11/14 | D221: 1404/11/15 | E221: 40000 | F221: 167500 | G221: =CHOOSE(MID(invoice[[#This Row],[تاریخ]],6,2),"فروردین","اردیبهشت","خرداد","تیر","مرداد","شهریور","مهر","آبان","آذر","دی","بهمن","اسفند") -> بهمن | H221: =_xlfn.NUMBERVALUE(MID(invoice[[#This Row],[تاریخ]],1,4)) -> 1404 | I221: بورس | J221: تولید کننده | K221: 46101 | L221: =IF(invoice[[#This Row],[سال]]=year,1,0) -> 0 | O221: =SUMIF(bargiri[شماره پیش فاکتور],invoice[[#This Row],[شماره پیش فاکتور]],bargiri[میزان بارگیری شده])/invoice[[#This Row],[میزان سفارش]] -> 1 | P221: =IF(invoice[[#This Row],[نوع سفارش]]="غیرفعال","عادی",invoice[[#This Row],[نوع سفارش]]) -> بورس | Q221: =SUMIFS('جزییات بارگیری'!D:D,'جزییات بارگیری'!C:C,invoice[[#This Row],[شماره پیش فاکتور]]) -> 40000 | R221: =IF(invoice[[#This Row],[میزان سفارش]]-invoice[[#This Row],[میزان حمل شده ]]<0,0,invoice[[#This Row],[میزان سفارش]]-invoice[[#This Row],[میزان حمل شده ]]) -> 0 | S221: =invoice[[#This Row],[میزان حمل نشده ]]*invoice[[#This Row],[فی]] -> 0
A222: پ/119-1404 | B222: عبیر شیمی | C222: 1404/11/21 | D222: 1404/11/22 | E222: 40000 | F222: 167500 | G222: =CHOOSE(MID(invoice[[#This Row],[تاریخ]],6,2),"فروردین","اردیبهشت","خرداد","تیر","مرداد","شهریور","مهر","آبان","آذر","دی","بهمن","اسفند") -> بهمن | H222: =_xlfn.NUMBERVALUE(MID(invoice[[#This Row],[تاریخ]],1,4)) -> 1404 | I222: بورس | J222: تولید کننده | K222: 46101 | L222: =IF(invoice[[#This Row],[سال]]=year,1,0) -> 0 | O222: =SUMIF(bargiri[شماره پیش فاکتور],invoice[[#This Row],[شماره پیش فاکتور]],bargiri[میزان بارگیری شده])/invoice[[#This Row],[میزان سفارش]] -> 1 | P222: =IF(invoice[[#This Row],[نوع سفارش]]="غیرفعال","عادی",invoice[[#This Row],[نوع سفارش]]) -> بورس | Q222: =SUMIFS('جزییات بارگیری'!D:D,'جزییات بارگیری'!C:C,invoice[[#This Row],[شماره پیش فاکتور]]) -> 40000 | R222: =IF(invoice[[#This Row],[میزان سفارش]]-invoice[[#This Row],[میزان حمل شده ]]<0,0,invoice[[#This Row],[میزان سفارش]]-invoice[[#This Row],[میزان حمل شده ]]) -> 0 | S222: =invoice[[#This Row],[میزان حمل نشده ]]*invoice[[#This Row],[فی]] -> 0
A223: پ/120-1404 | B223: طوس قزوین | C223: 1404/11/21 | D223: 1404/11/22 | E223: 20000 | F223: 167500 | G223: =CHOOSE(MID(invoice[[#This Row],[تاریخ]],6,2),"فروردین","اردیبهشت","خرداد","تیر","مرداد","شهریور","مهر","آبان","آذر","دی","بهمن","اسفند") -> بهمن | H223: =_xlfn.NUMBERVALUE(MID(invoice[[#This Row],[تاریخ]],1,4)) -> 1404 | I223: بورس | J223: تولید کننده | K223: 46101 | L223: =IF(invoice[[#This Row],[سال]]=year,1,0) -> 0 | O223: =SUMIF(bargiri[شماره پیش فاکتور],invoice[[#This Row],[شماره پیش فاکتور]],bargiri[میزان بارگیری شده])/invoice[[#This Row],[میزان سفارش]] -> 1 | P223: =IF(invoice[[#This Row],[نوع سفارش]]="غیرفعال","عادی",invoice[[#This Row],[نوع سفارش]]) -> بورس | Q223: =SUMIFS('جزییات بارگیری'!D:D,'جزییات بارگیری'!C:C,invoice[[#This Row],[شماره پیش فاکتور]]) -> 20000 | R223: =IF(invoice[[#This Row],[میزان سفارش]]-invoice[[#This Row],[میزان حمل شده ]]<0,0,invoice[[#This Row],[میزان سفارش]]-invoice[[#This Row],[میزان حمل شده ]]) -> 0 | S223: =invoice[[#This Row],[میزان حمل نشده ]]*invoice[[#This Row],[فی]] -> 0
A224: الحاقیه پ/17-1402 | B224: ماشین سازی پیشتازان گاز کربنیک اردستان | C224: 1404/09/05 | D224: 1404/10/22 | E224: 126480 | F224: 110000 | G224: =CHOOSE(MID(invoice[[#This Row],[تاریخ]],6,2),"فروردین","اردیبهشت","خرداد","تیر","مرداد","شهریور","مهر","آبان","آذر","دی","بهمن","اسفند") -> آذر | H224: =_xlfn.NUMBERVALUE(MID(invoice[[#This Row],[تاریخ]],1,4)) -> 1404 | I224: عادی | J224: تولید کننده | K224: 46101 | L224: =IF(invoice[[#This Row],[سال]]=year,1,0) -> 0 | O224: =SUMIF(bargiri[شماره پیش فاکتور],invoice[[#This Row],[شماره پیش فاکتور]],bargiri[میزان بارگیری شده])/invoice[[#This Row],[میزان سفارش]] -> 0.17852625 | P224: =IF(invoice[[#This Row],[نوع سفارش]]="غیرفعال","عادی",invoice[[#This Row],[نوع سفارش]]) -> عادی | Q224: =SUMIFS('جزییات بارگیری'!D:D,'جزییات بارگیری'!C:C,invoice[[#This Row],[شماره پیش فاکتور]]) -> 22580 | R224: =IF(invoice[[#This Row],[میزان سفارش]]-invoice[[#This Row],[میزان حمل شده ]]<0,0,invoice[[#This Row],[میزان سفارش]]-invoice[[#This Row],[میزان حمل شده ]]) -> 103900 | S224: =invoice[[#This Row],[میزان حمل نشده ]]*invoice[[#This Row],[فی]] -> 11429000000
A225: پ/92-1404-3 | B225: عراق اربیل | C225: 1404/10/02 | D225: 1404/10/02 | E225: 500000 | F225: 130266 | G225: =CHOOSE(MID(invoice[[#This Row],[تاریخ]],6,2),"فروردین","اردیبهشت","خرداد","تیر","مرداد","شهریور","مهر","آبان","آذر","دی","بهمن","اسفند") -> دی | H225: =_xlfn.NUMBERVALUE(MID(invoice[[#This Row],[تاریخ]],1,4)) -> 1404 | I225: عادی | J225: تولید کننده | K225: 46392 | L225: =IF(invoice[[#This Row],[سال]]=year,1,0) -> 0 | O225: =SUMIF(bargiri[شماره پیش فاکتور],invoice[[#This Row],[شماره پیش فاکتور]],bargiri[میزان بارگیری شده])/invoice[[#This Row],[میزان سفارش]] -> 1 | P225: =IF(invoice[[#This Row],[نوع سفارش]]="غیرفعال","عادی",invoice[[#This Row],[نوع سفارش]]) -> عادی | Q225: =SUMIFS('جزییات بارگیری'!D:D,'جزییات بارگیری'!C:C,invoice[[#This Row],[شماره پیش فاکتور]]) -> 500000 | R225: =IF(invoice[[#This Row],[میزان سفارش]]-invoice[[#This Row],[میزان حمل شده ]]<0,0,invoice[[#This Row],[میزان سفارش]]-invoice[[#This Row],[میزان حمل شده ]]) -> 0 | S225: =invoice[[#This Row],[میزان حمل نشده ]]*invoice[[#This Row],[فی]] -> 0
A226: پ/121-1404 | B226: تولیدی گازهای طبی و صنعتی طوس سبزوار | C226: 1404/11/26 | D226: 1404/12/01 | E226: 40000 | F226: 116500 | G226: =CHOOSE(MID(invoice[[#This Row],[تاریخ]],6,2),"فروردین","اردیبهشت","خرداد","تیر","مرداد","شهریور","مهر","آبان","آذر","دی","بهمن","اسفند") -> بهمن | H226: =_xlfn.NUMBERVALUE(MID(invoice[[#This Row],[تاریخ]],1,4)) -> 1404 | I226: تعادلی | J226: تولید کننده | K226: 46287 | L226: =IF(invoice[[#This Row],[سال]]=year,1,0) -> 0 | O226: =SUMIF(bargiri[شماره پیش فاکتور],invoice[[#This Row],[شماره پیش فاکتور]],bargiri[میزان بارگیری شده])/invoice[[#This Row],[میزان سفارش]] -> 0 | P226: =IF(invoice[[#This Row],[نوع سفارش]]="غیرفعال","عادی",invoice[[#This Row],[نوع سفارش]]) -> تعادلی | Q226: =SUMIFS('جزییات بارگیری'!D:D,'جزییات بارگیری'!C:C,invoice[[#This Row],[شماره پیش فاکتور]]) -> 0 | R226: =IF(invoice[[#This Row],[میزان سفارش]]-invoice[[#This Row],[میزان حمل شده ]]<0,0,invoice[[#This Row],[میزان سفارش]]-invoice[[#This Row],[میزان حمل شده ]]) -> 40000 | S226: =invoice[[#This Row],[میزان حمل نشده ]]*invoice[[#This Row],[فی]] -> 4660000000
