Workbook
Name Slicer_شماره_پیش_فاکتور: #N/A
Name Slicer_نام_مشتری: #N/A
Name year: [1]calc!$BV$5

Sheet Dashboard
B9: ردیف | C9: شماره پیش فاکتور | D9: تاریخ پیش فاکتور | E9: تاریخ بهره برداری | F9: تاریخ انقضا | G9: نوع شرکت | H9: میزان سفارش | I9: نوع سفارش | J9: قیمت | K9: میزان حمل شده | L9: % حمل شده | M9: مانده سفارش | N9: پیش دریافت | O9: استهلاک پیش دریافت | P9: مانده مبلغ | Q9: کل دریافتی
B10: 1 | C10: =IF(INDEX(Calc!$A$5:$A$40,$B10,1)<>"",INDEX(Calc!$A$5:$A$40,$B10,1),"") -> پ/86-1404 | D10: =IFERROR(INDEX(invoice[تاریخ],MATCH($C10,invoice[شماره پیش فاکتور],0)),"") -> 1404/08/26 | E10: =IFERROR(INDEX(invoice[تاریخ مجوز بهره برداری],MATCH($C10,invoice[شماره پیش فاکتور],0)),"") -> 1404/08/26 | F10: =IFERROR(INDEX(invoice[تاریخ انقضا],MATCH($C10,invoice[شماره پیش فاکتور],0)),"") -> 46101 | G10: =IFERROR(INDEX(invoice[نوع شرکت],MATCH($C10,invoice[شماره پیش فاکتور],0)),"") -> تولید کننده | H10: =IFERROR(INDEX(invoice[میزان سفارش],MATCH($C10,invoice[شماره پیش فاکتور],0)),"") -> 4710 | I10: =IFERROR(INDEX(invoice[نوع سفارش],MATCH($C10,invoice[شماره پیش فاکتور],0)),"") -> عادی | J10: =IFERROR(INDEX(invoice[فی],MATCH($C10,invoice[شماره پیش فاکتور],0)),"") -> 130000 | K10: =IF(INDEX(Calc!$C$5:$C$40,Dashboard!$B10,1)<>"",INDEX(Calc!$C$5:$C$40,Dashboard!$B10,1),"") | L10: =IF(H10="","",IF(K10<>"",K10/H10,"در انتظار بارگیری")) -> در انتظار بارگیری | M10: =IF(K10="",H10,IF(H10<>"",H10-K10,"")) -> 4710 | N10: =IFERROR(INDEX(invoice[مبلغ پیش دریافت],MATCH($C10,invoice[شماره پیش فاکتور],0)),"") -> 715000000 | O10: =SUMIF(bargiri[شماره سند مبنا],Dashboard!C10,bargiri[میزان استهلاک پیش دریافتی]) -> 715000000 | P10: =SUMIF(bargiri[شماره سند مبنا],Dashboard!C10,bargiri[مانده مبلغ]) -> 539575868
B11: =B10+1 -> 2 | C11: =IF(INDEX(Calc!$A$5:$A$40,$B11,1)<>"",INDEX(Calc!$A$5:$A$40,$B11,1),"") -> پ/92-1404 | D11: =IFERROR(INDEX(invoice[تاریخ],MATCH($C11,invoice[شماره پیش فاکتور],0)),"") -> 1404/10/02 | E11: =IFERROR(INDEX(invoice[تاریخ مجوز بهره برداری],MATCH($C11,invoice[شماره پیش فاکتور],0)),"") -> 1404/10/02 | F11: =IFERROR(INDEX(invoice[تاریخ انقضا],MATCH($C11,invoice[شماره پیش فاکتور],0)),"") -> 46437 | G11: =IFERROR(INDEX(invoice[نوع شرکت],MATCH($C11,invoice[شماره پیش فاکتور],0)),"") -> تولید کننده | H11: =IFERROR(INDEX(invoice[میزان سفارش],MATCH($C11,invoice[شماره پیش فاکتور],0)),"") -> 4520000 | I11: =IFERROR(INDEX(invoice[نوع سفارش],MATCH($C11,invoice[شماره پیش فاکتور],0)),"") -> عادی | J11: =IFERROR(INDEX(invoice[فی],MATCH($C11,invoice[شماره پیش فاکتور],0)),"") -> 123481 | K11: =IF(INDEX(Calc!$C$5:$C$40,Dashboard!$B11,1)<>"",INDEX(Calc!$C$5:$C$40,Dashboard!$B11,1),"") | L11: =IF(H11="","",IF(K11<>"",K11/H11,"در انتظار بارگیری")) -> در انتظار بارگیری | M11: =IF(K11="",H11,IF(H11<>"",H11-K11,"")) -> 4520000 | N11: =IFERROR(INDEX(invoice[مبلغ پیش دریافت],MATCH($C11,invoice[شماره پیش فاکتور],0)),"") -> 315758000000 | O11: =SUMIF(bargiri[شماره سند مبنا],Dashboard!C11,bargiri[میزان استهلاک پیش دریافتی]) -> 8.5750652e+09 | P11: =SUMIF(bargiri[شماره سند مبنا],Dashboard!C11,bargiri[مانده مبلغ]) -> -8.5750652e+09
B12: =B11+1 -> 3 | C12: =IF(INDEX(Calc!$A$5:$A$40,$B12,1)<>"",INDEX(Calc!$A$5:$A$40,$B12,1),"") -> پ/92-1404-1 | D12: =IFERROR(INDEX(invoice[تاریخ],MATCH($C12,invoice[شماره پیش فاکتور],0)),"") -> 1404/10/02 | E12: =IFERROR(INDEX(invoice[تاریخ مجوز بهره برداری],MATCH($C12,invoice[شماره پیش فاکتور],0)),"") -> 1404/10/02 | F12: =IFERROR(INDEX(invoice[تاریخ انقضا],MATCH($C12,invoice[شماره پیش فاکتور],0)),"") -> 46422 | G12: =IFERROR(INDEX(invoice[نوع شرکت],MATCH($C12,invoice[شماره پیش فاکتور],0)),"") -> تولید کننده | H12: =IFERROR(INDEX(invoice[میزان سفارش],MATCH($C12,invoice[شماره پیش فاکتور],0)),"") -> 500000 | I12: =IFERROR(INDEX(invoice[نوع سفارش],MATCH($C12,invoice[شماره پیش فاکتور],0)),"") -> عادی | J12: =IFERROR(INDEX(invoice[فی],MATCH($C12,invoice[شماره پیش فاکتور],0)),"") -> 115372 | K12: =IF(INDEX(Calc!$C$5:$C$40,Dashboard!$B12,1)<>"",INDEX(Calc!$C$5:$C$40,Dashboard!$B12,1),"") -> 500000 | L12: =IF(H12="","",IF(K12<>"",K12/H12,"در انتظار بارگیری")) -> 1 | M12: =IF(K12="",H12,IF(H12<>"",H12-K12,"")) -> 0 | N12: =IFERROR(INDEX(invoice[مبلغ پیش دریافت],MATCH($C12,invoice[شماره پیش فاکتور],0)),"") -> 31450000000 | O12: =SUMIF(bargiri[شماره سند مبنا],Dashboard!C12,bargiri[میزان استهلاک پیش دریافتی]) -> 31450000000 | P12: =SUMIF(bargiri[شماره سند مبنا],Dashboard!C12,bargiri[مانده مبلغ]) -> 32004600000
B13: =B12+1 -> 4 | C13: =IF(INDEX(Calc!$A$5:$A$40,$B13,1)<>"",INDEX(Calc!$A$5:$A$40,$B13,1),"") -> پ/92-1404-2 | D13: =IFERROR(INDEX(invoice[تاریخ],MATCH($C13,invoice[شماره پیش فاکتور],0)),"") -> 1404/10/02 | E13: =IFERROR(INDEX(invoice[تاریخ مجوز بهره برداری],MATCH($C13,invoice[شماره پیش فاکتور],0)),"") -> 1404/10/02 | F13: =IFERROR(INDEX(invoice[تاریخ انقضا],MATCH($C13,invoice[شماره پیش فاکتور],0)),"") -> 46422 | G13: =IFERROR(INDEX(invoice[نوع شرکت],MATCH($C13,invoice[شماره پیش فاکتور],0)),"") -> تولید کننده | H13: =IFERROR(INDEX(invoice[میزان سفارش],MATCH($C13,invoice[شماره پیش فاکتور],0)),"") -> 500000 | I13: =IFERROR(INDEX(invoice[نوع سفارش],MATCH($C13,invoice[شماره پیش فاکتور],0)),"") -> عادی | J13: =IFERROR(INDEX(invoice[فی],MATCH($C13,invoice[شماره پیش فاکتور],0)),"") -> 115372 | K13: =IF(INDEX(Calc!$C$5:$C$40,Dashboard!$B13,1)<>"",INDEX(Calc!$C$5:$C$40,Dashboard!$B13,1),"") -> 500000 | L13: =IF(H13="","",IF(K13<>"",K13/H13,"در انتظار بارگیری")) -> 1 | M13: =IF(K13="",H13,IF(H13<>"",H13-K13,"")) -> 0 | N13: =IFERROR(INDEX(invoice[مبلغ پیش دریافت],MATCH($C13,invoice[شماره پیش فاکتور],0)),"") -> 31450000000 | O13: =SUMIF(bargiri[شماره سند مبنا],Dashboard!C13,bargiri[میزان استهلاک پیش دریافتی]) -> 31450000000 | P13: =SUMIF(bargiri[شماره سند مبنا],Dashboard!C13,bargiri[مانده مبلغ]) -> 32004600000
B14: =B13+1 -> 5 | C14: =IF(INDEX(Calc!$A$5:$A$40,$B14,1)<>"",INDEX(Calc!$A$5:$A$40,$B14,1),"") -> پ/92-1404-3 | D14: =IFERROR(INDEX(invoice[تاریخ],MATCH($C14,invoice[شماره پیش فاکتور],0)),"") -> 1404/10/02 | E14: =IFERROR(INDEX(invoice[تاریخ مجوز بهره برداری],MATCH($C14,invoice[شماره پیش فاکتور],0)),"") -> 1404/10/02 | F14: =IFERROR(INDEX(invoice[تاریخ انقضا],MATCH($C14,invoice[شماره پیش فاکتور],0)),"") -> 46101 | G14: =IFERROR(INDEX(invoice[نوع شرکت],MATCH($C14,invoice[شماره پیش فاکتور],0)),"") -> تولید کننده | H14: =IFERROR(INDEX(invoice[میزان سفارش],MATCH($C14,invoice[شماره پیش فاکتور],0)),"") -> 500000 | I14: =IFERROR(INDEX(invoice[نوع سفارش],MATCH($C14,invoice[شماره پیش فاکتور],0)),"") -> عادی | J14: =IFERROR(INDEX(invoice[فی],MATCH($C14,invoice[شماره پیش فاکتور],0)),"") -> 130266 | K14: =IF(INDEX(Calc!$C$5:$C$40,Dashboard!$B14,1)<>"",INDEX(Calc!$C$5:$C$40,Dashboard!$B14,1),"") -> 500000 | L14: =IF(H14="","",IF(K14<>"",K14/H14,"در انتظار بارگیری")) -> 1 | M14: =IF(K14="",H14,IF(H14<>"",H14-K14,"")) -> 0 | N14: =IFERROR(INDEX(invoice[مبلغ پیش دریافت],MATCH($C14,invoice[شماره پیش فاکتور],0)),"") -> 31450000000 | O14: =SUMIF(bargiri[شماره سند مبنا],Dashboard!C14,bargiri[میزان استهلاک پیش دریافتی]) -> 31450000000 | P14: =SUMIF(bargiri[شماره سند مبنا],Dashboard!C14,bargiri[مانده مبلغ]) -> 40196300000
B15: =B14+1 -> 6 | C15: =IF(INDEX(Calc!$A$5:$A$40,$B15,1)<>"",INDEX(Calc!$A$5:$A$40,$B15,1),"") -> پ/92-1404-4 | D15: =IFERROR(INDEX(invoice[تاریخ],MATCH($C15,invoice[شماره پیش فاکتور],0)),"") -> 1404/10/02 | E15: =IFERROR(INDEX(invoice[تاریخ مجوز بهره برداری],MATCH($C15,invoice[شماره پیش فاکتور],0)),"") -> 1404/10/02 | F15: =IFERROR(INDEX(invoice[تاریخ انقضا],MATCH($C15,invoice[شماره پیش فاکتور],0)),"") -> 46422 | G15: =IFERROR(INDEX(invoice[نوع شرکت],MATCH($C15,invoice[شماره پیش فاکتور],0)),"") -> تولید کننده | H15: =IFERROR(INDEX(invoice[میزان سفارش],MATCH($C15,invoice[شماره پیش فاکتور],0)),"") -> 500000 | I15: =IFERROR(INDEX(invoice[نوع سفارش],MATCH($C15,invoice[شماره پیش فاکتور],0)),"") -> عادی | J15: =IFERROR(INDEX(invoice[فی],MATCH($C15,invoice[شماره پیش فاکتور],0)),"") -> 127675 | K15: =IF(INDEX(Calc!$C$5:$C$40,Dashboard!$B15,1)<>"",INDEX(Calc!$C$5:$C$40,Dashboard!$B15,1),"") -> 497150 | L15: =IF(H15="","",IF(K15<>"",K15/H15,"در انتظار بارگیری")) -> 0.9943 | M15: =IF(K15="",H15,IF(H15<>"",H15-K15,"")) -> 2850 | N15: =IFERROR(INDEX(invoice[مبلغ پیش دریافت],MATCH($C15,invoice[شماره پیش فاکتور],0)),"") -> 31450000000 | O15: =SUMIF(bargiri[شماره سند مبنا],Dashboard!C15,bargiri[میزان استهلاک پیش دریافتی]) -> 31450000000 | P15: =SUMIF(bargiri[شماره سند مبنا],Dashboard!C15,bargiri[مانده مبلغ]) -> 39484050000
B16: =B15+1 -> 7 | C16: =IF(INDEX(Calc!$A$5:$A$40,$B16,1)<>"",INDEX(Calc!$A$5:$A$40,$B16,1),"") | D16: =IFERROR(INDEX(invoice[تاریخ],MATCH($C16,invoice[شماره پیش فاکتور],0)),"") | E16: =IFERROR(INDEX(invoice[تاریخ مجوز بهره برداری],MATCH($C16,invoice[شماره پیش فاکتور],0)),"") | F16: =IFERROR(INDEX(invoice[تاریخ انقضا],MATCH($C16,invoice[شماره پیش فاکتور],0)),"") | G16: =IFERROR(INDEX(invoice[نوع شرکت],MATCH($C16,invoice[شماره پیش فاکتور],0)),"") | H16: =IFERROR(INDEX(invoice[میزان سفارش],MATCH($C16,invoice[شماره پیش فاکتور],0)),"") | I16: =IFERROR(INDEX(invoice[نوع سفارش],MATCH($C16,invoice[شماره پیش فاکتور],0)),"") | J16: =IFERROR(INDEX(invoice[فی],MATCH($C16,invoice[شماره پیش فاکتور],0)),"") | K16: =IF(INDEX(Calc!$C$5:$C$40,Dashboard!$B16,1)<>"",INDEX(Calc!$C$5:$C$40,Dashboard!$B16,1),"") | L16: =IF(H16="","",IF(K16<>"",K16/H16,"در انتظار بارگیری")) | M16: =IF(K16="",H16,IF(H16<>"",H16-K16,"")) | N16: =IFERROR(INDEX(invoice[مبلغ پیش دریافت],MATCH($C16,invoice[شماره پیش فاکتور],0)),"") | O16: =SUMIF(bargiri[شماره سند مبنا],Dashboard!C16,bargiri[میزان استهلاک پیش دریافتی]) -> 0 | P16: =SUMIF(bargiri[شماره سند مبنا],Dashboard!C16,bargiri[مانده مبلغ]) -> 0
B17: =B16+1 -> 8 | C17: =IF(INDEX(Calc!$A$5:$A$40,$B17,1)<>"",INDEX(Calc!$A$5:$A$40,$B17,1),"") | D17: =IFERROR(INDEX(invoice[تاریخ],MATCH($C17,invoice[شماره پیش فاکتور],0)),"") | E17: =IFERROR(INDEX(invoice[تاریخ مجوز بهره برداری],MATCH($C17,invoice[شماره پیش فاکتور],0)),"") | F17: =IFERROR(INDEX(invoice[تاریخ انقضا],MATCH($C17,invoice[شماره پیش فاکتور],0)),"") | G17: =IFERROR(INDEX(invoice[نوع شرکت],MATCH($C17,invoice[شماره پیش فاکتور],0)),"") | H17: =IFERROR(INDEX(invoice[میزان سفارش],MATCH($C17,invoice[شماره پیش فاکتور],0)),"") | I17: =IFERROR(INDEX(invoice[نوع سفارش],MATCH($C17,invoice[شماره پیش فاکتور],0)),"") | J17: =IFERROR(INDEX(invoice[فی],MATCH($C17,invoice[شماره پیش فاکتور],0)),"") | K17: =IF(INDEX(Calc!$C$5:$C$40,Dashboard!$B17,1)<>"",INDEX(Calc!$C$5:$C$40,Dashboard!$B17,1),"") | L17: =IF(H17="","",IF(K17<>"",K17/H17,"در انتظار بارگیری")) | M17: =IF(K17="",H17,IF(H17<>"",H17-K17,"")) | N17: =IFERROR(INDEX(invoice[مبلغ پیش دریافت],MATCH($C17,invoice[شماره پیش فاکتور],0)),"") | O17: =SUMIF(bargiri[شماره سند مبنا],Dashboard!C17,bargiri[میزان استهلاک پیش دریافتی]) -> 0 | P17: =SUMIF(bargiri[شماره سند مبنا],Dashboard!C17,bargiri[مانده مبلغ]) -> 0
B22: ردیف | C22: شماره حواله | D22: تاریخ بارگیری | E22: میزان بارگیری | F22: قیمت | G22: مبلغ بعلاوه ارزش افزوده | H22: استهلاک پیش دریافت | I22: مانده مبلغ | J22: تاریخ واریزی | K22: مبلغ واریزی | L22: مانده حساب باسکول | M22: توضیحات
B23: 1 | C23: =IF(INDEX(Calc!$X$6:$X$50,$B23,1)<>"",INDEX(Calc!$X$6:$X$50,$B23,1),"") -> 16 | D23: =IFERROR(INDEX(bargiri[تاریخ حواله],MATCH($C23,bargiri[شماره حواله],0)),"") -> 1405/01/31 | E23: =IFERROR(INDEX(bargiri[مقدار],MATCH($C23,bargiri[شماره حواله],0)),"") -> 20990 | F23: =IFERROR(INDEX(bargiri[فی],MATCH($C23,bargiri[شماره حواله],0)),"") -> 128971 | G23: =IFERROR(INDEX(bargiri[مبلغ خالص],MATCH($C23,bargiri[شماره حواله],0)),"") -> 2977811419 | H23: =IFERROR(INDEX(bargiri[میزان استهلاک پیش دریافتی],MATCH($C23,bargiri[شماره حواله],0)),"") -> 1320271000 | I23: =IFERROR(INDEX(bargiri[مانده مبلغ],MATCH($C23,bargiri[شماره حواله],0)),"") -> 1657540419 | J23: =IFERROR(INDEX(bargiri[تاریخ واریزی],MATCH($C23,bargiri[شماره حواله],0)),"") | K23: =IFERROR(INDEX(bargiri[مبلغ واریزی],MATCH($C23,bargiri[شماره حواله],0)),"") | L23: =IFERROR(INDEX(bargiri[مانده حساب باسکول],MATCH($C23,bargiri[شماره حواله],0)),"") -> 1657540419 | M23: =IFERROR(INDEX(bargiri[توضیحات],MATCH($C23,bargiri[شماره حواله],0)),"")
B24: =B23+1 -> 2 | C24: =IF(INDEX(Calc!$X$6:$X$50,$B24,1)<>"",INDEX(Calc!$X$6:$X$50,$B24,1),"") -> 17 | D24: =IFERROR(INDEX(bargiri[تاریخ حواله],MATCH($C24,bargiri[شماره حواله],0)),"") -> 1405/01/31 | E24: =IFERROR(INDEX(bargiri[مقدار],MATCH($C24,bargiri[شماره حواله],0)),"") -> 21010 | F24: =IFERROR(INDEX(bargiri[فی],MATCH($C24,bargiri[شماره حواله],0)),"") -> 128971 | G24: =IFERROR(INDEX(bargiri[مبلغ خالص],MATCH($C24,bargiri[شماره حواله],0)),"") -> 2980648781 | H24: =IFERROR(INDEX(bargiri[میزان استهلاک پیش دریافتی],MATCH($C24,bargiri[شماره حواله],0)),"") -> 1321529000 | I24: =IFERROR(INDEX(bargiri[مانده مبلغ],MATCH($C24,bargiri[شماره حواله],0)),"") -> 1659119781 | J24: =IFERROR(INDEX(bargiri[تاریخ واریزی],MATCH($C24,bargiri[شماره حواله],0)),"") | K24: =IFERROR(INDEX(bargiri[مبلغ واریزی],MATCH($C24,bargiri[شماره حواله],0)),"") | L24: =IFERROR(INDEX(bargiri[مانده حساب باسکول],MATCH($C24,bargiri[شماره حواله],0)),"") -> 1659119781 | M24: =IFERROR(INDEX(bargiri[توضیحات],MATCH($C24,bargiri[شماره حواله],0)),"")
B25: =B24+1 -> 3 | C25: =IF(INDEX(Calc!$X$6:$X$50,$B25,1)<>"",INDEX(Calc!$X$6:$X$50,$B25,1),"") -> 18 | D25: =IFERROR(INDEX(bargiri[تاریخ حواله],MATCH($C25,bargiri[شماره حواله],0)),"") -> 1405/02/02 | E25: =IFERROR(INDEX(bargiri[مقدار],MATCH($C25,bargiri[شماره حواله],0)),"") -> 20990 | F25: =IFERROR(INDEX(bargiri[فی],MATCH($C25,bargiri[شماره حواله],0)),"") -> 128971 | G25: =IFERROR(INDEX(bargiri[مبلغ خالص],MATCH($C25,bargiri[شماره حواله],0)),"") -> 2977811419 | H25: =IFERROR(INDEX(bargiri[میزان استهلاک پیش دریافتی],MATCH($C25,bargiri[شماره حواله],0)),"") -> 1320271000 | I25: =IFERROR(INDEX(bargiri[مانده مبلغ],MATCH($C25,bargiri[شماره حواله],0)),"") -> 1657540419 | J25: =IFERROR(INDEX(bargiri[تاریخ واریزی],MATCH($C25,bargiri[شماره حواله],0)),"") | K25: =IFERROR(INDEX(bargiri[مبلغ واریزی],MATCH($C25,bargiri[شماره حواله],0)),"") | L25: =IFERROR(INDEX(bargiri[مانده حساب باسکول],MATCH($C25,bargiri[شماره حواله],0)),"") -> 1657540419 | M25: =IFERROR(INDEX(bargiri[توضیحات],MATCH($C25,bargiri[شماره حواله],0)),"")
B26: =B25+1 -> 4 | C26: =IF(INDEX(Calc!$X$6:$X$50,$B26,1)<>"",INDEX(Calc!$X$6:$X$50,$B26,1),"") -> 19 | D26: =IFERROR(INDEX(bargiri[تاریخ حواله],MATCH($C26,bargiri[شماره حواله],0)),"") -> 1405/02/02 | E26: =IFERROR(INDEX(bargiri[مقدار],MATCH($C26,bargiri[شماره حواله],0)),"") -> 21100 | F26: =IFERROR(INDEX(bargiri[فی],MATCH($C26,bargiri[شماره حواله],0)),"") -> 128971 | G26: =IFERROR(INDEX(bargiri[مبلغ خالص],MATCH($C26,bargiri[شماره حواله],0)),"") -> 2993416910 | H26: =IFERROR(INDEX(bargiri[میزان استهلاک پیش دریافتی],MATCH($C26,bargiri[شماره حواله],0)),"") -> 1327190000 | I26: =IFERROR(INDEX(bargiri[مانده مبلغ],MATCH($C26,bargiri[شماره حواله],0)),"") -> 1666226910 | J26: =IFERROR(INDEX(bargiri[تاریخ واریزی],MATCH($C26,bargiri[شماره حواله],0)),"") -> 0 | K26: =IFERROR(INDEX(bargiri[مبلغ واریزی],MATCH($C26,bargiri[شماره حواله],0)),"") -> 0 | L26: =IFERROR(INDEX(bargiri[مانده حساب باسکول],MATCH($C26,bargiri[شماره حواله],0)),"") -> 1666226910 | M26: =IFERROR(INDEX(bargiri[توضیحات],MATCH($C26,bargiri[شماره حواله],0)),"") -> 0
B27: =B26+1 -> 5 | C27: =IF(INDEX(Calc!$X$6:$X$50,$B27,1)<>"",INDEX(Calc!$X$6:$X$50,$B27,1),"") -> 20 | D27: =IFERROR(INDEX(bargiri[تاریخ حواله],MATCH($C27,bargiri[شماره حواله],0)),"") -> 1405/02/02 | E27: =IFERROR(INDEX(bargiri[مقدار],MATCH($C27,bargiri[شماره حواله],0)),"") -> 21010 | F27: =IFERROR(INDEX(bargiri[فی],MATCH($C27,bargiri[شماره حواله],0)),"") -> 128971 | G27: =IFERROR(INDEX(bargiri[مبلغ خالص],MATCH($C27,bargiri[شماره حواله],0)),"") -> 2980648781 | H27: =IFERROR(INDEX(bargiri[میزان استهلاک پیش دریافتی],MATCH($C27,bargiri[شماره حواله],0)),"") -> 1321529000 | I27: =IFERROR(INDEX(bargiri[مانده مبلغ],MATCH($C27,bargiri[شماره حواله],0)),"") -> 1659119781 | J27: =IFERROR(INDEX(bargiri[تاریخ واریزی],MATCH($C27,bargiri[شماره حواله],0)),"") | K27: =IFERROR(INDEX(bargiri[مبلغ واریزی],MATCH($C27,bargiri[شماره حواله],0)),"") | L27: =IFERROR(INDEX(bargiri[مانده حساب باسکول],MATCH($C27,bargiri[شماره حواله],0)),"") -> 1659119781 | M27: =IFERROR(INDEX(bargiri[توضیحات],MATCH($C27,bargiri[شماره حواله],0)),"")
B28: =B27+1 -> 6 | C28: =IF(INDEX(Calc!$X$6:$X$50,$B28,1)<>"",INDEX(Calc!$X$6:$X$50,$B28,1),"") -> 21 | D28: =IFERROR(INDEX(bargiri[تاریخ حواله],MATCH($C28,bargiri[شماره حواله],0)),"") -> 1405/02/02 | E28: =IFERROR(INDEX(bargiri[مقدار],MATCH($C28,bargiri[شماره حواله],0)),"") -> 20300 | F28: =IFERROR(INDEX(bargiri[فی],MATCH($C28,bargiri[شماره حواله],0)),"") -> 128971 | G28: =IFERROR(INDEX(bargiri[مبلغ خالص],MATCH($C28,bargiri[شماره حواله],0)),"") -> 2879922430 | H28: =IFERROR(INDEX(bargiri[میزان استهلاک پیش دریافتی],MATCH($C28,bargiri[شماره حواله],0)),"") -> 1276870000 | I28: =IFERROR(INDEX(bargiri[مانده مبلغ],MATCH($C28,bargiri[شماره حواله],0)),"") -> 1603052430 | J28: =IFERROR(INDEX(bargiri[تاریخ واریزی],MATCH($C28,bargiri[شماره حواله],0)),"") -> 1404/03/01 | K28: =IFERROR(INDEX(bargiri[مبلغ واریزی],MATCH($C28,bargiri[شماره حواله],0)),"") -> 1402850625 | L28: =IFERROR(INDEX(bargiri[مانده حساب باسکول],MATCH($C28,bargiri[شماره حواله],0)),"") -> 200201805 | M28: =IFERROR(INDEX(bargiri[توضیحات],MATCH($C28,bargiri[شماره حواله],0)),"") -> 0
B29: =B28+1 -> 7 | C29: =IF(INDEX(Calc!$X$6:$X$50,$B29,1)<>"",INDEX(Calc!$X$6:$X$50,$B29,1),"") -> 22 | D29: =IFERROR(INDEX(bargiri[تاریخ حواله],MATCH($C29,bargiri[شماره حواله],0)),"") -> 1405/02/02 | E29: =IFERROR(INDEX(bargiri[مقدار],MATCH($C29,bargiri[شماره حواله],0)),"") -> 21170 | F29: =IFERROR(INDEX(bargiri[فی],MATCH($C29,bargiri[شماره حواله],0)),"") -> 128971 | G29: =IFERROR(INDEX(bargiri[مبلغ خالص],MATCH($C29,bargiri[شماره حواله],0)),"") -> 3003347677 | H29: =IFERROR(INDEX(bargiri[میزان استهلاک پیش دریافتی],MATCH($C29,bargiri[شماره حواله],0)),"") -> 1331593000 | I29: =IFERROR(INDEX(bargiri[مانده مبلغ],MATCH($C29,bargiri[شماره حواله],0)),"") -> 1671754677 | J29: =IFERROR(INDEX(bargiri[تاریخ واریزی],MATCH($C29,bargiri[شماره حواله],0)),"") -> 1404/01/11 | K29: =IFERROR(INDEX(bargiri[مبلغ واریزی],MATCH($C29,bargiri[شماره حواله],0)),"") -> 1130500000 | L29: =IFERROR(INDEX(bargiri[مانده حساب باسکول],MATCH($C29,bargiri[شماره حواله],0)),"") -> 541254677 | M29: =IFERROR(INDEX(bargiri[توضیحات],MATCH($C29,bargiri[شماره حواله],0)),"") -> 0
B30: =B29+1 -> 8 | C30: =IF(INDEX(Calc!$X$6:$X$50,$B30,1)<>"",INDEX(Calc!$X$6:$X$50,$B30,1),"") -> 23 | D30: =IFERROR(INDEX(bargiri[تاریخ حواله],MATCH($C30,bargiri[شماره حواله],0)),"") -> 1405/02/06 | E30: =IFERROR(INDEX(bargiri[مقدار],MATCH($C30,bargiri[شماره حواله],0)),"") -> 21090 | F30: =IFERROR(INDEX(bargiri[فی],MATCH($C30,bargiri[شماره حواله],0)),"") -> 128971 | G30: =IFERROR(INDEX(bargiri[مبلغ خالص],MATCH($C30,bargiri[شماره حواله],0)),"") -> 2991998229 | H30: =IFERROR(INDEX(bargiri[میزان استهلاک پیش دریافتی],MATCH($C30,bargiri[شماره حواله],0)),"") -> 1326561000 | I30: =IFERROR(INDEX(bargiri[مانده مبلغ],MATCH($C30,bargiri[شماره حواله],0)),"") -> 1665437229 | J30: =IFERROR(INDEX(bargiri[تاریخ واریزی],MATCH($C30,bargiri[شماره حواله],0)),"") | K30: =IFERROR(INDEX(bargiri[مبلغ واریزی],MATCH($C30,bargiri[شماره حواله],0)),"") | L30: =IFERROR(INDEX(bargiri[مانده حساب باسکول],MATCH($C30,bargiri[شماره حواله],0)),"") -> 1665437229 | M30: =IFERROR(INDEX(bargiri[توضیحات],MATCH($C30,bargiri[شماره حواله],0)),"")

Sheet لیست پیش فاکتورها
A1: شماره پیش فاکتور | B1: نام مشتری | C1: تاریخ | D1: تاریخ مجوز بهره برداری | E1: میزان سفارش | F1: فی | G1: ماه | H1: سال | I1: نوع سفارش | J1: نوع شرکت | K1: تاریخ انقضا | L1: % ارزش افزوده | M1: مبلغ پیش دریافت | N1: پیش دریافت به ازای هر کیلوگرم | O1: Column1 | P1: Column2 | Q1: Column3 | R1: Column4 | S1: Column5 | T1: Column6
A2: پ/19-1403 | B2: تعاونی ماهان گاز | C2: =VLOOKUP(invoice[[#This Row],[شماره پیش فاکتور]],[1]!invoice[[شماره پیش فاکتور]:[تاریخ]],3,0) -> 1403/06/07 | D2: =VLOOKUP(invoice[[#This Row],[شماره پیش فاکتور]],'[1]لیست پیش فاکتور ها'!$A:$D,4,0) -> 1403/12/04 | E2: =VLOOKUP(invoice[[#This Row],[شماره پیش فاکتور]],[1]!invoice[[شماره پیش فاکتور]:[میزان سفارش]],5,0) -> 500000 | F2: =VLOOKUP(invoice[[#This Row],[شماره پیش فاکتور]],[1]!invoice[[شماره پیش فاکتور]:[فی]],6,0) -> 70000 | G2: =CHOOSE(MID(invoice[[#This Row],[تاریخ]],6,2),"فروردین","اردیبهشت","خرداد","تیر","مرداد","شهریور","مهر","آبان","آذر","دی","بهمن","اسفند") -> شهریور | H2: =_xlfn.NUMBERVALUE(MID(invoice[[#This Row],[تاریخ]],1,4)) -> 1403 | I2: =VLOOKUP(invoice[[#This Row],[شماره پیش فاکتور]],[1]!invoice[[شماره پیش فاکتور]:[نوع سفارش]],9,0) -> عادی | J2: =VLOOKUP(invoice[[#This Row],[شماره پیش فاکتور]],[1]!invoice[[شماره پیش فاکتور]:[نوع شرکت]],10,0) -> تولید کننده | K2: 46101 | L2: 0.1 | M2: 19250000000 | N2: =invoice[[#This Row],[مبلغ پیش دریافت]]/invoice[[#This Row],[میزان سفارش]] -> 38500 | O2: =SUMIF([1]!bargiri[شماره پیش فاکتور],[1]!invoice[[#This Row],[شماره پیش فاکتور]],[1]!bargiri[میزان بارگیری شده])/[1]!invoice[[#This Row],[میزان سفارش]] -> 1.00339 | P2: =VLOOKUP(invoice[[#This Row],[شماره پیش فاکتور]],[1]!invoice[[شماره پیش فاکتور]:[نوع سفارش]],9,0) -> عادی | Q2: =SUMIFS('[1]جزییات بارگیری'!D:D,'[1]جزییات بارگیری'!C:C,[1]!invoice[[#This Row],[شماره پیش فاکتور]]) -> 501695 | R2: =IF([1]!invoice[[#This Row],[میزان سفارش]]-[1]!invoice[[#This Row],[میزان حمل شده ]]<0,0,[1]!invoice[[#This Row],[میزان سفارش]]-[1]!invoice[[#This Row],[میزان حمل شده ]]) -> 0 | S2: =[1]!invoice[[#This Row],[میزان حمل نشده ]]*[1]!invoice[[#This Row],[فی]] -> 0
A3: پ/21-1403 | B3: شرکت گروه صنعتی پاژ گاز خراسان | C3: =VLOOKUP(invoice[[#This Row],[شماره پیش فاکتور]],[1]!invoice[[شماره پیش فاکتور]:[تاریخ]],3,0) -> 1403/06/20 | D3: =VLOOKUP(invoice[[#This Row],[شماره پیش فاکتور]],'[1]لیست پیش فاکتور ها'!$A:$D,4,0) -> 1403/09/05 | E3: =VLOOKUP(invoice[[#This Row],[شماره پیش فاکتور]],[1]!invoice[[شماره پیش فاکتور]:[میزان سفارش]],5,0) -> 999320 | F3: =VLOOKUP(invoice[[#This Row],[شماره پیش فاکتور]],[1]!invoice[[شماره پیش فاکتور]:[فی]],6,0) -> 75000 | G3: =CHOOSE(MID(invoice[[#This Row],[تاریخ]],6,2),"فروردین","اردیبهشت","خرداد","تیر","مرداد","شهریور","مهر","آبان","آذر","دی","بهمن","اسفند") -> شهریور | H3: =_xlfn.NUMBERVALUE(MID(invoice[[#This Row],[تاریخ]],1,4)) -> 1403 | I3: =VLOOKUP(invoice[[#This Row],[شماره پیش فاکتور]],[1]!invoice[[شماره پیش فاکتور]:[نوع سفارش]],9,0) -> عادی | J3: =VLOOKUP(invoice[[#This Row],[شماره پیش فاکتور]],[1]!invoice[[شماره پیش فاکتور]:[نوع شرکت]],10,0) -> تولید کننده | K3: 46101 | L3: 0.1 | M3: 15000000000 | N3: =invoice[[#This Row],[مبلغ پیش دریافت]]/invoice[[#This Row],[میزان سفارش]] -> 15010.207 | O3: =SUMIF([1]!bargiri[شماره پیش فاکتور],[1]!invoice[[#This Row],[شماره پیش فاکتور]],[1]!bargiri[میزان بارگیری شده])/[1]!invoice[[#This Row],[میزان سفارش]] -> 1.001955 | P3: =VLOOKUP(invoice[[#This Row],[شماره پیش فاکتور]],[1]!invoice[[شماره پیش فاکتور]:[نوع سفارش]],9,0) -> عادی | Q3: =SUMIFS('[1]جزییات بارگیری'!D:D,'[1]جزییات بارگیری'!C:C,[1]!invoice[[#This Row],[شماره پیش فاکتور]]) -> 1001955 | R3: =IF([1]!invoice[[#This Row],[میزان سفارش]]-[1]!invoice[[#This Row],[میزان حمل شده ]]<0,0,[1]!invoice[[#This Row],[میزان سفارش]]-[1]!invoice[[#This Row],[میزان حمل شده ]]) -> 0 | S3: =[1]!invoice[[#This Row],[میزان حمل نشده ]]*[1]!invoice[[#This Row],[فی]] -> 0
A4: پ/23-1403 | B4: پاینده ساز فردوس | C4: =VLOOKUP(invoice[[#This Row],[شماره پیش فاکتور]],[1]!invoice[[شماره پیش فاکتور]:[تاریخ]],3,0) -> 1403/07/14 | D4: =VLOOKUP(invoice[[#This Row],[شماره پیش فاکتور]],'[1]لیست پیش فاکتور ها'!$A:$D,4,0) -> 1403/10/20 | E4: =VLOOKUP(invoice[[#This Row],[شماره پیش فاکتور]],[1]!invoice[[شماره پیش فاکتور]:[میزان سفارش]],5,0) -> 500000 | F4: =VLOOKUP(invoice[[#This Row],[شماره پیش فاکتور]],[1]!invoice[[شماره پیش فاکتور]:[فی]],6,0) -> 75000 | G4: =CHOOSE(MID(invoice[[#This Row],[تاریخ]],6,2),"فروردین","اردیبهشت","خرداد","تیر","مرداد","شهریور","مهر","آبان","آذر","دی","بهمن","اسفند") -> مهر | H4: =_xlfn.NUMBERVALUE(MID(invoice[[#This Row],[تاریخ]],1,4)) -> 1403 | I4: =VLOOKUP(invoice[[#This Row],[شماره پیش فاکتور]],[1]!invoice[[شماره پیش فاکتور]:[نوع سفارش]],9,0) -> عادی | J4: =VLOOKUP(invoice[[#This Row],[شماره پیش فاکتور]],[1]!invoice[[شماره پیش فاکتور]:[نوع شرکت]],10,0) -> تولید کننده | K4: 46101 | L4: 0.1 | M4: 6187500000 | N4: =invoice[[#This Row],[مبلغ پیش دریافت]]/invoice[[#This Row],[میزان سفارش]] -> 12375 | O4: =SUMIF([1]!bargiri[شماره پیش فاکتور],[1]!invoice[[#This Row],[شماره پیش فاکتور]],[1]!bargiri[میزان بارگیری شده])/[1]!invoice[[#This Row],[میزان سفارش]] -> 1.0004317 | P4: =VLOOKUP(invoice[[#This Row],[شماره پیش فاکتور]],[1]!invoice[[شماره پیش فاکتور]:[نوع سفارش]],9,0) -> عادی | Q4: =SUMIFS('[1]جزییات بارگیری'!D:D,'[1]جزییات بارگیری'!C:C,[1]!invoice[[#This Row],[شماره پیش فاکتور]]) -> 162210 | R4: =IF([1]!invoice[[#This Row],[میزان سفارش]]-[1]!invoice[[#This Row],[میزان حمل شده ]]<0,0,[1]!invoice[[#This Row],[میزان سفارش]]-[1]!invoice[[#This Row],[میزان حمل شده ]]) -> 0 | S4: =[1]!invoice[[#This Row],[میزان حمل نشده ]]*[1]!invoice[[#This Row],[فی]] -> 0
A5: پ/24-1403 | B5: کوشا تجارت زاگرس | C5: =VLOOKUP(invoice[[#This Row],[شماره پیش فاکتور]],[1]!invoice[[شماره پیش فاکتور]:[تاریخ]],3,0) -> 1403/07/23 | D5: =VLOOKUP(invoice[[#This Row],[شماره پیش فاکتور]],'[1]لیست پیش فاکتور ها'!$A:$D,4,0) -> 1403/09/18 | E5: =VLOOKUP(invoice[[#This Row],[شماره پیش فاکتور]],[1]!invoice[[شماره پیش فاکتور]:[میزان سفارش]],5,0) -> 417970 | F5: =VLOOKUP(invoice[[#This Row],[شماره پیش فاکتور]],[1]!invoice[[شماره پیش فاکتور]:[فی]],6,0) -> 80000 | G5: =CHOOSE(MID(invoice[[#This Row],[تاریخ]],6,2),"فروردین","اردیبهشت","خرداد","تیر","مرداد","شهریور","مهر","آبان","آذر","دی","بهمن","اسفند") -> مهر | H5: =_xlfn.NUMBERVALUE(MID(invoice[[#This Row],[تاریخ]],1,4)) -> 1403 | I5: =VLOOKUP(invoice[[#This Row],[شماره پیش فاکتور]],[1]!invoice[[شماره پیش فاکتور]:[نوع سفارش]],9,0) -> عادی | J5: =VLOOKUP(invoice[[#This Row],[شماره پیش فاکتور]],[1]!invoice[[شماره پیش فاکتور]:[نوع شرکت]],10,0) -> واسطه | K5: 46101 | L5: 0.1 | M5: 5544000000 | N5: =invoice[[#This Row],[مبلغ پیش دریافت]]/invoice[[#This Row],[میزان سفارش]] -> 13264.11 | O5: =SUMIF([1]!bargiri[شماره پیش فاکتور],[1]!invoice[[#This Row],[شماره پیش فاکتور]],[1]!bargiri[میزان بارگیری شده])/[1]!invoice[[#This Row],[میزان سفارش]] -> 1 | P5: =VLOOKUP(invoice[[#This Row],[شماره پیش فاکتور]],[1]!invoice[[شماره پیش فاکتور]:[نوع سفارش]],9,0) -> عادی | Q5: =SUMIFS('[1]جزییات بارگیری'!D:D,'[1]جزییات بارگیری'!C:C,[1]!invoice[[#This Row],[شماره پیش فاکتور]]) -> 300000 | R5: =IF([1]!invoice[[#This Row],[میزان سفارش]]-[1]!invoice[[#This Row],[میزان حمل شده ]]<0,0,[1]!invoice[[#This Row],[میزان سفارش]]-[1]!invoice[[#This Row],[میزان حمل شده ]]) -> 0 | S5: =[1]!invoice[[#This Row],[میزان حمل نشده ]]*[1]!invoice[[#This Row],[فی]] -> 0
A6: پ/31-1403 | B6: تولید گازهای طبی و صنعتی مددکاران اصفهان | C6: =VLOOKUP(invoice[[#This Row],[شماره پیش فاکتور]],[1]!invoice[[شماره پیش فاکتور]:[تاریخ]],3,0) -> 1403/09/27 | D6: =VLOOKUP(invoice[[#This Row],[شماره پیش فاکتور]],'[1]لیست پیش فاکتور ها'!$A:$D,4,0) -> 1403/11/16 | E6: =VLOOKUP(invoice[[#This Row],[شماره پیش فاکتور]],[1]!invoice[[شماره پیش فاکتور]:[میزان سفارش]],5,0) -> 299978 | F6: =VLOOKUP(invoice[[#This Row],[شماره پیش فاکتور]],[1]!invoice[[شماره پیش فاکتور]:[فی]],6,0) -> 75000 | G6: =CHOOSE(MID(invoice[[#This Row],[تاریخ]],6,2),"فروردین","اردیبهشت","خرداد","تیر","مرداد","شهریور","مهر","آبان","آذر","دی","بهمن","اسفند") -> آذر | H6: =_xlfn.NUMBERVALUE(MID(invoice[[#This Row],[تاریخ]],1,4)) -> 1403 | I6: =VLOOKUP(invoice[[#This Row],[شماره پیش فاکتور]],[1]!invoice[[شماره پیش فاکتور]:[نوع سفارش]],9,0) -> عادی | J6: =VLOOKUP(invoice[[#This Row],[شماره پیش فاکتور]],[1]!invoice[[شماره پیش فاکتور]:[نوع شرکت]],10,0) -> تولید کننده | K6: 46101 | L6: 0.1 | M6: 3712500000 | N6: =invoice[[#This Row],[مبلغ پیش دریافت]]/invoice[[#This Row],[میزان سفارش]] -> 12375.908 | O6: =SUMIF([1]!bargiri[شماره پیش فاکتور],[1]!invoice[[#This Row],[شماره پیش فاکتور]],[1]!bargiri[میزان بارگیری شده])/[1]!invoice[[#This Row],[میزان سفارش]] -> 1 | P6: =VLOOKUP(invoice[[#This Row],[شماره پیش فاکتور]],[1]!invoice[[شماره پیش فاکتور]:[نوع سفارش]],9,0) -> عادی | Q6: =SUMIFS('[1]جزییات بارگیری'!D:D,'[1]جزییات بارگیری'!C:C,[1]!invoice[[#This Row],[شماره پیش فاکتور]]) -> 76560 | R6: =IF([1]!invoice[[#This Row],[میزان سفارش]]-[1]!invoice[[#This Row],[میزان حمل شده ]]<0,0,[1]!invoice[[#This Row],[میزان سفارش]]-[1]!invoice[[#This Row],[میزان حمل شده ]]) -> 0 | S6: =[1]!invoice[[#This Row],[میزان حمل نشده ]]*[1]!invoice[[#This Row],[فی]] -> 0
A7: پ/34-1403 | B7: گاز کربنیک غرب | C7: =VLOOKUP(invoice[[#This Row],[شماره پیش فاکتور]],[1]!invoice[[شماره پیش فاکتور]:[تاریخ]],3,0) -> 1403/09/27 | D7: =VLOOKUP(invoice[[#This Row],[شماره پیش فاکتور]],'[1]لیست پیش فاکتور ها'!$A:$D,4,0) -> 1403/10/08 | E7: =VLOOKUP(invoice[[#This Row],[شماره پیش فاکتور]],[1]!invoice[[شماره پیش فاکتور]:[میزان سفارش]],5,0) -> 400000 | F7: =VLOOKUP(invoice[[#This Row],[شماره پیش فاکتور]],[1]!invoice[[شماره پیش فاکتور]:[فی]],6,0) -> 75000 | G7: =CHOOSE(MID(invoice[[#This Row],[تاریخ]],6,2),"فروردین","اردیبهشت","خرداد","تیر","مرداد","شهریور","مهر","آبان","آذر","دی","بهمن","اسفند") -> آذر | H7: =_xlfn.NUMBERVALUE(MID(invoice[[#This Row],[تاریخ]],1,4)) -> 1403 | I7: =VLOOKUP(invoice[[#This Row],[شماره پیش فاکتور]],[1]!invoice[[شماره پیش فاکتور]:[نوع سفارش]],9,0) -> عادی | J7: =VLOOKUP(invoice[[#This Row],[شماره پیش فاکتور]],[1]!invoice[[شماره پیش فاکتور]:[نوع شرکت]],10,0) -> تولید کننده | K7: 46101 | L7: 0.1 | M7: 4950000000 | N7: =invoice[[#This Row],[مبلغ پیش دریافت]]/invoice[[#This Row],[میزان سفارش]] -> 12375 | O7: =SUMIF([1]!bargiri[شماره پیش فاکتور],[1]!invoice[[#This Row],[شماره پیش فاکتور]],[1]!bargiri[میزان بارگیری شده])/[1]!invoice[[#This Row],[میزان سفارش]] -> 1 | P7: =VLOOKUP(invoice[[#This Row],[شماره پیش فاکتور]],[1]!invoice[[شماره پیش فاکتور]:[نوع سفارش]],9,0) -> عادی | Q7: =SUMIFS('[1]جزییات بارگیری'!D:D,'[1]جزییات بارگیری'!C:C,[1]!invoice[[#This Row],[شماره پیش فاکتور]]) -> 99340 | R7: =IF([1]!invoice[[#This Row],[میزان سفارش]]-[1]!invoice[[#This Row],[میزان حمل شده ]]<0,0,[1]!invoice[[#This Row],[میزان سفارش]]-[1]!invoice[[#This Row],[میزان حمل شده ]]) -> 0 | S7: =[1]!invoice[[#This Row],[میزان حمل نشده ]]*[1]!invoice[[#This Row],[فی]] -> 0
A8: پ/39-1403 | B8: گروه صنایع شیمیایی به آفرین گاز تیسفون | C8: =VLOOKUP(invoice[[#This Row],[شماره پیش فاکتور]],[1]!invoice[[شماره پیش فاکتور]:[تاریخ]],3,0) -> 1403/10/03 | D8: =VLOOKUP(invoice[[#This Row],[شماره پیش فاکتور]],'[1]لیست پیش فاکتور ها'!$A:$D,4,0) -> 1403/10/04 | E8: =VLOOKUP(invoice[[#This Row],[شماره پیش فاکتور]],[1]!invoice[[شماره پیش فاکتور]:[میزان سفارش]],5,0) -> 68110 | F8: =VLOOKUP(invoice[[#This Row],[شماره پیش فاکتور]],[1]!invoice[[شماره پیش فاکتور]:[فی]],6,0) -> 75000 | G8: =CHOOSE(MID(invoice[[#This Row],[تاریخ]],6,2),"فروردین","اردیبهشت","خرداد","تیر","مرداد","شهریور","مهر","آبان","آذر","دی","بهمن","اسفند") -> دی | H8: =_xlfn.NUMBERVALUE(MID(invoice[[#This Row],[تاریخ]],1,4)) -> 1403 | I8: =VLOOKUP(invoice[[#This Row],[شماره پیش فاکتور]],[1]!invoice[[شماره پیش فاکتور]:[نوع سفارش]],9,0) -> عادی | J8: =VLOOKUP(invoice[[#This Row],[شماره پیش فاکتور]],[1]!invoice[[شماره پیش فاکتور]:[نوع شرکت]],10,0) -> واسطه | K8: 46101 | L8: 0.1 | M8: 1485000000 | N8: =invoice[[#This Row],[مبلغ پیش دریافت]]/invoice[[#This Row],[میزان سفارش]] -> 21802.966 | O8: =SUMIF([1]!bargiri[شماره پیش فاکتور],[1]!invoice[[#This Row],[شماره پیش فاکتور]],[1]!bargiri[میزان بارگیری شده])/[1]!invoice[[#This Row],[میزان سفارش]] -> 1 | P8: =VLOOKUP(invoice[[#This Row],[شماره پیش فاکتور]],[1]!invoice[[شماره پیش فاکتور]:[نوع سفارش]],9,0) -> عادی | Q8: =SUMIFS('[1]جزییات بارگیری'!D:D,'[1]جزییات بارگیری'!C:C,[1]!invoice[[#This Row],[شماره پیش فاکتور]]) -> 76730 | R8: =IF([1]!invoice[[#This Row],[میزان سفارش]]-[1]!invoice[[#This Row],[میزان حمل شده ]]<0,0,[1]!invoice[[#This Row],[میزان سفارش]]-[1]!invoice[[#This Row],[میزان حمل شده ]]) -> 0 | S8: =[1]!invoice[[#This Row],[میزان حمل نشده ]]*[1]!invoice[[#This Row],[فی]] -> 0
A9: پ/40-1403 | B9: رهام گاز | C9: =VLOOKUP(invoice[[#This Row],[شماره پیش فاکتور]],[1]!invoice[[شماره پیش فاکتور]:[تاریخ]],3,0) -> 1403/10/11 | D9: =VLOOKUP(invoice[[#This Row],[شماره پیش فاکتور]],'[1]لیست پیش فاکتور ها'!$A:$D,4,0) -> 1403/11/29 | E9: =VLOOKUP(invoice[[#This Row],[شماره پیش فاکتور]],[1]!invoice[[شماره پیش فاکتور]:[میزان سفارش]],5,0) -> 39915 | F9: =VLOOKUP(invoice[[#This Row],[شماره پیش فاکتور]],[1]!invoice[[شماره پیش فاکتور]:[فی]],6,0) -> 90000 | G9: =CHOOSE(MID(invoice[[#This Row],[تاریخ]],6,2),"فروردین","اردیبهشت","خرداد","تیر","مرداد","شهریور","مهر","آبان","آذر","دی","بهمن","اسفند") -> دی | H9: =_xlfn.NUMBERVALUE(MID(invoice[[#This Row],[تاریخ]],1,4)) -> 1403 | I9: =VLOOKUP(invoice[[#This Row],[شماره پیش فاکتور]],[1]!invoice[[شماره پیش فاکتور]:[نوع سفارش]],9,0) -> عادی | J9: =VLOOKUP(invoice[[#This Row],[شماره پیش فاکتور]],[1]!invoice[[شماره پیش فاکتور]:[نوع شرکت]],10,0) -> واسطه | K9: 46101 | L9: 0.1 | M9: 594000000 | N9: =invoice[[#This Row],[مبلغ پیش دریافت]]/invoice[[#This Row],[میزان سفارش]] -> 14881.623 | O9: =SUMIF([1]!bargiri[شماره پیش فاکتور],[1]!invoice[[#This Row],[شماره پیش فاکتور]],[1]!bargiri[میزان بارگیری شده])/[1]!invoice[[#This Row],[میزان سفارش]] -> 1 | P9: =VLOOKUP(invoice[[#This Row],[شماره پیش فاکتور]],[1]!invoice[[شماره پیش فاکتور]:[نوع سفارش]],9,0) -> عادی | Q9: =SUMIFS('[1]جزییات بارگیری'!D:D,'[1]جزییات بارگیری'!C:C,[1]!invoice[[#This Row],[شماره پیش فاکتور]]) -> 101000 | R9: =IF([1]!invoice[[#This Row],[میزان سفارش]]-[1]!invoice[[#This Row],[میزان حمل شده ]]<0,0,[1]!invoice[[#This Row],[میزان سفارش]]-[1]!invoice[[#This Row],[میزان حمل شده ]]) -> 0 | S9: =[1]!invoice[[#This Row],[میزان حمل نشده ]]*[1]!invoice[[#This Row],[فی]] -> 0
A10: پ/36-1403 | B10: طاها اندیشان همپای البرز | C10: =VLOOKUP(invoice[[#This Row],[شماره پیش فاکتور]],[1]!invoice[[شماره پیش فاکتور]:[تاریخ]],3,0) -> 1403/10/11 | D10: =VLOOKUP(invoice[[#This Row],[شماره پیش فاکتور]],'[1]لیست پیش فاکتور ها'!$A:$D,4,0) -> 1403/10/28 | E10: =VLOOKUP(invoice[[#This Row],[شماره پیش فاکتور]],[1]!invoice[[شماره پیش فاکتور]:[میزان سفارش]],5,0) -> 300000 | F10: =VLOOKUP(invoice[[#This Row],[شماره پیش فاکتور]],[1]!invoice[[شماره پیش فاکتور]:[فی]],6,0) -> 75000 | G10: =CHOOSE(MID(invoice[[#This Row],[تاریخ]],6,2),"فروردین","اردیبهشت","خرداد","تیر","مرداد","شهریور","مهر","آبان","آذر","دی","بهمن","اسفند") -> دی | H10: =_xlfn.NUMBERVALUE(MID(invoice[[#This Row],[تاریخ]],1,4)) -> 1403 | I10: =VLOOKUP(invoice[[#This Row],[شماره پیش فاکتور]],[1]!invoice[[شماره پیش فاکتور]:[نوع سفارش]],9,0) -> عادی | J10: =VLOOKUP(invoice[[#This Row],[شماره پیش فاکتور]],[1]!invoice[[شماره پیش فاکتور]:[نوع شرکت]],10,0) -> واسطه | K10: 46101 | L10: 0.1 | M10: 3712500000 | N10: =invoice[[#This Row],[مبلغ پیش دریافت]]/invoice[[#This Row],[میزان سفارش]] -> 12375 | O10: =SUMIF([1]!bargiri[شماره پیش فاکتور],[1]!invoice[[#This Row],[شماره پیش فاکتور]],[1]!bargiri[میزان بارگیری شده])/[1]!invoice[[#This Row],[میزان سفارش]] -> 1 | P10: =VLOOKUP(invoice[[#This Row],[شماره پیش فاکتور]],[1]!invoice[[شماره پیش فاکتور]:[نوع سفارش]],9,0) -> عادی | Q10: =SUMIFS('[1]جزییات بارگیری'!D:D,'[1]جزییات بارگیری'!C:C,[1]!invoice[[#This Row],[شماره پیش فاکتور]]) -> 100000 | R10: =IF([1]!invoice[[#This Row],[میزان سفارش]]-[1]!invoice[[#This Row],[میزان حمل شده ]]<0,0,[1]!invoice[[#This Row],[میزان سفارش]]-[1]!invoice[[#This Row],[میزان حمل شده ]]) -> 0 | S10: =[1]!invoice[[#This Row],[میزان حمل نشده ]]*[1]!invoice[[#This Row],[فی]] -> 0
A11: پ/47-1403 | B11: تولیدی گازهای طبی و صنعتی طوس سبزوار | C11: =VLOOKUP(invoice[[#This Row],[شماره پیش فاکتور]],[1]!invoice[[شماره پیش فاکتور]:[تاریخ]],3,0) -> 1403/10/29 | D11: =VLOOKUP(invoice[[#This Row],[شماره پیش فاکتور]],'[1]لیست پیش فاکتور ها'!$A:$D,4,0) -> 1403/12/22 | E11: =VLOOKUP(invoice[[#This Row],[شماره پیش فاکتور]],[1]!invoice[[شماره پیش فاکتور]:[میزان سفارش]],5,0) -> 85900 | F11: =VLOOKUP(invoice[[#This Row],[شماره پیش فاکتور]],[1]!invoice[[شماره پیش فاکتور]:[فی]],6,0) -> 65000 | G11: =CHOOSE(MID(invoice[[#This Row],[تاریخ]],6,2),"فروردین","اردیبهشت","خرداد","تیر","مرداد","شهریور","مهر","آبان","آذر","دی","بهمن","اسفند") -> دی | H11: =_xlfn.NUMBERVALUE(MID(invoice[[#This Row],[تاریخ]],1,4)) -> 1403 | I11: =VLOOKUP(invoice[[#This Row],[شماره پیش فاکتور]],[1]!invoice[[شماره پیش فاکتور]:[نوع سفارش]],9,0) -> تعادلی | J11: =VLOOKUP(invoice[[#This Row],[شماره پیش فاکتور]],[1]!invoice[[شماره پیش فاکتور]:[نوع شرکت]],10,0) -> تولید کننده | K11: 46101 | L11: 0.1 | M11: 921277500 | N11: =invoice[[#This Row],[مبلغ پیش دریافت]]/invoice[[#This Row],[میزان سفارش]] -> 10725 | O11: =SUMIF([1]!bargiri[شماره پیش فاکتور],[1]!invoice[[#This Row],[شماره پیش فاکتور]],[1]!bargiri[میزان بارگیری شده])/[1]!invoice[[#This Row],[میزان سفارش]] -> 1 | P11: =VLOOKUP(invoice[[#This Row],[شماره پیش فاکتور]],[1]!invoice[[شماره پیش فاکتور]:[نوع سفارش]],9,0) -> تعادلی | Q11: =SUMIFS('[1]جزییات بارگیری'!D:D,'[1]جزییات بارگیری'!C:C,[1]!invoice[[#This Row],[شماره پیش فاکتور]]) -> 902430 | R11: =IF([1]!invoice[[#This Row],[میزان سفارش]]-[1]!invoice[[#This Row],[میزان حمل شده ]]<0,0,[1]!invoice[[#This Row],[میزان سفارش]]-[1]!invoice[[#This Row],[میزان حمل شده ]]) -> 0 | S11: =[1]!invoice[[#This Row],[میزان حمل نشده ]]*[1]!invoice[[#This Row],[فی]] -> 0
A12: پ/48-1403 | B12: خوش نوش همدان | C12: =VLOOKUP(invoice[[#This Row],[شماره پیش فاکتور]],[1]!invoice[[شماره پیش فاکتور]:[تاریخ]],3,0) -> 1403/10/29 | D12: =VLOOKUP(invoice[[#This Row],[شماره پیش فاکتور]],'[1]لیست پیش فاکتور ها'!$A:$D,4,0) -> 1403/11/15 | E12: =VLOOKUP(invoice[[#This Row],[شماره پیش فاکتور]],[1]!invoice[[شماره پیش فاکتور]:[میزان سفارش]],5,0) -> 300000 | F12: =VLOOKUP(invoice[[#This Row],[شماره پیش فاکتور]],[1]!invoice[[شماره پیش فاکتور]:[فی]],6,0) -> 80000 | G12: =CHOOSE(MID(invoice[[#This Row],[تاریخ]],6,2),"فروردین","اردیبهشت","خرداد","تیر","مرداد","شهریور","مهر","آبان","آذر","دی","بهمن","اسفند") -> دی | H12: =_xlfn.NUMBERVALUE(MID(invoice[[#This Row],[تاریخ]],1,4)) -> 1403 | I12: =VLOOKUP(invoice[[#This Row],[شماره پیش فاکتور]],[1]!invoice[[شماره پیش فاکتور]:[نوع سفارش]],9,0) -> عادی | J12: =VLOOKUP(invoice[[#This Row],[شماره پیش فاکتور]],[1]!invoice[[شماره پیش فاکتور]:[نوع شرکت]],10,0) -> تولید کننده | K12: 46101 | L12: 0.1 | M12: 5280000000 | N12: =invoice[[#This Row],[مبلغ پیش دریافت]]/invoice[[#This Row],[میزان سفارش]] -> 17600 | O12: =SUMIF([1]!bargiri[شماره پیش فاکتور],[1]!invoice[[#This Row],[شماره پیش فاکتور]],[1]!bargiri[میزان بارگیری شده])/[1]!invoice[[#This Row],[میزان سفارش]] -> 1 | P12: =VLOOKUP(invoice[[#This Row],[شماره پیش فاکتور]],[1]!invoice[[شماره پیش فاکتور]:[نوع سفارش]],9,0) -> عادی | Q12: =SUMIFS('[1]جزییات بارگیری'!D:D,'[1]جزییات بارگیری'!C:C,[1]!invoice[[#This Row],[شماره پیش فاکتور]]) -> 100000 | R12: =IF([1]!invoice[[#This Row],[میزان سفارش]]-[1]!invoice[[#This Row],[میزان حمل شده ]]<0,0,[1]!invoice[[#This Row],[میزان سفارش]]-[1]!invoice[[#This Row],[میزان حمل شده ]]) -> 0 | S12: =[1]!invoice[[#This Row],[میزان حمل نشده ]]*[1]!invoice[[#This Row],[فی]] -> 0
A13: پ/32-1403 | B13: خوش نوش همدان | C13: =VLOOKUP(invoice[[#This Row],[شماره پیش فاکتور]],[1]!invoice[[شماره پیش فاکتور]:[تاریخ]],3,0) -> 1403/11/03 | D13: =VLOOKUP(invoice[[#This Row],[شماره پیش فاکتور]],'[1]لیست پیش فاکتور ها'!$A:$D,4,0) -> 1403/11/03 | E13: =VLOOKUP(invoice[[#This Row],[شماره پیش فاکتور]],[1]!invoice[[شماره پیش فاکتور]:[میزان سفارش]],5,0) -> 1000000 | F13: =VLOOKUP(invoice[[#This Row],[شماره پیش فاکتور]],[1]!invoice[[شماره پیش فاکتور]:[فی]],6,0) -> 80000 | G13: =CHOOSE(MID(invoice[[#This Row],[تاریخ]],6,2),"فروردین","اردیبهشت","خرداد","تیر","مرداد","شهریور","مهر","آبان","آذر","دی","بهمن","اسفند") -> بهمن | H13: =_xlfn.NUMBERVALUE(MID(invoice[[#This Row],[تاریخ]],1,4)) -> 1403 | I13: =VLOOKUP(invoice[[#This Row],[شماره پیش فاکتور]],[1]!invoice[[شماره پیش فاکتور]:[نوع سفارش]],9,0) -> عادی | J13: =VLOOKUP(invoice[[#This Row],[شماره پیش فاکتور]],[1]!invoice[[شماره پیش فاکتور]:[نوع شرکت]],10,0) -> تولید کننده | K13: 46101 | L13: 0.1 | M13: 17600000000 | N13: =invoice[[#This Row],[مبلغ پیش دریافت]]/invoice[[#This Row],[میزان سفارش]] -> 17600 | O13: =SUMIF([1]!bargiri[شماره پیش فاکتور],[1]!invoice[[#This Row],[شماره پیش فاکتور]],[1]!bargiri[میزان بارگیری شده])/[1]!invoice[[#This Row],[میزان سفارش]] -> 1 | P13: =VLOOKUP(invoice[[#This Row],[شماره پیش فاکتور]],[1]!invoice[[شماره پیش فاکتور]:[نوع سفارش]],9,0) -> عادی | Q13: =SUMIFS('[1]جزییات بارگیری'!D:D,'[1]جزییات بارگیری'!C:C,[1]!invoice[[#This Row],[شماره پیش فاکتور]]) -> 3550 | R13: =IF([1]!invoice[[#This Row],[میزان سفارش]]-[1]!invoice[[#This Row],[میزان حمل شده ]]<0,0,[1]!invoice[[#This Row],[میزان سفارش]]-[1]!invoice[[#This Row],[میزان حمل شده ]]) -> 0 | S13: =[1]!invoice[[#This Row],[میزان حمل نشده ]]*[1]!invoice[[#This Row],[فی]] -> 0
... A44: الحاقیه پ/39-1403 | B44: گروه صنایع شیمیایی به آفرین گاز تیسفون | C44: =VLOOKUP(invoice[[#This Row],[شماره پیش فاکتور]],[1]!invoice[[شماره پیش فاکتور]:[تاریخ]],3,0) -> 1404/02/01 | D44: =VLOOKUP(invoice[[#This Row],[شماره پیش فاکتور]],'[1]لیست پیش فاکتور ها'!$A:$D,4,0) -> 1404/02/01 | E44: =VLOOKUP(invoice[[#This Row],[شماره پیش فاکتور]],[1]!invoice[[شماره پیش فاکتور]:[میزان سفارش]],5,0) -> 51890 | F44: =VLOOKUP(invoice[[#This Row],[شماره پیش فاکتور]],[1]!invoice[[شماره پیش فاکتور]:[فی]],6,0) -> 100000 | G44: =CHOOSE(MID(invoice[[#This Row],[تاریخ]],6,2),"فروردین","اردیبهشت","خرداد","تیر","مرداد","شهریور","مهر","آبان","آذر","دی","بهمن","اسفند") -> اردیبهشت | H44: =_xlfn.NUMBERVALUE(MID(invoice[[#This Row],[تاریخ]],1,4)) -> 1404 | I44: =VLOOKUP(invoice[[#This Row],[شماره پیش فاکتور]],[1]!invoice[[شماره پیش فاکتور]:[نوع سفارش]],9,0) -> عادی | J44: =VLOOKUP(invoice[[#This Row],[شماره پیش فاکتور]],[1]!invoice[[شماره پیش فاکتور]:[نوع شرکت]],10,0) -> واسطه | K44: 45922 | L44: 0.1 | M44: 905685000 | N44: =invoice[[#This Row],[مبلغ پیش دریافت]]/invoice[[#This Row],[میزان سفارش]] -> 17453.941 | O44: =SUMIF([1]!bargiri[شماره پیش فاکتور],[1]!invoice[[#This Row],[شماره پیش فاکتور]],[1]!bargiri[میزان بارگیری شده])/[1]!invoice[[#This Row],[میزان سفارش]] -> 1 | P44: =VLOOKUP(invoice[[#This Row],[شماره پیش فاکتور]],[1]!invoice[[شماره پیش فاکتور]:[نوع سفارش]],9,0) -> عادی | Q44: =SUMIFS('[1]جزییات بارگیری'!D:D,'[1]جزییات بارگیری'!C:C,[1]!invoice[[#This Row],[شماره پیش فاکتور]]) -> 50000 | R44: =IF([1]!invoice[[#This Row],[میزان سفارش]]-[1]!invoice[[#This Row],[میزان حمل شده ]]<0,0,[1]!invoice[[#This Row],[میزان سفارش]]-[1]!invoice[[#This Row],[میزان حمل شده ]]) -> 0 | S44: =[1]!invoice[[#This Row],[میزان حمل نشده ]]*[1]!invoice[[#This Row],[فی]] -> 0
A45: پ/02-1404 | B45: طوس قزوین | C45: =VLOOKUP(invoice[[#This Row],[شماره پیش فاکتور]],[1]!invoice[[شماره پیش فاکتور]:[تاریخ]],3,0) -> 1404/02/03 | D45: =VLOOKUP(invoice[[#This Row],[شماره پیش فاکتور]],'[1]لیست پیش فاکتور ها'!$A:$D,4,0) -> 1404/02/03 | E45: =VLOOKUP(invoice[[#This Row],[شماره پیش فاکتور]],[1]!invoice[[شماره پیش فاکتور]:[میزان سفارش]],5,0) -> 50000 | F45: =VLOOKUP(invoice[[#This Row],[شماره پیش فاکتور]],[1]!invoice[[شماره پیش فاکتور]:[فی]],6,0) -> 126000 | G45: =CHOOSE(MID(invoice[[#This Row],[تاریخ]],6,2),"فروردین","اردیبهشت","خرداد","تیر","مرداد","شهریور","مهر","آبان","آذر","دی","بهمن","اسفند") -> اردیبهشت | H45: =_xlfn.NUMBERVALUE(MID(invoice[[#This Row],[تاریخ]],1,4)) -> 1404 | I45: =VLOOKUP(invoice[[#This Row],[شماره پیش فاکتور]],[1]!invoice[[شماره پیش فاکتور]:[نوع سفارش]],9,0) -> بورس | J45: =VLOOKUP(invoice[[#This Row],[شماره پیش فاکتور]],[1]!invoice[[شماره پیش فاکتور]:[نوع شرکت]],10,0) -> تولید کننده | K45: 1404/12/29 | L45: 0.1 | M45: 1039500000 | N45: =invoice[[#This Row],[مبلغ پیش دریافت]]/invoice[[#This Row],[میزان سفارش]] -> 20790 | O45: =SUMIF([1]!bargiri[شماره پیش فاکتور],[1]!invoice[[#This Row],[شماره پیش فاکتور]],[1]!bargiri[میزان بارگیری شده])/[1]!invoice[[#This Row],[میزان سفارش]] -> 1 | P45: =VLOOKUP(invoice[[#This Row],[شماره پیش فاکتور]],[1]!invoice[[شماره پیش فاکتور]:[نوع سفارش]],9,0) -> بورس | Q45: =SUMIFS('[1]جزییات بارگیری'!D:D,'[1]جزییات بارگیری'!C:C,[1]!invoice[[#This Row],[شماره پیش فاکتور]]) -> 500000 | R45: =IF([1]!invoice[[#This Row],[میزان سفارش]]-[1]!invoice[[#This Row],[میزان حمل شده ]]<0,0,[1]!invoice[[#This Row],[میزان سفارش]]-[1]!invoice[[#This Row],[میزان حمل شده ]]) -> 0 | S45: =[1]!invoice[[#This Row],[میزان حمل نشده ]]*[1]!invoice[[#This Row],[فی]] -> 0
A46: پ/03-1404 | B46: اکسیژن ارومیه گاز | C46: =VLOOKUP(invoice[[#This Row],[شماره پیش فاکتور]],[1]!invoice[[شماره پیش فاکتور]:[تاریخ]],3,0) -> 1404/02/03 | D46: =VLOOKUP(invoice[[#This Row],[شماره پیش فاکتور]],'[1]لیست پیش فاکتور ها'!$A:$D,4,0) -> 1404/02/03 | E46: =VLOOKUP(invoice[[#This Row],[شماره پیش فاکتور]],[1]!invoice[[شماره پیش فاکتور]:[میزان سفارش]],5,0) -> 50000 | F46: =VLOOKUP(invoice[[#This Row],[شماره پیش فاکتور]],[1]!invoice[[شماره پیش فاکتور]:[فی]],6,0) -> 151200 | G46: =CHOOSE(MID(invoice[[#This Row],[تاریخ]],6,2),"فروردین","اردیبهشت","خرداد","تیر","مرداد","شهریور","مهر","آبان","آذر","دی","بهمن","اسفند") -> اردیبهشت | H46: =_xlfn.NUMBERVALUE(MID(invoice[[#This Row],[تاریخ]],1,4)) -> 1404 | I46: =VLOOKUP(invoice[[#This Row],[شماره پیش فاکتور]],[1]!invoice[[شماره پیش فاکتور]:[نوع سفارش]],9,0) -> بورس | J46: =VLOOKUP(invoice[[#This Row],[شماره پیش فاکتور]],[1]!invoice[[شماره پیش فاکتور]:[نوع شرکت]],10,0) -> تولید کننده | K46: 1404/12/29 | L46: 0.1 | M46: 1247400000 | N46: =invoice[[#This Row],[مبلغ پیش دریافت]]/invoice[[#This Row],[میزان سفارش]] -> 24948 | O46: =SUMIF([1]!bargiri[شماره پیش فاکتور],[1]!invoice[[#This Row],[شماره پیش فاکتور]],[1]!bargiri[میزان بارگیری شده])/[1]!invoice[[#This Row],[میزان سفارش]] -> 1 | P46: =VLOOKUP(invoice[[#This Row],[شماره پیش فاکتور]],[1]!invoice[[شماره پیش فاکتور]:[نوع سفارش]],9,0) -> بورس | Q46: =SUMIFS('[1]جزییات بارگیری'!D:D,'[1]جزییات بارگیری'!C:C,[1]!invoice[[#This Row],[شماره پیش فاکتور]]) -> 417970 | R46: =IF([1]!invoice[[#This Row],[میزان سفارش]]-[1]!invoice[[#This Row],[میزان حمل شده ]]<0,0,[1]!invoice[[#This Row],[میزان سفارش]]-[1]!invoice[[#This Row],[میزان حمل شده ]]) -> 0 | S46: =[1]!invoice[[#This Row],[میزان حمل نشده ]]*[1]!invoice[[#This Row],[فی]] -> 0
A47: پ/04-1404 | B47: طوس قزوین | C47: =VLOOKUP(invoice[[#This Row],[شماره پیش فاکتور]],[1]!invoice[[شماره پیش فاکتور]:[تاریخ]],3,0) -> 1404/02/16 | D47: =VLOOKUP(invoice[[#This Row],[شماره پیش فاکتور]],'[1]لیست پیش فاکتور ها'!$A:$D,4,0) -> 1404/02/17 | E47: =VLOOKUP(invoice[[#This Row],[شماره پیش فاکتور]],[1]!invoice[[شماره پیش فاکتور]:[میزان سفارش]],5,0) -> 65000 | F47: =VLOOKUP(invoice[[#This Row],[شماره پیش فاکتور]],[1]!invoice[[شماره پیش فاکتور]:[فی]],6,0) -> 80000 | G47: =CHOOSE(MID(invoice[[#This Row],[تاریخ]],6,2),"فروردین","اردیبهشت","خرداد","تیر","مرداد","شهریور","مهر","آبان","آذر","دی","بهمن","اسفند") -> اردیبهشت | H47: =_xlfn.NUMBERVALUE(MID(invoice[[#This Row],[تاریخ]],1,4)) -> 1404 | I47: =VLOOKUP(invoice[[#This Row],[شماره پیش فاکتور]],[1]!invoice[[شماره پیش فاکتور]:[نوع سفارش]],9,0) -> تعادلی | J47: =VLOOKUP(invoice[[#This Row],[شماره پیش فاکتور]],[1]!invoice[[شماره پیش فاکتور]:[نوع شرکت]],10,0) -> تولید کننده | K47: 1404/12/29 | L47: 0.1 | M47: 858000000 | N47: =invoice[[#This Row],[مبلغ پیش دریافت]]/invoice[[#This Row],[میزان سفارش]] -> 13200 | O47: =SUMIF([1]!bargiri[شماره پیش فاکتور],[1]!invoice[[#This Row],[شماره پیش فاکتور]],[1]!bargiri[میزان بارگیری شده])/[1]!invoice[[#This Row],[میزان سفارش]] -> 1.0045 | P47: =VLOOKUP(invoice[[#This Row],[شماره پیش فاکتور]],[1]!invoice[[شماره پیش فاکتور]:[نوع سفارش]],9,0) -> تعادلی | Q47: =SUMIFS('[1]جزییات بارگیری'!D:D,'[1]جزییات بارگیری'!C:C,[1]!invoice[[#This Row],[شماره پیش فاکتور]]) -> 50225 | R47: =IF([1]!invoice[[#This Row],[میزان سفارش]]-[1]!invoice[[#This Row],[میزان حمل شده ]]<0,0,[1]!invoice[[#This Row],[میزان سفارش]]-[1]!invoice[[#This Row],[میزان حمل شده ]]) -> 0 | S47: =[1]!invoice[[#This Row],[میزان حمل نشده ]]*[1]!invoice[[#This Row],[فی]] -> 0
A48: پ/05-1404 | B48: اکسیژن ارومیه گاز | C48: =VLOOKUP(invoice[[#This Row],[شماره پیش فاکتور]],[1]!invoice[[شماره پیش فاکتور]:[تاریخ]],3,0) -> 1404/02/16 | D48: =VLOOKUP(invoice[[#This Row],[شماره پیش فاکتور]],'[1]لیست پیش فاکتور ها'!$A:$D,4,0) -> 1404/02/17 | E48: =VLOOKUP(invoice[[#This Row],[شماره پیش فاکتور]],[1]!invoice[[شماره پیش فاکتور]:[میزان سفارش]],5,0) -> 102400 | F48: =VLOOKUP(invoice[[#This Row],[شماره پیش فاکتور]],[1]!invoice[[شماره پیش فاکتور]:[فی]],6,0) -> 75000 | G48: =CHOOSE(MID(invoice[[#This Row],[تاریخ]],6,2),"فروردین","اردیبهشت","خرداد","تیر","مرداد","شهریور","مهر","آبان","آذر","دی","بهمن","اسفند") -> اردیبهشت | H48: =_xlfn.NUMBERVALUE(MID(invoice[[#This Row],[تاریخ]],1,4)) -> 1404 | I48: =VLOOKUP(invoice[[#This Row],[شماره پیش فاکتور]],[1]!invoice[[شماره پیش فاکتور]:[نوع سفارش]],9,0) -> تعادلی | J48: =VLOOKUP(invoice[[#This Row],[شماره پیش فاکتور]],[1]!invoice[[شماره پیش فاکتور]:[نوع شرکت]],10,0) -> تولید کننده | K48: 1404/12/29 | L48: 0.1 | M48: 1267200000 | N48: =invoice[[#This Row],[مبلغ پیش دریافت]]/invoice[[#This Row],[میزان سفارش]] -> 12375 | O48: =SUMIF([1]!bargiri[شماره پیش فاکتور],[1]!invoice[[#This Row],[شماره پیش فاکتور]],[1]!bargiri[میزان بارگیری شده])/[1]!invoice[[#This Row],[میزان سفارش]] -> 1 | P48: =VLOOKUP(invoice[[#This Row],[شماره پیش فاکتور]],[1]!invoice[[شماره پیش فاکتور]:[نوع سفارش]],9,0) -> تعادلی | Q48: =SUMIFS('[1]جزییات بارگیری'!D:D,'[1]جزییات بارگیری'!C:C,[1]!invoice[[#This Row],[شماره پیش فاکتور]]) -> 25000 | R48: =IF([1]!invoice[[#This Row],[میزان سفارش]]-[1]!invoice[[#This Row],[میزان حمل شده ]]<0,0,[1]!invoice[[#This Row],[میزان سفارش]]-[1]!invoice[[#This Row],[میزان حمل شده ]]) -> 0 | S48: =[1]!invoice[[#This Row],[میزان حمل نشده ]]*[1]!invoice[[#This Row],[فی]] -> 0
A49: پ/06-1404 | B49: گاز اکسیژن طوس | C49: =VLOOKUP(invoice[[#This Row],[شماره پیش فاکتور]],[1]!invoice[[شماره پیش فاکتور]:[تاریخ]],3,0) -> 1404/02/17 | D49: =VLOOKUP(invoice[[#This Row],[شماره پیش فاکتور]],'[1]لیست پیش فاکتور ها'!$A:$D,4,0) -> 1404/02/18 | E49: =VLOOKUP(invoice[[#This Row],[شماره پیش فاکتور]],[1]!invoice[[شماره پیش فاکتور]:[میزان سفارش]],5,0) -> 40000 | F49: =VLOOKUP(invoice[[#This Row],[شماره پیش فاکتور]],[1]!invoice[[شماره پیش فاکتور]:[فی]],6,0) -> 151200 | G49: =CHOOSE(MID(invoice[[#This Row],[تاریخ]],6,2),"فروردین","اردیبهشت","خرداد","تیر","مرداد","شهریور","مهر","آبان","آذر","دی","بهمن","اسفند") -> اردیبهشت | H49: =_xlfn.NUMBERVALUE(MID(invoice[[#This Row],[تاریخ]],1,4)) -> 1404 | I49: =VLOOKUP(invoice[[#This Row],[شماره پیش فاکتور]],[1]!invoice[[شماره پیش فاکتور]:[نوع سفارش]],9,0) -> بورس | J49: =VLOOKUP(invoice[[#This Row],[شماره پیش فاکتور]],[1]!invoice[[شماره پیش فاکتور]:[نوع شرکت]],10,0) -> تولید کننده | K49: 1404/12/29 | L49: 0.1 | M49: 997920000 | N49: =invoice[[#This Row],[مبلغ پیش دریافت]]/invoice[[#This Row],[میزان سفارش]] -> 24948 | O49: =SUMIF([1]!bargiri[شماره پیش فاکتور],[1]!invoice[[#This Row],[شماره پیش فاکتور]],[1]!bargiri[میزان بارگیری شده])/[1]!invoice[[#This Row],[میزان سفارش]] -> 1 | P49: =VLOOKUP(invoice[[#This Row],[شماره پیش فاکتور]],[1]!invoice[[شماره پیش فاکتور]:[نوع سفارش]],9,0) -> بورس | Q49: =SUMIFS('[1]جزییات بارگیری'!D:D,'[1]جزییات بارگیری'!C:C,[1]!invoice[[#This Row],[شماره پیش فاکتور]]) -> 24870 | R49: =IF([1]!invoice[[#This Row],[میزان سفارش]]-[1]!invoice[[#This Row],[میزان حمل شده ]]<0,0,[1]!invoice[[#This Row],[میزان سفارش]]-[1]!invoice[[#This Row],[میزان حمل شده ]]) -> 0 | S49: =[1]!invoice[[#This Row],[میزان حمل نشده ]]*[1]!invoice[[#This Row],[فی]] -> 0
A50: پ/07-1404 | B50: اکسیژن ارومیه گاز | C50: =VLOOKUP(invoice[[#This Row],[شماره پیش فاکتور]],[1]!invoice[[شماره پیش فاکتور]:[تاریخ]],3,0) -> 1404/02/17 | D50: =VLOOKUP(invoice[[#This Row],[شماره پیش فاکتور]],'[1]لیست پیش فاکتور ها'!$A:$D,4,0) -> 1404/02/18 | E50: =VLOOKUP(invoice[[#This Row],[شماره پیش فاکتور]],[1]!invoice[[شماره پیش فاکتور]:[میزان سفارش]],5,0) -> 20000 | F50: =VLOOKUP(invoice[[#This Row],[شماره پیش فاکتور]],[1]!invoice[[شماره پیش فاکتور]:[فی]],6,0) -> 151200 | G50: =CHOOSE(MID(invoice[[#This Row],[تاریخ]],6,2),"فروردین","اردیبهشت","خرداد","تیر","مرداد","شهریور","مهر","آبان","آذر","دی","بهمن","اسفند") -> اردیبهشت | H50: =_xlfn.NUMBERVALUE(MID(invoice[[#This Row],[تاریخ]],1,4)) -> 1404 | I50: =VLOOKUP(invoice[[#This Row],[شماره پیش فاکتور]],[1]!invoice[[شماره پیش فاکتور]:[نوع سفارش]],9,0) -> بورس | J50: =VLOOKUP(invoice[[#This Row],[شماره پیش فاکتور]],[1]!invoice[[شماره پیش فاکتور]:[نوع شرکت]],10,0) -> تولید کننده | K50: 1404/12/29 | L50: 0.1 | M50: 498960000 | N50: =invoice[[#This Row],[مبلغ پیش دریافت]]/invoice[[#This Row],[میزان سفارش]] -> 24948 | O50: =SUMIF([1]!bargiri[شماره پیش فاکتور],[1]!invoice[[#This Row],[شماره پیش فاکتور]],[1]!bargiri[میزان بارگیری شده])/[1]!invoice[[#This Row],[میزان سفارش]] -> 1 | P50: =VLOOKUP(invoice[[#This Row],[شماره پیش فاکتور]],[1]!invoice[[شماره پیش فاکتور]:[نوع سفارش]],9,0) -> بورس | Q50: =SUMIFS('[1]جزییات بارگیری'!D:D,'[1]جزییات بارگیری'!C:C,[1]!invoice[[#This Row],[شماره پیش فاکتور]]) -> 18375 | R50: =IF([1]!invoice[[#This Row],[میزان سفارش]]-[1]!invoice[[#This Row],[میزان حمل شده ]]<0,0,[1]!invoice[[#This Row],[میزان سفارش]]-[1]!invoice[[#This Row],[میزان حمل شده ]]) -> 0 | S50: =[1]!invoice[[#This Row],[میزان حمل نشده ]]*[1]!invoice[[#This Row],[فی]] -> 0
A51: پ/08-1404 | B51: پاینده ساز فردوس | C51: =VLOOKUP(invoice[[#This Row],[شماره پیش فاکتور]],[1]!invoice[[شماره پیش فاکتور]:[تاریخ]],3,0) -> 1404/02/17 | D51: =VLOOKUP(invoice[[#This Row],[شماره پیش فاکتور]],'[1]لیست پیش فاکتور ها'!$A:$D,4,0) -> 1404/02/18 | E51: =VLOOKUP(invoice[[#This Row],[شماره پیش فاکتور]],[1]!invoice[[شماره پیش فاکتور]:[میزان سفارش]],5,0) -> 40000 | F51: =VLOOKUP(invoice[[#This Row],[شماره پیش فاکتور]],[1]!invoice[[شماره پیش فاکتور]:[فی]],6,0) -> 151200 | G51: =CHOOSE(MID(invoice[[#This Row],[تاریخ]],6,2),"فروردین","اردیبهشت","خرداد","تیر","مرداد","شهریور","مهر","آبان","آذر","دی","بهمن","اسفند") -> اردیبهشت | H51: =_xlfn.NUMBERVALUE(MID(invoice[[#This Row],[تاریخ]],1,4)) -> 1404 | I51: =VLOOKUP(invoice[[#This Row],[شماره پیش فاکتور]],[1]!invoice[[شماره پیش فاکتور]:[نوع سفارش]],9,0) -> بورس | J51: =VLOOKUP(invoice[[#This Row],[شماره پیش فاکتور]],[1]!invoice[[شماره پیش فاکتور]:[نوع شرکت]],10,0) -> تولید کننده | K51: 1404/12/29 | L51: 0.1 | M51: 99792000 | N51: =invoice[[#This Row],[مبلغ پیش دریافت]]/invoice[[#This Row],[میزان سفارش]] -> 2494.8 | O51: =SUMIF([1]!bargiri[شماره پیش فاکتور],[1]!invoice[[#This Row],[شماره پیش فاکتور]],[1]!bargiri[میزان بارگیری شده])/[1]!invoice[[#This Row],[میزان سفارش]] -> 1 | P51: =VLOOKUP(invoice[[#This Row],[شماره پیش فاکتور]],[1]!invoice[[شماره پیش فاکتور]:[نوع سفارش]],9,0) -> بورس | Q51: =SUMIFS('[1]جزییات بارگیری'!D:D,'[1]جزییات بارگیری'!C:C,[1]!invoice[[#This Row],[شماره پیش فاکتور]]) -> 30000 | R51: =IF([1]!invoice[[#This Row],[میزان سفارش]]-[1]!invoice[[#This Row],[میزان حمل شده ]]<0,0,[1]!invoice[[#This Row],[میزان سفارش]]-[1]!invoice[[#This Row],[میزان حمل شده ]]) -> 0 | S51: =[1]!invoice[[#This Row],[میزان حمل نشده ]]*[1]!invoice[[#This Row],[فی]] -> 0
A52: الحاقیه پ/09-1404 | B52: گاز اکسیژن طوس | C52: =VLOOKUP(invoice[[#This Row],[شماره پیش فاکتور]],[1]!invoice[[شماره پیش فاکتور]:[تاریخ]],3,0) -> 1404/10/09 | D52: =VLOOKUP(invoice[[#This Row],[شماره پیش فاکتور]],'[1]لیست پیش فاکتور ها'!$A:$D,4,0) -> 46021 | E52: =VLOOKUP(invoice[[#This Row],[شماره پیش فاکتور]],[1]!invoice[[شماره پیش فاکتور]:[میزان سفارش]],5,0) -> 40000 | F52: =VLOOKUP(invoice[[#This Row],[شماره پیش فاکتور]],[1]!invoice[[شماره پیش فاکتور]:[فی]],6,0) -> 132800 | G52: =CHOOSE(MID(invoice[[#This Row],[تاریخ]],6,2),"فروردین","اردیبهشت","خرداد","تیر","مرداد","شهریور","مهر","آبان","آذر","دی","بهمن","اسفند") -> دی | H52: =_xlfn.NUMBERVALUE(MID(invoice[[#This Row],[تاریخ]],1,4)) -> 1404 | I52: =VLOOKUP(invoice[[#This Row],[شماره پیش فاکتور]],[1]!invoice[[شماره پیش فاکتور]:[نوع سفارش]],9,0) -> تعادلی | J52: =VLOOKUP(invoice[[#This Row],[شماره پیش فاکتور]],[1]!invoice[[شماره پیش فاکتور]:[نوع شرکت]],10,0) -> تولید کننده | K52: 1404/12/29 | L52: 0.1 | M52: 1.01376e+09 | N52: =invoice[[#This Row],[مبلغ پیش دریافت]]/invoice[[#This Row],[میزان سفارش]] -> 25344 | O52: =SUMIF([1]!bargiri[شماره پیش فاکتور],[1]!invoice[[#This Row],[شماره پیش فاکتور]],[1]!bargiri[میزان بارگیری شده])/[1]!invoice[[#This Row],[میزان سفارش]] -> 1 | P52: =VLOOKUP(invoice[[#This Row],[شماره پیش فاکتور]],[1]!invoice[[شماره پیش فاکتور]:[نوع سفارش]],9,0) -> تعادلی | Q52: =SUMIFS('[1]جزییات بارگیری'!D:D,'[1]جزییات بارگیری'!C:C,[1]!invoice[[#This Row],[شماره پیش فاکتور]]) -> 50000 | R52: =IF([1]!invoice[[#This Row],[میزان سفارش]]-[1]!invoice[[#This Row],[میزان حمل شده ]]<0,0,[1]!invoice[[#This Row],[میزان سفارش]]-[1]!invoice[[#This Row],[میزان حمل شده ]]) -> 0 | S52: =[1]!invoice[[#This Row],[میزان حمل نشده ]]*[1]!invoice[[#This Row],[فی]] -> 0
A53: پ/10-1404 | B53: اکسیژن ارومیه گاز | C53: =VLOOKUP(invoice[[#This Row],[شماره پیش فاکتور]],[1]!invoice[[شماره پیش فاکتور]:[تاریخ]],3,0) -> 1404/02/22 | D53: =VLOOKUP(invoice[[#This Row],[شماره پیش فاکتور]],'[1]لیست پیش فاکتور ها'!$A:$D,4,0) -> 1404/02/25 | E53: =VLOOKUP(invoice[[#This Row],[شماره پیش فاکتور]],[1]!invoice[[شماره پیش فاکتور]:[میزان سفارش]],5,0) -> 51200 | F53: =VLOOKUP(invoice[[#This Row],[شماره پیش فاکتور]],[1]!invoice[[شماره پیش فاکتور]:[فی]],6,0) -> 80000 | G53: =CHOOSE(MID(invoice[[#This Row],[تاریخ]],6,2),"فروردین","اردیبهشت","خرداد","تیر","مرداد","شهریور","مهر","آبان","آذر","دی","بهمن","اسفند") -> اردیبهشت | H53: =_xlfn.NUMBERVALUE(MID(invoice[[#This Row],[تاریخ]],1,4)) -> 1404 | I53: =VLOOKUP(invoice[[#This Row],[شماره پیش فاکتور]],[1]!invoice[[شماره پیش فاکتور]:[نوع سفارش]],9,0) -> تعادلی | J53: =VLOOKUP(invoice[[#This Row],[شماره پیش فاکتور]],[1]!invoice[[شماره پیش فاکتور]:[نوع شرکت]],10,0) -> تولید کننده | K53: 1404/12/29 | L53: 0.1 | M53: 675840000 | N53: =invoice[[#This Row],[مبلغ پیش دریافت]]/invoice[[#This Row],[میزان سفارش]] -> 13200 | O53: =SUMIF([1]!bargiri[شماره پیش فاکتور],[1]!invoice[[#This Row],[شماره پیش فاکتور]],[1]!bargiri[میزان بارگیری شده])/[1]!invoice[[#This Row],[میزان سفارش]] -> 1 | P53: =VLOOKUP(invoice[[#This Row],[شماره پیش فاکتور]],[1]!invoice[[شماره پیش فاکتور]:[نوع سفارش]],9,0) -> تعادلی | Q53: =SUMIFS('[1]جزییات بارگیری'!D:D,'[1]جزییات بارگیری'!C:C,[1]!invoice[[#This Row],[شماره پیش فاکتور]]) -> 50000 | R53: =IF([1]!invoice[[#This Row],[میزان سفارش]]-[1]!invoice[[#This Row],[میزان حمل شده ]]<0,0,[1]!invoice[[#This Row],[میزان سفارش]]-[1]!invoice[[#This Row],[میزان حمل شده ]]) -> 0 | S53: =[1]!invoice[[#This Row],[میزان حمل نشده ]]*[1]!invoice[[#This Row],[فی]] -> 0
A54: پ/11-1404 | B54: پاینده ساز فردوس | C54: =VLOOKUP(invoice[[#This Row],[شماره پیش فاکتور]],[1]!invoice[[شماره پیش فاکتور]:[تاریخ]],3,0) -> 1404/02/22 | D54: =VLOOKUP(invoice[[#This Row],[شماره پیش فاکتور]],'[1]لیست پیش فاکتور ها'!$A:$D,4,0) -> 1404/02/25 | E54: =VLOOKUP(invoice[[#This Row],[شماره پیش فاکتور]],[1]!invoice[[شماره پیش فاکتور]:[میزان سفارش]],5,0) -> 81920 | F54: =VLOOKUP(invoice[[#This Row],[شماره پیش فاکتور]],[1]!invoice[[شماره پیش فاکتور]:[فی]],6,0) -> 75000 | G54: =CHOOSE(MID(invoice[[#This Row],[تاریخ]],6,2),"فروردین","اردیبهشت","خرداد","تیر","مرداد","شهریور","مهر","آبان","آذر","دی","بهمن","اسفند") -> اردیبهشت | H54: =_xlfn.NUMBERVALUE(MID(invoice[[#This Row],[تاریخ]],1,4)) -> 1404 | I54: =VLOOKUP(invoice[[#This Row],[شماره پیش فاکتور]],[1]!invoice[[شماره پیش فاکتور]:[نوع سفارش]],9,0) -> تعادلی | J54: =VLOOKUP(invoice[[#This Row],[شماره پیش فاکتور]],[1]!invoice[[شماره پیش فاکتور]:[نوع شرکت]],10,0) -> تولید کننده | K54: 1404/12/29 | L54: 0.1 | M54: 1.01376e+09 | N54: =invoice[[#This Row],[مبلغ پیش دریافت]]/invoice[[#This Row],[میزان سفارش]] -> 12375 | O54: =SUMIF([1]!bargiri[شماره پیش فاکتور],[1]!invoice[[#This Row],[شماره پیش فاکتور]],[1]!bargiri[میزان بارگیری شده])/[1]!invoice[[#This Row],[میزان سفارش]] -> 1 | P54: =VLOOKUP(invoice[[#This Row],[شماره پیش فاکتور]],[1]!invoice[[شماره پیش فاکتور]:[نوع سفارش]],9,0) -> تعادلی | Q54: =SUMIFS('[1]جزییات بارگیری'!D:D,'[1]جزییات بارگیری'!C:C,[1]!invoice[[#This Row],[شماره پیش فاکتور]]) -> 299978 | R54: =IF([1]!invoice[[#This Row],[میزان سفارش]]-[1]!invoice[[#This Row],[میزان حمل شده ]]<0,0,[1]!invoice[[#This Row],[میزان سفارش]]-[1]!invoice[[#This Row],[میزان حمل شده ]]) -> 0 | S54: =[1]!invoice[[#This Row],[میزان حمل نشده ]]*[1]!invoice[[#This Row],[فی]] -> 0
