Workbook
Name Slicer_شماره_پیش_فاکتور: #N/A
Name Slicer_نام_مشتری: #N/A
Name year: [1]calc!$BV$5

Sheet Dashboard
B9: ردیف | C9: شماره پیش فاکتور | D9: تاریخ پیش فاکتور | E9: تاریخ بهره برداری | F9: تاریخ انقضا | G9: نوع شرکت | H9: میزان سفارش | I9: نوع سفارش | J9: قیمت | K9: میزان حمل شده | L9: % حمل شده | M9: مانده سفارش | N9: پیش دریافت | O9: استهلاک پیش دریافت | P9: مانده مبلغ | Q9: کل دریافتی
B10: 1 | C10: =IF(INDEX(Calc!$A$5:$A$40,$B10,1)<>"",INDEX(Calc!$A$5:$A$40,$B10,1),"") -> پ/86-1404 | D10: =IFERROR(INDEX(invoice[تاریخ],MATCH($C10,invoice[شماره پیش فاکتور],0)),"") -> 1404/08/26 | E10: =IFERROR(INDEX(invoice[تاریخ مجوز بهره برداری],MATCH($C10,invoice[شماره پیش فاکتور],0)),"") -> 1404/08/26 | F10: =IFERROR(INDEX(invoice[تاریخ انقضا],MATCH($C10,invoice[شماره پیش فاکتور],0)),"") -> 46101 | G10: =IFERROR(INDEX(invoice[نوع شرکت],MATCH($C10,invoice[شماره پیش فاکتور],0)),"") -> تولید کننده | H10: =IFERROR(INDEX(invoice[میزان سفارش],MATCH($C10,invoice[شماره پیش فاکتور],0)),"") -> 4710 | I10: =IFERROR(INDEX(invoice[نوع سفارش],MATCH($C10,invoice[شماره پیش فاکتور],0)),"") -> عادی | J10: =IFERROR(INDEX(invoice[فی],MATCH($C10,invoice[شماره پیش فاکتور],0)),"") -> 130000 | K10: =IF(INDEX(Calc!$C$5:$C$40,Dashboard!$B10,1)<>"",INDEX(Calc!$C$5:$C$40,Dashboard!$B10,1),"") | L10: =IF(H10="","",IF(K10<>"",K10/H10,"در انتظار بارگیری")) -> در انتظار بارگیری | M10: =IF(K10="",H10,IF(H10<>"",H10-K10,"")) -> 4710 | N10: =IFERROR(INDEX(invoice[مبلغ پیش دریافت],MATCH($C10,invoice[شماره پیش فاکتور],0)),"") -> 715000000 | O10: =SUMIF(bargiri[شماره سند مبنا],Dashboard!C10,bargiri[میزان استهلاک پیش دریافتی]) -> 715000000 | P10: =SUMIF(bargiri[شماره سند مبنا],Dashboard!C10,bargiri[مانده مبلغ]) -> 539575868
B11: =B10+1 -> 2 | C11: =IF(INDEX(Calc!$A$5:$A$40,$B11,1)<>"",INDEX(Calc!$A$5:$A$40,$B11,1),"") -> پ/92-1404 | D11: =IFERROR(INDEX(invoice[تاریخ],MATCH($C11,invoice[شماره پیش فاکتور],0)),"") -> 1404/10/02 | E11: =IFERROR(INDEX(invoice[تاریخ مجوز بهره برداری],MATCH($C11,invoice[شماره پیش فاکتور],0)),"") -> 1404/10/02 | F11: =IFERROR(INDEX(invoice[تاریخ انقضا],MATCH($C11,invoice[شماره پیش فاکتور],0)),"") -> 46437 | G11: =IFERROR(INDEX(invoice[نوع شرکت],MATCH($C11,invoice[شماره پیش فاکتور],0)),"") -> تولید کننده | H11: =IFERROR(INDEX(invoice[میزان سفارش],MATCH($C11,invoice[شماره پیش فاکتور],0)),"") -> 4520000 | I11: =IFERROR(INDEX(invoice[نوع سفارش],MATCH($C11,invoice[شماره پیش فاکتور],0)),"") -> عادی | J11: =IFERROR(INDEX(invoice[فی],MATCH($C11,invoice[شماره پیش فاکتور],0)),"") -> 123481 | K11: =IF(INDEX(Calc!$C$5:$C$40,Dashboard!$B11,1)<>"",INDEX(Calc!$C$5:$C$40,Dashboard!$B11,1),"") | L11: =IF(H11="","",IF(K11<>"",K11/H11,"در انتظار بارگیری")) -> در انتظار بارگیری | M11: =IF(K11="",H11,IF(H11<>"",H11-K11,"")) -> 4520000 | N11: =IFERROR(INDEX(invoice[مبلغ پیش دریافت],MATCH($C11,invoice[شماره پیش فاکتور],0)),"") -> 315758000000 | O11: =SUMIF(bargiri[شماره سند مبنا],Dashboard!C11,bargiri[میزان استهلاک پیش دریافتی]) -> 8.5750652e+09 | P11: =SUMIF(bargiri[شماره سند مبنا],Dashboard!C11,bargiri[مانده مبلغ]) -> -8.5750652e+09
B12: =B11+1 -> 3 | C12: =IF(INDEX(Calc!$A$5:$A$40,$B12,1)<>"",INDEX(Calc!$A$5:$A$40,$B12,1),"") -> پ/92-1404-1 | D12: =IFERROR(INDEX(invoice[تاریخ],MATCH($C12,invoice[شماره پیش فاکتور],0)),"") -> 1404/10/02 | E12: =IFERROR(INDEX(invoice[تاریخ مجوز بهره برداری],MATCH($C12,invoice[شماره پیش فاکتور],0)),"") -> 1404/10/02 | F12: =IFERROR(INDEX(invoice[تاریخ انقضا],MATCH($C12,invoice[شماره پیش فاکتور],0)),"") -> 46422 | G12: =IFERROR(INDEX(invoice[نوع شرکت],MATCH($C12,invoice[شماره پیش فاکتور],0)),"") -> تولید کننده | H12: =IFERROR(INDEX(invoice[میزان سفارش],MATCH($C12,invoice[شماره پیش فاکتور],0)),"") -> 500000 | I12: =IFERROR(INDEX(invoice[نوع سفارش],MATCH($C12,invoice[شماره پیش فاکتور],0)),"") -> عادی | J12: =IFERROR(INDEX(invoice[فی],MATCH($C12,invoice[شماره پیش فاکتور],0)),"") -> 115372 | K12: =IF(INDEX(Calc!$C$5:$C$40,Dashboard!$B12,1)<>"",INDEX(Calc!$C$5:$C$40,Dashboard!$B12,1),"") -> 500000 | L12: =IF(H12="","",IF(K12<>"",K12/H12,"در انتظار بارگیری")) -> 1 | M12: =IF(K12="",H12,IF(H12<>"",H12-K12,"")) -> 0 | N12: =IFERROR(INDEX(invoice[مبلغ پیش دریافت],MATCH($C12,invoice[شماره پیش فاکتور],0)),"") -> 31450000000 | O12: =SUMIF(bargiri[شماره سند مبنا],Dashboard!C12,bargiri[میزان استهلاک پیش دریافتی]) -> 31450000000 | P12: =SUMIF(bargiri[شماره سند مبنا],Dashboard!C12,bargiri[مانده مبلغ]) -> 32004600000
B13: =B12+1 -> 4 | C13: =IF(INDEX(Calc!$A$5:$A$40,$B13,1)<>"",INDEX(Calc!$A$5:$A$40,$B13,1),"") -> پ/92-1404-2 | D13: =IFERROR(INDEX(invoice[تاریخ],MATCH($C13,invoice[شماره پیش فاکتور],0)),"") -> 1404/10/02 | E13: =IFERROR(INDEX(invoice[تاریخ مجوز بهره برداری],MATCH($C13,invoice[شماره پیش فاکتور],0)),"") -> 1404/10/02 | F13: =IFERROR(INDEX(invoice[تاریخ انقضا],MATCH($C13,invoice[شماره پیش فاکتور],0)),"") -> 46422 | G13: =IFERROR(INDEX(invoice[نوع شرکت],MATCH($C13,invoice[شماره پیش فاکتور],0)),"") -> تولید کننده | H13: =IFERROR(INDEX(invoice[میزان سفارش],MATCH($C13,invoice[شماره پیش فاکتور],0)),"") -> 500000 | I13: =IFERROR(INDEX(invoice[نوع سفارش],MATCH($C13,invoice[شماره پیش فاکتور],0)),"") -> عادی | J13: =IFERROR(INDEX(invoice[فی],MATCH($C13,invoice[شماره پیش فاکتور],0)),"") -> 115372 | K13: =IF(INDEX(Calc!$C$5:$C$40,Dashboard!$B13,1)<>"",INDEX(Calc!$C$5:$C$40,Dashboard!$B13,1),"") -> 500000 | L13: =IF(H13="","",IF(K13<>"",K13/H13,"در انتظار بارگیری")) -> 1 | M13: =IF(K13="",H13,IF(H13<>"",H13-K13,"")) -> 0 | N13: =IFERROR(INDEX(invoice[مبلغ پیش دریافت],MATCH($C13,invoice[شماره پیش فاکتور],0)),"") -> 31450000000 | O13: =SUMIF(bargiri[شماره سند مبنا],Dashboard!C13,bargiri[میزان استهلاک پیش دریافتی]) -> 31450000000 | P13: =SUMIF(bargiri[شماره سند مبنا],Dashboard!C13,bargiri[مانده مبلغ]) -> 32004600000
B14: =B13+1 -> 5 | C14: =IF(INDEX(Calc!$A$5:$A$40,$B14,1)<>"",INDEX(Calc!$A$5:$A$40,$B14,1),"") -> پ/92-1404-3 | D14: =IFERROR(INDEX(invoice[تاریخ],MATCH($C14,invoice[شماره پیش فاکتور],0)),"") -> 1404/10/02 | E14: =IFERROR(INDEX(invoice[تاریخ مجوز بهره برداری],MATCH($C14,invoice[شماره پیش فاکتور],0)),"") -> 1404/10/02 | F14: =IFERROR(INDEX(invoice[تاریخ انقضا],MATCH($C14,invoice[شماره پیش فاکتور],0)),"") -> 46101 | G14: =IFERROR(INDEX(invoice[نوع شرکت],MATCH($C14,invoice[شماره پیش فاکتور],0)),"") -> تولید کننده | H14: =IFERROR(INDEX(invoice[میزان سفارش],MATCH($C14,invoice[شماره پیش فاکتور],0)),"") -> 500000 | I14: =IFERROR(INDEX(invoice[نوع سفارش],MATCH($C14,invoice[شماره پیش فاکتور],0)),"") -> عادی | J14: =IFERROR(INDEX(invoice[فی],MATCH($C14,invoice[شماره پیش فاکتور],0)),"") -> 130266 | K14: =IF(INDEX(Calc!$C$5:$C$40,Dashboard!$B14,1)<>"",INDEX(Calc!$C$5:$C$40,Dashboard!$B14,1),"") -> 500000 | L14: =IF(H14="","",IF(K14<>"",K14/H14,"در انتظار بارگیری")) -> 1 | M14: =IF(K14="",H14,IF(H14<>"",H14-K14,"")) -> 0 | N14: =IFERROR(INDEX(invoice[مبلغ پیش دریافت],MATCH($C14,invoice[شماره پیش فاکتور],0)),"") -> 31450000000 | O14: =SUMIF(bargiri[شماره سند مبنا],Dashboard!C14,bargiri[میزان استهلاک پیش دریافتی]) -> 31450000000 | P14: =SUMIF(bargiri[شماره سند مبنا],Dashboard!C14,bargiri[مانده مبلغ]) -> 40196300000
B15: =B14+1 -> 6 | C15: =IF(INDEX(Calc!$A$5:$A$40,$B15,1)<>"",INDEX(Calc!$A$5:$A$40,$B15,1),"") -> پ/92-1404-4 | D15: =IFERROR(INDEX(invoice[تاریخ],MATCH($C15,invoice[شماره پیش فاکتور],0)),"") -> 1404/10/02 | E15: =IFERROR(INDEX(invoice[تاریخ مجوز بهره برداری],MATCH($C15,invoice[شماره پیش فاکتور],0)),"") -> 1404/10/02 | F15: =IFERROR(INDEX(invoice[تاریخ انقضا],MATCH($C15,invoice[شماره پیش فاکتور],0)),"") -> 46422 | G15: =IFERROR(INDEX(invoice[نوع شرکت],MATCH($C15,invoice[شماره پیش فاکتور],0)),"") -> تولید کننده | H15: =IFERROR(INDEX(invoice[میزان سفارش],MATCH($C15,invoice[شماره پیش فاکتور],0)),"") -> 500000 | I15: =IFERROR(INDEX(invoice[نوع سفارش],MATCH($C15,invoice[شماره پیش فاکتور],0)),"") -> عادی | J15: =IFERROR(INDEX(invoice[فی],MATCH($C15,invoice[شماره پیش فاکتور],0)),"") -> 127675 | K15: =IF(INDEX(Calc!$C$5:$C$40,Dashboard!$B15,1)<>"",INDEX(Calc!$C$5:$C$40,Dashboard!$B15,1),"") -> 497150 | L15: =IF(H15="","",IF(K15<>"",K15/H15,"در انتظار بارگیری")) -> 0.9943 | M15: =IF(K15="",H15,IF(H15<>"",H15-K15,"")) -> 2850 | N15: =IFERROR(INDEX(invoice[مبلغ پیش دریافت],MATCH($C15,invoice[شماره پیش فاکتور],0)),"") -> 31450000000 | O15: =SUMIF(bargiri[شماره سند مبنا],Dashboard!C15,bargiri[میزان استهلاک پیش دریافتی]) -> 31450000000 | P15: =SUMIF(bargiri[شماره سند مبنا],Dashboard!C15,bargiri[مانده مبلغ]) -> 39484050000
B16: =B15+1 -> 7 | C16: =IF(INDEX(Calc!$A$5:$A$40,$B16,1)<>"",INDEX(Calc!$A$5:$A$40,$B16,1),"") | D16: =IFERROR(INDEX(invoice[تاریخ],MATCH($C16,invoice[شماره پیش فاکتور],0)),"") | E16: =IFERROR(INDEX(invoice[تاریخ مجوز بهره برداری],MATCH($C16,invoice[شماره پیش فاکتور],0)),"") | F16: =IFERROR(INDEX(invoice[تاریخ انقضا],MATCH($C16,invoice[شماره پیش فاکتور],0)),"") | G16: =IFERROR(INDEX(invoice[نوع شرکت],MATCH($C16,invoice[شماره پیش فاکتور],0)),"") | H16: =IFERROR(INDEX(invoice[میزان سفارش],MATCH($C16,invoice[شماره پیش فاکتور],0)),"") | I16: =IFERROR(INDEX(invoice[نوع سفارش],MATCH($C16,invoice[شماره پیش فاکتور],0)),"") | J16: =IFERROR(INDEX(invoice[فی],MATCH($C16,invoice[شماره پیش فاکتور],0)),"") | K16: =IF(INDEX(Calc!$C$5:$C$40,Dashboard!$B16,1)<>"",INDEX(Calc!$C$5:$C$40,Dashboard!$B16,1),"") | L16: =IF(H16="","",IF(K16<>"",K16/H16,"در انتظار بارگیری")) | M16: =IF(K16="",H16,IF(H16<>"",H16-K16,"")) | N16: =IFERROR(INDEX(invoice[مبلغ پیش دریافت],MATCH($C16,invoice[شماره پیش فاکتور],0)),"") | O16: =SUMIF(bargiri[شماره سند مبنا],Dashboard!C16,bargiri[میزان استهلاک پیش دریافتی]) -> 0 | P16: =SUMIF(bargiri[شماره سند مبنا],Dashboard!C16,bargiri[مانده مبلغ]) -> 0
B17: =B16+1 -> 8 | C17: =IF(INDEX(Calc!$A$5:$A$40,$B17,1)<>"",INDEX(Calc!$A$5:$A$40,$B17,1),"") | D17: =IFERROR(INDEX(invoice[تاریخ],MATCH($C17,invoice[شماره پیش فاکتور],0)),"") | E17: =IFERROR(INDEX(invoice[تاریخ مجوز بهره برداری],MATCH($C17,invoice[شماره پیش فاکتور],0)),"") | F17: =IFERROR(INDEX(invoice[تاریخ انقضا],MATCH($C17,invoice[شماره پیش فاکتور],0)),"") | G17: =IFERROR(INDEX(invoice[نوع شرکت],MATCH($C17,invoice[شماره پیش فاکتور],0)),"") | H17: =IFERROR(INDEX(invoice[میزان سفارش],MATCH($C17,invoice[شماره پیش فاکتور],0)),"") | I17: =IFERROR(INDEX(invoice[نوع سفارش],MATCH($C17,invoice[شماره پیش فاکتور],0)),"") | J17: =IFERROR(INDEX(invoice[فی],MATCH($C17,invoice[شماره پیش فاکتور],0)),"") | K17: =IF(INDEX(Calc!$C$5:$C$40,Dashboard!$B17,1)<>"",INDEX(Calc!$C$5:$C$40,Dashboard!$B17,1),"") | L17: =IF(H17="","",IF(K17<>"",K17/H17,"در انتظار بارگیری")) | M17: =IF(K17="",H17,IF(H17<>"",H17-K17,"")) | N17: =IFERROR(INDEX(invoice[مبلغ پیش دریافت],MATCH($C17,invoice[شماره پیش فاکتور],0)),"") | O17: =SUMIF(bargiri[شماره سند مبنا],Dashboard!C17,bargiri[میزان استهلاک پیش دریافتی]) -> 0 | P17: =SUMIF(bargiri[شماره سند مبنا],Dashboard!C17,bargiri[مانده مبلغ]) -> 0
B22: ردیف | C22: شماره حواله | D22: تاریخ بارگیری | E22: میزان بارگیری | F22: قیمت | G22: مبلغ بعلاوه ارزش افزوده | H22: استهلاک پیش دریافت | I22: مانده مبلغ | J22: تاریخ واریزی | K22: مبلغ واریزی | L22: مانده حساب باسکول | M22: توضیحات
B23: 1 | C23: =IF(INDEX(Calc!$X$6:$X$50,$B23,1)<>"",INDEX(Calc!$X$6:$X$50,$B23,1),"") -> 16 | D23: =IFERROR(INDEX(bargiri[تاریخ حواله],MATCH($C23,bargiri[شماره حواله],0)),"") -> 1405/01/31 | E23: =IFERROR(INDEX(bargiri[مقدار],MATCH($C23,bargiri[شماره حواله],0)),"") -> 20990 | F23: =IFERROR(INDEX(bargiri[فی],MATCH($C23,bargiri[شماره حواله],0)),"") -> 128971 | G23: =IFERROR(INDEX(bargiri[مبلغ خالص],MATCH($C23,bargiri[شماره حواله],0)),"") -> 2977811419 | H23: =IFERROR(INDEX(bargiri[میزان استهلاک پیش دریافتی],MATCH($C23,bargiri[شماره حواله],0)),"") -> 1320271000 | I23: =IFERROR(INDEX(bargiri[مانده مبلغ],MATCH($C23,bargiri[شماره حواله],0)),"") -> 1657540419 | J23: =IFERROR(INDEX(bargiri[تاریخ واریزی],MATCH($C23,bargiri[شماره حواله],0)),"") | K23: =IFERROR(INDEX(bargiri[مبلغ واریزی],MATCH($C23,bargiri[شماره حواله],0)),"") | L23: =IFERROR(INDEX(bargiri[مانده حساب باسکول],MATCH($C23,bargiri[شماره حواله],0)),"") -> 1657540419 | M23: =IFERROR(INDEX(bargiri[توضیحات],MATCH($C23,bargiri[شماره حواله],0)),"")
B24: =B23+1 -> 2 | C24: =IF(INDEX(Calc!$X$6:$X$50,$B24,1)<>"",INDEX(Calc!$X$6:$X$50,$B24,1),"") -> 17 | D24: =IFERROR(INDEX(bargiri[تاریخ حواله],MATCH($C24,bargiri[شماره حواله],0)),"") -> 1405/01/31 | E24: =IFERROR(INDEX(bargiri[مقدار],MATCH($C24,bargiri[شماره حواله],0)),"") -> 21010 | F24: =IFERROR(INDEX(bargiri[فی],MATCH($C24,bargiri[شماره حواله],0)),"") -> 128971 | G24: =IFERROR(INDEX(bargiri[مبلغ خالص],MATCH($C24,bargiri[شماره حواله],0)),"") -> 2980648781 | H24: =IFERROR(INDEX(bargiri[میزان استهلاک پیش دریافتی],MATCH($C24,bargiri[شماره حواله],0)),"") -> 1321529000 | I24: =IFERROR(INDEX(bargiri[مانده مبلغ],MATCH($C24,bargiri[شماره حواله],0)),"") -> 1659119781 | J24: =IFERROR(INDEX(bargiri[تاریخ واریزی],MATCH($C24,bargiri[شماره حواله],0)),"") | K24: =IFERROR(INDEX(bargiri[مبلغ واریزی],MATCH($C24,bargiri[شماره حواله],0)),"") | L24: =IFERROR(INDEX(bargiri[مانده حساب باسکول],MATCH($C24,bargiri[شماره حواله],0)),"") -> 1659119781 | M24: =IFERROR(INDEX(bargiri[توضیحات],MATCH($C24,bargiri[شماره حواله],0)),"")
B25: =B24+1 -> 3 | C25: =IF(INDEX(Calc!$X$6:$X$50,$B25,1)<>"",INDEX(Calc!$X$6:$X$50,$B25,1),"") -> 18 | D25: =IFERROR(INDEX(bargiri[تاریخ حواله],MATCH($C25,bargiri[شماره حواله],0)),"") -> 1405/02/02 | E25: =IFERROR(INDEX(bargiri[مقدار],MATCH($C25,bargiri[شماره حواله],0)),"") -> 20990 | F25: =IFERROR(INDEX(bargiri[فی],MATCH($C25,bargiri[شماره حواله],0)),"") -> 128971 | G25: =IFERROR(INDEX(bargiri[مبلغ خالص],MATCH($C25,bargiri[شماره حواله],0)),"") -> 2977811419 | H25: =IFERROR(INDEX(bargiri[میزان استهلاک پیش دریافتی],MATCH($C25,bargiri[شماره حواله],0)),"") -> 1320271000 | I25: =IFERROR(INDEX(bargiri[مانده مبلغ],MATCH($C25,bargiri[شماره حواله],0)),"") -> 1657540419 | J25: =IFERROR(INDEX(bargiri[تاریخ واریزی],MATCH($C25,bargiri[شماره حواله],0)),"") | K25: =IFERROR(INDEX(bargiri[مبلغ واریزی],MATCH($C25,bargiri[شماره حواله],0)),"") | L25: =IFERROR(INDEX(bargiri[مانده حساب باسکول],MATCH($C25,bargiri[شماره حواله],0)),"") -> 1657540419 | M25: =IFERROR(INDEX(bargiri[توضیحات],MATCH($C25,bargiri[شماره حواله],0)),"")
B26: =B25+1 -> 4 | C26: =IF(INDEX(Calc!$X$6:$X$50,$B26,1)<>"",INDEX(Calc!$X$6:$X$50,$B26,1),"") -> 19 | D26: =IFERROR(INDEX(bargiri[تاریخ حواله],MATCH($C26,bargiri[شماره حواله],0)),"") -> 1405/02/02 | E26: =IFERROR(INDEX(bargiri[مقدار],MATCH($C26,bargiri[شماره حواله],0)),"") -> 21100 | F26: =IFERROR(INDEX(bargiri[فی],MATCH($C26,bargiri[شماره حواله],0)),"") -> 128971 | G26: =IFERROR(INDEX(bargiri[مبلغ خالص],MATCH($C26,bargiri[شماره حواله],0)),"") -> 2993416910 | H26: =IFERROR(INDEX(bargiri[میزان استهلاک پیش دریافتی],MATCH($C26,bargiri[شماره حواله],0)),"") -> 1327190000 | I26: =IFERROR(INDEX(bargiri[مانده مبلغ],MATCH($C26,bargiri[شماره حواله],0)),"") -> 1666226910 | J26: =IFERROR(INDEX(bargiri[تاریخ واریزی],MATCH($C26,bargiri[شماره حواله],0)),"") -> 0 | K26: =IFERROR(INDEX(bargiri[مبلغ واریزی],MATCH($C26,bargiri[شماره حواله],0)),"") -> 0 | L26: =IFERROR(INDEX(bargiri[مانده حساب باسکول],MATCH($C26,bargiri[شماره حواله],0)),"") -> 1666226910 | M26: =IFERROR(INDEX(bargiri[توضیحات],MATCH($C26,bargiri[شماره حواله],0)),"") -> 0
B27: =B26+1 -> 5 | C27: =IF(INDEX(Calc!$X$6:$X$50,$B27,1)<>"",INDEX(Calc!$X$6:$X$50,$B27,1),"") -> 20 | D27: =IFERROR(INDEX(bargiri[تاریخ حواله],MATCH($C27,bargiri[شماره حواله],0)),"") -> 1405/02/02 | E27: =IFERROR(INDEX(bargiri[مقدار],MATCH($C27,bargiri[شماره حواله],0)),"") -> 21010 | F27: =IFERROR(INDEX(bargiri[فی],MATCH($C27,bargiri[شماره حواله],0)),"") -> 128971 | G27: =IFERROR(INDEX(bargiri[مبلغ خالص],MATCH($C27,bargiri[شماره حواله],0)),"") -> 2980648781 | H27: =IFERROR(INDEX(bargiri[میزان استهلاک پیش دریافتی],MATCH($C27,bargiri[شماره حواله],0)),"") -> 1321529000 | I27: =IFERROR(INDEX(bargiri[مانده مبلغ],MATCH($C27,bargiri[شماره حواله],0)),"") -> 1659119781 | J27: =IFERROR(INDEX(bargiri[تاریخ واریزی],MATCH($C27,bargiri[شماره حواله],0)),"") | K27: =IFERROR(INDEX(bargiri[مبلغ واریزی],MATCH($C27,bargiri[شماره حواله],0)),"") | L27: =IFERROR(INDEX(bargiri[مانده حساب باسکول],MATCH($C27,bargiri[شماره حواله],0)),"") -> 1659119781 | M27: =IFERROR(INDEX(bargiri[توضیحات],MATCH($C27,bargiri[شماره حواله],0)),"")
B28: =B27+1 -> 6 | C28: =IF(INDEX(Calc!$X$6:$X$50,$B28,1)<>"",INDEX(Calc!$X$6:$X$50,$B28,1),"") -> 21 | D28: =IFERROR(INDEX(bargiri[تاریخ حواله],MATCH($C28,bargiri[شماره حواله],0)),"") -> 1405/02/02 | E28: =IFERROR(INDEX(bargiri[مقدار],MATCH($C28,bargiri[شماره حواله],0)),"") -> 20300 | F28: =IFERROR(INDEX(bargiri[فی],MATCH($C28,bargiri[شماره حواله],0)),"") -> 128971 | G28: =IFERROR(INDEX(bargiri[مبلغ خالص],MATCH($C28,bargiri[شماره حواله],0)),"") -> 2879922430 | H28: =IFERROR(INDEX(bargiri[میزان استهلاک پیش دریافتی],MATCH($C28,bargiri[شماره حواله],0)),"") -> 1276870000 | I28: =IFERROR(INDEX(bargiri[مانده مبلغ],MATCH($C28,bargiri[شماره حواله],0)),"") -> 1603052430 | J28: =IFERROR(INDEX(bargiri[تاریخ واریزی],MATCH($C28,bargiri[شماره حواله],0)),"") -> 1404/03/01 | K28: =IFERROR(INDEX(bargiri[مبلغ واریزی],MATCH($C28,bargiri[شماره حواله],0)),"") -> 1402850625 | L28: =IFERROR(INDEX(bargiri[مانده حساب باسکول],MATCH($C28,bargiri[شماره حواله],0)),"") -> 200201805 | M28: =IFERROR(INDEX(bargiri[توضیحات],MATCH($C28,bargiri[شماره حواله],0)),"") -> 0
B29: =B28+1 -> 7 | C29: =IF(INDEX(Calc!$X$6:$X$50,$B29,1)<>"",INDEX(Calc!$X$6:$X$50,$B29,1),"") -> 22 | D29: =IFERROR(INDEX(bargiri[تاریخ حواله],MATCH($C29,bargiri[شماره حواله],0)),"") -> 1405/02/02 | E29: =IFERROR(INDEX(bargiri[مقدار],MATCH($C29,bargiri[شماره حواله],0)),"") -> 21170 | F29: =IFERROR(INDEX(bargiri[فی],MATCH($C29,bargiri[شماره حواله],0)),"") -> 128971 | G29: =IFERROR(INDEX(bargiri[مبلغ خالص],MATCH($C29,bargiri[شماره حواله],0)),"") -> 3003347677 | H29: =IFERROR(INDEX(bargiri[میزان استهلاک پیش دریافتی],MATCH($C29,bargiri[شماره حواله],0)),"") -> 1331593000 | I29: =IFERROR(INDEX(bargiri[مانده مبلغ],MATCH($C29,bargiri[شماره حواله],0)),"") -> 1671754677 | J29: =IFERROR(INDEX(bargiri[تاریخ واریزی],MATCH($C29,bargiri[شماره حواله],0)),"") -> 1404/01/11 | K29: =IFERROR(INDEX(bargiri[مبلغ واریزی],MATCH($C29,bargiri[شماره حواله],0)),"") -> 1130500000 | L29: =IFERROR(INDEX(bargiri[مانده حساب باسکول],MATCH($C29,bargiri[شماره حواله],0)),"") -> 541254677 | M29: =IFERROR(INDEX(bargiri[توضیحات],MATCH($C29,bargiri[شماره حواله],0)),"") -> 0
B30: =B29+1 -> 8 | C30: =IF(INDEX(Calc!$X$6:$X$50,$B30,1)<>"",INDEX(Calc!$X$6:$X$50,$B30,1),"") -> 23 | D30: =IFERROR(INDEX(bargiri[تاریخ حواله],MATCH($C30,bargiri[شماره حواله],0)),"") -> 1405/02/06 | E30: =IFERROR(INDEX(bargiri[مقدار],MATCH($C30,bargiri[شماره حواله],0)),"") -> 21090 | F30: =IFERROR(INDEX(bargiri[فی],MATCH($C30,bargiri[شماره حواله],0)),"") -> 128971 | G30: =IFERROR(INDEX(bargiri[مبلغ خالص],MATCH($C30,bargiri[شماره حواله],0)),"") -> 2991998229 | H30: =IFERROR(INDEX(bargiri[میزان استهلاک پیش دریافتی],MATCH($C30,bargiri[شماره حواله],0)),"") -> 1326561000 | I30: =IFERROR(INDEX(bargiri[مانده مبلغ],MATCH($C30,bargiri[شماره حواله],0)),"") -> 1665437229 | J30: =IFERROR(INDEX(bargiri[تاریخ واریزی],MATCH($C30,bargiri[شماره حواله],0)),"") | K30: =IFERROR(INDEX(bargiri[مبلغ واریزی],MATCH($C30,bargiri[شماره حواله],0)),"") | L30: =IFERROR(INDEX(bargiri[مانده حساب باسکول],MATCH($C30,bargiri[شماره حواله],0)),"") -> 1665437229 | M30: =IFERROR(INDEX(bargiri[توضیحات],MATCH($C30,bargiri[شماره حواله],0)),"")

Sheet لیست پیش فاکتورها
A1: شماره پیش فاکتور | B1: نام مشتری | C1: تاریخ | D1: تاریخ مجوز بهره برداری | E1: میزان سفارش | F1: فی | G1: ماه | H1: سال | I1: نوع سفارش | J1: نوع شرکت | K1: تاریخ انقضا | L1: % ارزش افزوده | M1: مبلغ پیش دریافت | N1: پیش دریافت به ازای هر کیلوگرم | O1: Column1 | P1: Column2 | Q1: Column3 | R1: Column4 | S1: Column5 | T1: Column6
A2: پ/19-1403 | B2: تعاونی ماهان گاز | C2: =VLOOKUP(invoice[[#This Row],[شماره پیش فاکتور]],[1]!invoice[[شماره پیش فاکتور]:[تاریخ]],3,0) -> 1403/06/07 | D2: =VLOOKUP(invoice[[#This Row],[شماره پیش فاکتور]],'[1]لیست پیش فاکتور ها'!$A:$D,4,0) -> 1403/12/04 | E2: =VLOOKUP(invoice[[#This Row],[شماره پیش فاکتور]],[1]!invoice[[شماره پیش فاکتور]:[میزان سفارش]],5,0) -> 500000 | F2: =VLOOKUP(invoice[[#This Row],[شماره پیش فاکتور]],[1]!invoice[[شماره پیش فاکتور]:[فی]],6,0) -> 70000 | G2: =CHOOSE(MID(invoice[[#This Row],[تاریخ]],6,2),"فروردین","اردیبهشت","خرداد","تیر","مرداد","شهریور","مهر","آبان","آذر","دی","بهمن","اسفند") -> شهریور | H2: =_xlfn.NUMBERVALUE(MID(invoice[[#This Row],[تاریخ]],1,4)) -> 1403 | I2: =VLOOKUP(invoice[[#This Row],[شماره پیش فاکتور]],[1]!invoice[[شماره پیش فاکتور]:[نوع سفارش]],9,0) -> عادی | J2: =VLOOKUP(invoice[[#This Row],[شماره پیش فاکتور]],[1]!invoice[[شماره پیش فاکتور]:[نوع شرکت]],10,0) -> تولید کننده | K2: 46101 | L2: 0.1 | M2: 19250000000 | N2: =invoice[[#This Row],[مبلغ پیش دریافت]]/invoice[[#This Row],[میزان سفارش]] -> 38500 | O2: =SUMIF([1]!bargiri[شماره پیش فاکتور],[1]!invoice[[#This Row],[شماره پیش فاکتور]],[1]!bargiri[میزان بارگیری شده])/[1]!invoice[[#This Row],[میزان سفارش]] -> 1.00339 | P2: =VLOOKUP(invoice[[#This Row],[شماره پیش فاکتور]],[1]!invoice[[شماره پیش فاکتور]:[نوع سفارش]],9,0) -> عادی | Q2: =SUMIFS('[1]جزییات بارگیری'!D:D,'[1]جزییات بارگیری'!C:C,[1]!invoice[[#This Row],[شماره پیش فاکتور]]) -> 501695 | R2: =IF([1]!invoice[[#This Row],[میزان سفارش]]-[1]!invoice[[#This Row],[میزان حمل شده ]]<0,0,[1]!invoice[[#This Row],[میزان سفارش]]-[1]!invoice[[#This Row],[میزان حمل شده ]]) -> 0 | S2: =[1]!invoice[[#This Row],[میزان حمل نشده ]]*[1]!invoice[[#This Row],[فی]] -> 0
A3: پ/21-1403 | B3: شرکت گروه صنعتی پاژ گاز خراسان | C3: =VLOOKUP(invoice[[#This Row],[شماره پیش فاکتور]],[1]!invoice[[شماره پیش فاکتور]:[تاریخ]],3,0) -> 1403/06/20 | D3: =VLOOKUP(invoice[[#This Row],[شماره پیش فاکتور]],'[1]لیست پیش فاکتور ها'!$A:$D,4,0) -> 1403/09/05 | E3: =VLOOKUP(invoice[[#This Row],[شماره پیش فاکتور]],[1]!invoice[[شماره پیش فاکتور]:[میزان سفارش]],5,0) -> 999320 | F3: =VLOOKUP(invoice[[#This Row],[شماره پیش فاکتور]],[1]!invoice[[شماره پیش فاکتور]:[فی]],6,0) -> 75000 | G3: =CHOOSE(MID(invoice[[#This Row],[تاریخ]],6,2),"فروردین","اردیبهشت","خرداد","تیر","مرداد","شهریور","مهر","آبان","آذر","دی","بهمن","اسفند") -> شهریور | H3: =_xlfn.NUMBERVALUE(MID(invoice[[#This Row],[تاریخ]],1,4)) -> 1403 | I3: =VLOOKUP(invoice[[#This Row],[شماره پیش فاکتور]],[1]!invoice[[شماره پیش فاکتور]:[نوع سفارش]],9,0) -> عادی | J3: =VLOOKUP(invoice[[#This Row],[شماره پیش فاکتور]],[1]!invoice[[شماره پیش فاکتور]:[نوع شرکت]],10,0) -> تولید کننده | K3: 46101 | L3: 0.1 | M3: 15000000000 | N3: =invoice[[#This Row],[مبلغ پیش دریافت]]/invoice[[#This Row],[میزان سفارش]] -> 15010.207 | O3: =SUMIF([1]!bargiri[شماره پیش فاکتور],[1]!invoice[[#This Row],[شماره پیش فاکتور]],[1]!bargiri[میزان بارگیری شده])/[1]!invoice[[#This Row],[میزان سفارش]] -> 1.001955 | P3: =VLOOKUP(invoice[[#This Row],[شماره پیش فاکتور]],[1]!invoice[[شماره پیش فاکتور]:[نوع سفارش]],9,0) -> عادی | Q3: =SUMIFS('[1]جزییات بارگیری'!D:D,'[1]جزییات بارگیری'!C:C,[1]!invoice[[#This Row],[شماره پیش فاکتور]]) -> 1001955 | R3: =IF([1]!invoice[[#This Row],[میزان سفارش]]-[1]!invoice[[#This Row],[میزان حمل شده ]]<0,0,[1]!invoice[[#This Row],[میزان سفارش]]-[1]!invoice[[#This Row],[میزان حمل شده ]]) -> 0 | S3: =[1]!invoice[[#This Row],[میزان حمل نشده ]]*[1]!invoice[[#This Row],[فی]] -> 0
A4: پ/23-1403 | B4: پاینده ساز فردوس | C4: =VLOOKUP(invoice[[#This Row],[شماره پیش فاکتور]],[1]!invoice[[شماره پیش فاکتور]:[تاریخ]],3,0) -> 1403/07/14 | D4: =VLOOKUP(invoice[[#This Row],[شماره پیش فاکتور]],'[1]لیست پیش فاکتور ها'!$A:$D,4,0) -> 1403/10/20 | E4: =VLOOKUP(invoice[[#This Row],[شماره پیش فاکتور]],[1]!invoice[[شماره پیش فاکتور]:[میزان سفارش]],5,0) -> 500000 | F4: =VLOOKUP(invoice[[#This Row],[شماره پیش فاکتور]],[1]!invoice[[شماره پیش فاکتور]:[فی]],6,0) -> 75000 | G4: =CHOOSE(MID(invoice[[#This Row],[تاریخ]],6,2),"فروردین","اردیبهشت","خرداد","تیر","مرداد","شهریور","مهر","آبان","آذر","دی","بهمن","اسفند") -> مهر | H4: =_xlfn.NUMBERVALUE(MID(invoice[[#This Row],[تاریخ]],1,4)) -> 1403 | I4: =VLOOKUP(invoice[[#This Row],[شماره پیش فاکتور]],[1]!invoice[[شماره پیش فاکتور]:[نوع سفارش]],9,0) -> عادی | J4: =VLOOKUP(invoice[[#This Row],[شماره پیش فاکتور]],[1]!invoice[[شماره پیش فاکتور]:[نوع شرکت]],10,0) -> تولید کننده | K4: 46101 | L4: 0.1 | M4: 6187500000 | N4: =invoice[[#This Row],[مبلغ پیش دریافت]]/invoice[[#This Row],[میزان سفارش]] -> 12375 | O4: =SUMIF([1]!bargiri[شماره پیش فاکتور],[1]!invoice[[#This Row],[شماره پیش فاکتور]],[1]!bargiri[میزان بارگیری شده])/[1]!invoice[[#This Row],[میزان سفارش]] -> 1.0004317 | P4: =VLOOKUP(invoice[[#This Row],[شماره پیش فاکتور]],[1]!invoice[[شماره پیش فاکتور]:[نوع سفارش]],9,0) -> عادی | Q4: =SUMIFS('[1]جزییات بارگیری'!D:D,'[1]جزییات بارگیری'!C:C,[1]!invoice[[#This Row],[شماره پیش فاکتور]]) -> 162210 | R4: =IF([1]!invoice[[#This Row],[میزان سفارش]]-[1]!invoice[[#This Row],[میزان حمل شده ]]<0,0,[1]!invoice[[#This Row],[میزان سفارش]]-[1]!invoice[[#This Row],[میزان حمل شده ]]) -> 0 | S4: =[1]!invoice[[#This Row],[میزان حمل نشده ]]*[1]!invoice[[#This Row],[فی]] -> 0
A5: پ/24-1403 | B5: کوشا تجارت زاگرس | C5: =VLOOKUP(invoice[[#This Row],[شماره پیش فاکتور]],[1]!invoice[[شماره پیش فاکتور]:[تاریخ]],3,0) -> 1403/07/23 | D5: =VLOOKUP(invoice[[#This Row],[شماره پیش فاکتور]],'[1]لیست پیش فاکتور ها'!$A:$D,4,0) -> 1403/09/18 | E5: =VLOOKUP(invoice[[#This Row],[شماره پیش فاکتور]],[1]!invoice[[شماره پیش فاکتور]:[میزان سفارش]],5,0) -> 417970 | F5: =VLOOKUP(invoice[[#This Row],[شماره پیش فاکتور]],[1]!invoice[[شماره پیش فاکتور]:[فی]],6,0) -> 80000 | G5: =CHOOSE(MID(invoice[[#This Row],[تاریخ]],6,2),"فروردین","اردیبهشت","خرداد","تیر","مرداد","شهریور","مهر","آبان","آذر","دی","بهمن","اسفند") -> مهر | H5: =_xlfn.NUMBERVALUE(MID(invoice[[#This Row],[تاریخ]],1,4)) -> 1403 | I5: =VLOOKUP(invoice[[#This Row],[شماره پیش فاکتور]],[1]!invoice[[شماره پیش فاکتور]:[نوع سفارش]],9,0) -> عادی | J5: =VLOOKUP(invoice[[#This Row],[شماره پیش فاکتور]],[1]!invoice[[شماره پیش فاکتور]:[نوع شرکت]],10,0) -> واسطه | K5: 46101 | L5: 0.1 | M5: 5544000000 | N5: =invoice[[#This Row],[مبلغ پیش دریافت]]/invoice[[#This Row],[میزان سفارش]] -> 13264.11 | O5: =SUMIF([1]!bargiri[شماره پیش فاکتور],[1]!invoice[[#This Row],[شماره پیش فاکتور]],[1]!bargiri[میزان بارگیری شده])/[1]!invoice[[#This Row],[میزان سفارش]] -> 1 | P5: =VLOOKUP(invoice[[#This Row],[شماره پیش فاکتور]],[1]!invoice[[شماره پیش فاکتور]:[نوع سفارش]],9,0) -> عادی | Q5: =SUMIFS('[1]جزییات بارگیری'!D:D,'[1]جزییات بارگیری'!C:C,[1]!invoice[[#This Row],[شماره پیش فاکتور]]) -> 300000 | R5: =IF([1]!invoice[[#This Row],[میزان سفارش]]-[1]!invoice[[#This Row],[میزان حمل شده ]]<0,0,[1]!invoice[[#This Row],[میزان سفارش]]-[1]!invoice[[#This Row],[میزان حمل شده ]]) -> 0 | S5: =[1]!invoice[[#This Row],[میزان حمل نشده ]]*[1]!invoice[[#This Row],[فی]] -> 0
A6: پ/31-1403 | B6: تولید گازهای طبی و صنعتی مددکاران اصفهان | C6: =VLOOKUP(invoice[[#This Row],[شماره پیش فاکتور]],[1]!invoice[[شماره پیش فاکتور]:[تاریخ]],3,0) -> 1403/09/27 | D6: =VLOOKUP(invoice[[#This Row],[شماره پیش فاکتور]],'[1]لیست پیش فاکتور ها'!$A:$D,4,0) -> 1403/11/16 | E6: =VLOOKUP(invoice[[#This Row],[شماره پیش فاکتور]],[1]!invoice[[شماره پیش فاکتور]:[میزان سفارش]],5,0) -> 299978 | F6: =VLOOKUP(invoice[[#This Row],[شماره پیش فاکتور]],[1]!invoice[[شماره پیش فاکتور]:[فی]],6,0) -> 75000 | G6: =CHOOSE(MID(invoice[[#This Row],[تاریخ]],6,2),"فروردین","اردیبهشت","خرداد","تیر","مرداد","شهریور","مهر","آبان","آذر","دی","بهمن","اسفند") -> آذر | H6: =_xlfn.NUMBERVALUE(MID(invoice[[#This Row],[تاریخ]],1,4)) -> 1403 | I6: =VLOOKUP(invoice[[#This Row],[شماره پیش فاکتور]],[1]!invoice[[شماره پیش فاکتور]:[نوع سفارش]],9,0) -> عادی | J6: =VLOOKUP(invoice[[#This Row],[شماره پیش فاکتور]],[1]!invoice[[شماره پیش فاکتور]:[نوع شرکت]],10,0) -> تولید کننده | K6: 46101 | L6: 0.1 | M6: 3712500000 | N6: =invoice[[#This Row],[مبلغ پیش دریافت]]/invoice[[#This Row],[میزان سفارش]] -> 12375.908 | O6: =SUMIF([1]!bargiri[شماره پیش فاکتور],[1]!invoice[[#This Row],[شماره پیش فاکتور]],[1]!bargiri[میزان بارگیری شده])/[1]!invoice[[#This Row],[میزان سفارش]] -> 1 | P6: =VLOOKUP(invoice[[#This Row],[شماره پیش فاکتور]],[1]!invoice[[شماره پیش فاکتور]:[نوع سفارش]],9,0) -> عادی | Q6: =SUMIFS('[1]جزییات بارگیری'!D:D,'[1]جزییات بارگیری'!C:C,[1]!invoice[[#This Row],[شماره پیش فاکتور]]) -> 76560 | R6: =IF([1]!invoice[[#This Row],[میزان سفارش]]-[1]!invoice[[#This Row],[میزان حمل شده ]]<0,0,[1]!invoice[[#This Row],[میزان سفارش]]-[1]!invoice[[#This Row],[میزان حمل شده ]]) -> 0 | S6: =[1]!invoice[[#This Row],[میزان حمل نشده ]]*[1]!invoice[[#This Row],[فی]] -> 0
A7: پ/34-1403 | B7: گاز کربنیک غرب | C7: =VLOOKUP(invoice[[#This Row],[شماره پیش فاکتور]],[1]!invoice[[شماره پیش فاکتور]:[تاریخ]],3,0) -> 1403/09/27 | D7: =VLOOKUP(invoice[[#This Row],[شماره پیش فاکتور]],'[1]لیست پیش فاکتور ها'!$A:$D,4,0) -> 1403/10/08 | E7: =VLOOKUP(invoice[[#This Row],[شماره پیش فاکتور]],[1]!invoice[[شماره پیش فاکتور]:[میزان سفارش]],5,0) -> 400000 | F7: =VLOOKUP(invoice[[#This Row],[شماره پیش فاکتور]],[1]!invoice[[شماره پیش فاکتور]:[فی]],6,0) -> 75000 | G7: =CHOOSE(MID(invoice[[#This Row],[تاریخ]],6,2),"فروردین","اردیبهشت","خرداد","تیر","مرداد","شهریور","مهر","آبان","آذر","دی","بهمن","اسفند") -> آذر | H7: =_xlfn.NUMBERVALUE(MID(invoice[[#This Row],[تاریخ]],1,4)) -> 1403 | I7: =VLOOKUP(invoice[[#This Row],[شماره پیش فاکتور]],[1]!invoice[[شماره پیش فاکتور]:[نوع سفارش]],9,0) -> عادی | J7: =VLOOKUP(invoice[[#This Row],[شماره پیش فاکتور]],[1]!invoice[[شماره پیش فاکتور]:[نوع شرکت]],10,0) -> تولید کننده | K7: 46101 | L7: 0.1 | M7: 4950000000 | N7: =invoice[[#This Row],[مبلغ پیش دریافت]]/invoice[[#This Row],[میزان سفارش]] -> 12375 | O7: =SUMIF([1]!bargiri[شماره پیش فاکتور],[1]!invoice[[#This Row],[شماره پیش فاکتور]],[1]!bargiri[میزان بارگیری شده])/[1]!invoice[[#This Row],[میزان سفارش]] -> 1 | P7: =VLOOKUP(invoice[[#This Row],[شماره پیش فاکتور]],[1]!invoice[[شماره پیش فاکتور]:[نوع سفارش]],9,0) -> عادی | Q7: =SUMIFS('[1]جزییات بارگیری'!D:D,'[1]جزییات بارگیری'!C:C,[1]!invoice[[#This Row],[شماره پیش فاکتور]]) -> 99340 | R7: =IF([1]!invoice[[#This Row],[میزان سفارش]]-[1]!invoice[[#This Row],[میزان حمل شده ]]<0,0,[1]!invoice[[#This Row],[میزان سفارش]]-[1]!invoice[[#This Row],[میزان حمل شده ]]) -> 0 | S7: =[1]!invoice[[#This Row],[میزان حمل نشده ]]*[1]!invoice[[#This Row],[فی]] -> 0
A8: پ/39-1403 | B8: گروه صنایع شیمیایی به آفرین گاز تیسفون | C8: =VLOOKUP(invoice[[#This Row],[شماره پیش فاکتور]],[1]!invoice[[شماره پیش فاکتور]:[تاریخ]],3,0) -> 1403/10/03 | D8: =VLOOKUP(invoice[[#This Row],[شماره پیش فاکتور]],'[1]لیست پیش فاکتور ها'!$A:$D,4,0) -> 1403/10/04 | E8: =VLOOKUP(invoice[[#This Row],[شماره پیش فاکتور]],[1]!invoice[[شماره پیش فاکتور]:[میزان سفارش]],5,0) -> 68110 | F8: =VLOOKUP(invoice[[#This Row],[شماره پیش فاکتور]],[1]!invoice[[شماره پیش فاکتور]:[فی]],6,0) -> 75000 | G8: =CHOOSE(MID(invoice[[#This Row],[تاریخ]],6,2),"فروردین","اردیبهشت","خرداد","تیر","مرداد","شهریور","مهر","آبان","آذر","دی","بهمن","اسفند") -> دی | H8: =_xlfn.NUMBERVALUE(MID(invoice[[#This Row],[تاریخ]],1,4)) -> 1403 | I8: =VLOOKUP(invoice[[#This Row],[شماره پیش فاکتور]],[1]!invoice[[شماره پیش فاکتور]:[نوع سفارش]],9,0) -> عادی | J8: =VLOOKUP(invoice[[#This Row],[شماره پیش فاکتور]],[1]!invoice[[شماره پیش فاکتور]:[نوع شرکت]],10,0) -> واسطه | K8: 46101 | L8: 0.1 | M8: 1485000000 | N8: =invoice[[#This Row],[مبلغ پیش دریافت]]/invoice[[#This Row],[میزان سفارش]] -> 21802.966 | O8: =SUMIF([1]!bargiri[شماره پیش فاکتور],[1]!invoice[[#This Row],[شماره پیش فاکتور]],[1]!bargiri[میزان بارگیری شده])/[1]!invoice[[#This Row],[میزان سفارش]] -> 1 | P8: =VLOOKUP(invoice[[#This Row],[شماره پیش فاکتور]],[1]!invoice[[شماره پیش فاکتور]:[نوع سفارش]],9,0) -> عادی | Q8: =SUMIFS('[1]جزییات بارگیری'!D:D,'[1]جزییات بارگیری'!C:C,[1]!invoice[[#This Row],[شماره پیش فاکتور]]) -> 76730 | R8: =IF([1]!invoice[[#This Row],[میزان سفارش]]-[1]!invoice[[#This Row],[میزان حمل شده ]]<0,0,[1]!invoice[[#This Row],[میزان سفارش]]-[1]!invoice[[#This Row],[میزان حمل شده ]]) -> 0 | S8: =[1]!invoice[[#This Row],[میزان حمل نشده ]]*[1]!invoice[[#This Row],[فی]] -> 0
A9: پ/40-1403 | B9: رهام گاز | C9: =VLOOKUP(invoice[[#This Row],[شماره پیش فاکتور]],[1]!invoice[[شماره پیش فاکتور]:[تاریخ]],3,0) -> 1403/10/11 | D9: =VLOOKUP(invoice[[#This Row],[شماره پیش فاکتور]],'[1]لیست پیش فاکتور ها'!$A:$D,4,0) -> 1403/11/29 | E9: =VLOOKUP(invoice[[#This Row],[شماره پیش فاکتور]],[1]!invoice[[شماره پیش فاکتور]:[میزان سفارش]],5,0) -> 39915 | F9: =VLOOKUP(invoice[[#This Row],[شماره پیش فاکتور]],[1]!invoice[[شماره پیش فاکتور]:[فی]],6,0) -> 90000 | G9: =CHOOSE(MID(invoice[[#This Row],[تاریخ]],6,2),"فروردین","اردیبهشت","خرداد","تیر","مرداد","شهریور","مهر","آبان","آذر","دی","بهمن","اسفند") -> دی | H9: =_xlfn.NUMBERVALUE(MID(invoice[[#This Row],[تاریخ]],1,4)) -> 1403 | I9: =VLOOKUP(invoice[[#This Row],[شماره پیش فاکتور]],[1]!invoice[[شماره پیش فاکتور]:[نوع سفارش]],9,0) -> عادی | J9: =VLOOKUP(invoice[[#This Row],[شماره پیش فاکتور]],[1]!invoice[[شماره پیش فاکتور]:[نوع شرکت]],10,0) -> واسطه | K9: 46101 | L9: 0.1 | M9: 594000000 | N9: =invoice[[#This Row],[مبلغ پیش دریافت]]/invoice[[#This Row],[میزان سفارش]] -> 14881.623 | O9: =SUMIF([1]!bargiri[شماره پیش فاکتور],[1]!invoice[[#This Row],[شماره پیش فاکتور]],[1]!bargiri[میزان بارگیری شده])/[1]!invoice[[#This Row],[میزان سفارش]] -> 1 | P9: =VLOOKUP(invoice[[#This Row],[شماره پیش فاکتور]],[1]!invoice[[شماره پیش فاکتور]:[نوع سفارش]],9,0) -> عادی | Q9: =SUMIFS('[1]جزییات بارگیری'!D:D,'[1]جزییات بارگیری'!C:C,[1]!invoice[[#This Row],[شماره پیش فاکتور]]) -> 101000 | R9: =IF([1]!invoice[[#This Row],[میزان سفارش]]-[1]!invoice[[#This Row],[میزان حمل شده ]]<0,0,[1]!invoice[[#This Row],[میزان سفارش]]-[1]!invoice[[#This Row],[میزان حمل شده ]]) -> 0 | S9: =[1]!invoice[[#This Row],[میزان حمل نشده ]]*[1]!invoice[[#This Row],[فی]] -> 0
A10: پ/36-1403 | B10: طاها اندیشان همپای البرز | C10: =VLOOKUP(invoice[[#This Row],[شماره پیش فاکتور]],[1]!invoice[[شماره پیش فاکتور]:[تاریخ]],3,0) -> 1403/10/11 | D10: =VLOOKUP(invoice[[#This Row],[شماره پیش فاکتور]],'[1]لیست پیش فاکتور ها'!$A:$D,4,0) -> 1403/10/28 | E10: =VLOOKUP(invoice[[#This Row],[شماره پیش فاکتور]],[1]!invoice[[شماره پیش فاکتور]:[میزان سفارش]],5,0) -> 300000 | F10: =VLOOKUP(invoice[[#This Row],[شماره پیش فاکتور]],[1]!invoice[[شماره پیش فاکتور]:[فی]],6,0) -> 75000 | G10: =CHOOSE(MID(invoice[[#This Row],[تاریخ]],6,2),"فروردین","اردیبهشت","خرداد","تیر","مرداد","شهریور","مهر","آبان","آذر","دی","بهمن","اسفند") -> دی | H10: =_xlfn.NUMBERVALUE(MID(invoice[[#This Row],[تاریخ]],1,4)) -> 1403 | I10: =VLOOKUP(invoice[[#This Row],[شماره پیش فاکتور]],[1]!invoice[[شماره پیش فاکتور]:[نوع سفارش]],9,0) -> عادی | J10: =VLOOKUP(invoice[[#This Row],[شماره پیش فاکتور]],[1]!invoice[[شماره پیش فاکتور]:[نوع شرکت]],10,0) -> واسطه | K10: 46101 | L10: 0.1 | M10: 3712500000 | N10: =invoice[[#This Row],[مبلغ پیش دریافت]]/invoice[[#This Row],[میزان سفارش]] -> 12375 | O10: =SUMIF([1]!bargiri[شماره پیش فاکتور],[1]!invoice[[#This Row],[شماره پیش فاکتور]],[1]!bargiri[میزان بارگیری شده])/[1]!invoice[[#This Row],[میزان سفارش]] -> 1 | P10: =VLOOKUP(invoice[[#This Row],[شماره پیش فاکتور]],[1]!invoice[[شماره پیش فاکتور]:[نوع سفارش]],9,0) -> عادی | Q10: =SUMIFS('[1]جزییات بارگیری'!D:D,'[1]جزییات بارگیری'!C:C,[1]!invoice[[#This Row],[شماره پیش فاکتور]]) -> 100000 | R10: =IF([1]!invoice[[#This Row],[میزان سفارش]]-[1]!invoice[[#This Row],[میزان حمل شده ]]<0,0,[1]!invoice[[#This Row],[میزان سفارش]]-[1]!invoice[[#This Row],[میزان حمل شده ]]) -> 0 | S10: =[1]!invoice[[#This Row],[میزان حمل نشده ]]*[1]!invoice[[#This Row],[فی]] -> 0
A11: پ/47-1403 | B11: تولیدی گازهای طبی و صنعتی طوس سبزوار | C11: =VLOOKUP(invoice[[#This Row],[شماره پیش فاکتور]],[1]!invoice[[شماره پیش فاکتور]:[تاریخ]],3,0) -> 1403/10/29 | D11: =VLOOKUP(invoice[[#This Row],[شماره پیش فاکتور]],'[1]لیست پیش فاکتور ها'!$A:$D,4,0) -> 1403/12/22 | E11: =VLOOKUP(invoice[[#This Row],[شماره پیش فاکتور]],[1]!invoice[[شماره پیش فاکتور]:[میزان سفارش]],5,0) -> 85900 | F11: =VLOOKUP(invoice[[#This Row],[شماره پیش فاکتور]],[1]!invoice[[شماره پیش فاکتور]:[فی]],6,0) -> 65000 | G11: =CHOOSE(MID(invoice[[#This Row],[تاریخ]],6,2),"فروردین","اردیبهشت","خرداد","تیر","مرداد","شهریور","مهر","آبان","آذر","دی","بهمن","اسفند") -> دی | H11: =_xlfn.NUMBERVALUE(MID(invoice[[#This Row],[تاریخ]],1,4)) -> 1403 | I11: =VLOOKUP(invoice[[#This Row],[شماره پیش فاکتور]],[1]!invoice[[شماره پیش فاکتور]:[نوع سفارش]],9,0) -> تعادلی | J11: =VLOOKUP(invoice[[#This Row],[شماره پیش فاکتور]],[1]!invoice[[شماره پیش فاکتور]:[نوع شرکت]],10,0) -> تولید کننده | K11: 46101 | L11: 0.1 | M11: 921277500 | N11: =invoice[[#This Row],[مبلغ پیش دریافت]]/invoice[[#This Row],[میزان سفارش]] -> 10725 | O11: =SUMIF([1]!bargiri[شماره پیش فاکتور],[1]!invoice[[#This Row],[شماره پیش فاکتور]],[1]!bargiri[میزان بارگیری شده])/[1]!invoice[[#This Row],[میزان سفارش]] -> 1 | P11: =VLOOKUP(invoice[[#This Row],[شماره پیش فاکتور]],[1]!invoice[[شماره پیش فاکتور]:[نوع سفارش]],9,0) -> تعادلی | Q11: =SUMIFS('[1]جزییات بارگیری'!D:D,'[1]جزییات بارگیری'!C:C,[1]!invoice[[#This Row],[شماره پیش فاکتور]]) -> 902430 | R11: =IF([1]!invoice[[#This Row],[میزان سفارش]]-[1]!invoice[[#This Row],[میزان حمل شده ]]<0,0,[1]!invoice[[#This Row],[میزان سفارش]]-[1]!invoice[[#This Row],[میزان حمل شده ]]) -> 0 | S11: =[1]!invoice[[#This Row],[میزان حمل نشده ]]*[1]!invoice[[#This Row],[فی]] -> 0
A12: پ/48-1403 | B12: خوش نوش همدان | C12: =VLOOKUP(invoice[[#This Row],[شماره پیش فاکتور]],[1]!invoice[[شماره پیش فاکتور]:[تاریخ]],3,0) -> 1403/10/29 | D12: =VLOOKUP(invoice[[#This Row],[شماره پیش فاکتور]],'[1]لیست پیش فاکتور ها'!$A:$D,4,0) -> 1403/11/15 | E12: =VLOOKUP(invoice[[#This Row],[شماره پیش فاکتور]],[1]!invoice[[شماره پیش فاکتور]:[میزان سفارش]],5,0) -> 300000 | F12: =VLOOKUP(invoice[[#This Row],[شماره پیش فاکتور]],[1]!invoice[[شماره پیش فاکتور]:[فی]],6,0) -> 80000 | G12: =CHOOSE(MID(invoice[[#This Row],[تاریخ]],6,2),"فروردین","اردیبهشت","خرداد","تیر","مرداد","شهریور","مهر","آبان","آذر","دی","بهمن","اسفند") -> دی | H12: =_xlfn.NUMBERVALUE(MID(invoice[[#This Row],[تاریخ]],1,4)) -> 1403 | I12: =VLOOKUP(invoice[[#This Row],[شماره پیش فاکتور]],[1]!invoice[[شماره پیش فاکتور]:[نوع سفارش]],9,0) -> عادی | J12: =VLOOKUP(invoice[[#This Row],[شماره پیش فاکتور]],[1]!invoice[[شماره پیش فاکتور]:[نوع شرکت]],10,0) -> تولید کننده | K12: 46101 | L12: 0.1 | M12: 5280000000 | N12: =invoice[[#This Row],[مبلغ پیش دریافت]]/invoice[[#This Row],[میزان سفارش]] -> 17600 | O12: =SUMIF([1]!bargiri[شماره پیش فاکتور],[1]!invoice[[#This Row],[شماره پیش فاکتور]],[1]!bargiri[میزان بارگیری شده])/[1]!invoice[[#This Row],[میزان سفارش]] -> 1 | P12: =VLOOKUP(invoice[[#This Row],[شماره پیش فاکتور]],[1]!invoice[[شماره پیش فاکتور]:[نوع سفارش]],9,0) -> عادی | Q12: =SUMIFS('[1]جزییات بارگیری'!D:D,'[1]جزییات بارگیری'!C:C,[1]!invoice[[#This Row],[شماره پیش فاکتور]]) -> 100000 | R12: =IF([1]!invoice[[#This Row],[میزان سفارش]]-[1]!invoice[[#This Row],[میزان حمل شده ]]<0,0,[1]!invoice[[#This Row],[میزان سفارش]]-[1]!invoice[[#This Row],[میزان حمل شده ]]) -> 0 | S12: =[1]!invoice[[#This Row],[میزان حمل نشده ]]*[1]!invoice[[#This Row],[فی]] -> 0
A13: پ/32-1403 | B13: خوش نوش همدان | C13: =VLOOKUP(invoice[[#This Row],[شماره پیش فاکتور]],[1]!invoice[[شماره پیش فاکتور]:[تاریخ]],3,0) -> 1403/11/03 | D13: =VLOOKUP(invoice[[#This Row],[شماره پیش فاکتور]],'[1]لیست پیش فاکتور ها'!$A:$D,4,0) -> 1403/11/03 | E13: =VLOOKUP(invoice[[#This Row],[شماره پیش فاکتور]],[1]!invoice[[شماره پیش فاکتور]:[میزان سفارش]],5,0) -> 1000000 | F13: =VLOOKUP(invoice[[#This Row],[شماره پیش فاکتور]],[1]!invoice[[شماره پیش فاکتور]:[فی]],6,0) -> 80000 | G13: =CHOOSE(MID(invoice[[#This Row],[تاریخ]],6,2),"فروردین","اردیبهشت","خرداد","تیر","مرداد","شهریور","مهر","آبان","آذر","دی","بهمن","اسفند") -> بهمن | H13: =_xlfn.NUMBERVALUE(MID(invoice[[#This Row],[تاریخ]],1,4)) -> 1403 | I13: =VLOOKUP(invoice[[#This Row],[شماره پیش فاکتور]],[1]!invoice[[شماره پیش فاکتور]:[نوع سفارش]],9,0) -> عادی | J13: =VLOOKUP(invoice[[#This Row],[شماره پیش فاکتور]],[1]!invoice[[شماره پیش فاکتور]:[نوع شرکت]],10,0) -> تولید کننده | K13: 46101 | L13: 0.1 | M13: 17600000000 | N13: =invoice[[#This Row],[مبلغ پیش دریافت]]/invoice[[#This Row],[میزان سفارش]] -> 17600 | O13: =SUMIF([1]!bargiri[شماره پیش فاکتور],[1]!invoice[[#This Row],[شماره پیش فاکتور]],[1]!bargiri[میزان بارگیری شده])/[1]!invoice[[#This Row],[میزان سفارش]] -> 1 | P13: =VLOOKUP(invoice[[#This Row],[شماره پیش فاکتور]],[1]!invoice[[شماره پیش فاکتور]:[نوع سفارش]],9,0) -> عادی | Q13: =SUMIFS('[1]جزییات بارگیری'!D:D,'[1]جزییات بارگیری'!C:C,[1]!invoice[[#This Row],[شماره پیش فاکتور]]) -> 3550 | R13: =IF([1]!invoice[[#This Row],[میزان سفارش]]-[1]!invoice[[#This Row],[میزان حمل شده ]]<0,0,[1]!invoice[[#This Row],[میزان سفارش]]-[1]!invoice[[#This Row],[میزان حمل شده ]]) -> 0 | S13: =[1]!invoice[[#This Row],[میزان حمل نشده ]]*[1]!invoice[[#This Row],[فی]] -> 0
... A44: الحاقیه پ/39-1403 | B44: گروه صنایع شیمیایی به آفرین گاز تیسفون | C44: =VLOOKUP(invoice[[#This Row],[شماره پیش فاکتور]],[1]!invoice[[شماره پیش فاکتور]:[تاریخ]],3,0) -> 1404/02/01 | D44: =VLOOKUP(invoice[[#This Row],[شماره پیش فاکتور]],'[1]لیست پیش فاکتور ها'!$A:$D,4,0) -> 1404/02/01 | E44: =VLOOKUP(invoice[[#This Row],[شماره پیش فاکتور]],[1]!invoice[[شماره پیش فاکتور]:[میزان سفارش]],5,0) -> 51890 | F44: =VLOOKUP(invoice[[#This Row],[شماره پیش فاکتور]],[1]!invoice[[شماره پیش فاکتور]:[فی]],6,0) -> 100000 | G44: =CHOOSE(MID(invoice[[#This Row],[تاریخ]],6,2),"فروردین","اردیبهشت","خرداد","تیر","مرداد","شهریور","مهر","آبان","آذر","دی","بهمن","اسفند") -> اردیبهشت | H44: =_xlfn.NUMBERVALUE(MID(invoice[[#This Row],[تاریخ]],1,4)) -> 1404 | I44: =VLOOKUP(invoice[[#This Row],[شماره پیش فاکتور]],[1]!invoice[[شماره پیش فاکتور]:[نوع سفارش]],9,0) -> عادی | J44: =VLOOKUP(invoice[[#This Row],[شماره پیش فاکتور]],[1]!invoice[[شماره پیش فاکتور]:[نوع شرکت]],10,0) -> واسطه | K44: 45922 | L44: 0.1 | M44: 905685000 | N44: =invoice[[#This Row],[مبلغ پیش دریافت]]/invoice[[#This Row],[میزان سفارش]] -> 17453.941 | O44: =SUMIF([1]!bargiri[شماره پیش فاکتور],[1]!invoice[[#This Row],[شماره پیش فاکتور]],[1]!bargiri[میزان بارگیری شده])/[1]!invoice[[#This Row],[میزان سفارش]] -> 1 | P44: =VLOOKUP(invoice[[#This Row],[شماره پیش فاکتور]],[1]!invoice[[شماره پیش فاکتور]:[نوع سفارش]],9,0) -> عادی | Q44: =SUMIFS('[1]جزییات بارگیری'!D:D,'[1]جزییات بارگیری'!C:C,[1]!invoice[[#This Row],[شماره پیش فاکتور]]) -> 50000 | R44: =IF([1]!invoice[[#This Row],[میزان سفارش]]-[1]!invoice[[#This Row],[میزان حمل شده ]]<0,0,[1]!invoice[[#This Row],[میزان سفارش]]-[1]!invoice[[#This Row],[میزان حمل شده ]]) -> 0 | S44: =[1]!invoice[[#This Row],[میزان حمل نشده ]]*[1]!invoice[[#This Row],[فی]] -> 0
A45: پ/02-1404 | B45: طوس قزوین | C45: =VLOOKUP(invoice[[#This Row],[شماره پیش فاکتور]],[1]!invoice[[شماره پیش فاکتور]:[تاریخ]],3,0) -> 1404/02/03 | D45: =VLOOKUP(invoice[[#This Row],[شماره پیش فاکتور]],'[1]لیست پیش فاکتور ها'!$A:$D,4,0) -> 1404/02/03 | E45: =VLOOKUP(invoice[[#This Row],[شماره پیش فاکتور]],[1]!invoice[[شماره پیش فاکتور]:[میزان سفارش]],5,0) -> 50000 | F45: =VLOOKUP(invoice[[#This Row],[شماره پیش فاکتور]],[1]!invoice[[شماره پیش فاکتور]:[فی]],6,0) -> 126000 | G45: =CHOOSE(MID(invoice[[#This Row],[تاریخ]],6,2),"فروردین","اردیبهشت","خرداد","تیر","مرداد","شهریور","مهر","آبان","آذر","دی","بهمن","اسفند") -> اردیبهشت | H45: =_xlfn.NUMBERVALUE(MID(invoice[[#This Row],[تاریخ]],1,4)) -> 1404 | I45: =VLOOKUP(invoice[[#This Row],[شماره پیش فاکتور]],[1]!invoice[[شماره پیش فاکتور]:[نوع سفارش]],9,0) -> بورس | J45: =VLOOKUP(invoice[[#This Row],[شماره پیش فاکتور]],[1]!invoice[[شماره پیش فاکتور]:[نوع شرکت]],10,0) -> تولید کننده | K45: 1404/12/29 | L45: 0.1 | M45: 1039500000 | N45: =invoice[[#This Row],[مبلغ پیش دریافت]]/invoice[[#This Row],[میزان سفارش]] -> 20790 | O45: =SUMIF([1]!bargiri[شماره پیش فاکتور],[1]!invoice[[#This Row],[شماره پیش فاکتور]],[1]!bargiri[میزان بارگیری شده])/[1]!invoice[[#This Row],[میزان سفارش]] -> 1 | P45: =VLOOKUP(invoice[[#This Row],[شماره پیش فاکتور]],[1]!invoice[[شماره پیش فاکتور]:[نوع سفارش]],9,0) -> بورس | Q45: =SUMIFS('[1]جزییات بارگیری'!D:D,'[1]جزییات بارگیری'!C:C,[1]!invoice[[#This Row],[شماره پیش فاکتور]]) -> 500000 | R45: =IF([1]!invoice[[#This Row],[میزان سفارش]]-[1]!invoice[[#This Row],[میزان حمل شده ]]<0,0,[1]!invoice[[#This Row],[میزان سفارش]]-[1]!invoice[[#This Row],[میزان حمل شده ]]) -> 0 | S45: =[1]!invoice[[#This Row],[میزان حمل نشده ]]*[1]!invoice[[#This Row],[فی]] -> 0
A46: پ/03-1404 | B46: اکسیژن ارومیه گاز | C46: =VLOOKUP(invoice[[#This Row],[شماره پیش فاکتور]],[1]!invoice[[شماره پیش فاکتور]:[تاریخ]],3,0) -> 1404/02/03 | D46: =VLOOKUP(invoice[[#This Row],[شماره پیش فاکتور]],'[1]لیست پیش فاکتور ها'!$A:$D,4,0) -> 1404/02/03 | E46: =VLOOKUP(invoice[[#This Row],[شماره پیش فاکتور]],[1]!invoice[[شماره پیش فاکتور]:[میزان سفارش]],5,0) -> 50000 | F46: =VLOOKUP(invoice[[#This Row],[شماره پیش فاکتور]],[1]!invoice[[شماره پیش فاکتور]:[فی]],6,0) -> 151200 | G46: =CHOOSE(MID(invoice[[#This Row],[تاریخ]],6,2),"فروردین","اردیبهشت","خرداد","تیر","مرداد","شهریور","مهر","آبان","آذر","دی","بهمن","اسفند") -> اردیبهشت | H46: =_xlfn.NUMBERVALUE(MID(invoice[[#This Row],[تاریخ]],1,4)) -> 1404 | I46: =VLOOKUP(invoice[[#This Row],[شماره پیش فاکتور]],[1]!invoice[[شماره پیش فاکتور]:[نوع سفارش]],9,0) -> بورس | J46: =VLOOKUP(invoice[[#This Row],[شماره پیش فاکتور]],[1]!invoice[[شماره پیش فاکتور]:[نوع شرکت]],10,0) -> تولید کننده | K46: 1404/12/29 | L46: 0.1 | M46: 1247400000 | N46: =invoice[[#This Row],[مبلغ پیش دریافت]]/invoice[[#This Row],[میزان سفارش]] -> 24948 | O46: =SUMIF([1]!bargiri[شماره پیش فاکتور],[1]!invoice[[#This Row],[شماره پیش فاکتور]],[1]!bargiri[میزان بارگیری شده])/[1]!invoice[[#This Row],[میزان سفارش]] -> 1 | P46: =VLOOKUP(invoice[[#This Row],[شماره پیش فاکتور]],[1]!invoice[[شماره پیش فاکتور]:[نوع سفارش]],9,0) -> بورس | Q46: =SUMIFS('[1]جزییات بارگیری'!D:D,'[1]جزییات بارگیری'!C:C,[1]!invoice[[#This Row],[شماره پیش فاکتور]]) -> 417970 | R46: =IF([1]!invoice[[#This Row],[میزان سفارش]]-[1]!invoice[[#This Row],[میزان حمل شده ]]<0,0,[1]!invoice[[#This Row],[میزان سفارش]]-[1]!invoice[[#This Row],[میزان حمل شده ]]) -> 0 | S46: =[1]!invoice[[#This Row],[میزان حمل نشده ]]*[1]!invoice[[#This Row],[فی]] -> 0
A47: پ/04-1404 | B47: طوس قزوین | C47: =VLOOKUP(invoice[[#This Row],[شماره پیش فاکتور]],[1]!invoice[[شماره پیش فاکتور]:[تاریخ]],3,0) -> 1404/02/16 | D47: =VLOOKUP(invoice[[#This Row],[شماره پیش فاکتور]],'[1]لیست پیش فاکتور ها'!$A:$D,4,0) -> 1404/02/17 | E47: =VLOOKUP(invoice[[#This Row],[شماره پیش فاکتور]],[1]!invoice[[شماره پیش فاکتور]:[میزان سفارش]],5,0) -> 65000 | F47: =VLOOKUP(invoice[[#This Row],[شماره پیش فاکتور]],[1]!invoice[[شماره پیش فاکتور]:[فی]],6,0) -> 80000 | G47: =CHOOSE(MID(invoice[[#This Row],[تاریخ]],6,2),"فروردین","اردیبهشت","خرداد","تیر","مرداد","شهریور","مهر","آبان","آذر","دی","بهمن","اسفند") -> اردیبهشت | H47: =_xlfn.NUMBERVALUE(MID(invoice[[#This Row],[تاریخ]],1,4)) -> 1404 | I47: =VLOOKUP(invoice[[#This Row],[شماره پیش فاکتور]],[1]!invoice[[شماره پیش فاکتور]:[نوع سفارش]],9,0) -> تعادلی | J47: =VLOOKUP(invoice[[#This Row],[شماره پیش فاکتور]],[1]!invoice[[شماره پیش فاکتور]:[نوع شرکت]],10,0) -> تولید کننده | K47: 1404/12/29 | L47: 0.1 | M47: 858000000 | N47: =invoice[[#This Row],[مبلغ پیش دریافت]]/invoice[[#This Row],[میزان سفارش]] -> 13200 | O47: =SUMIF([1]!bargiri[شماره پیش فاکتور],[1]!invoice[[#This Row],[شماره پیش فاکتور]],[1]!bargiri[میزان بارگیری شده])/[1]!invoice[[#This Row],[میزان سفارش]] -> 1.0045 | P47: =VLOOKUP(invoice[[#This Row],[شماره پیش فاکتور]],[1]!invoice[[شماره پیش فاکتور]:[نوع سفارش]],9,0) -> تعادلی | Q47: =SUMIFS('[1]جزییات بارگیری'!D:D,'[1]جزییات بارگیری'!C:C,[1]!invoice[[#This Row],[شماره پیش فاکتور]]) -> 50225 | R47: =IF([1]!invoice[[#This Row],[میزان سفارش]]-[1]!invoice[[#This Row],[میزان حمل شده ]]<0,0,[1]!invoice[[#This Row],[میزان سفارش]]-[1]!invoice[[#This Row],[میزان حمل شده ]]) -> 0 | S47: =[1]!invoice[[#This Row],[میزان حمل نشده ]]*[1]!invoice[[#This Row],[فی]] -> 0
A48: پ/05-1404 | B48: اکسیژن ارومیه گاز | C48: =VLOOKUP(invoice[[#This Row],[شماره پیش فاکتور]],[1]!invoice[[شماره پیش فاکتور]:[تاریخ]],3,0) -> 1404/02/16 | D48: =VLOOKUP(invoice[[#This Row],[شماره پیش فاکتور]],'[1]لیست پیش فاکتور ها'!$A:$D,4,0) -> 1404/02/17 | E48: =VLOOKUP(invoice[[#This Row],[شماره پیش فاکتور]],[1]!invoice[[شماره پیش فاکتور]:[میزان سفارش]],5,0) -> 102400 | F48: =VLOOKUP(invoice[[#This Row],[شماره پیش فاکتور]],[1]!invoice[[شماره پیش فاکتور]:[فی]],6,0) -> 75000 | G48: =CHOOSE(MID(invoice[[#This Row],[تاریخ]],6,2),"فروردین","اردیبهشت","خرداد","تیر","مرداد","شهریور","مهر","آبان","آذر","دی","بهمن","اسفند") -> اردیبهشت | H48: =_xlfn.NUMBERVALUE(MID(invoice[[#This Row],[تاریخ]],1,4)) -> 1404 | I48: =VLOOKUP(invoice[[#This Row],[شماره پیش فاکتور]],[1]!invoice[[شماره پیش فاکتور]:[نوع سفارش]],9,0) -> تعادلی | J48: =VLOOKUP(invoice[[#This Row],[شماره پیش فاکتور]],[1]!invoice[[شماره پیش فاکتور]:[نوع شرکت]],10,0) -> تولید کننده | K48: 1404/12/29 | L48: 0.1 | M48: 1267200000 | N48: =invoice[[#This Row],[مبلغ پیش دریافت]]/invoice[[#This Row],[میزان سفارش]] -> 12375 | O48: =SUMIF([1]!bargiri[شماره پیش فاکتور],[1]!invoice[[#This Row],[شماره پیش فاکتور]],[1]!bargiri[میزان بارگیری شده])/[1]!invoice[[#This Row],[میزان سفارش]] -> 1 | P48: =VLOOKUP(invoice[[#This Row],[شماره پیش فاکتور]],[1]!invoice[[شماره پیش فاکتور]:[نوع سفارش]],9,0) -> تعادلی | Q48: =SUMIFS('[1]جزییات بارگیری'!D:D,'[1]جزییات بارگیری'!C:C,[1]!invoice[[#This Row],[شماره پیش فاکتور]]) -> 25000 | R48: =IF([1]!invoice[[#This Row],[میزان سفارش]]-[1]!invoice[[#This Row],[میزان حمل شده ]]<0,0,[1]!invoice[[#This Row],[میزان سفارش]]-[1]!invoice[[#This Row],[میزان حمل شده ]]) -> 0 | S48: =[1]!invoice[[#This Row],[میزان حمل نشده ]]*[1]!invoice[[#This Row],[فی]] -> 0
A49: پ/06-1404 | B49: گاز اکسیژن طوس | C49: =VLOOKUP(invoice[[#This Row],[شماره پیش فاکتور]],[1]!invoice[[شماره پیش فاکتور]:[تاریخ]],3,0) -> 1404/02/17 | D49: =VLOOKUP(invoice[[#This Row],[شماره پیش فاکتور]],'[1]لیست پیش فاکتور ها'!$A:$D,4,0) -> 1404/02/18 | E49: =VLOOKUP(invoice[[#This Row],[شماره پیش فاکتور]],[1]!invoice[[شماره پیش فاکتور]:[میزان سفارش]],5,0) -> 40000 | F49: =VLOOKUP(invoice[[#This Row],[شماره پیش فاکتور]],[1]!invoice[[شماره پیش فاکتور]:[فی]],6,0) -> 151200 | G49: =CHOOSE(MID(invoice[[#This Row],[تاریخ]],6,2),"فروردین","اردیبهشت","خرداد","تیر","مرداد","شهریور","مهر","آبان","آذر","دی","بهمن","اسفند") -> اردیبهشت | H49: =_xlfn.NUMBERVALUE(MID(invoice[[#This Row],[تاریخ]],1,4)) -> 1404 | I49: =VLOOKUP(invoice[[#This Row],[شماره پیش فاکتور]],[1]!invoice[[شماره پیش فاکتور]:[نوع سفارش]],9,0) -> بورس | J49: =VLOOKUP(invoice[[#This Row],[شماره پیش فاکتور]],[1]!invoice[[شماره پیش فاکتور]:[نوع شرکت]],10,0) -> تولید کننده | K49: 1404/12/29 | L49: 0.1 | M49: 997920000 | N49: =invoice[[#This Row],[مبلغ پیش دریافت]]/invoice[[#This Row],[میزان سفارش]] -> 24948 | O49: =SUMIF([1]!bargiri[شماره پیش فاکتور],[1]!invoice[[#This Row],[شماره پیش فاکتور]],[1]!bargiri[میزان بارگیری شده])/[1]!invoice[[#This Row],[میزان سفارش]] -> 1 | P49: =VLOOKUP(invoice[[#This Row],[شماره پیش فاکتور]],[1]!invoice[[شماره پیش فاکتور]:[نوع سفارش]],9,0) -> بورس | Q49: =SUMIFS('[1]جزییات بارگیری'!D:D,'[1]جزییات بارگیری'!C:C,[1]!invoice[[#This Row],[شماره پیش فاکتور]]) -> 24870 | R49: =IF([1]!invoice[[#This Row],[میزان سفارش]]-[1]!invoice[[#This Row],[میزان حمل شده ]]<0,0,[1]!invoice[[#This Row],[میزان سفارش]]-[1]!invoice[[#This Row],[میزان حمل شده ]]) -> 0 | S49: =[1]!invoice[[#This Row],[میزان حمل نشده ]]*[1]!invoice[[#This Row],[فی]] -> 0
A50: پ/07-1404 | B50: اکسیژن ارومیه گاز | C50: =VLOOKUP(invoice[[#This Row],[شماره پیش فاکتور]],[1]!invoice[[شماره پیش فاکتور]:[تاریخ]],3,0) -> 1404/02/17 | D50: =VLOOKUP(invoice[[#This Row],[شماره پیش فاکتور]],'[1]لیست پیش فاکتور ها'!$A:$D,4,0) -> 1404/02/18 | E50: =VLOOKUP(invoice[[#This Row],[شماره پیش فاکتور]],[1]!invoice[[شماره پیش فاکتور]:[میزان سفارش]],5,0) -> 20000 | F50: =VLOOKUP(invoice[[#This Row],[شماره پیش فاکتور]],[1]!invoice[[شماره پیش فاکتور]:[فی]],6,0) -> 151200 | G50: =CHOOSE(MID(invoice[[#This Row],[تاریخ]],6,2),"فروردین","اردیبهشت","خرداد","تیر","مرداد","شهریور","مهر","آبان","آذر","دی","بهمن","اسفند") -> اردیبهشت | H50: =_xlfn.NUMBERVALUE(MID(invoice[[#This Row],[تاریخ]],1,4)) -> 1404 | I50: =VLOOKUP(invoice[[#This Row],[شماره پیش فاکتور]],[1]!invoice[[شماره پیش فاکتور]:[نوع سفارش]],9,0) -> بورس | J50: =VLOOKUP(invoice[[#This Row],[شماره پیش فاکتور]],[1]!invoice[[شماره پیش فاکتور]:[نوع شرکت]],10,0) -> تولید کننده | K50: 1404/12/29 | L50: 0.1 | M50: 498960000 | N50: =invoice[[#This Row],[مبلغ پیش دریافت]]/invoice[[#This Row],[میزان سفارش]] -> 24948 | O50: =SUMIF([1]!bargiri[شماره پیش فاکتور],[1]!invoice[[#This Row],[شماره پیش فاکتور]],[1]!bargiri[میزان بارگیری شده])/[1]!invoice[[#This Row],[میزان سفارش]] -> 1 | P50: =VLOOKUP(invoice[[#This Row],[شماره پیش فاکتور]],[1]!invoice[[شماره پیش فاکتور]:[نوع سفارش]],9,0) -> بورس | Q50: =SUMIFS('[1]جزییات بارگیری'!D:D,'[1]جزییات بارگیری'!C:C,[1]!invoice[[#This Row],[شماره پیش فاکتور]]) -> 18375 | R50: =IF([1]!invoice[[#This Row],[میزان سفارش]]-[1]!invoice[[#This Row],[میزان حمل شده ]]<0,0,[1]!invoice[[#This Row],[میزان سفارش]]-[1]!invoice[[#This Row],[میزان حمل شده ]]) -> 0 | S50: =[1]!invoice[[#This Row],[میزان حمل نشده ]]*[1]!invoice[[#This Row],[فی]] -> 0
A51: پ/08-1404 | B51: پاینده ساز فردوس | C51: =VLOOKUP(invoice[[#This Row],[شماره پیش فاکتور]],[1]!invoice[[شماره پیش فاکتور]:[تاریخ]],3,0) -> 1404/02/17 | D51: =VLOOKUP(invoice[[#This Row],[شماره پیش فاکتور]],'[1]لیست پیش فاکتور ها'!$A:$D,4,0) -> 1404/02/18 | E51: =VLOOKUP(invoice[[#This Row],[شماره پیش فاکتور]],[1]!invoice[[شماره پیش فاکتور]:[میزان سفارش]],5,0) -> 40000 | F51: =VLOOKUP(invoice[[#This Row],[شماره پیش فاکتور]],[1]!invoice[[شماره پیش فاکتور]:[فی]],6,0) -> 151200 | G51: =CHOOSE(MID(invoice[[#This Row],[تاریخ]],6,2),"فروردین","اردیبهشت","خرداد","تیر","مرداد","شهریور","مهر","آبان","آذر","دی","بهمن","اسفند") -> اردیبهشت | H51: =_xlfn.NUMBERVALUE(MID(invoice[[#This Row],[تاریخ]],1,4)) -> 1404 | I51: =VLOOKUP(invoice[[#This Row],[شماره پیش فاکتور]],[1]!invoice[[شماره پیش فاکتور]:[نوع سفارش]],9,0) -> بورس | J51: =VLOOKUP(invoice[[#This Row],[شماره پیش فاکتور]],[1]!invoice[[شماره پیش فاکتور]:[نوع شرکت]],10,0) -> تولید کننده | K51: 1404/12/29 | L51: 0.1 | M51: 99792000 | N51: =invoice[[#This Row],[مبلغ پیش دریافت]]/invoice[[#This Row],[میزان سفارش]] -> 2494.8 | O51: =SUMIF([1]!bargiri[شماره پیش فاکتور],[1]!invoice[[#This Row],[شماره پیش فاکتور]],[1]!bargiri[میزان بارگیری شده])/[1]!invoice[[#This Row],[میزان سفارش]] -> 1 | P51: =VLOOKUP(invoice[[#This Row],[شماره پیش فاکتور]],[1]!invoice[[شماره پیش فاکتور]:[نوع سفارش]],9,0) -> بورس | Q51: =SUMIFS('[1]جزییات بارگیری'!D:D,'[1]جزییات بارگیری'!C:C,[1]!invoice[[#This Row],[شماره پیش فاکتور]]) -> 30000 | R51: =IF([1]!invoice[[#This Row],[میزان سفارش]]-[1]!invoice[[#This Row],[میزان حمل شده ]]<0,0,[1]!invoice[[#This Row],[میزان سفارش]]-[1]!invoice[[#This Row],[میزان حمل شده ]]) -> 0 | S51: =[1]!invoice[[#This Row],[میزان حمل نشده ]]*[1]!invoice[[#This Row],[فی]] -> 0
A52: الحاقیه پ/09-1404 | B52: گاز اکسیژن طوس | C52: =VLOOKUP(invoice[[#This Row],[شماره پیش فاکتور]],[1]!invoice[[شماره پیش فاکتور]:[تاریخ]],3,0) -> 1404/10/09 | D52: =VLOOKUP(invoice[[#This Row],[شماره پیش فاکتور]],'[1]لیست پیش فاکتور ها'!$A:$D,4,0) -> 46021 | E52: =VLOOKUP(invoice[[#This Row],[شماره پیش فاکتور]],[1]!invoice[[شماره پیش فاکتور]:[میزان سفارش]],5,0) -> 40000 | F52: =VLOOKUP(invoice[[#This Row],[شماره پیش فاکتور]],[1]!invoice[[شماره پیش فاکتور]:[فی]],6,0) -> 132800 | G52: =CHOOSE(MID(invoice[[#This Row],[تاریخ]],6,2),"فروردین","اردیبهشت","خرداد","تیر","مرداد","شهریور","مهر","آبان","آذر","دی","بهمن","اسفند") -> دی | H52: =_xlfn.NUMBERVALUE(MID(invoice[[#This Row],[تاریخ]],1,4)) -> 1404 | I52: =VLOOKUP(invoice[[#This Row],[شماره پیش فاکتور]],[1]!invoice[[شماره پیش فاکتور]:[نوع سفارش]],9,0) -> تعادلی | J52: =VLOOKUP(invoice[[#This Row],[شماره پیش فاکتور]],[1]!invoice[[شماره پیش فاکتور]:[نوع شرکت]],10,0) -> تولید کننده | K52: 1404/12/29 | L52: 0.1 | M52: 1.01376e+09 | N52: =invoice[[#This Row],[مبلغ پیش دریافت]]/invoice[[#This Row],[میزان سفارش]] -> 25344 | O52: =SUMIF([1]!bargiri[شماره پیش فاکتور],[1]!invoice[[#This Row],[شماره پیش فاکتور]],[1]!bargiri[میزان بارگیری شده])/[1]!invoice[[#This Row],[میزان سفارش]] -> 1 | P52: =VLOOKUP(invoice[[#This Row],[شماره پیش فاکتور]],[1]!invoice[[شماره پیش فاکتور]:[نوع سفارش]],9,0) -> تعادلی | Q52: =SUMIFS('[1]جزییات بارگیری'!D:D,'[1]جزییات بارگیری'!C:C,[1]!invoice[[#This Row],[شماره پیش فاکتور]]) -> 50000 | R52: =IF([1]!invoice[[#This Row],[میزان سفارش]]-[1]!invoice[[#This Row],[میزان حمل شده ]]<0,0,[1]!invoice[[#This Row],[میزان سفارش]]-[1]!invoice[[#This Row],[میزان حمل شده ]]) -> 0 | S52: =[1]!invoice[[#This Row],[میزان حمل نشده ]]*[1]!invoice[[#This Row],[فی]] -> 0
A53: پ/10-1404 | B53: اکسیژن ارومیه گاز | C53: =VLOOKUP(invoice[[#This Row],[شماره پیش فاکتور]],[1]!invoice[[شماره پیش فاکتور]:[تاریخ]],3,0) -> 1404/02/22 | D53: =VLOOKUP(invoice[[#This Row],[شماره پیش فاکتور]],'[1]لیست پیش فاکتور ها'!$A:$D,4,0) -> 1404/02/25 | E53: =VLOOKUP(invoice[[#This Row],[شماره پیش فاکتور]],[1]!invoice[[شماره پیش فاکتور]:[میزان سفارش]],5,0) -> 51200 | F53: =VLOOKUP(invoice[[#This Row],[شماره پیش فاکتور]],[1]!invoice[[شماره پیش فاکتور]:[فی]],6,0) -> 80000 | G53: =CHOOSE(MID(invoice[[#This Row],[تاریخ]],6,2),"فروردین","اردیبهشت","خرداد","تیر","مرداد","شهریور","مهر","آبان","آذر","دی","بهمن","اسفند") -> اردیبهشت | H53: =_xlfn.NUMBERVALUE(MID(invoice[[#This Row],[تاریخ]],1,4)) -> 1404 | I53: =VLOOKUP(invoice[[#This Row],[شماره پیش فاکتور]],[1]!invoice[[شماره پیش فاکتور]:[نوع سفارش]],9,0) -> تعادلی | J53: =VLOOKUP(invoice[[#This Row],[شماره پیش فاکتور]],[1]!invoice[[شماره پیش فاکتور]:[نوع شرکت]],10,0) -> تولید کننده | K53: 1404/12/29 | L53: 0.1 | M53: 675840000 | N53: =invoice[[#This Row],[مبلغ پیش دریافت]]/invoice[[#This Row],[میزان سفارش]] -> 13200 | O53: =SUMIF([1]!bargiri[شماره پیش فاکتور],[1]!invoice[[#This Row],[شماره پیش فاکتور]],[1]!bargiri[میزان بارگیری شده])/[1]!invoice[[#This Row],[میزان سفارش]] -> 1 | P53: =VLOOKUP(invoice[[#This Row],[شماره پیش فاکتور]],[1]!invoice[[شماره پیش فاکتور]:[نوع سفارش]],9,0) -> تعادلی | Q53: =SUMIFS('[1]جزییات بارگیری'!D:D,'[1]جزییات بارگیری'!C:C,[1]!invoice[[#This Row],[شماره پیش فاکتور]]) -> 50000 | R53: =IF([1]!invoice[[#This Row],[میزان سفارش]]-[1]!invoice[[#This Row],[میزان حمل شده ]]<0,0,[1]!invoice[[#This Row],[میزان سفارش]]-[1]!invoice[[#This Row],[میزان حمل شده ]]) -> 0 | S53: =[1]!invoice[[#This Row],[میزان حمل نشده ]]*[1]!invoice[[#This Row],[فی]] -> 0
A54: پ/11-1404 | B54: پاینده ساز فردوس | C54: =VLOOKUP(invoice[[#This Row],[شماره پیش فاکتور]],[1]!invoice[[شماره پیش فاکتور]:[تاریخ]],3,0) -> 1404/02/22 | D54: =VLOOKUP(invoice[[#This Row],[شماره پیش فاکتور]],'[1]لیست پیش فاکتور ها'!$A:$D,4,0) -> 1404/02/25 | E54: =VLOOKUP(invoice[[#This Row],[شماره پیش فاکتور]],[1]!invoice[[شماره پیش فاکتور]:[میزان سفارش]],5,0) -> 81920 | F54: =VLOOKUP(invoice[[#This Row],[شماره پیش فاکتور]],[1]!invoice[[شماره پیش فاکتور]:[فی]],6,0) -> 75000 | G54: =CHOOSE(MID(invoice[[#This Row],[تاریخ]],6,2),"فروردین","اردیبهشت","خرداد","تیر","مرداد","شهریور","مهر","آبان","آذر","دی","بهمن","اسفند") -> اردیبهشت | H54: =_xlfn.NUMBERVALUE(MID(invoice[[#This Row],[تاریخ]],1,4)) -> 1404 | I54: =VLOOKUP(invoice[[#This Row],[شماره پیش فاکتور]],[1]!invoice[[شماره پیش فاکتور]:[نوع سفارش]],9,0) -> تعادلی | J54: =VLOOKUP(invoice[[#This Row],[شماره پیش فاکتور]],[1]!invoice[[شماره پیش فاکتور]:[نوع شرکت]],10,0) -> تولید کننده | K54: 1404/12/29 | L54: 0.1 | M54: 1.01376e+09 | N54: =invoice[[#This Row],[مبلغ پیش دریافت]]/invoice[[#This Row],[میزان سفارش]] -> 12375 | O54: =SUMIF([1]!bargiri[شماره پیش فاکتور],[1]!invoice[[#This Row],[شماره پیش فاکتور]],[1]!bargiri[میزان بارگیری شده])/[1]!invoice[[#This Row],[میزان سفارش]] -> 1 | P54: =VLOOKUP(invoice[[#This Row],[شماره پیش فاکتور]],[1]!invoice[[شماره پیش فاکتور]:[نوع سفارش]],9,0) -> تعادلی | Q54: =SUMIFS('[1]جزییات بارگیری'!D:D,'[1]جزییات بارگیری'!C:C,[1]!invoice[[#This Row],[شماره پیش فاکتور]]) -> 299978 | R54: =IF([1]!invoice[[#This Row],[میزان سفارش]]-[1]!invoice[[#This Row],[میزان حمل شده ]]<0,0,[1]!invoice[[#This Row],[میزان سفارش]]-[1]!invoice[[#This Row],[میزان حمل شده ]]) -> 0 | S54: =[1]!invoice[[#This Row],[میزان حمل نشده ]]*[1]!invoice[[#This Row],[فی]] -> 0
A55: الحاقیه پ/53-1403 | B55: طوس قزوین | C55: =VLOOKUP(invoice[[#This Row],[شماره پیش فاکتور]],[1]!invoice[[شماره پیش فاکتور]:[تاریخ]],3,0) -> 1404/02/29 | D55: =VLOOKUP(invoice[[#This Row],[شماره پیش فاکتور]],'[1]لیست پیش فاکتور ها'!$A:$D,4,0) -> 1404/03/01 | E55: =VLOOKUP(invoice[[#This Row],[شماره پیش فاکتور]],[1]!invoice[[شماره پیش فاکتور]:[میزان سفارش]],5,0) -> 1000000 | F55: =VLOOKUP(invoice[[#This Row],[شماره پیش فاکتور]],[1]!invoice[[شماره پیش فاکتور]:[فی]],6,0) -> 142000 | G55: =CHOOSE(MID(invoice[[#This Row],[تاریخ]],6,2),"فروردین","اردیبهشت","خرداد","تیر","مرداد","شهریور","مهر","آبان","آذر","دی","بهمن","اسفند") -> اردیبهشت | H55: =_xlfn.NUMBERVALUE(MID(invoice[[#This Row],[تاریخ]],1,4)) -> 1404 | I55: =VLOOKUP(invoice[[#This Row],[شماره پیش فاکتور]],[1]!invoice[[شماره پیش فاکتور]:[نوع سفارش]],9,0) -> انجمن | J55: =VLOOKUP(invoice[[#This Row],[شماره پیش فاکتور]],[1]!invoice[[شماره پیش فاکتور]:[نوع شرکت]],10,0) -> تولید کننده | K55: 46132 | L55: 0.1 | M55: 23430000000 | N55: =invoice[[#This Row],[مبلغ پیش دریافت]]/invoice[[#This Row],[میزان سفارش]] -> 23430 | O55: =SUMIF([1]!bargiri[شماره پیش فاکتور],[1]!invoice[[#This Row],[شماره پیش فاکتور]],[1]!bargiri[میزان بارگیری شده])/[1]!invoice[[#This Row],[میزان سفارش]] -> 1 | P55: =VLOOKUP(invoice[[#This Row],[شماره پیش فاکتور]],[1]!invoice[[شماره پیش فاکتور]:[نوع سفارش]],9,0) -> انجمن | Q55: =SUMIFS('[1]جزییات بارگیری'!D:D,'[1]جزییات بارگیری'!C:C,[1]!invoice[[#This Row],[شماره پیش فاکتور]]) -> 400000 | R55: =IF([1]!invoice[[#This Row],[میزان سفارش]]-[1]!invoice[[#This Row],[میزان حمل شده ]]<0,0,[1]!invoice[[#This Row],[میزان سفارش]]-[1]!invoice[[#This Row],[میزان حمل شده ]]) -> 0 | S55: =[1]!invoice[[#This Row],[میزان حمل نشده ]]*[1]!invoice[[#This Row],[فی]] -> 0
A56: الحاقیه پ/59-1403 | B56: جوش شیرین خراسان | C56: =VLOOKUP(invoice[[#This Row],[شماره پیش فاکتور]],[1]!invoice[[شماره پیش فاکتور]:[تاریخ]],3,0) -> 1404/02/29 | D56: =VLOOKUP(invoice[[#This Row],[شماره پیش فاکتور]],'[1]لیست پیش فاکتور ها'!$A:$D,4,0) -> 1404/02/01 | E56: =VLOOKUP(invoice[[#This Row],[شماره پیش فاکتور]],[1]!invoice[[شماره پیش فاکتور]:[میزان سفارش]],5,0) -> 312790 | F56: =VLOOKUP(invoice[[#This Row],[شماره پیش فاکتور]],[1]!invoice[[شماره پیش فاکتور]:[فی]],6,0) -> 142000 | G56: =CHOOSE(MID(invoice[[#This Row],[تاریخ]],6,2),"فروردین","اردیبهشت","خرداد","تیر","مرداد","شهریور","مهر","آبان","آذر","دی","بهمن","اسفند") -> اردیبهشت | H56: =_xlfn.NUMBERVALUE(MID(invoice[[#This Row],[تاریخ]],1,4)) -> 1404 | I56: =VLOOKUP(invoice[[#This Row],[شماره پیش فاکتور]],[1]!invoice[[شماره پیش فاکتور]:[نوع سفارش]],9,0) -> انجمن | J56: =VLOOKUP(invoice[[#This Row],[شماره پیش فاکتور]],[1]!invoice[[شماره پیش فاکتور]:[نوع شرکت]],10,0) -> تولید کننده | K56: 46132 | L56: 0.1 | M56: 14058000000 | N56: =invoice[[#This Row],[مبلغ پیش دریافت]]/invoice[[#This Row],[میزان سفارش]] -> 44943.892 | O56: =SUMIF([1]!bargiri[شماره پیش فاکتور],[1]!invoice[[#This Row],[شماره پیش فاکتور]],[1]!bargiri[میزان بارگیری شده])/[1]!invoice[[#This Row],[میزان سفارش]] -> 1 | P56: =VLOOKUP(invoice[[#This Row],[شماره پیش فاکتور]],[1]!invoice[[شماره پیش فاکتور]:[نوع سفارش]],9,0) -> انجمن | Q56: =SUMIFS('[1]جزییات بارگیری'!D:D,'[1]جزییات بارگیری'!C:C,[1]!invoice[[#This Row],[شماره پیش فاکتور]]) -> 85900 | R56: =IF([1]!invoice[[#This Row],[میزان سفارش]]-[1]!invoice[[#This Row],[میزان حمل شده ]]<0,0,[1]!invoice[[#This Row],[میزان سفارش]]-[1]!invoice[[#This Row],[میزان حمل شده ]]) -> 0 | S56: =[1]!invoice[[#This Row],[میزان حمل نشده ]]*[1]!invoice[[#This Row],[فی]] -> 0
A57: پ/12-1404 | B57: گاز کربنیک غرب | C57: =VLOOKUP(invoice[[#This Row],[شماره پیش فاکتور]],[1]!invoice[[شماره پیش فاکتور]:[تاریخ]],3,0) -> 1404/02/30 | D57: =VLOOKUP(invoice[[#This Row],[شماره پیش فاکتور]],'[1]لیست پیش فاکتور ها'!$A:$D,4,0) -> 1404/07/15 | E57: =VLOOKUP(invoice[[#This Row],[شماره پیش فاکتور]],[1]!invoice[[شماره پیش فاکتور]:[میزان سفارش]],5,0) -> 600000 | F57: =VLOOKUP(invoice[[#This Row],[شماره پیش فاکتور]],[1]!invoice[[شماره پیش فاکتور]:[فی]],6,0) -> 120000 | G57: =CHOOSE(MID(invoice[[#This Row],[تاریخ]],6,2),"فروردین","اردیبهشت","خرداد","تیر","مرداد","شهریور","مهر","آبان","آذر","دی","بهمن","اسفند") -> اردیبهشت | H57: =_xlfn.NUMBERVALUE(MID(invoice[[#This Row],[تاریخ]],1,4)) -> 1404 | I57: =VLOOKUP(invoice[[#This Row],[شماره پیش فاکتور]],[1]!invoice[[شماره پیش فاکتور]:[نوع سفارش]],9,0) -> عادی | J57: =VLOOKUP(invoice[[#This Row],[شماره پیش فاکتور]],[1]!invoice[[شماره پیش فاکتور]:[نوع شرکت]],10,0) -> تولید کننده | K57: 46302 | L57: 0.1 | M57: 19800000000 | N57: =invoice[[#This Row],[مبلغ پیش دریافت]]/invoice[[#This Row],[میزان سفارش]] -> 33000 | O57: =SUMIF([1]!bargiri[شماره پیش فاکتور],[1]!invoice[[#This Row],[شماره پیش فاکتور]],[1]!bargiri[میزان بارگیری شده])/[1]!invoice[[#This Row],[میزان سفارش]] -> 1 | P57: =VLOOKUP(invoice[[#This Row],[شماره پیش فاکتور]],[1]!invoice[[شماره پیش فاکتور]:[نوع سفارش]],9,0) -> عادی | Q57: =SUMIFS('[1]جزییات بارگیری'!D:D,'[1]جزییات بارگیری'!C:C,[1]!invoice[[#This Row],[شماره پیش فاکتور]]) -> 68110 | R57: =IF([1]!invoice[[#This Row],[میزان سفارش]]-[1]!invoice[[#This Row],[میزان حمل شده ]]<0,0,[1]!invoice[[#This Row],[میزان سفارش]]-[1]!invoice[[#This Row],[میزان حمل شده ]]) -> 0 | S57: =[1]!invoice[[#This Row],[میزان حمل نشده ]]*[1]!invoice[[#This Row],[فی]] -> 0
A58: پ/13-1404 | B58: عبیر شیمی | C58: =VLOOKUP(invoice[[#This Row],[شماره پیش فاکتور]],[1]!invoice[[شماره پیش فاکتور]:[تاریخ]],3,0) -> 1404/02/30 | D58: =VLOOKUP(invoice[[#This Row],[شماره پیش فاکتور]],'[1]لیست پیش فاکتور ها'!$A:$D,4,0) -> 1404/07/15 | E58: =VLOOKUP(invoice[[#This Row],[شماره پیش فاکتور]],[1]!invoice[[شماره پیش فاکتور]:[میزان سفارش]],5,0) -> 71800 | F58: =VLOOKUP(invoice[[#This Row],[شماره پیش فاکتور]],[1]!invoice[[شماره پیش فاکتور]:[فی]],6,0) -> 120000 | G58: =CHOOSE(MID(invoice[[#This Row],[تاریخ]],6,2),"فروردین","اردیبهشت","خرداد","تیر","مرداد","شهریور","مهر","آبان","آذر","دی","بهمن","اسفند") -> اردیبهشت | H58: =_xlfn.NUMBERVALUE(MID(invoice[[#This Row],[تاریخ]],1,4)) -> 1404 | I58: =VLOOKUP(invoice[[#This Row],[شماره پیش فاکتور]],[1]!invoice[[شماره پیش فاکتور]:[نوع سفارش]],9,0) -> عادی | J58: =VLOOKUP(invoice[[#This Row],[شماره پیش فاکتور]],[1]!invoice[[شماره پیش فاکتور]:[نوع شرکت]],10,0) -> تولید کننده | K58: 46302 | L58: 0.1 | M58: 11550000000 | N58: =invoice[[#This Row],[مبلغ پیش دریافت]]/invoice[[#This Row],[میزان سفارش]] -> 160863.51 | O58: =SUMIF([1]!bargiri[شماره پیش فاکتور],[1]!invoice[[#This Row],[شماره پیش فاکتور]],[1]!bargiri[میزان بارگیری شده])/[1]!invoice[[#This Row],[میزان سفارش]] -> 1 | P58: =VLOOKUP(invoice[[#This Row],[شماره پیش فاکتور]],[1]!invoice[[شماره پیش فاکتور]:[نوع سفارش]],9,0) -> عادی | Q58: =SUMIFS('[1]جزییات بارگیری'!D:D,'[1]جزییات بارگیری'!C:C,[1]!invoice[[#This Row],[شماره پیش فاکتور]]) -> 50000 | R58: =IF([1]!invoice[[#This Row],[میزان سفارش]]-[1]!invoice[[#This Row],[میزان حمل شده ]]<0,0,[1]!invoice[[#This Row],[میزان سفارش]]-[1]!invoice[[#This Row],[میزان حمل شده ]]) -> 0 | S58: =[1]!invoice[[#This Row],[میزان حمل نشده ]]*[1]!invoice[[#This Row],[فی]] -> 0
A59: پ/14-1404 | B59: گاز اکسیژن طوس | C59: =VLOOKUP(invoice[[#This Row],[شماره پیش فاکتور]],[1]!invoice[[شماره پیش فاکتور]:[تاریخ]],3,0) -> 1404/02/30 | D59: =VLOOKUP(invoice[[#This Row],[شماره پیش فاکتور]],'[1]لیست پیش فاکتور ها'!$A:$D,4,0) -> 1404/07/15 | E59: =VLOOKUP(invoice[[#This Row],[شماره پیش فاکتور]],[1]!invoice[[شماره پیش فاکتور]:[میزان سفارش]],5,0) -> 400000 | F59: =VLOOKUP(invoice[[#This Row],[شماره پیش فاکتور]],[1]!invoice[[شماره پیش فاکتور]:[فی]],6,0) -> 120000 | G59: =CHOOSE(MID(invoice[[#This Row],[تاریخ]],6,2),"فروردین","اردیبهشت","خرداد","تیر","مرداد","شهریور","مهر","آبان","آذر","دی","بهمن","اسفند") -> اردیبهشت | H59: =_xlfn.NUMBERVALUE(MID(invoice[[#This Row],[تاریخ]],1,4)) -> 1404 | I59: =VLOOKUP(invoice[[#This Row],[شماره پیش فاکتور]],[1]!invoice[[شماره پیش فاکتور]:[نوع سفارش]],9,0) -> عادی | J59: =VLOOKUP(invoice[[#This Row],[شماره پیش فاکتور]],[1]!invoice[[شماره پیش فاکتور]:[نوع شرکت]],10,0) -> تولید کننده | K59: 46302 | L59: 0.1 | M59: 7920000000 | N59: =invoice[[#This Row],[مبلغ پیش دریافت]]/invoice[[#This Row],[میزان سفارش]] -> 19800 | O59: =SUMIF([1]!bargiri[شماره پیش فاکتور],[1]!invoice[[#This Row],[شماره پیش فاکتور]],[1]!bargiri[میزان بارگیری شده])/[1]!invoice[[#This Row],[میزان سفارش]] -> 1 | P59: =VLOOKUP(invoice[[#This Row],[شماره پیش فاکتور]],[1]!invoice[[شماره پیش فاکتور]:[نوع سفارش]],9,0) -> عادی | Q59: =SUMIFS('[1]جزییات بارگیری'!D:D,'[1]جزییات بارگیری'!C:C,[1]!invoice[[#This Row],[شماره پیش فاکتور]]) -> 39915 | R59: =IF([1]!invoice[[#This Row],[میزان سفارش]]-[1]!invoice[[#This Row],[میزان حمل شده ]]<0,0,[1]!invoice[[#This Row],[میزان سفارش]]-[1]!invoice[[#This Row],[میزان حمل شده ]]) -> 0 | S59: =[1]!invoice[[#This Row],[میزان حمل نشده ]]*[1]!invoice[[#This Row],[فی]] -> 0
A60: پ/15-1404 | B60: اکسیژن ارومیه گاز | C60: =VLOOKUP(invoice[[#This Row],[شماره پیش فاکتور]],[1]!invoice[[شماره پیش فاکتور]:[تاریخ]],3,0) -> 1404/02/30 | D60: =VLOOKUP(invoice[[#This Row],[شماره پیش فاکتور]],'[1]لیست پیش فاکتور ها'!$A:$D,4,0) -> 1404/07/15 | E60: =VLOOKUP(invoice[[#This Row],[شماره پیش فاکتور]],[1]!invoice[[شماره پیش فاکتور]:[میزان سفارش]],5,0) -> 350000 | F60: =VLOOKUP(invoice[[#This Row],[شماره پیش فاکتور]],[1]!invoice[[شماره پیش فاکتور]:[فی]],6,0) -> 120000 | G60: =CHOOSE(MID(invoice[[#This Row],[تاریخ]],6,2),"فروردین","اردیبهشت","خرداد","تیر","مرداد","شهریور","مهر","آبان","آذر","دی","بهمن","اسفند") -> اردیبهشت | H60: =_xlfn.NUMBERVALUE(MID(invoice[[#This Row],[تاریخ]],1,4)) -> 1404 | I60: =VLOOKUP(invoice[[#This Row],[شماره پیش فاکتور]],[1]!invoice[[شماره پیش فاکتور]:[نوع سفارش]],9,0) -> عادی | J60: =VLOOKUP(invoice[[#This Row],[شماره پیش فاکتور]],[1]!invoice[[شماره پیش فاکتور]:[نوع شرکت]],10,0) -> تولید کننده | K60: 46302 | L60: 0.1 | M60: 6930000000 | N60: =invoice[[#This Row],[مبلغ پیش دریافت]]/invoice[[#This Row],[میزان سفارش]] -> 19800 | O60: =SUMIF([1]!bargiri[شماره پیش فاکتور],[1]!invoice[[#This Row],[شماره پیش فاکتور]],[1]!bargiri[میزان بارگیری شده])/[1]!invoice[[#This Row],[میزان سفارش]] -> 1 | P60: =VLOOKUP(invoice[[#This Row],[شماره پیش فاکتور]],[1]!invoice[[شماره پیش فاکتور]:[نوع سفارش]],9,0) -> عادی | Q60: =SUMIFS('[1]جزییات بارگیری'!D:D,'[1]جزییات بارگیری'!C:C,[1]!invoice[[#This Row],[شماره پیش فاکتور]]) -> 300000 | R60: =IF([1]!invoice[[#This Row],[میزان سفارش]]-[1]!invoice[[#This Row],[میزان حمل شده ]]<0,0,[1]!invoice[[#This Row],[میزان سفارش]]-[1]!invoice[[#This Row],[میزان حمل شده ]]) -> 0 | S60: =[1]!invoice[[#This Row],[میزان حمل نشده ]]*[1]!invoice[[#This Row],[فی]] -> 0
A61: پ/17-1404 | B61: گاز اکسیژن طوس | C61: =VLOOKUP(invoice[[#This Row],[شماره پیش فاکتور]],[1]!invoice[[شماره پیش فاکتور]:[تاریخ]],3,0) -> 1404/02/31 | D61: =VLOOKUP(invoice[[#This Row],[شماره پیش فاکتور]],'[1]لیست پیش فاکتور ها'!$A:$D,4,0) -> 1404/03/01 | E61: =VLOOKUP(invoice[[#This Row],[شماره پیش فاکتور]],[1]!invoice[[شماره پیش فاکتور]:[میزان سفارش]],5,0) -> 50000 | F61: =VLOOKUP(invoice[[#This Row],[شماره پیش فاکتور]],[1]!invoice[[شماره پیش فاکتور]:[فی]],6,0) -> 151100 | G61: =CHOOSE(MID(invoice[[#This Row],[تاریخ]],6,2),"فروردین","اردیبهشت","خرداد","تیر","مرداد","شهریور","مهر","آبان","آذر","دی","بهمن","اسفند") -> اردیبهشت | H61: =_xlfn.NUMBERVALUE(MID(invoice[[#This Row],[تاریخ]],1,4)) -> 1404 | I61: =VLOOKUP(invoice[[#This Row],[شماره پیش فاکتور]],[1]!invoice[[شماره پیش فاکتور]:[نوع سفارش]],9,0) -> بورس | J61: =VLOOKUP(invoice[[#This Row],[شماره پیش فاکتور]],[1]!invoice[[شماره پیش فاکتور]:[نوع شرکت]],10,0) -> تولید کننده | K61: 1404/12/29 | L61: 0.1 | M61: 1246575000 | N61: =invoice[[#This Row],[مبلغ پیش دریافت]]/invoice[[#This Row],[میزان سفارش]] -> 24931.5 | O61: =SUMIF([1]!bargiri[شماره پیش فاکتور],[1]!invoice[[#This Row],[شماره پیش فاکتور]],[1]!bargiri[میزان بارگیری شده])/[1]!invoice[[#This Row],[میزان سفارش]] -> 1 | P61: =VLOOKUP(invoice[[#This Row],[شماره پیش فاکتور]],[1]!invoice[[شماره پیش فاکتور]:[نوع سفارش]],9,0) -> بورس | Q61: =SUMIFS('[1]جزییات بارگیری'!D:D,'[1]جزییات بارگیری'!C:C,[1]!invoice[[#This Row],[شماره پیش فاکتور]]) -> 320000 | R61: =IF([1]!invoice[[#This Row],[میزان سفارش]]-[1]!invoice[[#This Row],[میزان حمل شده ]]<0,0,[1]!invoice[[#This Row],[میزان سفارش]]-[1]!invoice[[#This Row],[میزان حمل شده ]]) -> 0 | S61: =[1]!invoice[[#This Row],[میزان حمل نشده ]]*[1]!invoice[[#This Row],[فی]] -> 0
A62: پ/18-1404 | B62: اکسیژن ارومیه گاز | C62: =VLOOKUP(invoice[[#This Row],[شماره پیش فاکتور]],[1]!invoice[[شماره پیش فاکتور]:[تاریخ]],3,0) -> 1404/02/31 | D62: =VLOOKUP(invoice[[#This Row],[شماره پیش فاکتور]],'[1]لیست پیش فاکتور ها'!$A:$D,4,0) -> 1404/03/01 | E62: =VLOOKUP(invoice[[#This Row],[شماره پیش فاکتور]],[1]!invoice[[شماره پیش فاکتور]:[میزان سفارش]],5,0) -> 20000 | F62: =VLOOKUP(invoice[[#This Row],[شماره پیش فاکتور]],[1]!invoice[[شماره پیش فاکتور]:[فی]],6,0) -> 151200 | G62: =CHOOSE(MID(invoice[[#This Row],[تاریخ]],6,2),"فروردین","اردیبهشت","خرداد","تیر","مرداد","شهریور","مهر","آبان","آذر","دی","بهمن","اسفند") -> اردیبهشت | H62: =_xlfn.NUMBERVALUE(MID(invoice[[#This Row],[تاریخ]],1,4)) -> 1404 | I62: =VLOOKUP(invoice[[#This Row],[شماره پیش فاکتور]],[1]!invoice[[شماره پیش فاکتور]:[نوع سفارش]],9,0) -> بورس | J62: =VLOOKUP(invoice[[#This Row],[شماره پیش فاکتور]],[1]!invoice[[شماره پیش فاکتور]:[نوع شرکت]],10,0) -> تولید کننده | K62: 1404/12/29 | L62: 0.1 | M62: 498960000 | N62: =invoice[[#This Row],[مبلغ پیش دریافت]]/invoice[[#This Row],[میزان سفارش]] -> 24948 | O62: =SUMIF([1]!bargiri[شماره پیش فاکتور],[1]!invoice[[#This Row],[شماره پیش فاکتور]],[1]!bargiri[میزان بارگیری شده])/[1]!invoice[[#This Row],[میزان سفارش]] -> 1 | P62: =VLOOKUP(invoice[[#This Row],[شماره پیش فاکتور]],[1]!invoice[[شماره پیش فاکتور]:[نوع سفارش]],9,0) -> بورس | Q62: =SUMIFS('[1]جزییات بارگیری'!D:D,'[1]جزییات بارگیری'!C:C,[1]!invoice[[#This Row],[شماره پیش فاکتور]]) -> 50000 | R62: =IF([1]!invoice[[#This Row],[میزان سفارش]]-[1]!invoice[[#This Row],[میزان حمل شده ]]<0,0,[1]!invoice[[#This Row],[میزان سفارش]]-[1]!invoice[[#This Row],[میزان حمل شده ]]) -> 0 | S62: =[1]!invoice[[#This Row],[میزان حمل نشده ]]*[1]!invoice[[#This Row],[فی]] -> 0
A63: پ/19-1404 | B63: تولیدی گازهای طبی و صنعتی طوس سبزوار | C63: =VLOOKUP(invoice[[#This Row],[شماره پیش فاکتور]],[1]!invoice[[شماره پیش فاکتور]:[تاریخ]],3,0) -> 1404/02/31 | D63: =VLOOKUP(invoice[[#This Row],[شماره پیش فاکتور]],'[1]لیست پیش فاکتور ها'!$A:$D,4,0) -> 1404/03/01 | E63: =VLOOKUP(invoice[[#This Row],[شماره پیش فاکتور]],[1]!invoice[[شماره پیش فاکتور]:[میزان سفارش]],5,0) -> 30000 | F63: =VLOOKUP(invoice[[#This Row],[شماره پیش فاکتور]],[1]!invoice[[شماره پیش فاکتور]:[فی]],6,0) -> 151100 | G63: =CHOOSE(MID(invoice[[#This Row],[تاریخ]],6,2),"فروردین","اردیبهشت","خرداد","تیر","مرداد","شهریور","مهر","آبان","آذر","دی","بهمن","اسفند") -> اردیبهشت | H63: =_xlfn.NUMBERVALUE(MID(invoice[[#This Row],[تاریخ]],1,4)) -> 1404 | I63: =VLOOKUP(invoice[[#This Row],[شماره پیش فاکتور]],[1]!invoice[[شماره پیش فاکتور]:[نوع سفارش]],9,0) -> بورس | J63: =VLOOKUP(invoice[[#This Row],[شماره پیش فاکتور]],[1]!invoice[[شماره پیش فاکتور]:[نوع شرکت]],10,0) -> تولید کننده | K63: 1404/12/29 | L63: 0.1 | M63: 747945000 | N63: =invoice[[#This Row],[مبلغ پیش دریافت]]/invoice[[#This Row],[میزان سفارش]] -> 24931.5 | O63: =SUMIF([1]!bargiri[شماره پیش فاکتور],[1]!invoice[[#This Row],[شماره پیش فاکتور]],[1]!bargiri[میزان بارگیری شده])/[1]!invoice[[#This Row],[میزان سفارش]] -> 1 | P63: =VLOOKUP(invoice[[#This Row],[شماره پیش فاکتور]],[1]!invoice[[شماره پیش فاکتور]:[نوع سفارش]],9,0) -> بورس | Q63: =SUMIFS('[1]جزییات بارگیری'!D:D,'[1]جزییات بارگیری'!C:C,[1]!invoice[[#This Row],[شماره پیش فاکتور]]) -> 18725 | R63: =IF([1]!invoice[[#This Row],[میزان سفارش]]-[1]!invoice[[#This Row],[میزان حمل شده ]]<0,0,[1]!invoice[[#This Row],[میزان سفارش]]-[1]!invoice[[#This Row],[میزان حمل شده ]]) -> 0 | S63: =[1]!invoice[[#This Row],[میزان حمل نشده ]]*[1]!invoice[[#This Row],[فی]] -> 0
A64: پ/20-1404 | B64: اکسیژن ارومیه گاز | C64: =VLOOKUP(invoice[[#This Row],[شماره پیش فاکتور]],[1]!invoice[[شماره پیش فاکتور]:[تاریخ]],3,0) -> 1404/03/06 | D64: =VLOOKUP(invoice[[#This Row],[شماره پیش فاکتور]],'[1]لیست پیش فاکتور ها'!$A:$D,4,0) -> 1404/03/10 | E64: =VLOOKUP(invoice[[#This Row],[شماره پیش فاکتور]],[1]!invoice[[شماره پیش فاکتور]:[میزان سفارش]],5,0) -> 50000 | F64: =VLOOKUP(invoice[[#This Row],[شماره پیش فاکتور]],[1]!invoice[[شماره پیش فاکتور]:[فی]],6,0) -> 79520 | G64: =CHOOSE(MID(invoice[[#This Row],[تاریخ]],6,2),"فروردین","اردیبهشت","خرداد","تیر","مرداد","شهریور","مهر","آبان","آذر","دی","بهمن","اسفند") -> خرداد | H64: =_xlfn.NUMBERVALUE(MID(invoice[[#This Row],[تاریخ]],1,4)) -> 1404 | I64: =VLOOKUP(invoice[[#This Row],[شماره پیش فاکتور]],[1]!invoice[[شماره پیش فاکتور]:[نوع سفارش]],9,0) -> تعادلی | J64: =VLOOKUP(invoice[[#This Row],[شماره پیش فاکتور]],[1]!invoice[[شماره پیش فاکتور]:[نوع شرکت]],10,0) -> تولید کننده | K64: 1404/12/29 | L64: 0.1 | M64: 656040000 | N64: =invoice[[#This Row],[مبلغ پیش دریافت]]/invoice[[#This Row],[میزان سفارش]] -> 13120.8 | O64: =SUMIF([1]!bargiri[شماره پیش فاکتور],[1]!invoice[[#This Row],[شماره پیش فاکتور]],[1]!bargiri[میزان بارگیری شده])/[1]!invoice[[#This Row],[میزان سفارش]] -> 1 | P64: =VLOOKUP(invoice[[#This Row],[شماره پیش فاکتور]],[1]!invoice[[شماره پیش فاکتور]:[نوع سفارش]],9,0) -> تعادلی | Q64: =SUMIFS('[1]جزییات بارگیری'!D:D,'[1]جزییات بارگیری'!C:C,[1]!invoice[[#This Row],[شماره پیش فاکتور]]) -> 85900 | R64: =IF([1]!invoice[[#This Row],[میزان سفارش]]-[1]!invoice[[#This Row],[میزان حمل شده ]]<0,0,[1]!invoice[[#This Row],[میزان سفارش]]-[1]!invoice[[#This Row],[میزان حمل شده ]]) -> 0 | S64: =[1]!invoice[[#This Row],[میزان حمل نشده ]]*[1]!invoice[[#This Row],[فی]] -> 0
A65: پ/21-1404 | B65: تولیدی گازهای طبی و صنعتی طوس سبزوار | C65: =VLOOKUP(invoice[[#This Row],[شماره پیش فاکتور]],[1]!invoice[[شماره پیش فاکتور]:[تاریخ]],3,0) -> 1404/03/06 | D65: =VLOOKUP(invoice[[#This Row],[شماره پیش فاکتور]],'[1]لیست پیش فاکتور ها'!$A:$D,4,0) -> 1404/03/10 | E65: =VLOOKUP(invoice[[#This Row],[شماره پیش فاکتور]],[1]!invoice[[شماره پیش فاکتور]:[میزان سفارش]],5,0) -> 75000 | F65: =VLOOKUP(invoice[[#This Row],[شماره پیش فاکتور]],[1]!invoice[[شماره پیش فاکتور]:[فی]],6,0) -> 79520 | G65: =CHOOSE(MID(invoice[[#This Row],[تاریخ]],6,2),"فروردین","اردیبهشت","خرداد","تیر","مرداد","شهریور","مهر","آبان","آذر","دی","بهمن","اسفند") -> خرداد | H65: =_xlfn.NUMBERVALUE(MID(invoice[[#This Row],[تاریخ]],1,4)) -> 1404 | I65: =VLOOKUP(invoice[[#This Row],[شماره پیش فاکتور]],[1]!invoice[[شماره پیش فاکتور]:[نوع سفارش]],9,0) -> تعادلی | J65: =VLOOKUP(invoice[[#This Row],[شماره پیش فاکتور]],[1]!invoice[[شماره پیش فاکتور]:[نوع شرکت]],10,0) -> تولید کننده | K65: 1404/12/29 | L65: 0.1 | M65: 984060000 | N65: =invoice[[#This Row],[مبلغ پیش دریافت]]/invoice[[#This Row],[میزان سفارش]] -> 13120.8 | O65: =SUMIF([1]!bargiri[شماره پیش فاکتور],[1]!invoice[[#This Row],[شماره پیش فاکتور]],[1]!bargiri[میزان بارگیری شده])/[1]!invoice[[#This Row],[میزان سفارش]] -> 1 | P65: =VLOOKUP(invoice[[#This Row],[شماره پیش فاکتور]],[1]!invoice[[شماره پیش فاکتور]:[نوع سفارش]],9,0) -> تعادلی | Q65: =SUMIFS('[1]جزییات بارگیری'!D:D,'[1]جزییات بارگیری'!C:C,[1]!invoice[[#This Row],[شماره پیش فاکتور]]) -> 300000 | R65: =IF([1]!invoice[[#This Row],[میزان سفارش]]-[1]!invoice[[#This Row],[میزان حمل شده ]]<0,0,[1]!invoice[[#This Row],[میزان سفارش]]-[1]!invoice[[#This Row],[میزان حمل شده ]]) -> 0 | S65: =[1]!invoice[[#This Row],[میزان حمل نشده ]]*[1]!invoice[[#This Row],[فی]] -> 0
A66: الحاقیه پ/22-1404 | B66: گاز اکسیژن طوس | C66: =VLOOKUP(invoice[[#This Row],[شماره پیش فاکتور]],[1]!invoice[[شماره پیش فاکتور]:[تاریخ]],3,0) -> 1404/10/09 | D66: =VLOOKUP(invoice[[#This Row],[شماره پیش فاکتور]],'[1]لیست پیش فاکتور ها'!$A:$D,4,0) -> 1404/10/09 | E66: =VLOOKUP(invoice[[#This Row],[شماره پیش فاکتور]],[1]!invoice[[شماره پیش فاکتور]:[میزان سفارش]],5,0) -> 50000 | F66: =VLOOKUP(invoice[[#This Row],[شماره پیش فاکتور]],[1]!invoice[[شماره پیش فاکتور]:[فی]],6,0) -> 132900 | G66: =CHOOSE(MID(invoice[[#This Row],[تاریخ]],6,2),"فروردین","اردیبهشت","خرداد","تیر","مرداد","شهریور","مهر","آبان","آذر","دی","بهمن","اسفند") -> دی | H66: =_xlfn.NUMBERVALUE(MID(invoice[[#This Row],[تاریخ]],1,4)) -> 1404 | I66: =VLOOKUP(invoice[[#This Row],[شماره پیش فاکتور]],[1]!invoice[[شماره پیش فاکتور]:[نوع سفارش]],9,0) -> تعادلی | J66: =VLOOKUP(invoice[[#This Row],[شماره پیش فاکتور]],[1]!invoice[[شماره پیش فاکتور]:[نوع شرکت]],10,0) -> تولید کننده | K66: 1404/12/29 | L66: 0.1 | M66: 1228425000 | N66: =invoice[[#This Row],[مبلغ پیش دریافت]]/invoice[[#This Row],[میزان سفارش]] -> 24568.5 | O66: =SUMIF([1]!bargiri[شماره پیش فاکتور],[1]!invoice[[#This Row],[شماره پیش فاکتور]],[1]!bargiri[میزان بارگیری شده])/[1]!invoice[[#This Row],[میزان سفارش]] -> 1 | P66: =VLOOKUP(invoice[[#This Row],[شماره پیش فاکتور]],[1]!invoice[[شماره پیش فاکتور]:[نوع سفارش]],9,0) -> تعادلی | Q66: =SUMIFS('[1]جزییات بارگیری'!D:D,'[1]جزییات بارگیری'!C:C,[1]!invoice[[#This Row],[شماره پیش فاکتور]]) -> 50000 | R66: =IF([1]!invoice[[#This Row],[میزان سفارش]]-[1]!invoice[[#This Row],[میزان حمل شده ]]<0,0,[1]!invoice[[#This Row],[میزان سفارش]]-[1]!invoice[[#This Row],[میزان حمل شده ]]) -> 0 | S66: =[1]!invoice[[#This Row],[میزان حمل نشده ]]*[1]!invoice[[#This Row],[فی]] -> 0
A67: الحاقیه پ/43-1402 | B67: طوس قزوین | C67: =VLOOKUP(invoice[[#This Row],[شماره پیش فاکتور]],[1]!invoice[[شماره پیش فاکتور]:[تاریخ]],3,0) -> 1404/03/22 | D67: =VLOOKUP(invoice[[#This Row],[شماره پیش فاکتور]],'[1]لیست پیش فاکتور ها'!$A:$D,4,0) -> 1404/03/27 | E67: =VLOOKUP(invoice[[#This Row],[شماره پیش فاکتور]],[1]!invoice[[شماره پیش فاکتور]:[میزان سفارش]],5,0) -> 857945 | F67: =VLOOKUP(invoice[[#This Row],[شماره پیش فاکتور]],[1]!invoice[[شماره پیش فاکتور]:[فی]],6,0) -> 95000 | G67: =CHOOSE(MID(invoice[[#This Row],[تاریخ]],6,2),"فروردین","اردیبهشت","خرداد","تیر","مرداد","شهریور","مهر","آبان","آذر","دی","بهمن","اسفند") -> خرداد | H67: =_xlfn.NUMBERVALUE(MID(invoice[[#This Row],[تاریخ]],1,4)) -> 1404 | I67: =VLOOKUP(invoice[[#This Row],[شماره پیش فاکتور]],[1]!invoice[[شماره پیش فاکتور]:[نوع سفارش]],9,0) -> عادی | J67: =VLOOKUP(invoice[[#This Row],[شماره پیش فاکتور]],[1]!invoice[[شماره پیش فاکتور]:[نوع شرکت]],10,0) -> تولید کننده | K67: 46132 | L67: 0.1 | M67: 26086473950 | N67: =invoice[[#This Row],[مبلغ پیش دریافت]]/invoice[[#This Row],[میزان سفارش]] -> 30405.765 | O67: =SUMIF([1]!bargiri[شماره پیش فاکتور],[1]!invoice[[#This Row],[شماره پیش فاکتور]],[1]!bargiri[میزان بارگیری شده])/[1]!invoice[[#This Row],[میزان سفارش]] -> 1 | P67: =VLOOKUP(invoice[[#This Row],[شماره پیش فاکتور]],[1]!invoice[[شماره پیش فاکتور]:[نوع سفارش]],9,0) -> عادی | Q67: =SUMIFS('[1]جزییات بارگیری'!D:D,'[1]جزییات بارگیری'!C:C,[1]!invoice[[#This Row],[شماره پیش فاکتور]]) -> 1000000 | R67: =IF([1]!invoice[[#This Row],[میزان سفارش]]-[1]!invoice[[#This Row],[میزان حمل شده ]]<0,0,[1]!invoice[[#This Row],[میزان سفارش]]-[1]!invoice[[#This Row],[میزان حمل شده ]]) -> 0 | S67: =[1]!invoice[[#This Row],[میزان حمل نشده ]]*[1]!invoice[[#This Row],[فی]] -> 0
A68: پ/28-1404 | B68: طوس قزوین | C68: =VLOOKUP(invoice[[#This Row],[شماره پیش فاکتور]],[1]!invoice[[شماره پیش فاکتور]:[تاریخ]],3,0) -> 1404/03/21 | D68: =VLOOKUP(invoice[[#This Row],[شماره پیش فاکتور]],'[1]لیست پیش فاکتور ها'!$A:$D,4,0) -> 1404/03/21 | E68: =VLOOKUP(invoice[[#This Row],[شماره پیش فاکتور]],[1]!invoice[[شماره پیش فاکتور]:[میزان سفارش]],5,0) -> 40000 | F68: =VLOOKUP(invoice[[#This Row],[شماره پیش فاکتور]],[1]!invoice[[شماره پیش فاکتور]:[فی]],6,0) -> 83000 | G68: =CHOOSE(MID(invoice[[#This Row],[تاریخ]],6,2),"فروردین","اردیبهشت","خرداد","تیر","مرداد","شهریور","مهر","آبان","آذر","دی","بهمن","اسفند") -> خرداد | H68: =_xlfn.NUMBERVALUE(MID(invoice[[#This Row],[تاریخ]],1,4)) -> 1404 | I68: =VLOOKUP(invoice[[#This Row],[شماره پیش فاکتور]],[1]!invoice[[شماره پیش فاکتور]:[نوع سفارش]],9,0) -> تعادلی | J68: =VLOOKUP(invoice[[#This Row],[شماره پیش فاکتور]],[1]!invoice[[شماره پیش فاکتور]:[نوع شرکت]],10,0) -> تولید کننده | K68: 46101 | L68: 0.1 | M68: 547800000 | N68: =invoice[[#This Row],[مبلغ پیش دریافت]]/invoice[[#This Row],[میزان سفارش]] -> 13695 | O68: =SUMIF([1]!bargiri[شماره پیش فاکتور],[1]!invoice[[#This Row],[شماره پیش فاکتور]],[1]!bargiri[میزان بارگیری شده])/[1]!invoice[[#This Row],[میزان سفارش]] -> 1 | P68: =VLOOKUP(invoice[[#This Row],[شماره پیش فاکتور]],[1]!invoice[[شماره پیش فاکتور]:[نوع سفارش]],9,0) -> تعادلی | Q68: =SUMIFS('[1]جزییات بارگیری'!D:D,'[1]جزییات بارگیری'!C:C,[1]!invoice[[#This Row],[شماره پیش فاکتور]]) -> 85900 | R68: =IF([1]!invoice[[#This Row],[میزان سفارش]]-[1]!invoice[[#This Row],[میزان حمل شده ]]<0,0,[1]!invoice[[#This Row],[میزان سفارش]]-[1]!invoice[[#This Row],[میزان حمل شده ]]) -> 0 | S68: =[1]!invoice[[#This Row],[میزان حمل نشده ]]*[1]!invoice[[#This Row],[فی]] -> 0
A69: پ/24-1404 | B69: طوس قزوین | C69: =VLOOKUP(invoice[[#This Row],[شماره پیش فاکتور]],[1]!invoice[[شماره پیش فاکتور]:[تاریخ]],3,0) -> 1404/03/13 | D69: =VLOOKUP(invoice[[#This Row],[شماره پیش فاکتور]],'[1]لیست پیش فاکتور ها'!$A:$D,4,0) -> 1404/03/13 | E69: =VLOOKUP(invoice[[#This Row],[شماره پیش فاکتور]],[1]!invoice[[شماره پیش فاکتور]:[میزان سفارش]],5,0) -> 40000 | F69: =VLOOKUP(invoice[[#This Row],[شماره پیش فاکتور]],[1]!invoice[[شماره پیش فاکتور]:[فی]],6,0) -> 201000 | G69: =CHOOSE(MID(invoice[[#This Row],[تاریخ]],6,2),"فروردین","اردیبهشت","خرداد","تیر","مرداد","شهریور","مهر","آبان","آذر","دی","بهمن","اسفند") -> خرداد | H69: =_xlfn.NUMBERVALUE(MID(invoice[[#This Row],[تاریخ]],1,4)) -> 1404 | I69: =VLOOKUP(invoice[[#This Row],[شماره پیش فاکتور]],[1]!invoice[[شماره پیش فاکتور]:[نوع سفارش]],9,0) -> بورس | J69: =VLOOKUP(invoice[[#This Row],[شماره پیش فاکتور]],[1]!invoice[[شماره پیش فاکتور]:[نوع شرکت]],10,0) -> تولید کننده | K69: 46101 | L69: 0.1 | M69: 8844000000 | N69: =invoice[[#This Row],[مبلغ پیش دریافت]]/invoice[[#This Row],[میزان سفارش]] -> 221100 | O69: =SUMIF([1]!bargiri[شماره پیش فاکتور],[1]!invoice[[#This Row],[شماره پیش فاکتور]],[1]!bargiri[میزان بارگیری شده])/[1]!invoice[[#This Row],[میزان سفارش]] -> 1 | P69: =VLOOKUP(invoice[[#This Row],[شماره پیش فاکتور]],[1]!invoice[[شماره پیش فاکتور]:[نوع سفارش]],9,0) -> بورس | Q69: =SUMIFS('[1]جزییات بارگیری'!D:D,'[1]جزییات بارگیری'!C:C,[1]!invoice[[#This Row],[شماره پیش فاکتور]]) -> 500000 | R69: =IF([1]!invoice[[#This Row],[میزان سفارش]]-[1]!invoice[[#This Row],[میزان حمل شده ]]<0,0,[1]!invoice[[#This Row],[میزان سفارش]]-[1]!invoice[[#This Row],[میزان حمل شده ]]) -> 0 | S69: =[1]!invoice[[#This Row],[میزان حمل نشده ]]*[1]!invoice[[#This Row],[فی]] -> 0
A70: پ/26-1404 | B70: تولیدی گازهای طبی و صنعتی طوس سبزوار | C70: =VLOOKUP(invoice[[#This Row],[شماره پیش فاکتور]],[1]!invoice[[شماره پیش فاکتور]:[تاریخ]],3,0) -> 1404/03/21 | D70: =VLOOKUP(invoice[[#This Row],[شماره پیش فاکتور]],'[1]لیست پیش فاکتور ها'!$A:$D,4,0) -> 1404/03/21 | E70: =VLOOKUP(invoice[[#This Row],[شماره پیش فاکتور]],[1]!invoice[[شماره پیش فاکتور]:[میزان سفارش]],5,0) -> 20000 | F70: =VLOOKUP(invoice[[#This Row],[شماره پیش فاکتور]],[1]!invoice[[شماره پیش فاکتور]:[فی]],6,0) -> 83000 | G70: =CHOOSE(MID(invoice[[#This Row],[تاریخ]],6,2),"فروردین","اردیبهشت","خرداد","تیر","مرداد","شهریور","مهر","آبان","آذر","دی","بهمن","اسفند") -> خرداد | H70: =_xlfn.NUMBERVALUE(MID(invoice[[#This Row],[تاریخ]],1,4)) -> 1404 | I70: =VLOOKUP(invoice[[#This Row],[شماره پیش فاکتور]],[1]!invoice[[شماره پیش فاکتور]:[نوع سفارش]],9,0) -> تعادلی | J70: =VLOOKUP(invoice[[#This Row],[شماره پیش فاکتور]],[1]!invoice[[شماره پیش فاکتور]:[نوع شرکت]],10,0) -> تولید کننده | K70: 1404/12/29 | L70: 0.1 | M70: 273900000 | N70: =invoice[[#This Row],[مبلغ پیش دریافت]]/invoice[[#This Row],[میزان سفارش]] -> 13695 | O70: =SUMIF([1]!bargiri[شماره پیش فاکتور],[1]!invoice[[#This Row],[شماره پیش فاکتور]],[1]!bargiri[میزان بارگیری شده])/[1]!invoice[[#This Row],[میزان سفارش]] -> 1 | P70: =VLOOKUP(invoice[[#This Row],[شماره پیش فاکتور]],[1]!invoice[[شماره پیش فاکتور]:[نوع سفارش]],9,0) -> تعادلی | Q70: =SUMIFS('[1]جزییات بارگیری'!D:D,'[1]جزییات بارگیری'!C:C,[1]!invoice[[#This Row],[شماره پیش فاکتور]]) -> 50000 | R70: =IF([1]!invoice[[#This Row],[میزان سفارش]]-[1]!invoice[[#This Row],[میزان حمل شده ]]<0,0,[1]!invoice[[#This Row],[میزان سفارش]]-[1]!invoice[[#This Row],[میزان حمل شده ]]) -> 0 | S70: =[1]!invoice[[#This Row],[میزان حمل نشده ]]*[1]!invoice[[#This Row],[فی]] -> 0
A71: پ/16-1404 | B71: تولیدی گازهای طبی و صنعتی طوس سبزوار | C71: =VLOOKUP(invoice[[#This Row],[شماره پیش فاکتور]],[1]!invoice[[شماره پیش فاکتور]:[تاریخ]],3,0) -> 1404/03/13 | D71: =VLOOKUP(invoice[[#This Row],[شماره پیش فاکتور]],'[1]لیست پیش فاکتور ها'!$A:$D,4,0) -> 1404/03/13 | E71: =VLOOKUP(invoice[[#This Row],[شماره پیش فاکتور]],[1]!invoice[[شماره پیش فاکتور]:[میزان سفارش]],5,0) -> 20000 | F71: =VLOOKUP(invoice[[#This Row],[شماره پیش فاکتور]],[1]!invoice[[شماره پیش فاکتور]:[فی]],6,0) -> 201000 | G71: =CHOOSE(MID(invoice[[#This Row],[تاریخ]],6,2),"فروردین","اردیبهشت","خرداد","تیر","مرداد","شهریور","مهر","آبان","آذر","دی","بهمن","اسفند") -> خرداد | H71: =_xlfn.NUMBERVALUE(MID(invoice[[#This Row],[تاریخ]],1,4)) -> 1404 | I71: =VLOOKUP(invoice[[#This Row],[شماره پیش فاکتور]],[1]!invoice[[شماره پیش فاکتور]:[نوع سفارش]],9,0) -> بورس | J71: =VLOOKUP(invoice[[#This Row],[شماره پیش فاکتور]],[1]!invoice[[شماره پیش فاکتور]:[نوع شرکت]],10,0) -> تولید کننده | K71: 1404/12/29 | L71: 0.1 | M71: 4422000000 | N71: =invoice[[#This Row],[مبلغ پیش دریافت]]/invoice[[#This Row],[میزان سفارش]] -> 221100 | O71: =SUMIF([1]!bargiri[شماره پیش فاکتور],[1]!invoice[[#This Row],[شماره پیش فاکتور]],[1]!bargiri[میزان بارگیری شده])/[1]!invoice[[#This Row],[میزان سفارش]] -> 1.001855 | P71: =VLOOKUP(invoice[[#This Row],[شماره پیش فاکتور]],[1]!invoice[[شماره پیش فاکتور]:[نوع سفارش]],9,0) -> بورس | Q71: =SUMIFS('[1]جزییات بارگیری'!D:D,'[1]جزییات بارگیری'!C:C,[1]!invoice[[#This Row],[شماره پیش فاکتور]]) -> 1001855 | R71: =IF([1]!invoice[[#This Row],[میزان سفارش]]-[1]!invoice[[#This Row],[میزان حمل شده ]]<0,0,[1]!invoice[[#This Row],[میزان سفارش]]-[1]!invoice[[#This Row],[میزان حمل شده ]]) -> 0 | S71: =[1]!invoice[[#This Row],[میزان حمل نشده ]]*[1]!invoice[[#This Row],[فی]] -> 0
A72: پ/27-1404 | B72: عبیر شیمی | C72: =VLOOKUP(invoice[[#This Row],[شماره پیش فاکتور]],[1]!invoice[[شماره پیش فاکتور]:[تاریخ]],3,0) -> 1404/03/21 | D72: =VLOOKUP(invoice[[#This Row],[شماره پیش فاکتور]],'[1]لیست پیش فاکتور ها'!$A:$D,4,0) -> 1404/03/21 | E72: =VLOOKUP(invoice[[#This Row],[شماره پیش فاکتور]],[1]!invoice[[شماره پیش فاکتور]:[میزان سفارش]],5,0) -> 30000 | F72: =VLOOKUP(invoice[[#This Row],[شماره پیش فاکتور]],[1]!invoice[[شماره پیش فاکتور]:[فی]],6,0) -> 83000 | G72: =CHOOSE(MID(invoice[[#This Row],[تاریخ]],6,2),"فروردین","اردیبهشت","خرداد","تیر","مرداد","شهریور","مهر","آبان","آذر","دی","بهمن","اسفند") -> خرداد | H72: =_xlfn.NUMBERVALUE(MID(invoice[[#This Row],[تاریخ]],1,4)) -> 1404 | I72: =VLOOKUP(invoice[[#This Row],[شماره پیش فاکتور]],[1]!invoice[[شماره پیش فاکتور]:[نوع سفارش]],9,0) -> تعادلی | J72: =VLOOKUP(invoice[[#This Row],[شماره پیش فاکتور]],[1]!invoice[[شماره پیش فاکتور]:[نوع شرکت]],10,0) -> تولید کننده | K72: 46101 | L72: 0.1 | M72: 410850000 | N72: =invoice[[#This Row],[مبلغ پیش دریافت]]/invoice[[#This Row],[میزان سفارش]] -> 13695 | O72: =SUMIF([1]!bargiri[شماره پیش فاکتور],[1]!invoice[[#This Row],[شماره پیش فاکتور]],[1]!bargiri[میزان بارگیری شده])/[1]!invoice[[#This Row],[میزان سفارش]] -> 1 | P72: =VLOOKUP(invoice[[#This Row],[شماره پیش فاکتور]],[1]!invoice[[شماره پیش فاکتور]:[نوع سفارش]],9,0) -> تعادلی | Q72: =SUMIFS('[1]جزییات بارگیری'!D:D,'[1]جزییات بارگیری'!C:C,[1]!invoice[[#This Row],[شماره پیش فاکتور]]) -> 50000 | R72: =IF([1]!invoice[[#This Row],[میزان سفارش]]-[1]!invoice[[#This Row],[میزان حمل شده ]]<0,0,[1]!invoice[[#This Row],[میزان سفارش]]-[1]!invoice[[#This Row],[میزان حمل شده ]]) -> 0 | S72: =[1]!invoice[[#This Row],[میزان حمل نشده ]]*[1]!invoice[[#This Row],[فی]] -> 0
A73: پ/23-1404 | B73: عبیر شیمی | C73: =VLOOKUP(invoice[[#This Row],[شماره پیش فاکتور]],[1]!invoice[[شماره پیش فاکتور]:[تاریخ]],3,0) -> 1404/03/13 | D73: =VLOOKUP(invoice[[#This Row],[شماره پیش فاکتور]],'[1]لیست پیش فاکتور ها'!$A:$D,4,0) -> 1404/03/13 | E73: =VLOOKUP(invoice[[#This Row],[شماره پیش فاکتور]],[1]!invoice[[شماره پیش فاکتور]:[میزان سفارش]],5,0) -> 30000 | F73: =VLOOKUP(invoice[[#This Row],[شماره پیش فاکتور]],[1]!invoice[[شماره پیش فاکتور]:[فی]],6,0) -> 201000 | G73: =CHOOSE(MID(invoice[[#This Row],[تاریخ]],6,2),"فروردین","اردیبهشت","خرداد","تیر","مرداد","شهریور","مهر","آبان","آذر","دی","بهمن","اسفند") -> خرداد | H73: =_xlfn.NUMBERVALUE(MID(invoice[[#This Row],[تاریخ]],1,4)) -> 1404 | I73: =VLOOKUP(invoice[[#This Row],[شماره پیش فاکتور]],[1]!invoice[[شماره پیش فاکتور]:[نوع سفارش]],9,0) -> بورس | J73: =VLOOKUP(invoice[[#This Row],[شماره پیش فاکتور]],[1]!invoice[[شماره پیش فاکتور]:[نوع شرکت]],10,0) -> تولید کننده | K73: 46101 | L73: 0.1 | M73: 6633000000 | N73: =invoice[[#This Row],[مبلغ پیش دریافت]]/invoice[[#This Row],[میزان سفارش]] -> 221100 | O73: =SUMIF([1]!bargiri[شماره پیش فاکتور],[1]!invoice[[#This Row],[شماره پیش فاکتور]],[1]!bargiri[میزان بارگیری شده])/[1]!invoice[[#This Row],[میزان سفارش]] -> 1 | P73: =VLOOKUP(invoice[[#This Row],[شماره پیش فاکتور]],[1]!invoice[[شماره پیش فاکتور]:[نوع سفارش]],9,0) -> بورس | Q73: =SUMIFS('[1]جزییات بارگیری'!D:D,'[1]جزییات بارگیری'!C:C,[1]!invoice[[#This Row],[شماره پیش فاکتور]]) -> 217925 | R73: =IF([1]!invoice[[#This Row],[میزان سفارش]]-[1]!invoice[[#This Row],[میزان حمل شده ]]<0,0,[1]!invoice[[#This Row],[میزان سفارش]]-[1]!invoice[[#This Row],[میزان حمل شده ]]) -> 0 | S73: =[1]!invoice[[#This Row],[میزان حمل نشده ]]*[1]!invoice[[#This Row],[فی]] -> 0
A74: پ/25-1404 | B74: رهام گاز | C74: =VLOOKUP(invoice[[#This Row],[شماره پیش فاکتور]],[1]!invoice[[شماره پیش فاکتور]:[تاریخ]],3,0) -> 1404/03/13 | D74: =VLOOKUP(invoice[[#This Row],[شماره پیش فاکتور]],'[1]لیست پیش فاکتور ها'!$A:$D,4,0) -> 1404/03/13 | E74: =VLOOKUP(invoice[[#This Row],[شماره پیش فاکتور]],[1]!invoice[[شماره پیش فاکتور]:[میزان سفارش]],5,0) -> 20000 | F74: =VLOOKUP(invoice[[#This Row],[شماره پیش فاکتور]],[1]!invoice[[شماره پیش فاکتور]:[فی]],6,0) -> 201000 | G74: =CHOOSE(MID(invoice[[#This Row],[تاریخ]],6,2),"فروردین","اردیبهشت","خرداد","تیر","مرداد","شهریور","مهر","آبان","آذر","دی","بهمن","اسفند") -> خرداد | H74: =_xlfn.NUMBERVALUE(MID(invoice[[#This Row],[تاریخ]],1,4)) -> 1404 | I74: =VLOOKUP(invoice[[#This Row],[شماره پیش فاکتور]],[1]!invoice[[شماره پیش فاکتور]:[نوع سفارش]],9,0) -> بورس | J74: =VLOOKUP(invoice[[#This Row],[شماره پیش فاکتور]],[1]!invoice[[شماره پیش فاکتور]:[نوع شرکت]],10,0) -> واسطه | K74: 46101 | L74: 0.1 | M74: 4422000000 | N74: =invoice[[#This Row],[مبلغ پیش دریافت]]/invoice[[#This Row],[میزان سفارش]] -> 221100 | O74: =SUMIF([1]!bargiri[شماره پیش فاکتور],[1]!invoice[[#This Row],[شماره پیش فاکتور]],[1]!bargiri[میزان بارگیری شده])/[1]!invoice[[#This Row],[میزان سفارش]] -> 1 | P74: =VLOOKUP(invoice[[#This Row],[شماره پیش فاکتور]],[1]!invoice[[شماره پیش فاکتور]:[نوع سفارش]],9,0) -> بورس | Q74: =SUMIFS('[1]جزییات بارگیری'!D:D,'[1]جزییات بارگیری'!C:C,[1]!invoice[[#This Row],[شماره پیش فاکتور]]) -> 19975 | R74: =IF([1]!invoice[[#This Row],[میزان سفارش]]-[1]!invoice[[#This Row],[میزان حمل شده ]]<0,0,[1]!invoice[[#This Row],[میزان سفارش]]-[1]!invoice[[#This Row],[میزان حمل شده ]]) -> 0 | S74: =[1]!invoice[[#This Row],[میزان حمل نشده ]]*[1]!invoice[[#This Row],[فی]] -> 0
A75: پ/29-1404 | B75: طوس قزوین | C75: =VLOOKUP(invoice[[#This Row],[شماره پیش فاکتور]],[1]!invoice[[شماره پیش فاکتور]:[تاریخ]],3,0) -> 1404/04/02 | D75: =VLOOKUP(invoice[[#This Row],[شماره پیش فاکتور]],'[1]لیست پیش فاکتور ها'!$A:$D,4,0) -> 1404/04/03 | E75: =VLOOKUP(invoice[[#This Row],[شماره پیش فاکتور]],[1]!invoice[[شماره پیش فاکتور]:[میزان سفارش]],5,0) -> 50000 | F75: =VLOOKUP(invoice[[#This Row],[شماره پیش فاکتور]],[1]!invoice[[شماره پیش فاکتور]:[فی]],6,0) -> 167500 | G75: =CHOOSE(MID(invoice[[#This Row],[تاریخ]],6,2),"فروردین","اردیبهشت","خرداد","تیر","مرداد","شهریور","مهر","آبان","آذر","دی","بهمن","اسفند") -> تیر | H75: =_xlfn.NUMBERVALUE(MID(invoice[[#This Row],[تاریخ]],1,4)) -> 1404 | I75: =VLOOKUP(invoice[[#This Row],[شماره پیش فاکتور]],[1]!invoice[[شماره پیش فاکتور]:[نوع سفارش]],9,0) -> بورس | J75: =VLOOKUP(invoice[[#This Row],[شماره پیش فاکتور]],[1]!invoice[[شماره پیش فاکتور]:[نوع شرکت]],10,0) -> تولید کننده | K75: 46101 | L75: 0.1 | M75: 9212500000 | N75: =invoice[[#This Row],[مبلغ پیش دریافت]]/invoice[[#This Row],[میزان سفارش]] -> 184250 | O75: =SUMIF([1]!bargiri[شماره پیش فاکتور],[1]!invoice[[#This Row],[شماره پیش فاکتور]],[1]!bargiri[میزان بارگیری شده])/[1]!invoice[[#This Row],[میزان سفارش]] -> 1 | P75: =VLOOKUP(invoice[[#This Row],[شماره پیش فاکتور]],[1]!invoice[[شماره پیش فاکتور]:[نوع سفارش]],9,0) -> بورس | Q75: =SUMIFS('[1]جزییات بارگیری'!D:D,'[1]جزییات بارگیری'!C:C,[1]!invoice[[#This Row],[شماره پیش فاکتور]]) -> 100000 | R75: =IF([1]!invoice[[#This Row],[میزان سفارش]]-[1]!invoice[[#This Row],[میزان حمل شده ]]<0,0,[1]!invoice[[#This Row],[میزان سفارش]]-[1]!invoice[[#This Row],[میزان حمل شده ]]) -> 0 | S75: =[1]!invoice[[#This Row],[میزان حمل نشده ]]*[1]!invoice[[#This Row],[فی]] -> 0
A76: پ/30-1404 | B76: پاینده ساز فردوس | C76: =VLOOKUP(invoice[[#This Row],[شماره پیش فاکتور]],[1]!invoice[[شماره پیش فاکتور]:[تاریخ]],3,0) -> 1404/04/02 | D76: =VLOOKUP(invoice[[#This Row],[شماره پیش فاکتور]],'[1]لیست پیش فاکتور ها'!$A:$D,4,0) -> 1404/04/03 | E76: =VLOOKUP(invoice[[#This Row],[شماره پیش فاکتور]],[1]!invoice[[شماره پیش فاکتور]:[میزان سفارش]],5,0) -> 20000 | F76: =VLOOKUP(invoice[[#This Row],[شماره پیش فاکتور]],[1]!invoice[[شماره پیش فاکتور]:[فی]],6,0) -> 167500 | G76: =CHOOSE(MID(invoice[[#This Row],[تاریخ]],6,2),"فروردین","اردیبهشت","خرداد","تیر","مرداد","شهریور","مهر","آبان","آذر","دی","بهمن","اسفند") -> تیر | H76: =_xlfn.NUMBERVALUE(MID(invoice[[#This Row],[تاریخ]],1,4)) -> 1404 | I76: =VLOOKUP(invoice[[#This Row],[شماره پیش فاکتور]],[1]!invoice[[شماره پیش فاکتور]:[نوع سفارش]],9,0) -> بورس | J76: =VLOOKUP(invoice[[#This Row],[شماره پیش فاکتور]],[1]!invoice[[شماره پیش فاکتور]:[نوع شرکت]],10,0) -> تولید کننده | K76: 46101 | L76: 0.1 | M76: 3685000000 | N76: =invoice[[#This Row],[مبلغ پیش دریافت]]/invoice[[#This Row],[میزان سفارش]] -> 184250 | O76: =SUMIF([1]!bargiri[شماره پیش فاکتور],[1]!invoice[[#This Row],[شماره پیش فاکتور]],[1]!bargiri[میزان بارگیری شده])/[1]!invoice[[#This Row],[میزان سفارش]] -> 1 | P76: =VLOOKUP(invoice[[#This Row],[شماره پیش فاکتور]],[1]!invoice[[شماره پیش فاکتور]:[نوع سفارش]],9,0) -> بورس | Q76: =SUMIFS('[1]جزییات بارگیری'!D:D,'[1]جزییات بارگیری'!C:C,[1]!invoice[[#This Row],[شماره پیش فاکتور]]) -> 144945 | R76: =IF([1]!invoice[[#This Row],[میزان سفارش]]-[1]!invoice[[#This Row],[میزان حمل شده ]]<0,0,[1]!invoice[[#This Row],[میزان سفارش]]-[1]!invoice[[#This Row],[میزان حمل شده ]]) -> 0 | S76: =[1]!invoice[[#This Row],[میزان حمل نشده ]]*[1]!invoice[[#This Row],[فی]] -> 0
A77: پ/31-1404 | B77: اکسیژن ارومیه گاز | C77: =VLOOKUP(invoice[[#This Row],[شماره پیش فاکتور]],[1]!invoice[[شماره پیش فاکتور]:[تاریخ]],3,0) -> 1404/04/02 | D77: =VLOOKUP(invoice[[#This Row],[شماره پیش فاکتور]],'[1]لیست پیش فاکتور ها'!$A:$D,4,0) -> 1404/04/03 | E77: =VLOOKUP(invoice[[#This Row],[شماره پیش فاکتور]],[1]!invoice[[شماره پیش فاکتور]:[میزان سفارش]],5,0) -> 30000 | F77: =VLOOKUP(invoice[[#This Row],[شماره پیش فاکتور]],[1]!invoice[[شماره پیش فاکتور]:[فی]],6,0) -> 167500 | G77: =CHOOSE(MID(invoice[[#This Row],[تاریخ]],6,2),"فروردین","اردیبهشت","خرداد","تیر","مرداد","شهریور","مهر","آبان","آذر","دی","بهمن","اسفند") -> تیر | H77: =_xlfn.NUMBERVALUE(MID(invoice[[#This Row],[تاریخ]],1,4)) -> 1404 | I77: =VLOOKUP(invoice[[#This Row],[شماره پیش فاکتور]],[1]!invoice[[شماره پیش فاکتور]:[نوع سفارش]],9,0) -> بورس | J77: =VLOOKUP(invoice[[#This Row],[شماره پیش فاکتور]],[1]!invoice[[شماره پیش فاکتور]:[نوع شرکت]],10,0) -> تولید کننده | K77: 46101 | L77: 0.1 | M77: 5527500000 | N77: =invoice[[#This Row],[مبلغ پیش دریافت]]/invoice[[#This Row],[میزان سفارش]] -> 184250 | O77: =SUMIF([1]!bargiri[شماره پیش فاکتور],[1]!invoice[[#This Row],[شماره پیش فاکتور]],[1]!bargiri[میزان بارگیری شده])/[1]!invoice[[#This Row],[میزان سفارش]] -> 1 | P77: =VLOOKUP(invoice[[#This Row],[شماره پیش فاکتور]],[1]!invoice[[شماره پیش فاکتور]:[نوع سفارش]],9,0) -> بورس | Q77: =SUMIFS('[1]جزییات بارگیری'!D:D,'[1]جزییات بارگیری'!C:C,[1]!invoice[[#This Row],[شماره پیش فاکتور]]) -> 713932 | R77: =IF([1]!invoice[[#This Row],[میزان سفارش]]-[1]!invoice[[#This Row],[میزان حمل شده ]]<0,0,[1]!invoice[[#This Row],[میزان سفارش]]-[1]!invoice[[#This Row],[میزان حمل شده ]]) -> 0 | S77: =[1]!invoice[[#This Row],[میزان حمل نشده ]]*[1]!invoice[[#This Row],[فی]] -> 0
A78: پ/32-1404 | B78: طوس قزوین | C78: =VLOOKUP(invoice[[#This Row],[شماره پیش فاکتور]],[1]!invoice[[شماره پیش فاکتور]:[تاریخ]],3,0) -> 1404/04/09 | D78: =VLOOKUP(invoice[[#This Row],[شماره پیش فاکتور]],'[1]لیست پیش فاکتور ها'!$A:$D,4,0) -> 1404/04/12 | E78: =VLOOKUP(invoice[[#This Row],[شماره پیش فاکتور]],[1]!invoice[[شماره پیش فاکتور]:[میزان سفارش]],5,0) -> 50000 | F78: =VLOOKUP(invoice[[#This Row],[شماره پیش فاکتور]],[1]!invoice[[شماره پیش فاکتور]:[فی]],6,0) -> 116500 | G78: =CHOOSE(MID(invoice[[#This Row],[تاریخ]],6,2),"فروردین","اردیبهشت","خرداد","تیر","مرداد","شهریور","مهر","آبان","آذر","دی","بهمن","اسفند") -> تیر | H78: =_xlfn.NUMBERVALUE(MID(invoice[[#This Row],[تاریخ]],1,4)) -> 1404 | I78: =VLOOKUP(invoice[[#This Row],[شماره پیش فاکتور]],[1]!invoice[[شماره پیش فاکتور]:[نوع سفارش]],9,0) -> تعادلی | J78: =VLOOKUP(invoice[[#This Row],[شماره پیش فاکتور]],[1]!invoice[[شماره پیش فاکتور]:[نوع شرکت]],10,0) -> تولید کننده | K78: 46101 | L78: 0.1 | M78: 961125000 | N78: =invoice[[#This Row],[مبلغ پیش دریافت]]/invoice[[#This Row],[میزان سفارش]] -> 19222.5 | O78: =SUMIF([1]!bargiri[شماره پیش فاکتور],[1]!invoice[[#This Row],[شماره پیش فاکتور]],[1]!bargiri[میزان بارگیری شده])/[1]!invoice[[#This Row],[میزان سفارش]] -> 1 | P78: =VLOOKUP(invoice[[#This Row],[شماره پیش فاکتور]],[1]!invoice[[شماره پیش فاکتور]:[نوع سفارش]],9,0) -> تعادلی | Q78: =SUMIFS('[1]جزییات بارگیری'!D:D,'[1]جزییات بارگیری'!C:C,[1]!invoice[[#This Row],[شماره پیش فاکتور]]) -> 58770 | R78: =IF([1]!invoice[[#This Row],[میزان سفارش]]-[1]!invoice[[#This Row],[میزان حمل شده ]]<0,0,[1]!invoice[[#This Row],[میزان سفارش]]-[1]!invoice[[#This Row],[میزان حمل شده ]]) -> 0 | S78: =[1]!invoice[[#This Row],[میزان حمل نشده ]]*[1]!invoice[[#This Row],[فی]] -> 0
A79: پ/33-1404 | B79: پاینده ساز فردوس | C79: =VLOOKUP(invoice[[#This Row],[شماره پیش فاکتور]],[1]!invoice[[شماره پیش فاکتور]:[تاریخ]],3,0) -> 1404/04/09 | D79: =VLOOKUP(invoice[[#This Row],[شماره پیش فاکتور]],'[1]لیست پیش فاکتور ها'!$A:$D,4,0) -> 1404/04/12 | E79: =VLOOKUP(invoice[[#This Row],[شماره پیش فاکتور]],[1]!invoice[[شماره پیش فاکتور]:[میزان سفارش]],5,0) -> 20000 | F79: =VLOOKUP(invoice[[#This Row],[شماره پیش فاکتور]],[1]!invoice[[شماره پیش فاکتور]:[فی]],6,0) -> 116500 | G79: =CHOOSE(MID(invoice[[#This Row],[تاریخ]],6,2),"فروردین","اردیبهشت","خرداد","تیر","مرداد","شهریور","مهر","آبان","آذر","دی","بهمن","اسفند") -> تیر | H79: =_xlfn.NUMBERVALUE(MID(invoice[[#This Row],[تاریخ]],1,4)) -> 1404 | I79: =VLOOKUP(invoice[[#This Row],[شماره پیش فاکتور]],[1]!invoice[[شماره پیش فاکتور]:[نوع سفارش]],9,0) -> تعادلی | J79: =VLOOKUP(invoice[[#This Row],[شماره پیش فاکتور]],[1]!invoice[[شماره پیش فاکتور]:[نوع شرکت]],10,0) -> تولید کننده | K79: 46101 | L79: 0.1 | M79: 384450000 | N79: =invoice[[#This Row],[مبلغ پیش دریافت]]/invoice[[#This Row],[میزان سفارش]] -> 19222.5 | O79: =SUMIF([1]!bargiri[شماره پیش فاکتور],[1]!invoice[[#This Row],[شماره پیش فاکتور]],[1]!bargiri[میزان بارگیری شده])/[1]!invoice[[#This Row],[میزان سفارش]] -> 1 | P79: =VLOOKUP(invoice[[#This Row],[شماره پیش فاکتور]],[1]!invoice[[شماره پیش فاکتور]:[نوع سفارش]],9,0) -> تعادلی | Q79: =SUMIFS('[1]جزییات بارگیری'!D:D,'[1]جزییات بارگیری'!C:C,[1]!invoice[[#This Row],[شماره پیش فاکتور]]) -> 29755 | R79: =IF([1]!invoice[[#This Row],[میزان سفارش]]-[1]!invoice[[#This Row],[میزان حمل شده ]]<0,0,[1]!invoice[[#This Row],[میزان سفارش]]-[1]!invoice[[#This Row],[میزان حمل شده ]]) -> 0 | S79: =[1]!invoice[[#This Row],[میزان حمل نشده ]]*[1]!invoice[[#This Row],[فی]] -> 0
A80: پ/34-1404 | B80: اکسیژن ارومیه گاز | C80: =VLOOKUP(invoice[[#This Row],[شماره پیش فاکتور]],[1]!invoice[[شماره پیش فاکتور]:[تاریخ]],3,0) -> 1404/04/09 | D80: =VLOOKUP(invoice[[#This Row],[شماره پیش فاکتور]],'[1]لیست پیش فاکتور ها'!$A:$D,4,0) -> 1404/04/12 | E80: =VLOOKUP(invoice[[#This Row],[شماره پیش فاکتور]],[1]!invoice[[شماره پیش فاکتور]:[میزان سفارش]],5,0) -> 30000 | F80: =VLOOKUP(invoice[[#This Row],[شماره پیش فاکتور]],[1]!invoice[[شماره پیش فاکتور]:[فی]],6,0) -> 116500 | G80: =CHOOSE(MID(invoice[[#This Row],[تاریخ]],6,2),"فروردین","اردیبهشت","خرداد","تیر","مرداد","شهریور","مهر","آبان","آذر","دی","بهمن","اسفند") -> تیر | H80: =_xlfn.NUMBERVALUE(MID(invoice[[#This Row],[تاریخ]],1,4)) -> 1404 | I80: =VLOOKUP(invoice[[#This Row],[شماره پیش فاکتور]],[1]!invoice[[شماره پیش فاکتور]:[نوع سفارش]],9,0) -> تعادلی | J80: =VLOOKUP(invoice[[#This Row],[شماره پیش فاکتور]],[1]!invoice[[شماره پیش فاکتور]:[نوع شرکت]],10,0) -> تولید کننده | K80: 46101 | L80: 0.1 | M80: 576675000 | N80: =invoice[[#This Row],[مبلغ پیش دریافت]]/invoice[[#This Row],[میزان سفارش]] -> 19222.5 | O80: =SUMIF([1]!bargiri[شماره پیش فاکتور],[1]!invoice[[#This Row],[شماره پیش فاکتور]],[1]!bargiri[میزان بارگیری شده])/[1]!invoice[[#This Row],[میزان سفارش]] -> 1 | P80: =VLOOKUP(invoice[[#This Row],[شماره پیش فاکتور]],[1]!invoice[[شماره پیش فاکتور]:[نوع سفارش]],9,0) -> تعادلی | Q80: =SUMIFS('[1]جزییات بارگیری'!D:D,'[1]جزییات بارگیری'!C:C,[1]!invoice[[#This Row],[شماره پیش فاکتور]]) -> 487745 | R80: =IF([1]!invoice[[#This Row],[میزان سفارش]]-[1]!invoice[[#This Row],[میزان حمل شده ]]<0,0,[1]!invoice[[#This Row],[میزان سفارش]]-[1]!invoice[[#This Row],[میزان حمل شده ]]) -> 0 | S80: =[1]!invoice[[#This Row],[میزان حمل نشده ]]*[1]!invoice[[#This Row],[فی]] -> 0
A81: پ/35-1404 | B81: تولیدی گازهای طبی و صنعتی طوس سبزوار | C81: =VLOOKUP(invoice[[#This Row],[شماره پیش فاکتور]],[1]!invoice[[شماره پیش فاکتور]:[تاریخ]],3,0) -> 1404/04/18 | D81: =VLOOKUP(invoice[[#This Row],[شماره پیش فاکتور]],'[1]لیست پیش فاکتور ها'!$A:$D,4,0) -> 1404/04/18 | E81: =VLOOKUP(invoice[[#This Row],[شماره پیش فاکتور]],[1]!invoice[[شماره پیش فاکتور]:[میزان سفارش]],5,0) -> 40000 | F81: =VLOOKUP(invoice[[#This Row],[شماره پیش فاکتور]],[1]!invoice[[شماره پیش فاکتور]:[فی]],6,0) -> 167500 | G81: =CHOOSE(MID(invoice[[#This Row],[تاریخ]],6,2),"فروردین","اردیبهشت","خرداد","تیر","مرداد","شهریور","مهر","آبان","آذر","دی","بهمن","اسفند") -> تیر | H81: =_xlfn.NUMBERVALUE(MID(invoice[[#This Row],[تاریخ]],1,4)) -> 1404 | I81: =VLOOKUP(invoice[[#This Row],[شماره پیش فاکتور]],[1]!invoice[[شماره پیش فاکتور]:[نوع سفارش]],9,0) -> بورس | J81: =VLOOKUP(invoice[[#This Row],[شماره پیش فاکتور]],[1]!invoice[[شماره پیش فاکتور]:[نوع شرکت]],10,0) -> تولید کننده | K81: 46101 | L81: 0.1 | M81: 7370000000 | N81: =invoice[[#This Row],[مبلغ پیش دریافت]]/invoice[[#This Row],[میزان سفارش]] -> 184250 | O81: =SUMIF([1]!bargiri[شماره پیش فاکتور],[1]!invoice[[#This Row],[شماره پیش فاکتور]],[1]!bargiri[میزان بارگیری شده])/[1]!invoice[[#This Row],[میزان سفارش]] -> 1 | P81: =VLOOKUP(invoice[[#This Row],[شماره پیش فاکتور]],[1]!invoice[[شماره پیش فاکتور]:[نوع سفارش]],9,0) -> بورس | Q81: =SUMIFS('[1]جزییات بارگیری'!D:D,'[1]جزییات بارگیری'!C:C,[1]!invoice[[#This Row],[شماره پیش فاکتور]]) -> 300000 | R81: =IF([1]!invoice[[#This Row],[میزان سفارش]]-[1]!invoice[[#This Row],[میزان حمل شده ]]<0,0,[1]!invoice[[#This Row],[میزان سفارش]]-[1]!invoice[[#This Row],[میزان حمل شده ]]) -> 0 | S81: =[1]!invoice[[#This Row],[میزان حمل نشده ]]*[1]!invoice[[#This Row],[فی]] -> 0
A82: پ/36-1404 | B82: عبیر شیمی | C82: =VLOOKUP(invoice[[#This Row],[شماره پیش فاکتور]],[1]!invoice[[شماره پیش فاکتور]:[تاریخ]],3,0) -> 1404/04/18 | D82: =VLOOKUP(invoice[[#This Row],[شماره پیش فاکتور]],'[1]لیست پیش فاکتور ها'!$A:$D,4,0) -> 1404/04/18 | E82: =VLOOKUP(invoice[[#This Row],[شماره پیش فاکتور]],[1]!invoice[[شماره پیش فاکتور]:[میزان سفارش]],5,0) -> 60000 | F82: =VLOOKUP(invoice[[#This Row],[شماره پیش فاکتور]],[1]!invoice[[شماره پیش فاکتور]:[فی]],6,0) -> 167500 | G82: =CHOOSE(MID(invoice[[#This Row],[تاریخ]],6,2),"فروردین","اردیبهشت","خرداد","تیر","مرداد","شهریور","مهر","آبان","آذر","دی","بهمن","اسفند") -> تیر | H82: =_xlfn.NUMBERVALUE(MID(invoice[[#This Row],[تاریخ]],1,4)) -> 1404 | I82: =VLOOKUP(invoice[[#This Row],[شماره پیش فاکتور]],[1]!invoice[[شماره پیش فاکتور]:[نوع سفارش]],9,0) -> بورس | J82: =VLOOKUP(invoice[[#This Row],[شماره پیش فاکتور]],[1]!invoice[[شماره پیش فاکتور]:[نوع شرکت]],10,0) -> تولید کننده | K82: 46101 | L82: 0.1 | M82: 11055000000 | N82: =invoice[[#This Row],[مبلغ پیش دریافت]]/invoice[[#This Row],[میزان سفارش]] -> 184250 | O82: =SUMIF([1]!bargiri[شماره پیش فاکتور],[1]!invoice[[#This Row],[شماره پیش فاکتور]],[1]!bargiri[میزان بارگیری شده])/[1]!invoice[[#This Row],[میزان سفارش]] -> 1 | P82: =VLOOKUP(invoice[[#This Row],[شماره پیش فاکتور]],[1]!invoice[[شماره پیش فاکتور]:[نوع سفارش]],9,0) -> بورس | Q82: =SUMIFS('[1]جزییات بارگیری'!D:D,'[1]جزییات بارگیری'!C:C,[1]!invoice[[#This Row],[شماره پیش فاکتور]]) -> 180000 | R82: =IF([1]!invoice[[#This Row],[میزان سفارش]]-[1]!invoice[[#This Row],[میزان حمل شده ]]<0,0,[1]!invoice[[#This Row],[میزان سفارش]]-[1]!invoice[[#This Row],[میزان حمل شده ]]) -> 0 | S82: =[1]!invoice[[#This Row],[میزان حمل نشده ]]*[1]!invoice[[#This Row],[فی]] -> 0
A83: پ/37-1404 | B83: تولیدی گازهای طبی و صنعتی طوس سبزوار | C83: =VLOOKUP(invoice[[#This Row],[شماره پیش فاکتور]],[1]!invoice[[شماره پیش فاکتور]:[تاریخ]],3,0) -> 1404/04/24 | D83: =VLOOKUP(invoice[[#This Row],[شماره پیش فاکتور]],'[1]لیست پیش فاکتور ها'!$A:$D,4,0) -> 1404/04/29 | E83: =VLOOKUP(invoice[[#This Row],[شماره پیش فاکتور]],[1]!invoice[[شماره پیش فاکتور]:[میزان سفارش]],5,0) -> 40000 | F83: =VLOOKUP(invoice[[#This Row],[شماره پیش فاکتور]],[1]!invoice[[شماره پیش فاکتور]:[فی]],6,0) -> 116500 | G83: =CHOOSE(MID(invoice[[#This Row],[تاریخ]],6,2),"فروردین","اردیبهشت","خرداد","تیر","مرداد","شهریور","مهر","آبان","آذر","دی","بهمن","اسفند") -> تیر | H83: =_xlfn.NUMBERVALUE(MID(invoice[[#This Row],[تاریخ]],1,4)) -> 1404 | I83: =VLOOKUP(invoice[[#This Row],[شماره پیش فاکتور]],[1]!invoice[[شماره پیش فاکتور]:[نوع سفارش]],9,0) -> تعادلی | J83: =VLOOKUP(invoice[[#This Row],[شماره پیش فاکتور]],[1]!invoice[[شماره پیش فاکتور]:[نوع شرکت]],10,0) -> تولید کننده | K83: 46101 | L83: 0.1 | M83: 5126000000 | N83: =invoice[[#This Row],[مبلغ پیش دریافت]]/invoice[[#This Row],[میزان سفارش]] -> 128150 | O83: =SUMIF([1]!bargiri[شماره پیش فاکتور],[1]!invoice[[#This Row],[شماره پیش فاکتور]],[1]!bargiri[میزان بارگیری شده])/[1]!invoice[[#This Row],[میزان سفارش]] -> 1 | P83: =VLOOKUP(invoice[[#This Row],[شماره پیش فاکتور]],[1]!invoice[[شماره پیش فاکتور]:[نوع سفارش]],9,0) -> تعادلی | Q83: =SUMIFS('[1]جزییات بارگیری'!D:D,'[1]جزییات بارگیری'!C:C,[1]!invoice[[#This Row],[شماره پیش فاکتور]]) -> 17960 | R83: =IF([1]!invoice[[#This Row],[میزان سفارش]]-[1]!invoice[[#This Row],[میزان حمل شده ]]<0,0,[1]!invoice[[#This Row],[میزان سفارش]]-[1]!invoice[[#This Row],[میزان حمل شده ]]) -> 0 | S83: =[1]!invoice[[#This Row],[میزان حمل نشده ]]*[1]!invoice[[#This Row],[فی]] -> 0
... A97: پ/51-1404 | B97: طوس قزوین | C97: =VLOOKUP(invoice[[#This Row],[شماره پیش فاکتور]],[1]!invoice[[شماره پیش فاکتور]:[تاریخ]],3,0) -> 1404/05/18 | D97: =VLOOKUP(invoice[[#This Row],[شماره پیش فاکتور]],'[1]لیست پیش فاکتور ها'!$A:$D,4,0) -> 1404/05/22 | E97: =VLOOKUP(invoice[[#This Row],[شماره پیش فاکتور]],[1]!invoice[[شماره پیش فاکتور]:[میزان سفارش]],5,0) -> 30000 | F97: =VLOOKUP(invoice[[#This Row],[شماره پیش فاکتور]],[1]!invoice[[شماره پیش فاکتور]:[فی]],6,0) -> 116500 | G97: =CHOOSE(MID(invoice[[#This Row],[تاریخ]],6,2),"فروردین","اردیبهشت","خرداد","تیر","مرداد","شهریور","مهر","آبان","آذر","دی","بهمن","اسفند") -> مرداد | H97: =_xlfn.NUMBERVALUE(MID(invoice[[#This Row],[تاریخ]],1,4)) -> 1404 | I97: =VLOOKUP(invoice[[#This Row],[شماره پیش فاکتور]],[1]!invoice[[شماره پیش فاکتور]:[نوع سفارش]],9,0) -> تعادلی | J97: =VLOOKUP(invoice[[#This Row],[شماره پیش فاکتور]],[1]!invoice[[شماره پیش فاکتور]:[نوع شرکت]],10,0) -> تولید کننده | K97: 46101 | L97: 0.1 | M97: 576675000 | N97: =invoice[[#This Row],[مبلغ پیش دریافت]]/invoice[[#This Row],[میزان سفارش]] -> 19222.5 | O97: =SUMIF([1]!bargiri[شماره پیش فاکتور],[1]!invoice[[#This Row],[شماره پیش فاکتور]],[1]!bargiri[میزان بارگیری شده])/[1]!invoice[[#This Row],[میزان سفارش]] -> 1 | P97: =VLOOKUP(invoice[[#This Row],[شماره پیش فاکتور]],[1]!invoice[[شماره پیش فاکتور]:[نوع سفارش]],9,0) -> تعادلی | Q97: =SUMIFS('[1]جزییات بارگیری'!D:D,'[1]جزییات بارگیری'!C:C,[1]!invoice[[#This Row],[شماره پیش فاکتور]]) -> 51540 | R97: =IF([1]!invoice[[#This Row],[میزان سفارش]]-[1]!invoice[[#This Row],[میزان حمل شده ]]<0,0,[1]!invoice[[#This Row],[میزان سفارش]]-[1]!invoice[[#This Row],[میزان حمل شده ]]) -> 0 | S97: =[1]!invoice[[#This Row],[میزان حمل نشده ]]*[1]!invoice[[#This Row],[فی]] -> 0
A98: پ/52-1404 | B98: گاز اکسیژن طوس | C98: =VLOOKUP(invoice[[#This Row],[شماره پیش فاکتور]],[1]!invoice[[شماره پیش فاکتور]:[تاریخ]],3,0) -> 1404/05/18 | D98: =VLOOKUP(invoice[[#This Row],[شماره پیش فاکتور]],'[1]لیست پیش فاکتور ها'!$A:$D,4,0) -> 1404/05/22 | E98: =VLOOKUP(invoice[[#This Row],[شماره پیش فاکتور]],[1]!invoice[[شماره پیش فاکتور]:[میزان سفارش]],5,0) -> 20000 | F98: =VLOOKUP(invoice[[#This Row],[شماره پیش فاکتور]],[1]!invoice[[شماره پیش فاکتور]:[فی]],6,0) -> 116500 | G98: =CHOOSE(MID(invoice[[#This Row],[تاریخ]],6,2),"فروردین","اردیبهشت","خرداد","تیر","مرداد","شهریور","مهر","آبان","آذر","دی","بهمن","اسفند") -> مرداد | H98: =_xlfn.NUMBERVALUE(MID(invoice[[#This Row],[تاریخ]],1,4)) -> 1404 | I98: =VLOOKUP(invoice[[#This Row],[شماره پیش فاکتور]],[1]!invoice[[شماره پیش فاکتور]:[نوع سفارش]],9,0) -> تعادلی | J98: =VLOOKUP(invoice[[#This Row],[شماره پیش فاکتور]],[1]!invoice[[شماره پیش فاکتور]:[نوع شرکت]],10,0) -> تولید کننده | K98: 1404/012/29 | L98: 0.1 | M98: 384450000 | N98: =invoice[[#This Row],[مبلغ پیش دریافت]]/invoice[[#This Row],[میزان سفارش]] -> 19222.5 | O98: =SUMIF([1]!bargiri[شماره پیش فاکتور],[1]!invoice[[#This Row],[شماره پیش فاکتور]],[1]!bargiri[میزان بارگیری شده])/[1]!invoice[[#This Row],[میزان سفارش]] -> 1 | P98: =VLOOKUP(invoice[[#This Row],[شماره پیش فاکتور]],[1]!invoice[[شماره پیش فاکتور]:[نوع سفارش]],9,0) -> تعادلی | Q98: =SUMIFS('[1]جزییات بارگیری'!D:D,'[1]جزییات بارگیری'!C:C,[1]!invoice[[#This Row],[شماره پیش فاکتور]]) -> 5330 | R98: =IF([1]!invoice[[#This Row],[میزان سفارش]]-[1]!invoice[[#This Row],[میزان حمل شده ]]<0,0,[1]!invoice[[#This Row],[میزان سفارش]]-[1]!invoice[[#This Row],[میزان حمل شده ]]) -> 0 | S98: =[1]!invoice[[#This Row],[میزان حمل نشده ]]*[1]!invoice[[#This Row],[فی]] -> 0
A99: پ/53-1404 | B99: عبیر شیمی | C99: =VLOOKUP(invoice[[#This Row],[شماره پیش فاکتور]],[1]!invoice[[شماره پیش فاکتور]:[تاریخ]],3,0) -> 1404/05/18 | D99: =VLOOKUP(invoice[[#This Row],[شماره پیش فاکتور]],'[1]لیست پیش فاکتور ها'!$A:$D,4,0) -> 1404/05/22 | E99: =VLOOKUP(invoice[[#This Row],[شماره پیش فاکتور]],[1]!invoice[[شماره پیش فاکتور]:[میزان سفارش]],5,0) -> 20000 | F99: =VLOOKUP(invoice[[#This Row],[شماره پیش فاکتور]],[1]!invoice[[شماره پیش فاکتور]:[فی]],6,0) -> 116500 | G99: =CHOOSE(MID(invoice[[#This Row],[تاریخ]],6,2),"فروردین","اردیبهشت","خرداد","تیر","مرداد","شهریور","مهر","آبان","آذر","دی","بهمن","اسفند") -> مرداد | H99: =_xlfn.NUMBERVALUE(MID(invoice[[#This Row],[تاریخ]],1,4)) -> 1404 | I99: =VLOOKUP(invoice[[#This Row],[شماره پیش فاکتور]],[1]!invoice[[شماره پیش فاکتور]:[نوع سفارش]],9,0) -> تعادلی | J99: =VLOOKUP(invoice[[#This Row],[شماره پیش فاکتور]],[1]!invoice[[شماره پیش فاکتور]:[نوع شرکت]],10,0) -> تولید کننده | K99: 46101 | L99: 0.1 | M99: 384450000 | N99: =invoice[[#This Row],[مبلغ پیش دریافت]]/invoice[[#This Row],[میزان سفارش]] -> 19222.5 | O99: =SUMIF([1]!bargiri[شماره پیش فاکتور],[1]!invoice[[#This Row],[شماره پیش فاکتور]],[1]!bargiri[میزان بارگیری شده])/[1]!invoice[[#This Row],[میزان سفارش]] -> 1 | P99: =VLOOKUP(invoice[[#This Row],[شماره پیش فاکتور]],[1]!invoice[[شماره پیش فاکتور]:[نوع سفارش]],9,0) -> تعادلی | Q99: =SUMIFS('[1]جزییات بارگیری'!D:D,'[1]جزییات بارگیری'!C:C,[1]!invoice[[#This Row],[شماره پیش فاکتور]]) -> 51890 | R99: =IF([1]!invoice[[#This Row],[میزان سفارش]]-[1]!invoice[[#This Row],[میزان حمل شده ]]<0,0,[1]!invoice[[#This Row],[میزان سفارش]]-[1]!invoice[[#This Row],[میزان حمل شده ]]) -> 0 | S99: =[1]!invoice[[#This Row],[میزان حمل نشده ]]*[1]!invoice[[#This Row],[فی]] -> 0
A100: پ/54-1404 | B100: اکسیژن ارومیه گاز | C100: =VLOOKUP(invoice[[#This Row],[شماره پیش فاکتور]],[1]!invoice[[شماره پیش فاکتور]:[تاریخ]],3,0) -> 1404/05/18 | D100: =VLOOKUP(invoice[[#This Row],[شماره پیش فاکتور]],'[1]لیست پیش فاکتور ها'!$A:$D,4,0) -> 1404/05/22 | E100: =VLOOKUP(invoice[[#This Row],[شماره پیش فاکتور]],[1]!invoice[[شماره پیش فاکتور]:[میزان سفارش]],5,0) -> 30000 | F100: =VLOOKUP(invoice[[#This Row],[شماره پیش فاکتور]],[1]!invoice[[شماره پیش فاکتور]:[فی]],6,0) -> 116500 | G100: =CHOOSE(MID(invoice[[#This Row],[تاریخ]],6,2),"فروردین","اردیبهشت","خرداد","تیر","مرداد","شهریور","مهر","آبان","آذر","دی","بهمن","اسفند") -> مرداد | H100: =_xlfn.NUMBERVALUE(MID(invoice[[#This Row],[تاریخ]],1,4)) -> 1404 | I100: =VLOOKUP(invoice[[#This Row],[شماره پیش فاکتور]],[1]!invoice[[شماره پیش فاکتور]:[نوع سفارش]],9,0) -> تعادلی | J100: =VLOOKUP(invoice[[#This Row],[شماره پیش فاکتور]],[1]!invoice[[شماره پیش فاکتور]:[نوع شرکت]],10,0) -> تولید کننده | L100: 0.1 | M100: 3844500000 | N100: =invoice[[#This Row],[مبلغ پیش دریافت]]/invoice[[#This Row],[میزان سفارش]] -> 128150 | O100: =SUMIF([1]!bargiri[شماره پیش فاکتور],[1]!invoice[[#This Row],[شماره پیش فاکتور]],[1]!bargiri[میزان بارگیری شده])/[1]!invoice[[#This Row],[میزان سفارش]] -> 1 | P100: =VLOOKUP(invoice[[#This Row],[شماره پیش فاکتور]],[1]!invoice[[شماره پیش فاکتور]:[نوع سفارش]],9,0) -> تعادلی | Q100: =SUMIFS('[1]جزییات بارگیری'!D:D,'[1]جزییات بارگیری'!C:C,[1]!invoice[[#This Row],[شماره پیش فاکتور]]) -> 50000 | R100: =IF([1]!invoice[[#This Row],[میزان سفارش]]-[1]!invoice[[#This Row],[میزان حمل شده ]]<0,0,[1]!invoice[[#This Row],[میزان سفارش]]-[1]!invoice[[#This Row],[میزان حمل شده ]]) -> 0 | S100: =[1]!invoice[[#This Row],[میزان حمل نشده ]]*[1]!invoice[[#This Row],[فی]] -> 0
A101: پ/55-1404 | B101: آیس کار | C101: =VLOOKUP(invoice[[#This Row],[شماره پیش فاکتور]],[1]!invoice[[شماره پیش فاکتور]:[تاریخ]],3,0) -> 1404/05/22 | D101: =VLOOKUP(invoice[[#This Row],[شماره پیش فاکتور]],'[1]لیست پیش فاکتور ها'!$A:$D,4,0) -> 1404/05/22 | E101: =VLOOKUP(invoice[[#This Row],[شماره پیش فاکتور]],[1]!invoice[[شماره پیش فاکتور]:[میزان سفارش]],5,0) -> 20000 | F101: =VLOOKUP(invoice[[#This Row],[شماره پیش فاکتور]],[1]!invoice[[شماره پیش فاکتور]:[فی]],6,0) -> 160000 | G101: =CHOOSE(MID(invoice[[#This Row],[تاریخ]],6,2),"فروردین","اردیبهشت","خرداد","تیر","مرداد","شهریور","مهر","آبان","آذر","دی","بهمن","اسفند") -> مرداد | H101: =_xlfn.NUMBERVALUE(MID(invoice[[#This Row],[تاریخ]],1,4)) -> 1404 | I101: =VLOOKUP(invoice[[#This Row],[شماره پیش فاکتور]],[1]!invoice[[شماره پیش فاکتور]:[نوع سفارش]],9,0) -> عادی | J101: =VLOOKUP(invoice[[#This Row],[شماره پیش فاکتور]],[1]!invoice[[شماره پیش فاکتور]:[نوع شرکت]],10,0) -> تولید کننده | K101: 46101 | L101: 0.1 | M101: 3520000000 | N101: =invoice[[#This Row],[مبلغ پیش دریافت]]/invoice[[#This Row],[میزان سفارش]] -> 176000 | O101: =SUMIF([1]!bargiri[شماره پیش فاکتور],[1]!invoice[[#This Row],[شماره پیش فاکتور]],[1]!bargiri[میزان بارگیری شده])/[1]!invoice[[#This Row],[میزان سفارش]] -> 1 | P101: =VLOOKUP(invoice[[#This Row],[شماره پیش فاکتور]],[1]!invoice[[شماره پیش فاکتور]:[نوع سفارش]],9,0) -> عادی | Q101: =SUMIFS('[1]جزییات بارگیری'!D:D,'[1]جزییات بارگیری'!C:C,[1]!invoice[[#This Row],[شماره پیش فاکتور]]) -> 50000 | R101: =IF([1]!invoice[[#This Row],[میزان سفارش]]-[1]!invoice[[#This Row],[میزان حمل شده ]]<0,0,[1]!invoice[[#This Row],[میزان سفارش]]-[1]!invoice[[#This Row],[میزان حمل شده ]]) -> 0 | S101: =[1]!invoice[[#This Row],[میزان حمل نشده ]]*[1]!invoice[[#This Row],[فی]] -> 0
A102: پ/56-1404 | B102: طوس قزوین | C102: =VLOOKUP(invoice[[#This Row],[شماره پیش فاکتور]],[1]!invoice[[شماره پیش فاکتور]:[تاریخ]],3,0) -> 1404/05/28 | D102: =VLOOKUP(invoice[[#This Row],[شماره پیش فاکتور]],'[1]لیست پیش فاکتور ها'!$A:$D,4,0) -> 1404/06/01 | E102: =VLOOKUP(invoice[[#This Row],[شماره پیش فاکتور]],[1]!invoice[[شماره پیش فاکتور]:[میزان سفارش]],5,0) -> 50000 | F102: =VLOOKUP(invoice[[#This Row],[شماره پیش فاکتور]],[1]!invoice[[شماره پیش فاکتور]:[فی]],6,0) -> 167500 | G102: =CHOOSE(MID(invoice[[#This Row],[تاریخ]],6,2),"فروردین","اردیبهشت","خرداد","تیر","مرداد","شهریور","مهر","آبان","آذر","دی","بهمن","اسفند") -> مرداد | H102: =_xlfn.NUMBERVALUE(MID(invoice[[#This Row],[تاریخ]],1,4)) -> 1404 | I102: =VLOOKUP(invoice[[#This Row],[شماره پیش فاکتور]],[1]!invoice[[شماره پیش فاکتور]:[نوع سفارش]],9,0) -> بورس | J102: =VLOOKUP(invoice[[#This Row],[شماره پیش فاکتور]],[1]!invoice[[شماره پیش فاکتور]:[نوع شرکت]],10,0) -> تولید کننده | K102: 46101 | L102: 0.1 | M102: 9212500000 | N102: =invoice[[#This Row],[مبلغ پیش دریافت]]/invoice[[#This Row],[میزان سفارش]] -> 184250 | O102: =SUMIF([1]!bargiri[شماره پیش فاکتور],[1]!invoice[[#This Row],[شماره پیش فاکتور]],[1]!bargiri[میزان بارگیری شده])/[1]!invoice[[#This Row],[میزان سفارش]] -> 1 | P102: =VLOOKUP(invoice[[#This Row],[شماره پیش فاکتور]],[1]!invoice[[شماره پیش فاکتور]:[نوع سفارش]],9,0) -> بورس | Q102: =SUMIFS('[1]جزییات بارگیری'!D:D,'[1]جزییات بارگیری'!C:C,[1]!invoice[[#This Row],[شماره پیش فاکتور]]) -> 65000 | R102: =IF([1]!invoice[[#This Row],[میزان سفارش]]-[1]!invoice[[#This Row],[میزان حمل شده ]]<0,0,[1]!invoice[[#This Row],[میزان سفارش]]-[1]!invoice[[#This Row],[میزان حمل شده ]]) -> 0 | S102: =[1]!invoice[[#This Row],[میزان حمل نشده ]]*[1]!invoice[[#This Row],[فی]] -> 0
A103: پ/57-1404 | B103: گاز اکسیژن طوس | C103: =VLOOKUP(invoice[[#This Row],[شماره پیش فاکتور]],[1]!invoice[[شماره پیش فاکتور]:[تاریخ]],3,0) -> 1404/05/28 | D103: =VLOOKUP(invoice[[#This Row],[شماره پیش فاکتور]],'[1]لیست پیش فاکتور ها'!$A:$D,4,0) -> 1404/06/01 | E103: =VLOOKUP(invoice[[#This Row],[شماره پیش فاکتور]],[1]!invoice[[شماره پیش فاکتور]:[میزان سفارش]],5,0) -> 20000 | F103: =VLOOKUP(invoice[[#This Row],[شماره پیش فاکتور]],[1]!invoice[[شماره پیش فاکتور]:[فی]],6,0) -> 167500 | G103: =CHOOSE(MID(invoice[[#This Row],[تاریخ]],6,2),"فروردین","اردیبهشت","خرداد","تیر","مرداد","شهریور","مهر","آبان","آذر","دی","بهمن","اسفند") -> مرداد | H103: =_xlfn.NUMBERVALUE(MID(invoice[[#This Row],[تاریخ]],1,4)) -> 1404 | I103: =VLOOKUP(invoice[[#This Row],[شماره پیش فاکتور]],[1]!invoice[[شماره پیش فاکتور]:[نوع سفارش]],9,0) -> بورس | J103: =VLOOKUP(invoice[[#This Row],[شماره پیش فاکتور]],[1]!invoice[[شماره پیش فاکتور]:[نوع شرکت]],10,0) -> تولید کننده | K103: 46101 | L103: 0.1 | M103: 3685000000 | N103: =invoice[[#This Row],[مبلغ پیش دریافت]]/invoice[[#This Row],[میزان سفارش]] -> 184250 | O103: =SUMIF([1]!bargiri[شماره پیش فاکتور],[1]!invoice[[#This Row],[شماره پیش فاکتور]],[1]!bargiri[میزان بارگیری شده])/[1]!invoice[[#This Row],[میزان سفارش]] -> 1 | P103: =VLOOKUP(invoice[[#This Row],[شماره پیش فاکتور]],[1]!invoice[[شماره پیش فاکتور]:[نوع سفارش]],9,0) -> بورس | Q103: =SUMIFS('[1]جزییات بارگیری'!D:D,'[1]جزییات بارگیری'!C:C,[1]!invoice[[#This Row],[شماره پیش فاکتور]]) -> 102400 | R103: =IF([1]!invoice[[#This Row],[میزان سفارش]]-[1]!invoice[[#This Row],[میزان حمل شده ]]<0,0,[1]!invoice[[#This Row],[میزان سفارش]]-[1]!invoice[[#This Row],[میزان حمل شده ]]) -> 0 | S103: =[1]!invoice[[#This Row],[میزان حمل نشده ]]*[1]!invoice[[#This Row],[فی]] -> 0
A104: پ/58-1404 | B104: عبیر شیمی | C104: =VLOOKUP(invoice[[#This Row],[شماره پیش فاکتور]],[1]!invoice[[شماره پیش فاکتور]:[تاریخ]],3,0) -> 1404/05/28 | D104: =VLOOKUP(invoice[[#This Row],[شماره پیش فاکتور]],'[1]لیست پیش فاکتور ها'!$A:$D,4,0) -> 1404/06/01 | E104: =VLOOKUP(invoice[[#This Row],[شماره پیش فاکتور]],[1]!invoice[[شماره پیش فاکتور]:[میزان سفارش]],5,0) -> 30000 | F104: =VLOOKUP(invoice[[#This Row],[شماره پیش فاکتور]],[1]!invoice[[شماره پیش فاکتور]:[فی]],6,0) -> 167500 | G104: =CHOOSE(MID(invoice[[#This Row],[تاریخ]],6,2),"فروردین","اردیبهشت","خرداد","تیر","مرداد","شهریور","مهر","آبان","آذر","دی","بهمن","اسفند") -> مرداد | H104: =_xlfn.NUMBERVALUE(MID(invoice[[#This Row],[تاریخ]],1,4)) -> 1404 | I104: =VLOOKUP(invoice[[#This Row],[شماره پیش فاکتور]],[1]!invoice[[شماره پیش فاکتور]:[نوع سفارش]],9,0) -> بورس | J104: =VLOOKUP(invoice[[#This Row],[شماره پیش فاکتور]],[1]!invoice[[شماره پیش فاکتور]:[نوع شرکت]],10,0) -> تولید کننده | K104: 46101 | L104: 0.1 | M104: 5527500000 | N104: =invoice[[#This Row],[مبلغ پیش دریافت]]/invoice[[#This Row],[میزان سفارش]] -> 184250 | O104: =SUMIF([1]!bargiri[شماره پیش فاکتور],[1]!invoice[[#This Row],[شماره پیش فاکتور]],[1]!bargiri[میزان بارگیری شده])/[1]!invoice[[#This Row],[میزان سفارش]] -> 1 | P104: =VLOOKUP(invoice[[#This Row],[شماره پیش فاکتور]],[1]!invoice[[شماره پیش فاکتور]:[نوع سفارش]],9,0) -> بورس | Q104: =SUMIFS('[1]جزییات بارگیری'!D:D,'[1]جزییات بارگیری'!C:C,[1]!invoice[[#This Row],[شماره پیش فاکتور]]) -> 40000 | R104: =IF([1]!invoice[[#This Row],[میزان سفارش]]-[1]!invoice[[#This Row],[میزان حمل شده ]]<0,0,[1]!invoice[[#This Row],[میزان سفارش]]-[1]!invoice[[#This Row],[میزان حمل شده ]]) -> 0 | S104: =[1]!invoice[[#This Row],[میزان حمل نشده ]]*[1]!invoice[[#This Row],[فی]] -> 0
A105: پ/59-1404 | B105: طوس قزوین | C105: =VLOOKUP(invoice[[#This Row],[شماره پیش فاکتور]],[1]!invoice[[شماره پیش فاکتور]:[تاریخ]],3,0) -> 1404/06/04 | D105: =VLOOKUP(invoice[[#This Row],[شماره پیش فاکتور]],'[1]لیست پیش فاکتور ها'!$A:$D,4,0) -> 1404/06/09 | E105: =VLOOKUP(invoice[[#This Row],[شماره پیش فاکتور]],[1]!invoice[[شماره پیش فاکتور]:[میزان سفارش]],5,0) -> 50000 | F105: =VLOOKUP(invoice[[#This Row],[شماره پیش فاکتور]],[1]!invoice[[شماره پیش فاکتور]:[فی]],6,0) -> 116500 | G105: =CHOOSE(MID(invoice[[#This Row],[تاریخ]],6,2),"فروردین","اردیبهشت","خرداد","تیر","مرداد","شهریور","مهر","آبان","آذر","دی","بهمن","اسفند") -> شهریور | H105: =_xlfn.NUMBERVALUE(MID(invoice[[#This Row],[تاریخ]],1,4)) -> 1404 | I105: =VLOOKUP(invoice[[#This Row],[شماره پیش فاکتور]],[1]!invoice[[شماره پیش فاکتور]:[نوع سفارش]],9,0) -> تعادلی | J105: =VLOOKUP(invoice[[#This Row],[شماره پیش فاکتور]],[1]!invoice[[شماره پیش فاکتور]:[نوع شرکت]],10,0) -> تولید کننده | K105: 46101 | L105: 0.1 | M105: 961125000 | N105: =invoice[[#This Row],[مبلغ پیش دریافت]]/invoice[[#This Row],[میزان سفارش]] -> 19222.5 | O105: =SUMIF([1]!bargiri[شماره پیش فاکتور],[1]!invoice[[#This Row],[شماره پیش فاکتور]],[1]!bargiri[میزان بارگیری شده])/[1]!invoice[[#This Row],[میزان سفارش]] -> 1 | P105: =VLOOKUP(invoice[[#This Row],[شماره پیش فاکتور]],[1]!invoice[[شماره پیش فاکتور]:[نوع سفارش]],9,0) -> تعادلی | Q105: =SUMIFS('[1]جزییات بارگیری'!D:D,'[1]جزییات بارگیری'!C:C,[1]!invoice[[#This Row],[شماره پیش فاکتور]]) -> 20000 | R105: =IF([1]!invoice[[#This Row],[میزان سفارش]]-[1]!invoice[[#This Row],[میزان حمل شده ]]<0,0,[1]!invoice[[#This Row],[میزان سفارش]]-[1]!invoice[[#This Row],[میزان حمل شده ]]) -> 0 | S105: =[1]!invoice[[#This Row],[میزان حمل نشده ]]*[1]!invoice[[#This Row],[فی]] -> 0
A106: پ/60-1404 | B106: گاز اکسیژن طوس | C106: =VLOOKUP(invoice[[#This Row],[شماره پیش فاکتور]],[1]!invoice[[شماره پیش فاکتور]:[تاریخ]],3,0) -> 1404/06/04 | D106: =VLOOKUP(invoice[[#This Row],[شماره پیش فاکتور]],'[1]لیست پیش فاکتور ها'!$A:$D,4,0) -> 1404/06/09 | E106: =VLOOKUP(invoice[[#This Row],[شماره پیش فاکتور]],[1]!invoice[[شماره پیش فاکتور]:[میزان سفارش]],5,0) -> 20000 | F106: =VLOOKUP(invoice[[#This Row],[شماره پیش فاکتور]],[1]!invoice[[شماره پیش فاکتور]:[فی]],6,0) -> 116500 | G106: =CHOOSE(MID(invoice[[#This Row],[تاریخ]],6,2),"فروردین","اردیبهشت","خرداد","تیر","مرداد","شهریور","مهر","آبان","آذر","دی","بهمن","اسفند") -> شهریور | H106: =_xlfn.NUMBERVALUE(MID(invoice[[#This Row],[تاریخ]],1,4)) -> 1404 | I106: =VLOOKUP(invoice[[#This Row],[شماره پیش فاکتور]],[1]!invoice[[شماره پیش فاکتور]:[نوع سفارش]],9,0) -> تعادلی | J106: =VLOOKUP(invoice[[#This Row],[شماره پیش فاکتور]],[1]!invoice[[شماره پیش فاکتور]:[نوع شرکت]],10,0) -> تولید کننده | K106: 46101 | L106: 0.1 | M106: 384450000 | N106: =invoice[[#This Row],[مبلغ پیش دریافت]]/invoice[[#This Row],[میزان سفارش]] -> 19222.5 | O106: =SUMIF([1]!bargiri[شماره پیش فاکتور],[1]!invoice[[#This Row],[شماره پیش فاکتور]],[1]!bargiri[میزان بارگیری شده])/[1]!invoice[[#This Row],[میزان سفارش]] -> 1 | P106: =VLOOKUP(invoice[[#This Row],[شماره پیش فاکتور]],[1]!invoice[[شماره پیش فاکتور]:[نوع سفارش]],9,0) -> تعادلی | Q106: =SUMIFS('[1]جزییات بارگیری'!D:D,'[1]جزییات بارگیری'!C:C,[1]!invoice[[#This Row],[شماره پیش فاکتور]]) -> 40000 | R106: =IF([1]!invoice[[#This Row],[میزان سفارش]]-[1]!invoice[[#This Row],[میزان حمل شده ]]<0,0,[1]!invoice[[#This Row],[میزان سفارش]]-[1]!invoice[[#This Row],[میزان حمل شده ]]) -> 0 | S106: =[1]!invoice[[#This Row],[میزان حمل نشده ]]*[1]!invoice[[#This Row],[فی]] -> 0
A107: پ/61-1404 | B107: عبیر شیمی | C107: =VLOOKUP(invoice[[#This Row],[شماره پیش فاکتور]],[1]!invoice[[شماره پیش فاکتور]:[تاریخ]],3,0) -> 1404/06/04 | D107: =VLOOKUP(invoice[[#This Row],[شماره پیش فاکتور]],'[1]لیست پیش فاکتور ها'!$A:$D,4,0) -> 1404/06/09 | E107: =VLOOKUP(invoice[[#This Row],[شماره پیش فاکتور]],[1]!invoice[[شماره پیش فاکتور]:[میزان سفارش]],5,0) -> 30000 | F107: =VLOOKUP(invoice[[#This Row],[شماره پیش فاکتور]],[1]!invoice[[شماره پیش فاکتور]:[فی]],6,0) -> 116500 | G107: =CHOOSE(MID(invoice[[#This Row],[تاریخ]],6,2),"فروردین","اردیبهشت","خرداد","تیر","مرداد","شهریور","مهر","آبان","آذر","دی","بهمن","اسفند") -> شهریور | H107: =_xlfn.NUMBERVALUE(MID(invoice[[#This Row],[تاریخ]],1,4)) -> 1404 | I107: =VLOOKUP(invoice[[#This Row],[شماره پیش فاکتور]],[1]!invoice[[شماره پیش فاکتور]:[نوع سفارش]],9,0) -> تعادلی | J107: =VLOOKUP(invoice[[#This Row],[شماره پیش فاکتور]],[1]!invoice[[شماره پیش فاکتور]:[نوع شرکت]],10,0) -> تولید کننده | K107: 46101 | L107: 0.1 | M107: 576675000 | N107: =invoice[[#This Row],[مبلغ پیش دریافت]]/invoice[[#This Row],[میزان سفارش]] -> 19222.5 | O107: =SUMIF([1]!bargiri[شماره پیش فاکتور],[1]!invoice[[#This Row],[شماره پیش فاکتور]],[1]!bargiri[میزان بارگیری شده])/[1]!invoice[[#This Row],[میزان سفارش]] -> 0 | P107: =VLOOKUP(invoice[[#This Row],[شماره پیش فاکتور]],[1]!invoice[[شماره پیش فاکتور]:[نوع سفارش]],9,0) -> تعادلی | Q107: =SUMIFS('[1]جزییات بارگیری'!D:D,'[1]جزییات بارگیری'!C:C,[1]!invoice[[#This Row],[شماره پیش فاکتور]]) -> 0 | R107: =IF([1]!invoice[[#This Row],[میزان سفارش]]-[1]!invoice[[#This Row],[میزان حمل شده ]]<0,0,[1]!invoice[[#This Row],[میزان سفارش]]-[1]!invoice[[#This Row],[میزان حمل شده ]]) -> 40000 | S107: =[1]!invoice[[#This Row],[میزان حمل نشده ]]*[1]!invoice[[#This Row],[فی]] -> 5312000000
A108: پ/62-1404 | B108: طوس قزوین | C108: =VLOOKUP(invoice[[#This Row],[شماره پیش فاکتور]],[1]!invoice[[شماره پیش فاکتور]:[تاریخ]],3,0) -> 1404/06/16 | D108: =VLOOKUP(invoice[[#This Row],[شماره پیش فاکتور]],'[1]لیست پیش فاکتور ها'!$A:$D,4,0) -> 1404/06/22 | E108: =VLOOKUP(invoice[[#This Row],[شماره پیش فاکتور]],[1]!invoice[[شماره پیش فاکتور]:[میزان سفارش]],5,0) -> 60000 | F108: =VLOOKUP(invoice[[#This Row],[شماره پیش فاکتور]],[1]!invoice[[شماره پیش فاکتور]:[فی]],6,0) -> 74000 | G108: =CHOOSE(MID(invoice[[#This Row],[تاریخ]],6,2),"فروردین","اردیبهشت","خرداد","تیر","مرداد","شهریور","مهر","آبان","آذر","دی","بهمن","اسفند") -> شهریور | H108: =_xlfn.NUMBERVALUE(MID(invoice[[#This Row],[تاریخ]],1,4)) -> 1404 | I108: =VLOOKUP(invoice[[#This Row],[شماره پیش فاکتور]],[1]!invoice[[شماره پیش فاکتور]:[نوع سفارش]],9,0) -> تعادلی | J108: =VLOOKUP(invoice[[#This Row],[شماره پیش فاکتور]],[1]!invoice[[شماره پیش فاکتور]:[نوع شرکت]],10,0) -> تولید کننده | K108: 46101 | L108: 0.1 | M108: 732600000 | N108: =invoice[[#This Row],[مبلغ پیش دریافت]]/invoice[[#This Row],[میزان سفارش]] -> 12210 | O108: =SUMIF([1]!bargiri[شماره پیش فاکتور],[1]!invoice[[#This Row],[شماره پیش فاکتور]],[1]!bargiri[میزان بارگیری شده])/[1]!invoice[[#This Row],[میزان سفارش]] -> 1 | P108: =VLOOKUP(invoice[[#This Row],[شماره پیش فاکتور]],[1]!invoice[[شماره پیش فاکتور]:[نوع سفارش]],9,0) -> تعادلی | Q108: =SUMIFS('[1]جزییات بارگیری'!D:D,'[1]جزییات بارگیری'!C:C,[1]!invoice[[#This Row],[شماره پیش فاکتور]]) -> 51200 | R108: =IF([1]!invoice[[#This Row],[میزان سفارش]]-[1]!invoice[[#This Row],[میزان حمل شده ]]<0,0,[1]!invoice[[#This Row],[میزان سفارش]]-[1]!invoice[[#This Row],[میزان حمل شده ]]) -> 0 | S108: =[1]!invoice[[#This Row],[میزان حمل نشده ]]*[1]!invoice[[#This Row],[فی]] -> 0
A109: پ/63-1404 | B109: تولیدی گازهای طبی و صنعتی طوس سبزوار | C109: =VLOOKUP(invoice[[#This Row],[شماره پیش فاکتور]],[1]!invoice[[شماره پیش فاکتور]:[تاریخ]],3,0) -> 1404/06/11 | D109: =VLOOKUP(invoice[[#This Row],[شماره پیش فاکتور]],'[1]لیست پیش فاکتور ها'!$A:$D,4,0) -> 1404/06/11 | E109: =VLOOKUP(invoice[[#This Row],[شماره پیش فاکتور]],[1]!invoice[[شماره پیش فاکتور]:[میزان سفارش]],5,0) -> 20000 | F109: =VLOOKUP(invoice[[#This Row],[شماره پیش فاکتور]],[1]!invoice[[شماره پیش فاکتور]:[فی]],6,0) -> 210000 | G109: =CHOOSE(MID(invoice[[#This Row],[تاریخ]],6,2),"فروردین","اردیبهشت","خرداد","تیر","مرداد","شهریور","مهر","آبان","آذر","دی","بهمن","اسفند") -> شهریور | H109: =_xlfn.NUMBERVALUE(MID(invoice[[#This Row],[تاریخ]],1,4)) -> 1404 | I109: =VLOOKUP(invoice[[#This Row],[شماره پیش فاکتور]],[1]!invoice[[شماره پیش فاکتور]:[نوع سفارش]],9,0) -> بورس | J109: =VLOOKUP(invoice[[#This Row],[شماره پیش فاکتور]],[1]!invoice[[شماره پیش فاکتور]:[نوع شرکت]],10,0) -> تولید کننده | K109: 46101 | L109: 0.1 | M109: 4620000000 | N109: =invoice[[#This Row],[مبلغ پیش دریافت]]/invoice[[#This Row],[میزان سفارش]] -> 231000 | O109: =SUMIF([1]!bargiri[شماره پیش فاکتور],[1]!invoice[[#This Row],[شماره پیش فاکتور]],[1]!bargiri[میزان بارگیری شده])/[1]!invoice[[#This Row],[میزان سفارش]] -> 1 | P109: =VLOOKUP(invoice[[#This Row],[شماره پیش فاکتور]],[1]!invoice[[شماره پیش فاکتور]:[نوع سفارش]],9,0) -> بورس | Q109: =SUMIFS('[1]جزییات بارگیری'!D:D,'[1]جزییات بارگیری'!C:C,[1]!invoice[[#This Row],[شماره پیش فاکتور]]) -> 81920 | R109: =IF([1]!invoice[[#This Row],[میزان سفارش]]-[1]!invoice[[#This Row],[میزان حمل شده ]]<0,0,[1]!invoice[[#This Row],[میزان سفارش]]-[1]!invoice[[#This Row],[میزان حمل شده ]]) -> 0 | S109: =[1]!invoice[[#This Row],[میزان حمل نشده ]]*[1]!invoice[[#This Row],[فی]] -> 0
A110: پ/64-1404 | B110: پاینده ساز فردوس | C110: =VLOOKUP(invoice[[#This Row],[شماره پیش فاکتور]],[1]!invoice[[شماره پیش فاکتور]:[تاریخ]],3,0) -> 1404/06/11 | D110: =VLOOKUP(invoice[[#This Row],[شماره پیش فاکتور]],'[1]لیست پیش فاکتور ها'!$A:$D,4,0) -> 1404/06/11 | E110: =VLOOKUP(invoice[[#This Row],[شماره پیش فاکتور]],[1]!invoice[[شماره پیش فاکتور]:[میزان سفارش]],5,0) -> 20000 | F110: =VLOOKUP(invoice[[#This Row],[شماره پیش فاکتور]],[1]!invoice[[شماره پیش فاکتور]:[فی]],6,0) -> 196009 | G110: =CHOOSE(MID(invoice[[#This Row],[تاریخ]],6,2),"فروردین","اردیبهشت","خرداد","تیر","مرداد","شهریور","مهر","آبان","آذر","دی","بهمن","اسفند") -> شهریور | H110: =_xlfn.NUMBERVALUE(MID(invoice[[#This Row],[تاریخ]],1,4)) -> 1404 | I110: =VLOOKUP(invoice[[#This Row],[شماره پیش فاکتور]],[1]!invoice[[شماره پیش فاکتور]:[نوع سفارش]],9,0) -> بورس | J110: =VLOOKUP(invoice[[#This Row],[شماره پیش فاکتور]],[1]!invoice[[شماره پیش فاکتور]:[نوع شرکت]],10,0) -> تولید کننده | K110: 46101 | L110: 0.1 | M110: 4312198000 | N110: =invoice[[#This Row],[مبلغ پیش دریافت]]/invoice[[#This Row],[میزان سفارش]] -> 215609.9 | O110: =SUMIF([1]!bargiri[شماره پیش فاکتور],[1]!invoice[[#This Row],[شماره پیش فاکتور]],[1]!bargiri[میزان بارگیری شده])/[1]!invoice[[#This Row],[میزان سفارش]] -> 1 | P110: =VLOOKUP(invoice[[#This Row],[شماره پیش فاکتور]],[1]!invoice[[شماره پیش فاکتور]:[نوع سفارش]],9,0) -> بورس | Q110: =SUMIFS('[1]جزییات بارگیری'!D:D,'[1]جزییات بارگیری'!C:C,[1]!invoice[[#This Row],[شماره پیش فاکتور]]) -> 1000000 | R110: =IF([1]!invoice[[#This Row],[میزان سفارش]]-[1]!invoice[[#This Row],[میزان حمل شده ]]<0,0,[1]!invoice[[#This Row],[میزان سفارش]]-[1]!invoice[[#This Row],[میزان حمل شده ]]) -> 0 | S110: =[1]!invoice[[#This Row],[میزان حمل نشده ]]*[1]!invoice[[#This Row],[فی]] -> 0
A111: پ/65-1404 | B111: طوس قزوین | C111: =VLOOKUP(invoice[[#This Row],[شماره پیش فاکتور]],[1]!invoice[[شماره پیش فاکتور]:[تاریخ]],3,0) -> 1404/06/11 | D111: =VLOOKUP(invoice[[#This Row],[شماره پیش فاکتور]],'[1]لیست پیش فاکتور ها'!$A:$D,4,0) -> 1404/06/11 | E111: =VLOOKUP(invoice[[#This Row],[شماره پیش فاکتور]],[1]!invoice[[شماره پیش فاکتور]:[میزان سفارش]],5,0) -> 60000 | F111: =VLOOKUP(invoice[[#This Row],[شماره پیش فاکتور]],[1]!invoice[[شماره پیش فاکتور]:[فی]],6,0) -> 210000 | G111: =CHOOSE(MID(invoice[[#This Row],[تاریخ]],6,2),"فروردین","اردیبهشت","خرداد","تیر","مرداد","شهریور","مهر","آبان","آذر","دی","بهمن","اسفند") -> شهریور | H111: =_xlfn.NUMBERVALUE(MID(invoice[[#This Row],[تاریخ]],1,4)) -> 1404 | I111: =VLOOKUP(invoice[[#This Row],[شماره پیش فاکتور]],[1]!invoice[[شماره پیش فاکتور]:[نوع سفارش]],9,0) -> بورس | J111: =VLOOKUP(invoice[[#This Row],[شماره پیش فاکتور]],[1]!invoice[[شماره پیش فاکتور]:[نوع شرکت]],10,0) -> تولید کننده | K111: 46101 | L111: 0.1 | M111: 13860000000 | N111: =invoice[[#This Row],[مبلغ پیش دریافت]]/invoice[[#This Row],[میزان سفارش]] -> 231000 | O111: =SUMIF([1]!bargiri[شماره پیش فاکتور],[1]!invoice[[#This Row],[شماره پیش فاکتور]],[1]!bargiri[میزان بارگیری شده])/[1]!invoice[[#This Row],[میزان سفارش]] -> 1 | P111: =VLOOKUP(invoice[[#This Row],[شماره پیش فاکتور]],[1]!invoice[[شماره پیش فاکتور]:[نوع سفارش]],9,0) -> بورس | Q111: =SUMIFS('[1]جزییات بارگیری'!D:D,'[1]جزییات بارگیری'!C:C,[1]!invoice[[#This Row],[شماره پیش فاکتور]]) -> 312790 | R111: =IF([1]!invoice[[#This Row],[میزان سفارش]]-[1]!invoice[[#This Row],[میزان حمل شده ]]<0,0,[1]!invoice[[#This Row],[میزان سفارش]]-[1]!invoice[[#This Row],[میزان حمل شده ]]) -> 0 | S111: =[1]!invoice[[#This Row],[میزان حمل نشده ]]*[1]!invoice[[#This Row],[فی]] -> 0
A112: پ/66-1404 | B112: تولیدی گازهای طبی و صنعتی طوس سبزوار | C112: =VLOOKUP(invoice[[#This Row],[شماره پیش فاکتور]],[1]!invoice[[شماره پیش فاکتور]:[تاریخ]],3,0) -> 1404/06/16 | D112: =VLOOKUP(invoice[[#This Row],[شماره پیش فاکتور]],'[1]لیست پیش فاکتور ها'!$A:$D,4,0) -> 1404/06/22 | E112: =VLOOKUP(invoice[[#This Row],[شماره پیش فاکتور]],[1]!invoice[[شماره پیش فاکتور]:[میزان سفارش]],5,0) -> 20000 | F112: =VLOOKUP(invoice[[#This Row],[شماره پیش فاکتور]],[1]!invoice[[شماره پیش فاکتور]:[فی]],6,0) -> 74000 | G112: =CHOOSE(MID(invoice[[#This Row],[تاریخ]],6,2),"فروردین","اردیبهشت","خرداد","تیر","مرداد","شهریور","مهر","آبان","آذر","دی","بهمن","اسفند") -> شهریور | H112: =_xlfn.NUMBERVALUE(MID(invoice[[#This Row],[تاریخ]],1,4)) -> 1404 | I112: =VLOOKUP(invoice[[#This Row],[شماره پیش فاکتور]],[1]!invoice[[شماره پیش فاکتور]:[نوع سفارش]],9,0) -> تعادلی | J112: =VLOOKUP(invoice[[#This Row],[شماره پیش فاکتور]],[1]!invoice[[شماره پیش فاکتور]:[نوع شرکت]],10,0) -> تولید کننده | K112: 46101 | L112: 0.1 | M112: 244200000 | N112: =invoice[[#This Row],[مبلغ پیش دریافت]]/invoice[[#This Row],[میزان سفارش]] -> 12210 | O112: =SUMIF([1]!bargiri[شماره پیش فاکتور],[1]!invoice[[#This Row],[شماره پیش فاکتور]],[1]!bargiri[میزان بارگیری شده])/[1]!invoice[[#This Row],[میزان سفارش]] -> 0 | P112: =VLOOKUP(invoice[[#This Row],[شماره پیش فاکتور]],[1]!invoice[[شماره پیش فاکتور]:[نوع سفارش]],9,0) -> تعادلی | Q112: =SUMIFS('[1]جزییات بارگیری'!D:D,'[1]جزییات بارگیری'!C:C,[1]!invoice[[#This Row],[شماره پیش فاکتور]]) -> 0 | R112: =IF([1]!invoice[[#This Row],[میزان سفارش]]-[1]!invoice[[#This Row],[میزان حمل شده ]]<0,0,[1]!invoice[[#This Row],[میزان سفارش]]-[1]!invoice[[#This Row],[میزان حمل شده ]]) -> 600000 | S112: =[1]!invoice[[#This Row],[میزان حمل نشده ]]*[1]!invoice[[#This Row],[فی]] -> 72000000000
... A145: پ/100-1404 | B145: پاینده ساز فردوس | C145: =VLOOKUP(invoice[[#This Row],[شماره پیش فاکتور]],[1]!invoice[[شماره پیش فاکتور]:[تاریخ]],3,0) -> 1404/09/23 | D145: =VLOOKUP(invoice[[#This Row],[شماره پیش فاکتور]],'[1]لیست پیش فاکتور ها'!$A:$D,4,0) -> 1404/09/29 | E145: =VLOOKUP(invoice[[#This Row],[شماره پیش فاکتور]],[1]!invoice[[شماره پیش فاکتور]:[میزان سفارش]],5,0) -> 20000 | F145: =VLOOKUP(invoice[[#This Row],[شماره پیش فاکتور]],[1]!invoice[[شماره پیش فاکتور]:[فی]],6,0) -> 116500 | G145: =CHOOSE(MID(invoice[[#This Row],[تاریخ]],6,2),"فروردین","اردیبهشت","خرداد","تیر","مرداد","شهریور","مهر","آبان","آذر","دی","بهمن","اسفند") -> آذر | H145: =_xlfn.NUMBERVALUE(MID(invoice[[#This Row],[تاریخ]],1,4)) -> 1404 | I145: =VLOOKUP(invoice[[#This Row],[شماره پیش فاکتور]],[1]!invoice[[شماره پیش فاکتور]:[نوع سفارش]],9,0) -> تعادلی | J145: =VLOOKUP(invoice[[#This Row],[شماره پیش فاکتور]],[1]!invoice[[شماره پیش فاکتور]:[نوع شرکت]],10,0) -> تولید کننده | K145: 46101 | L145: 0.1 | M145: 384450000 | N145: =invoice[[#This Row],[مبلغ پیش دریافت]]/invoice[[#This Row],[میزان سفارش]] -> 19222.5 | O145: =SUMIF([1]!bargiri[شماره پیش فاکتور],[1]!invoice[[#This Row],[شماره پیش فاکتور]],[1]!bargiri[میزان بارگیری شده])/[1]!invoice[[#This Row],[میزان سفارش]] -> 1 | P145: =VLOOKUP(invoice[[#This Row],[شماره پیش فاکتور]],[1]!invoice[[شماره پیش فاکتور]:[نوع سفارش]],9,0) -> تعادلی | Q145: =SUMIFS('[1]جزییات بارگیری'!D:D,'[1]جزییات بارگیری'!C:C,[1]!invoice[[#This Row],[شماره پیش فاکتور]]) -> 20000 | R145: =IF([1]!invoice[[#This Row],[میزان سفارش]]-[1]!invoice[[#This Row],[میزان حمل شده ]]<0,0,[1]!invoice[[#This Row],[میزان سفارش]]-[1]!invoice[[#This Row],[میزان حمل شده ]]) -> 0 | S145: =[1]!invoice[[#This Row],[میزان حمل نشده ]]*[1]!invoice[[#This Row],[فی]] -> 0
A146: پ/92-1404 | B146: عراق اربیل | C146: =VLOOKUP(invoice[[#This Row],[شماره پیش فاکتور]],[1]!invoice[[شماره پیش فاکتور]:[تاریخ]],3,0) -> 1404/10/02 | D146: =VLOOKUP(invoice[[#This Row],[شماره پیش فاکتور]],'[1]لیست پیش فاکتور ها'!$A:$D,4,0) -> 1404/10/02 | E146: =VLOOKUP(invoice[[#This Row],[شماره پیش فاکتور]],[1]!invoice[[شماره پیش فاکتور]:[میزان سفارش]],5,0) -> 4520000 | F146: 123481 | G146: =CHOOSE(MID(invoice[[#This Row],[تاریخ]],6,2),"فروردین","اردیبهشت","خرداد","تیر","مرداد","شهریور","مهر","آبان","آذر","دی","بهمن","اسفند") -> دی | H146: =_xlfn.NUMBERVALUE(MID(invoice[[#This Row],[تاریخ]],1,4)) -> 1404 | I146: =VLOOKUP(invoice[[#This Row],[شماره پیش فاکتور]],[1]!invoice[[شماره پیش فاکتور]:[نوع سفارش]],9,0) -> عادی | J146: =VLOOKUP(invoice[[#This Row],[شماره پیش فاکتور]],[1]!invoice[[شماره پیش فاکتور]:[نوع شرکت]],10,0) -> تولید کننده | K146: 46437 | L146: 0.1 | M146: 315758000000 | N146: =invoice[[#This Row],[مبلغ پیش دریافت]]/invoice[[#This Row],[میزان سفارش]] -> 69857.965 | O146: =SUMIF([1]!bargiri[شماره پیش فاکتور],[1]!invoice[[#This Row],[شماره پیش فاکتور]],[1]!bargiri[میزان بارگیری شده])/[1]!invoice[[#This Row],[میزان سفارش]] -> 1 | P146: =VLOOKUP(invoice[[#This Row],[شماره پیش فاکتور]],[1]!invoice[[شماره پیش فاکتور]:[نوع سفارش]],9,0) -> عادی | Q146: =SUMIFS('[1]جزییات بارگیری'!D:D,'[1]جزییات بارگیری'!C:C,[1]!invoice[[#This Row],[شماره پیش فاکتور]]) -> 40000 | R146: =IF([1]!invoice[[#This Row],[میزان سفارش]]-[1]!invoice[[#This Row],[میزان حمل شده ]]<0,0,[1]!invoice[[#This Row],[میزان سفارش]]-[1]!invoice[[#This Row],[میزان حمل شده ]]) -> 0 | S146: =[1]!invoice[[#This Row],[میزان حمل نشده ]]*[1]!invoice[[#This Row],[فی]] -> 0
A147: پ/101-1404 | B147: طاها اندیشان همپای البرز | C147: =VLOOKUP(invoice[[#This Row],[شماره پیش فاکتور]],[1]!invoice[[شماره پیش فاکتور]:[تاریخ]],3,0) -> 1404/09/25 | D147: =VLOOKUP(invoice[[#This Row],[شماره پیش فاکتور]],'[1]لیست پیش فاکتور ها'!$A:$D,4,0) -> 1404/10/09 | E147: =VLOOKUP(invoice[[#This Row],[شماره پیش فاکتور]],[1]!invoice[[شماره پیش فاکتور]:[میزان سفارش]],5,0) -> 500000 | F147: =VLOOKUP(invoice[[#This Row],[شماره پیش فاکتور]],[1]!invoice[[شماره پیش فاکتور]:[فی]],6,0) -> 135000 | G147: =CHOOSE(MID(invoice[[#This Row],[تاریخ]],6,2),"فروردین","اردیبهشت","خرداد","تیر","مرداد","شهریور","مهر","آبان","آذر","دی","بهمن","اسفند") -> آذر | H147: =_xlfn.NUMBERVALUE(MID(invoice[[#This Row],[تاریخ]],1,4)) -> 1404 | I147: =VLOOKUP(invoice[[#This Row],[شماره پیش فاکتور]],[1]!invoice[[شماره پیش فاکتور]:[نوع سفارش]],9,0) -> عادی | J147: =VLOOKUP(invoice[[#This Row],[شماره پیش فاکتور]],[1]!invoice[[شماره پیش فاکتور]:[نوع شرکت]],10,0) -> واسطه | K147: 46407 | L147: 0.1 | M147: 14850000000 | N147: =invoice[[#This Row],[مبلغ پیش دریافت]]/invoice[[#This Row],[میزان سفارش]] -> 29700 | O147: =SUMIF([1]!bargiri[شماره پیش فاکتور],[1]!invoice[[#This Row],[شماره پیش فاکتور]],[1]!bargiri[میزان بارگیری شده])/[1]!invoice[[#This Row],[میزان سفارش]] -> 1 | P147: =VLOOKUP(invoice[[#This Row],[شماره پیش فاکتور]],[1]!invoice[[شماره پیش فاکتور]:[نوع سفارش]],9,0) -> عادی | Q147: =SUMIFS('[1]جزییات بارگیری'!D:D,'[1]جزییات بارگیری'!C:C,[1]!invoice[[#This Row],[شماره پیش فاکتور]]) -> 20000 | R147: =IF([1]!invoice[[#This Row],[میزان سفارش]]-[1]!invoice[[#This Row],[میزان حمل شده ]]<0,0,[1]!invoice[[#This Row],[میزان سفارش]]-[1]!invoice[[#This Row],[میزان حمل شده ]]) -> 0 | S147: =[1]!invoice[[#This Row],[میزان حمل نشده ]]*[1]!invoice[[#This Row],[فی]] -> 0
A148: پ/102-1404 | B148: خوش نوش همدان | C148: =VLOOKUP(invoice[[#This Row],[شماره پیش فاکتور]],[1]!invoice[[شماره پیش فاکتور]:[تاریخ]],3,0) -> 1404/10/07 | D148: =VLOOKUP(invoice[[#This Row],[شماره پیش فاکتور]],'[1]لیست پیش فاکتور ها'!$A:$D,4,0) -> 1404/10/09 | E148: =VLOOKUP(invoice[[#This Row],[شماره پیش فاکتور]],[1]!invoice[[شماره پیش فاکتور]:[میزان سفارش]],5,0) -> 500000 | F148: =VLOOKUP(invoice[[#This Row],[شماره پیش فاکتور]],[1]!invoice[[شماره پیش فاکتور]:[فی]],6,0) -> 125000 | G148: =CHOOSE(MID(invoice[[#This Row],[تاریخ]],6,2),"فروردین","اردیبهشت","خرداد","تیر","مرداد","شهریور","مهر","آبان","آذر","دی","بهمن","اسفند") -> دی | H148: =_xlfn.NUMBERVALUE(MID(invoice[[#This Row],[تاریخ]],1,4)) -> 1404 | I148: =VLOOKUP(invoice[[#This Row],[شماره پیش فاکتور]],[1]!invoice[[شماره پیش فاکتور]:[نوع سفارش]],9,0) -> عادی | J148: =VLOOKUP(invoice[[#This Row],[شماره پیش فاکتور]],[1]!invoice[[شماره پیش فاکتور]:[نوع شرکت]],10,0) -> تولید کننده | K148: 46287 | L148: 0.1 | M148: 20625000000 | N148: =invoice[[#This Row],[مبلغ پیش دریافت]]/invoice[[#This Row],[میزان سفارش]] -> 41250 | O148: =SUMIF([1]!bargiri[شماره پیش فاکتور],[1]!invoice[[#This Row],[شماره پیش فاکتور]],[1]!bargiri[میزان بارگیری شده])/[1]!invoice[[#This Row],[میزان سفارش]] -> 1 | P148: =VLOOKUP(invoice[[#This Row],[شماره پیش فاکتور]],[1]!invoice[[شماره پیش فاکتور]:[نوع سفارش]],9,0) -> عادی | Q148: =SUMIFS('[1]جزییات بارگیری'!D:D,'[1]جزییات بارگیری'!C:C,[1]!invoice[[#This Row],[شماره پیش فاکتور]]) -> 30000 | R148: =IF([1]!invoice[[#This Row],[میزان سفارش]]-[1]!invoice[[#This Row],[میزان حمل شده ]]<0,0,[1]!invoice[[#This Row],[میزان سفارش]]-[1]!invoice[[#This Row],[میزان حمل شده ]]) -> 0 | S148: =[1]!invoice[[#This Row],[میزان حمل نشده ]]*[1]!invoice[[#This Row],[فی]] -> 0
A149: پ/103-1404 | B149: طوس قزوین | C149: =VLOOKUP(invoice[[#This Row],[شماره پیش فاکتور]],[1]!invoice[[شماره پیش فاکتور]:[تاریخ]],3,0) -> 1404/10/10 | D149: =VLOOKUP(invoice[[#This Row],[شماره پیش فاکتور]],'[1]لیست پیش فاکتور ها'!$A:$D,4,0) -> 1404/10/15 | E149: =VLOOKUP(invoice[[#This Row],[شماره پیش فاکتور]],[1]!invoice[[شماره پیش فاکتور]:[میزان سفارش]],5,0) -> 100000 | F149: =VLOOKUP(invoice[[#This Row],[شماره پیش فاکتور]],[1]!invoice[[شماره پیش فاکتور]:[فی]],6,0) -> 116500 | G149: =CHOOSE(MID(invoice[[#This Row],[تاریخ]],6,2),"فروردین","اردیبهشت","خرداد","تیر","مرداد","شهریور","مهر","آبان","آذر","دی","بهمن","اسفند") -> دی | H149: =_xlfn.NUMBERVALUE(MID(invoice[[#This Row],[تاریخ]],1,4)) -> 1404 | I149: =VLOOKUP(invoice[[#This Row],[شماره پیش فاکتور]],[1]!invoice[[شماره پیش فاکتور]:[نوع سفارش]],9,0) -> تعادلی | J149: =VLOOKUP(invoice[[#This Row],[شماره پیش فاکتور]],[1]!invoice[[شماره پیش فاکتور]:[نوع شرکت]],10,0) -> تولید کننده | K149: 46101 | L149: 0.1 | M149: 1922250000 | N149: =invoice[[#This Row],[مبلغ پیش دریافت]]/invoice[[#This Row],[میزان سفارش]] -> 19222.5 | O149: =SUMIF([1]!bargiri[شماره پیش فاکتور],[1]!invoice[[#This Row],[شماره پیش فاکتور]],[1]!bargiri[میزان بارگیری شده])/[1]!invoice[[#This Row],[میزان سفارش]] -> 0.9045 | P149: =VLOOKUP(invoice[[#This Row],[شماره پیش فاکتور]],[1]!invoice[[شماره پیش فاکتور]:[نوع سفارش]],9,0) -> تعادلی | Q149: =SUMIFS('[1]جزییات بارگیری'!D:D,'[1]جزییات بارگیری'!C:C,[1]!invoice[[#This Row],[شماره پیش فاکتور]]) -> 18090 | R149: =IF([1]!invoice[[#This Row],[میزان سفارش]]-[1]!invoice[[#This Row],[میزان حمل شده ]]<0,0,[1]!invoice[[#This Row],[میزان سفارش]]-[1]!invoice[[#This Row],[میزان حمل شده ]]) -> 1910 | S149: =[1]!invoice[[#This Row],[میزان حمل نشده ]]*[1]!invoice[[#This Row],[فی]] -> 319925000
A150: پ/104-1404 | B150: طوس قزوین | C150: =VLOOKUP(invoice[[#This Row],[شماره پیش فاکتور]],[1]!invoice[[شماره پیش فاکتور]:[تاریخ]],3,0) -> 1404/10/03 | D150: =VLOOKUP(invoice[[#This Row],[شماره پیش فاکتور]],'[1]لیست پیش فاکتور ها'!$A:$D,4,0) -> 1404/10/03 | E150: =VLOOKUP(invoice[[#This Row],[شماره پیش فاکتور]],[1]!invoice[[شماره پیش فاکتور]:[میزان سفارش]],5,0) -> 100000 | F150: =VLOOKUP(invoice[[#This Row],[شماره پیش فاکتور]],[1]!invoice[[شماره پیش فاکتور]:[فی]],6,0) -> 167500 | G150: =CHOOSE(MID(invoice[[#This Row],[تاریخ]],6,2),"فروردین","اردیبهشت","خرداد","تیر","مرداد","شهریور","مهر","آبان","آذر","دی","بهمن","اسفند") -> دی | H150: =_xlfn.NUMBERVALUE(MID(invoice[[#This Row],[تاریخ]],1,4)) -> 1404 | I150: =VLOOKUP(invoice[[#This Row],[شماره پیش فاکتور]],[1]!invoice[[شماره پیش فاکتور]:[نوع سفارش]],9,0) -> بورس | J150: =VLOOKUP(invoice[[#This Row],[شماره پیش فاکتور]],[1]!invoice[[شماره پیش فاکتور]:[نوع شرکت]],10,0) -> تولید کننده | K150: 46101 | L150: 0.1 | M150: 18425000000 | N150: =invoice[[#This Row],[مبلغ پیش دریافت]]/invoice[[#This Row],[میزان سفارش]] -> 184250 | O150: =SUMIF([1]!bargiri[شماره پیش فاکتور],[1]!invoice[[#This Row],[شماره پیش فاکتور]],[1]!bargiri[میزان بارگیری شده])/[1]!invoice[[#This Row],[میزان سفارش]] -> 1 | P150: =VLOOKUP(invoice[[#This Row],[شماره پیش فاکتور]],[1]!invoice[[شماره پیش فاکتور]:[نوع سفارش]],9,0) -> بورس | Q150: =SUMIFS('[1]جزییات بارگیری'!D:D,'[1]جزییات بارگیری'!C:C,[1]!invoice[[#This Row],[شماره پیش فاکتور]]) -> 20000 | R150: =IF([1]!invoice[[#This Row],[میزان سفارش]]-[1]!invoice[[#This Row],[میزان حمل شده ]]<0,0,[1]!invoice[[#This Row],[میزان سفارش]]-[1]!invoice[[#This Row],[میزان حمل شده ]]) -> 0 | S150: =[1]!invoice[[#This Row],[میزان حمل نشده ]]*[1]!invoice[[#This Row],[فی]] -> 0
A151: پ/105-1404 | B151: اکسیژن ارومیه گاز | C151: =VLOOKUP(invoice[[#This Row],[شماره پیش فاکتور]],[1]!invoice[[شماره پیش فاکتور]:[تاریخ]],3,0) -> 1404/10/17 | D151: =VLOOKUP(invoice[[#This Row],[شماره پیش فاکتور]],'[1]لیست پیش فاکتور ها'!$A:$D,4,0) -> 1404/10/18 | E151: =VLOOKUP(invoice[[#This Row],[شماره پیش فاکتور]],[1]!invoice[[شماره پیش فاکتور]:[میزان سفارش]],5,0) -> 30000 | F151: =VLOOKUP(invoice[[#This Row],[شماره پیش فاکتور]],[1]!invoice[[شماره پیش فاکتور]:[فی]],6,0) -> 167500 | G151: =CHOOSE(MID(invoice[[#This Row],[تاریخ]],6,2),"فروردین","اردیبهشت","خرداد","تیر","مرداد","شهریور","مهر","آبان","آذر","دی","بهمن","اسفند") -> دی | H151: =_xlfn.NUMBERVALUE(MID(invoice[[#This Row],[تاریخ]],1,4)) -> 1404 | I151: =VLOOKUP(invoice[[#This Row],[شماره پیش فاکتور]],[1]!invoice[[شماره پیش فاکتور]:[نوع سفارش]],9,0) -> بورس | J151: =VLOOKUP(invoice[[#This Row],[شماره پیش فاکتور]],[1]!invoice[[شماره پیش فاکتور]:[نوع شرکت]],10,0) -> تولید کننده | K151: 46101 | L151: 0.1 | M151: 5527500000 | N151: =invoice[[#This Row],[مبلغ پیش دریافت]]/invoice[[#This Row],[میزان سفارش]] -> 184250 | O151: =SUMIF([1]!bargiri[شماره پیش فاکتور],[1]!invoice[[#This Row],[شماره پیش فاکتور]],[1]!bargiri[میزان بارگیری شده])/[1]!invoice[[#This Row],[میزان سفارش]] -> 1 | P151: =VLOOKUP(invoice[[#This Row],[شماره پیش فاکتور]],[1]!invoice[[شماره پیش فاکتور]:[نوع سفارش]],9,0) -> بورس | Q151: =SUMIFS('[1]جزییات بارگیری'!D:D,'[1]جزییات بارگیری'!C:C,[1]!invoice[[#This Row],[شماره پیش فاکتور]]) -> 30000 | R151: =IF([1]!invoice[[#This Row],[میزان سفارش]]-[1]!invoice[[#This Row],[میزان حمل شده ]]<0,0,[1]!invoice[[#This Row],[میزان سفارش]]-[1]!invoice[[#This Row],[میزان حمل شده ]]) -> 0 | S151: =[1]!invoice[[#This Row],[میزان حمل نشده ]]*[1]!invoice[[#This Row],[فی]] -> 0
A152: پ/106-1404 | B152: طوس قزوین | C152: =VLOOKUP(invoice[[#This Row],[شماره پیش فاکتور]],[1]!invoice[[شماره پیش فاکتور]:[تاریخ]],3,0) -> 1404/10/17 | D152: =VLOOKUP(invoice[[#This Row],[شماره پیش فاکتور]],'[1]لیست پیش فاکتور ها'!$A:$D,4,0) -> 1404/10/18 | E152: =VLOOKUP(invoice[[#This Row],[شماره پیش فاکتور]],[1]!invoice[[شماره پیش فاکتور]:[میزان سفارش]],5,0) -> 20000 | F152: =VLOOKUP(invoice[[#This Row],[شماره پیش فاکتور]],[1]!invoice[[شماره پیش فاکتور]:[فی]],6,0) -> 167500 | G152: =CHOOSE(MID(invoice[[#This Row],[تاریخ]],6,2),"فروردین","اردیبهشت","خرداد","تیر","مرداد","شهریور","مهر","آبان","آذر","دی","بهمن","اسفند") -> دی | H152: =_xlfn.NUMBERVALUE(MID(invoice[[#This Row],[تاریخ]],1,4)) -> 1404 | I152: =VLOOKUP(invoice[[#This Row],[شماره پیش فاکتور]],[1]!invoice[[شماره پیش فاکتور]:[نوع سفارش]],9,0) -> بورس | J152: =VLOOKUP(invoice[[#This Row],[شماره پیش فاکتور]],[1]!invoice[[شماره پیش فاکتور]:[نوع شرکت]],10,0) -> تولید کننده | K152: 46101 | L152: 0.1 | M152: 3685000000 | N152: =invoice[[#This Row],[مبلغ پیش دریافت]]/invoice[[#This Row],[میزان سفارش]] -> 184250 | O152: =SUMIF([1]!bargiri[شماره پیش فاکتور],[1]!invoice[[#This Row],[شماره پیش فاکتور]],[1]!bargiri[میزان بارگیری شده])/[1]!invoice[[#This Row],[میزان سفارش]] -> 1 | P152: =VLOOKUP(invoice[[#This Row],[شماره پیش فاکتور]],[1]!invoice[[شماره پیش فاکتور]:[نوع سفارش]],9,0) -> بورس | Q152: =SUMIFS('[1]جزییات بارگیری'!D:D,'[1]جزییات بارگیری'!C:C,[1]!invoice[[#This Row],[شماره پیش فاکتور]]) -> 30000 | R152: =IF([1]!invoice[[#This Row],[میزان سفارش]]-[1]!invoice[[#This Row],[میزان حمل شده ]]<0,0,[1]!invoice[[#This Row],[میزان سفارش]]-[1]!invoice[[#This Row],[میزان حمل شده ]]) -> 0 | S152: =[1]!invoice[[#This Row],[میزان حمل نشده ]]*[1]!invoice[[#This Row],[فی]] -> 0
A153: پ/107-1404 | B153: تولیدی گازهای طبی و صنعتی طوس سبزوار | C153: =VLOOKUP(invoice[[#This Row],[شماره پیش فاکتور]],[1]!invoice[[شماره پیش فاکتور]:[تاریخ]],3,0) -> 1404/10/17 | D153: =VLOOKUP(invoice[[#This Row],[شماره پیش فاکتور]],'[1]لیست پیش فاکتور ها'!$A:$D,4,0) -> 1404/10/18 | E153: =VLOOKUP(invoice[[#This Row],[شماره پیش فاکتور]],[1]!invoice[[شماره پیش فاکتور]:[میزان سفارش]],5,0) -> 30000 | F153: =VLOOKUP(invoice[[#This Row],[شماره پیش فاکتور]],[1]!invoice[[شماره پیش فاکتور]:[فی]],6,0) -> 167500 | G153: =CHOOSE(MID(invoice[[#This Row],[تاریخ]],6,2),"فروردین","اردیبهشت","خرداد","تیر","مرداد","شهریور","مهر","آبان","آذر","دی","بهمن","اسفند") -> دی | H153: =_xlfn.NUMBERVALUE(MID(invoice[[#This Row],[تاریخ]],1,4)) -> 1404 | I153: =VLOOKUP(invoice[[#This Row],[شماره پیش فاکتور]],[1]!invoice[[شماره پیش فاکتور]:[نوع سفارش]],9,0) -> بورس | J153: =VLOOKUP(invoice[[#This Row],[شماره پیش فاکتور]],[1]!invoice[[شماره پیش فاکتور]:[نوع شرکت]],10,0) -> تولید کننده | K153: 46101 | L153: 0.1 | M153: 5527500000 | N153: =invoice[[#This Row],[مبلغ پیش دریافت]]/invoice[[#This Row],[میزان سفارش]] -> 184250 | O153: =SUMIF([1]!bargiri[شماره پیش فاکتور],[1]!invoice[[#This Row],[شماره پیش فاکتور]],[1]!bargiri[میزان بارگیری شده])/[1]!invoice[[#This Row],[میزان سفارش]] -> 0 | P153: =VLOOKUP(invoice[[#This Row],[شماره پیش فاکتور]],[1]!invoice[[شماره پیش فاکتور]:[نوع سفارش]],9,0) -> بورس | Q153: =SUMIFS('[1]جزییات بارگیری'!D:D,'[1]جزییات بارگیری'!C:C,[1]!invoice[[#This Row],[شماره پیش فاکتور]]) -> 0 | R153: =IF([1]!invoice[[#This Row],[میزان سفارش]]-[1]!invoice[[#This Row],[میزان حمل شده ]]<0,0,[1]!invoice[[#This Row],[میزان سفارش]]-[1]!invoice[[#This Row],[میزان حمل شده ]]) -> 20000 | S153: =[1]!invoice[[#This Row],[میزان حمل نشده ]]*[1]!invoice[[#This Row],[فی]] -> 2330000000
A154: پ/92-1404-1 | B154: عراق اربیل | C154: =VLOOKUP(invoice[[#This Row],[شماره پیش فاکتور]],[1]!invoice[[شماره پیش فاکتور]:[تاریخ]],3,0) -> 1404/10/02 | D154: =VLOOKUP(invoice[[#This Row],[شماره پیش فاکتور]],'[1]لیست پیش فاکتور ها'!$A:$D,4,0) -> 1404/10/02 | E154: =VLOOKUP(invoice[[#This Row],[شماره پیش فاکتور]],[1]!invoice[[شماره پیش فاکتور]:[میزان سفارش]],5,0) -> 500000 | F154: =VLOOKUP(invoice[[#This Row],[شماره پیش فاکتور]],[1]!invoice[[شماره پیش فاکتور]:[فی]],6,0) -> 115372 | G154: =CHOOSE(MID(invoice[[#This Row],[تاریخ]],6,2),"فروردین","اردیبهشت","خرداد","تیر","مرداد","شهریور","مهر","آبان","آذر","دی","بهمن","اسفند") -> دی | H154: =_xlfn.NUMBERVALUE(MID(invoice[[#This Row],[تاریخ]],1,4)) -> 1404 | I154: =VLOOKUP(invoice[[#This Row],[شماره پیش فاکتور]],[1]!invoice[[شماره پیش فاکتور]:[نوع سفارش]],9,0) -> عادی | J154: =VLOOKUP(invoice[[#This Row],[شماره پیش فاکتور]],[1]!invoice[[شماره پیش فاکتور]:[نوع شرکت]],10,0) -> تولید کننده | K154: 46422 | L154: 0.1 | M154: 31450000000 | N154: =invoice[[#This Row],[مبلغ پیش دریافت]]/invoice[[#This Row],[میزان سفارش]] -> 62900 | O154: =SUMIF([1]!bargiri[شماره پیش فاکتور],[1]!invoice[[#This Row],[شماره پیش فاکتور]],[1]!bargiri[میزان بارگیری شده])/[1]!invoice[[#This Row],[میزان سفارش]] -> 0 | P154: =VLOOKUP(invoice[[#This Row],[شماره پیش فاکتور]],[1]!invoice[[شماره پیش فاکتور]:[نوع سفارش]],9,0) -> عادی | Q154: =SUMIFS('[1]جزییات بارگیری'!D:D,'[1]جزییات بارگیری'!C:C,[1]!invoice[[#This Row],[شماره پیش فاکتور]]) -> 0 | R154: =IF([1]!invoice[[#This Row],[میزان سفارش]]-[1]!invoice[[#This Row],[میزان حمل شده ]]<0,0,[1]!invoice[[#This Row],[میزان سفارش]]-[1]!invoice[[#This Row],[میزان حمل شده ]]) -> 20000 | S154: =[1]!invoice[[#This Row],[میزان حمل نشده ]]*[1]!invoice[[#This Row],[فی]] -> 2330000000
A155: پ/92-1404-2 | B155: عراق اربیل | C155: =VLOOKUP(invoice[[#This Row],[شماره پیش فاکتور]],[1]!invoice[[شماره پیش فاکتور]:[تاریخ]],3,0) -> 1404/10/02 | D155: =VLOOKUP(invoice[[#This Row],[شماره پیش فاکتور]],'[1]لیست پیش فاکتور ها'!$A:$D,4,0) -> 1404/10/02 | E155: =VLOOKUP(invoice[[#This Row],[شماره پیش فاکتور]],[1]!invoice[[شماره پیش فاکتور]:[میزان سفارش]],5,0) -> 500000 | F155: =VLOOKUP(invoice[[#This Row],[شماره پیش فاکتور]],[1]!invoice[[شماره پیش فاکتور]:[فی]],6,0) -> 115372 | G155: =CHOOSE(MID(invoice[[#This Row],[تاریخ]],6,2),"فروردین","اردیبهشت","خرداد","تیر","مرداد","شهریور","مهر","آبان","آذر","دی","بهمن","اسفند") -> دی | H155: =_xlfn.NUMBERVALUE(MID(invoice[[#This Row],[تاریخ]],1,4)) -> 1404 | I155: =VLOOKUP(invoice[[#This Row],[شماره پیش فاکتور]],[1]!invoice[[شماره پیش فاکتور]:[نوع سفارش]],9,0) -> عادی | J155: =VLOOKUP(invoice[[#This Row],[شماره پیش فاکتور]],[1]!invoice[[شماره پیش فاکتور]:[نوع شرکت]],10,0) -> تولید کننده | K155: 46422 | L155: 0.1 | M155: 31450000000 | N155: =invoice[[#This Row],[مبلغ پیش دریافت]]/invoice[[#This Row],[میزان سفارش]] -> 62900 | O155: =SUMIF([1]!bargiri[شماره پیش فاکتور],[1]!invoice[[#This Row],[شماره پیش فاکتور]],[1]!bargiri[میزان بارگیری شده])/[1]!invoice[[#This Row],[میزان سفارش]] -> 1 | P155: =VLOOKUP(invoice[[#This Row],[شماره پیش فاکتور]],[1]!invoice[[شماره پیش فاکتور]:[نوع سفارش]],9,0) -> عادی | Q155: =SUMIFS('[1]جزییات بارگیری'!D:D,'[1]جزییات بارگیری'!C:C,[1]!invoice[[#This Row],[شماره پیش فاکتور]]) -> 30000 | R155: =IF([1]!invoice[[#This Row],[میزان سفارش]]-[1]!invoice[[#This Row],[میزان حمل شده ]]<0,0,[1]!invoice[[#This Row],[میزان سفارش]]-[1]!invoice[[#This Row],[میزان حمل شده ]]) -> 0 | S155: =[1]!invoice[[#This Row],[میزان حمل نشده ]]*[1]!invoice[[#This Row],[فی]] -> 0
A156: پ/108-1404 | B156: پاینده ساز فردوس | C156: =VLOOKUP(invoice[[#This Row],[شماره پیش فاکتور]],[1]!invoice[[شماره پیش فاکتور]:[تاریخ]],3,0) -> 1404/10/17 | D156: =VLOOKUP(invoice[[#This Row],[شماره پیش فاکتور]],'[1]لیست پیش فاکتور ها'!$A:$D,4,0) -> 1404/10/18 | E156: =VLOOKUP(invoice[[#This Row],[شماره پیش فاکتور]],[1]!invoice[[شماره پیش فاکتور]:[میزان سفارش]],5,0) -> 20000 | F156: =VLOOKUP(invoice[[#This Row],[شماره پیش فاکتور]],[1]!invoice[[شماره پیش فاکتور]:[فی]],6,0) -> 167500 | G156: =CHOOSE(MID(invoice[[#This Row],[تاریخ]],6,2),"فروردین","اردیبهشت","خرداد","تیر","مرداد","شهریور","مهر","آبان","آذر","دی","بهمن","اسفند") -> دی | H156: =_xlfn.NUMBERVALUE(MID(invoice[[#This Row],[تاریخ]],1,4)) -> 1404 | I156: =VLOOKUP(invoice[[#This Row],[شماره پیش فاکتور]],[1]!invoice[[شماره پیش فاکتور]:[نوع سفارش]],9,0) -> بورس | J156: =VLOOKUP(invoice[[#This Row],[شماره پیش فاکتور]],[1]!invoice[[شماره پیش فاکتور]:[نوع شرکت]],10,0) -> تولید کننده | K156: 46101 | L156: 0.1 | M156: 3685000000 | N156: =invoice[[#This Row],[مبلغ پیش دریافت]]/invoice[[#This Row],[میزان سفارش]] -> 184250 | O156: =SUMIF([1]!bargiri[شماره پیش فاکتور],[1]!invoice[[#This Row],[شماره پیش فاکتور]],[1]!bargiri[میزان بارگیری شده])/[1]!invoice[[#This Row],[میزان سفارش]] -> 0.44375 | P156: =VLOOKUP(invoice[[#This Row],[شماره پیش فاکتور]],[1]!invoice[[شماره پیش فاکتور]:[نوع سفارش]],9,0) -> بورس | Q156: =SUMIFS('[1]جزییات بارگیری'!D:D,'[1]جزییات بارگیری'!C:C,[1]!invoice[[#This Row],[شماره پیش فاکتور]]) -> 8875 | R156: =IF([1]!invoice[[#This Row],[میزان سفارش]]-[1]!invoice[[#This Row],[میزان حمل شده ]]<0,0,[1]!invoice[[#This Row],[میزان سفارش]]-[1]!invoice[[#This Row],[میزان حمل شده ]]) -> 11125 | S156: =[1]!invoice[[#This Row],[میزان حمل نشده ]]*[1]!invoice[[#This Row],[فی]] -> 1780000000
A157: پ/109-1404 | B157: اکسیژن ارومیه گاز | C157: =VLOOKUP(invoice[[#This Row],[شماره پیش فاکتور]],[1]!invoice[[شماره پیش فاکتور]:[تاریخ]],3,0) -> 1404/10/22 | D157: =VLOOKUP(invoice[[#This Row],[شماره پیش فاکتور]],'[1]لیست پیش فاکتور ها'!$A:$D,4,0) -> 1404/10/25 | E157: =VLOOKUP(invoice[[#This Row],[شماره پیش فاکتور]],[1]!invoice[[شماره پیش فاکتور]:[میزان سفارش]],5,0) -> 30000 | F157: =VLOOKUP(invoice[[#This Row],[شماره پیش فاکتور]],[1]!invoice[[شماره پیش فاکتور]:[فی]],6,0) -> 116500 | G157: =CHOOSE(MID(invoice[[#This Row],[تاریخ]],6,2),"فروردین","اردیبهشت","خرداد","تیر","مرداد","شهریور","مهر","آبان","آذر","دی","بهمن","اسفند") -> دی | H157: =_xlfn.NUMBERVALUE(MID(invoice[[#This Row],[تاریخ]],1,4)) -> 1404 | I157: =VLOOKUP(invoice[[#This Row],[شماره پیش فاکتور]],[1]!invoice[[شماره پیش فاکتور]:[نوع سفارش]],9,0) -> تعادلی | J157: =VLOOKUP(invoice[[#This Row],[شماره پیش فاکتور]],[1]!invoice[[شماره پیش فاکتور]:[نوع شرکت]],10,0) -> تولید کننده | K157: 46101 | L157: 0.1 | M157: 576675000 | N157: =invoice[[#This Row],[مبلغ پیش دریافت]]/invoice[[#This Row],[میزان سفارش]] -> 19222.5 | O157: =SUMIF([1]!bargiri[شماره پیش فاکتور],[1]!invoice[[#This Row],[شماره پیش فاکتور]],[1]!bargiri[میزان بارگیری شده])/[1]!invoice[[#This Row],[میزان سفارش]] -> 1 | P157: =VLOOKUP(invoice[[#This Row],[شماره پیش فاکتور]],[1]!invoice[[شماره پیش فاکتور]:[نوع سفارش]],9,0) -> تعادلی | Q157: =SUMIFS('[1]جزییات بارگیری'!D:D,'[1]جزییات بارگیری'!C:C,[1]!invoice[[#This Row],[شماره پیش فاکتور]]) -> 50000 | R157: =IF([1]!invoice[[#This Row],[میزان سفارش]]-[1]!invoice[[#This Row],[میزان حمل شده ]]<0,0,[1]!invoice[[#This Row],[میزان سفارش]]-[1]!invoice[[#This Row],[میزان حمل شده ]]) -> 0 | S157: =[1]!invoice[[#This Row],[میزان حمل نشده ]]*[1]!invoice[[#This Row],[فی]] -> 0
A158: پ/110-1404 | B158: طوس قزوین | C158: =VLOOKUP(invoice[[#This Row],[شماره پیش فاکتور]],[1]!invoice[[شماره پیش فاکتور]:[تاریخ]],3,0) -> 1404/10/22 | D158: =VLOOKUP(invoice[[#This Row],[شماره پیش فاکتور]],'[1]لیست پیش فاکتور ها'!$A:$D,4,0) -> 1404/10/25 | E158: =VLOOKUP(invoice[[#This Row],[شماره پیش فاکتور]],[1]!invoice[[شماره پیش فاکتور]:[میزان سفارش]],5,0) -> 20000 | F158: =VLOOKUP(invoice[[#This Row],[شماره پیش فاکتور]],[1]!invoice[[شماره پیش فاکتور]:[فی]],6,0) -> 116500 | G158: =CHOOSE(MID(invoice[[#This Row],[تاریخ]],6,2),"فروردین","اردیبهشت","خرداد","تیر","مرداد","شهریور","مهر","آبان","آذر","دی","بهمن","اسفند") -> دی | H158: =_xlfn.NUMBERVALUE(MID(invoice[[#This Row],[تاریخ]],1,4)) -> 1404 | I158: =VLOOKUP(invoice[[#This Row],[شماره پیش فاکتور]],[1]!invoice[[شماره پیش فاکتور]:[نوع سفارش]],9,0) -> تعادلی | J158: =VLOOKUP(invoice[[#This Row],[شماره پیش فاکتور]],[1]!invoice[[شماره پیش فاکتور]:[نوع شرکت]],10,0) -> تولید کننده | K158: 46101 | L158: 0.1 | M158: 384450000 | N158: =invoice[[#This Row],[مبلغ پیش دریافت]]/invoice[[#This Row],[میزان سفارش]] -> 19222.5 | O158: =SUMIF([1]!bargiri[شماره پیش فاکتور],[1]!invoice[[#This Row],[شماره پیش فاکتور]],[1]!bargiri[میزان بارگیری شده])/[1]!invoice[[#This Row],[میزان سفارش]] -> 0 | P158: =VLOOKUP(invoice[[#This Row],[شماره پیش فاکتور]],[1]!invoice[[شماره پیش فاکتور]:[نوع سفارش]],9,0) -> تعادلی | Q158: =SUMIFS('[1]جزییات بارگیری'!D:D,'[1]جزییات بارگیری'!C:C,[1]!invoice[[#This Row],[شماره پیش فاکتور]]) -> 0 | R158: =IF([1]!invoice[[#This Row],[میزان سفارش]]-[1]!invoice[[#This Row],[میزان حمل شده ]]<0,0,[1]!invoice[[#This Row],[میزان سفارش]]-[1]!invoice[[#This Row],[میزان حمل شده ]]) -> 20000 | S158: =[1]!invoice[[#This Row],[میزان حمل نشده ]]*[1]!invoice[[#This Row],[فی]] -> 3350000000
... A191: پ/92-1404-5 | B191: عراق اربیل | C191: =VLOOKUP(invoice[[#This Row],[شماره پیش فاکتور]],[1]!invoice[[شماره پیش فاکتور]:[تاریخ]],3,0) -> 1404/10/02 | D191: =VLOOKUP(invoice[[#This Row],[شماره پیش فاکتور]],'[1]لیست پیش فاکتور ها'!$A:$D,4,0) -> 1404/10/03 | E191: =VLOOKUP(invoice[[#This Row],[شماره پیش فاکتور]],[1]!invoice[[شماره پیش فاکتور]:[میزان سفارش]],5,0) -> 500000 | F191: =VLOOKUP(invoice[[#This Row],[شماره پیش فاکتور]],[1]!invoice[[شماره پیش فاکتور]:[فی]],6,0) -> 123481 | G191: =CHOOSE(MID(invoice[[#This Row],[تاریخ]],6,2),"فروردین","اردیبهشت","خرداد","تیر","مرداد","شهریور","مهر","آبان","آذر","دی","بهمن","اسفند") -> دی | H191: =_xlfn.NUMBERVALUE(MID(invoice[[#This Row],[تاریخ]],1,4)) -> 1404 | I191: =VLOOKUP(invoice[[#This Row],[شماره پیش فاکتور]],[1]!invoice[[شماره پیش فاکتور]:[نوع سفارش]],9,0) -> عادی | J191: =VLOOKUP(invoice[[#This Row],[شماره پیش فاکتور]],[1]!invoice[[شماره پیش فاکتور]:[نوع شرکت]],10,0) -> تولید کننده | K191: 46422 | L191: 0.1 | M191: 31450000000 | N191: =invoice[[#This Row],[مبلغ پیش دریافت]]/invoice[[#This Row],[میزان سفارش]] -> 62900 | O191: =SUMIF([1]!bargiri[شماره پیش فاکتور],[1]!invoice[[#This Row],[شماره پیش فاکتور]],[1]!bargiri[میزان بارگیری شده])/[1]!invoice[[#This Row],[میزان سفارش]] -> 0 | P191: =VLOOKUP(invoice[[#This Row],[شماره پیش فاکتور]],[1]!invoice[[شماره پیش فاکتور]:[نوع سفارش]],9,0) -> عادی | Q191: =SUMIFS('[1]جزییات بارگیری'!D:D,'[1]جزییات بارگیری'!C:C,[1]!invoice[[#This Row],[شماره پیش فاکتور]]) -> 0 | R191: =IF([1]!invoice[[#This Row],[میزان سفارش]]-[1]!invoice[[#This Row],[میزان حمل شده ]]<0,0,[1]!invoice[[#This Row],[میزان سفارش]]-[1]!invoice[[#This Row],[میزان حمل شده ]]) -> 40000 | S191: =[1]!invoice[[#This Row],[میزان حمل نشده ]]*[1]!invoice[[#This Row],[فی]] -> 4660000000

Sheet جزییات بارگیری
A1: شماره حواله | B1: تاریخ حواله | C1: شماره سند مبنا | D1: نام مشتری | E1: مقدار | F1: فی | G1: مبلغ ناخالص | H1: اضافات | I1: مبلغ خالص | J1: میزان استهلاک پیش دریافتی | K1: مانده مبلغ | L1: تاریخ واریزی | M1: مبلغ واریزی | N1: مانده حساب باسکول | O1: توضیحات | P1: نرخ استهلاک | Q1: قابل پرداخت | Y1: آدرس فایل
A2: 89 | B2: 1405/02/26 | C2: پ/32-1404 | D2: طوس قزوین | E2: 955 | F2: 116500 | G2: 111257500 | H2: 11125750 | I2: 122383250 | J2: =bargiri[[#This Row],[مقدار]]*INDEX(invoice[پیش دریافت به ازای هر کیلوگرم],MATCH(bargiri[[#This Row],[شماره سند مبنا]],invoice[شماره پیش فاکتور],0)) -> 18357488 | K2: =bargiri[[#This Row],[مبلغ خالص]]-bargiri[[#This Row],[میزان استهلاک پیش دریافتی]] -> 1.0402576e+08 | N2: =IF(bargiri[[#This Row],[مبلغ واریزی]]<>"",bargiri[[#This Row],[مانده مبلغ]]-bargiri[[#This Row],[مبلغ واریزی]],bargiri[[#This Row],[مانده مبلغ]]) -> 1.0402576e+08 | P2: =VLOOKUP(bargiri[[#This Row],[شماره سند مبنا]],invoice[[شماره پیش فاکتور]:[پیش دریافت به ازای هر کیلوگرم]],14,0) -> 19222.5 | Q2: =IF(bargiri[[#This Row],[مبلغ ناخالص]]-(bargiri[[#This Row],[نرخ استهلاک]]*bargiri[[#This Row],[مقدار]])<0,0,bargiri[[#This Row],[مبلغ ناخالص]]-(bargiri[[#This Row],[نرخ استهلاک]]*bargiri[[#This Row],[مقدار]])) -> 92900012 | Y2: C:\Users\a.faraji\Desktop\متفرقه\جزییات پرداختی ها(2)
A3: 89 | B3: 1405/02/26 | C3: پ/46-1404 | D3: طوس قزوین | E3: 18975 | F3: 116500 | G3: 2210587500 | H3: 221058750 | I3: 2431646250 | J3: =bargiri[[#This Row],[مقدار]]*INDEX(invoice[پیش دریافت به ازای هر کیلوگرم],MATCH(bargiri[[#This Row],[شماره سند مبنا]],invoice[شماره پیش فاکتور],0)) -> 3.6474694e+08 | K3: =bargiri[[#This Row],[مبلغ خالص]]-bargiri[[#This Row],[میزان استهلاک پیش دریافتی]] -> 2.0668993e+09 | N3: =IF(bargiri[[#This Row],[مبلغ واریزی]]<>"",bargiri[[#This Row],[مانده مبلغ]]-bargiri[[#This Row],[مبلغ واریزی]],bargiri[[#This Row],[مانده مبلغ]]) -> 2.0668993e+09 | P3: =VLOOKUP(bargiri[[#This Row],[شماره سند مبنا]],invoice[[شماره پیش فاکتور]:[پیش دریافت به ازای هر کیلوگرم]],14,0) -> 19222.5 | Q3: =IF(bargiri[[#This Row],[مبلغ ناخالص]]-(bargiri[[#This Row],[نرخ استهلاک]]*bargiri[[#This Row],[مقدار]])<0,0,bargiri[[#This Row],[مبلغ ناخالص]]-(bargiri[[#This Row],[نرخ استهلاک]]*bargiri[[#This Row],[مقدار]])) -> 1.8458406e+09
A4: 88 | B4: 1405/02/26 | C4: پ/77-1404 | D4: تعاونی ماهان گاز | E4: 11490 | F4: 108000 | G4: 1240920000 | H4: 124092000 | I4: 1365012000 | J4: =bargiri[[#This Row],[مقدار]]*INDEX(invoice[پیش دریافت به ازای هر کیلوگرم],MATCH(bargiri[[#This Row],[شماره سند مبنا]],invoice[شماره پیش فاکتور],0)) -> 682506000 | K4: =bargiri[[#This Row],[مبلغ خالص]]-bargiri[[#This Row],[میزان استهلاک پیش دریافتی]] -> 682506000 | N4: =IF(bargiri[[#This Row],[مبلغ واریزی]]<>"",bargiri[[#This Row],[مانده مبلغ]]-bargiri[[#This Row],[مبلغ واریزی]],bargiri[[#This Row],[مانده مبلغ]]) -> 682506000 | P4: =VLOOKUP(bargiri[[#This Row],[شماره سند مبنا]],invoice[[شماره پیش فاکتور]:[پیش دریافت به ازای هر کیلوگرم]],14,0) -> 59400 | Q4: =IF(bargiri[[#This Row],[مبلغ ناخالص]]-(bargiri[[#This Row],[نرخ استهلاک]]*bargiri[[#This Row],[مقدار]])<0,0,bargiri[[#This Row],[مبلغ ناخالص]]-(bargiri[[#This Row],[نرخ استهلاک]]*bargiri[[#This Row],[مقدار]])) -> 558414000
A5: 87 | B5: 1405/02/26 | C5: الحاقیه پ/54-1403-2 | D5: گاز کربنیک غرب | E5: 23000 | F5: 240000 | G5: 5520000000 | H5: 552000000 | I5: 6072000000 | J5: =bargiri[[#This Row],[مقدار]]*INDEX(invoice[پیش دریافت به ازای هر کیلوگرم],MATCH(bargiri[[#This Row],[شماره سند مبنا]],invoice[شماره پیش فاکتور],0)) -> 910800000 | K5: =bargiri[[#This Row],[مبلغ خالص]]-bargiri[[#This Row],[میزان استهلاک پیش دریافتی]] -> 5161200000 | N5: =IF(bargiri[[#This Row],[مبلغ واریزی]]<>"",bargiri[[#This Row],[مانده مبلغ]]-bargiri[[#This Row],[مبلغ واریزی]],bargiri[[#This Row],[مانده مبلغ]]) -> 5161200000 | P5: =VLOOKUP(bargiri[[#This Row],[شماره سند مبنا]],invoice[[شماره پیش فاکتور]:[پیش دریافت به ازای هر کیلوگرم]],14,0) -> 39600 | Q5: =IF(bargiri[[#This Row],[مبلغ ناخالص]]-(bargiri[[#This Row],[نرخ استهلاک]]*bargiri[[#This Row],[مقدار]])<0,0,bargiri[[#This Row],[مبلغ ناخالص]]-(bargiri[[#This Row],[نرخ استهلاک]]*bargiri[[#This Row],[مقدار]])) -> 4609200000
A6: 86 | B6: 1405/02/26 | C6: الحاقیه پ/50-1403-2 | D6: گروه صنایع شیمیایی به آفرین گاز تیسفون | E6: 7370 | F6: 240000 | G6: 1768800000 | H6: 176880000 | I6: 1945680000 | J6: =bargiri[[#This Row],[مقدار]]*INDEX(invoice[پیش دریافت به ازای هر کیلوگرم],MATCH(bargiri[[#This Row],[شماره سند مبنا]],invoice[شماره پیش فاکتور],0)) -> 291852000 | K6: =bargiri[[#This Row],[مبلغ خالص]]-bargiri[[#This Row],[میزان استهلاک پیش دریافتی]] -> 1653828000 | N6: =IF(bargiri[[#This Row],[مبلغ واریزی]]<>"",bargiri[[#This Row],[مانده مبلغ]]-bargiri[[#This Row],[مبلغ واریزی]],bargiri[[#This Row],[مانده مبلغ]]) -> 1653828000 | P6: =VLOOKUP(bargiri[[#This Row],[شماره سند مبنا]],invoice[[شماره پیش فاکتور]:[پیش دریافت به ازای هر کیلوگرم]],14,0) -> 39600 | Q6: =IF(bargiri[[#This Row],[مبلغ ناخالص]]-(bargiri[[#This Row],[نرخ استهلاک]]*bargiri[[#This Row],[مقدار]])<0,0,bargiri[[#This Row],[مبلغ ناخالص]]-(bargiri[[#This Row],[نرخ استهلاک]]*bargiri[[#This Row],[مقدار]])) -> 1476948000
A7: 85 | B7: 1405/02/25 | C7: الحاقیه پ/52-1403-2 | D7: تولید گازهای طبی و صنعتی مددکاران اصفهان | E7: 19870 | F7: 240000 | G7: 4768800000 | H7: 476880000 | I7: 5245680000 | J7: =bargiri[[#This Row],[مقدار]]*INDEX(invoice[پیش دریافت به ازای هر کیلوگرم],MATCH(bargiri[[#This Row],[شماره سند مبنا]],invoice[شماره پیش فاکتور],0)) -> 786852000 | K7: =bargiri[[#This Row],[مبلغ خالص]]-bargiri[[#This Row],[میزان استهلاک پیش دریافتی]] -> 4458828000 | N7: =IF(bargiri[[#This Row],[مبلغ واریزی]]<>"",bargiri[[#This Row],[مانده مبلغ]]-bargiri[[#This Row],[مبلغ واریزی]],bargiri[[#This Row],[مانده مبلغ]]) -> 4458828000 | P7: =VLOOKUP(bargiri[[#This Row],[شماره سند مبنا]],invoice[[شماره پیش فاکتور]:[پیش دریافت به ازای هر کیلوگرم]],14,0) -> 39600 | Q7: =IF(bargiri[[#This Row],[مبلغ ناخالص]]-(bargiri[[#This Row],[نرخ استهلاک]]*bargiri[[#This Row],[مقدار]])<0,0,bargiri[[#This Row],[مبلغ ناخالص]]-(bargiri[[#This Row],[نرخ استهلاک]]*bargiri[[#This Row],[مقدار]])) -> 3981948000
A8: 84 | B8: 1405/02/24 | C8: پ/32-1404 | D8: طوس قزوین | E8: 20120 | F8: 116500 | G8: 2343980000 | H8: 234398000 | I8: 2578378000 | J8: =bargiri[[#This Row],[مقدار]]*INDEX(invoice[پیش دریافت به ازای هر کیلوگرم],MATCH(bargiri[[#This Row],[شماره سند مبنا]],invoice[شماره پیش فاکتور],0)) -> 386756700 | K8: =bargiri[[#This Row],[مبلغ خالص]]-bargiri[[#This Row],[میزان استهلاک پیش دریافتی]] -> 2191621300 | N8: =IF(bargiri[[#This Row],[مبلغ واریزی]]<>"",bargiri[[#This Row],[مانده مبلغ]]-bargiri[[#This Row],[مبلغ واریزی]],bargiri[[#This Row],[مانده مبلغ]]) -> 2191621300 | P8: =VLOOKUP(bargiri[[#This Row],[شماره سند مبنا]],invoice[[شماره پیش فاکتور]:[پیش دریافت به ازای هر کیلوگرم]],14,0) -> 19222.5 | Q8: =IF(bargiri[[#This Row],[مبلغ ناخالص]]-(bargiri[[#This Row],[نرخ استهلاک]]*bargiri[[#This Row],[مقدار]])<0,0,bargiri[[#This Row],[مبلغ ناخالص]]-(bargiri[[#This Row],[نرخ استهلاک]]*bargiri[[#This Row],[مقدار]])) -> 1957223300
A9: 83 | B9: 1405/02/22 | C9: پ/92-1404-5 | D9: عراق اربیل | E9: 20910 | F9: 123481 | G9: 2581987710 | H9: 258198771 | I9: 2840186481 | J9: =bargiri[[#This Row],[مقدار]]*INDEX(invoice[پیش دریافت به ازای هر کیلوگرم],MATCH(bargiri[[#This Row],[شماره سند مبنا]],invoice[شماره پیش فاکتور],0)) -> 1315239000 | K9: =bargiri[[#This Row],[مبلغ خالص]]-bargiri[[#This Row],[میزان استهلاک پیش دریافتی]] -> 1524947481 | N9: =IF(bargiri[[#This Row],[مبلغ واریزی]]<>"",bargiri[[#This Row],[مانده مبلغ]]-bargiri[[#This Row],[مبلغ واریزی]],bargiri[[#This Row],[مانده مبلغ]]) -> 1524947481 | P9: =VLOOKUP(bargiri[[#This Row],[شماره سند مبنا]],invoice[[شماره پیش فاکتور]:[پیش دریافت به ازای هر کیلوگرم]],14,0) -> 62900 | Q9: =IF(bargiri[[#This Row],[مبلغ ناخالص]]-(bargiri[[#This Row],[نرخ استهلاک]]*bargiri[[#This Row],[مقدار]])<0,0,bargiri[[#This Row],[مبلغ ناخالص]]-(bargiri[[#This Row],[نرخ استهلاک]]*bargiri[[#This Row],[مقدار]])) -> 1266748710
A10: 82 | B10: 1405/02/22 | C10: پ/92-1404-5 | D10: عراق اربیل | E10: 20890 | F10: 123481 | G10: 2579518090 | H10: 257951809 | I10: 2837469899 | J10: =bargiri[[#This Row],[مقدار]]*INDEX(invoice[پیش دریافت به ازای هر کیلوگرم],MATCH(bargiri[[#This Row],[شماره سند مبنا]],invoice[شماره پیش فاکتور],0)) -> 1313981000 | K10: =bargiri[[#This Row],[مبلغ خالص]]-bargiri[[#This Row],[میزان استهلاک پیش دریافتی]] -> 1523488899 | N10: =IF(bargiri[[#This Row],[مبلغ واریزی]]<>"",bargiri[[#This Row],[مانده مبلغ]]-bargiri[[#This Row],[مبلغ واریزی]],bargiri[[#This Row],[مانده مبلغ]]) -> 1523488899 | P10: =VLOOKUP(bargiri[[#This Row],[شماره سند مبنا]],invoice[[شماره پیش فاکتور]:[پیش دریافت به ازای هر کیلوگرم]],14,0) -> 62900 | Q10: =IF(bargiri[[#This Row],[مبلغ ناخالص]]-(bargiri[[#This Row],[نرخ استهلاک]]*bargiri[[#This Row],[مقدار]])<0,0,bargiri[[#This Row],[مبلغ ناخالص]]-(bargiri[[#This Row],[نرخ استهلاک]]*bargiri[[#This Row],[مقدار]])) -> 1265537090
A11: 81 | B11: 1405/02/20 | C11: پ/92-1404-5 | D11: عراق اربیل | E11: 20370 | F11: 123481 | G11: 2515307970 | H11: 251530797 | I11: 2766838767 | J11: =bargiri[[#This Row],[مقدار]]*INDEX(invoice[پیش دریافت به ازای هر کیلوگرم],MATCH(bargiri[[#This Row],[شماره سند مبنا]],invoice[شماره پیش فاکتور],0)) -> 1281273000 | K11: =bargiri[[#This Row],[مبلغ خالص]]-bargiri[[#This Row],[میزان استهلاک پیش دریافتی]] -> 1485565767 | N11: =IF(bargiri[[#This Row],[مبلغ واریزی]]<>"",bargiri[[#This Row],[مانده مبلغ]]-bargiri[[#This Row],[مبلغ واریزی]],bargiri[[#This Row],[مانده مبلغ]]) -> 1485565767 | P11: =VLOOKUP(bargiri[[#This Row],[شماره سند مبنا]],invoice[[شماره پیش فاکتور]:[پیش دریافت به ازای هر کیلوگرم]],14,0) -> 62900 | Q11: =IF(bargiri[[#This Row],[مبلغ ناخالص]]-(bargiri[[#This Row],[نرخ استهلاک]]*bargiri[[#This Row],[مقدار]])<0,0,bargiri[[#This Row],[مبلغ ناخالص]]-(bargiri[[#This Row],[نرخ استهلاک]]*bargiri[[#This Row],[مقدار]])) -> 1234034970
A12: 80 | B12: 1405/02/20 | C12: پ/92-1404-5 | D12: عراق اربیل | E12: 20530 | F12: 123481 | G12: 2535064930 | H12: 253506493 | I12: 2788571423 | J12: =bargiri[[#This Row],[مقدار]]*INDEX(invoice[پیش دریافت به ازای هر کیلوگرم],MATCH(bargiri[[#This Row],[شماره سند مبنا]],invoice[شماره پیش فاکتور],0)) -> 1291337000 | K12: =bargiri[[#This Row],[مبلغ خالص]]-bargiri[[#This Row],[میزان استهلاک پیش دریافتی]] -> 1497234423 | N12: =IF(bargiri[[#This Row],[مبلغ واریزی]]<>"",bargiri[[#This Row],[مانده مبلغ]]-bargiri[[#This Row],[مبلغ واریزی]],bargiri[[#This Row],[مانده مبلغ]]) -> 1497234423 | P12: =VLOOKUP(bargiri[[#This Row],[شماره سند مبنا]],invoice[[شماره پیش فاکتور]:[پیش دریافت به ازای هر کیلوگرم]],14,0) -> 62900 | Q12: =IF(bargiri[[#This Row],[مبلغ ناخالص]]-(bargiri[[#This Row],[نرخ استهلاک]]*bargiri[[#This Row],[مقدار]])<0,0,bargiri[[#This Row],[مبلغ ناخالص]]-(bargiri[[#This Row],[نرخ استهلاک]]*bargiri[[#This Row],[مقدار]])) -> 1243727930
A13: 79 | B13: 1405/02/20 | C13: پ/92-1404-5 | D13: عراق اربیل | E13: 20600 | F13: 123481 | G13: 2543708600 | H13: 254370860 | I13: 2798079460 | J13: =bargiri[[#This Row],[مقدار]]*INDEX(invoice[پیش دریافت به ازای هر کیلوگرم],MATCH(bargiri[[#This Row],[شماره سند مبنا]],invoice[شماره پیش فاکتور],0)) -> 1295740000 | K13: =bargiri[[#This Row],[مبلغ خالص]]-bargiri[[#This Row],[میزان استهلاک پیش دریافتی]] -> 1502339460 | N13: =IF(bargiri[[#This Row],[مبلغ واریزی]]<>"",bargiri[[#This Row],[مانده مبلغ]]-bargiri[[#This Row],[مبلغ واریزی]],bargiri[[#This Row],[مانده مبلغ]]) -> 1502339460 | P13: =VLOOKUP(bargiri[[#This Row],[شماره سند مبنا]],invoice[[شماره پیش فاکتور]:[پیش دریافت به ازای هر کیلوگرم]],14,0) -> 62900 | Q13: =IF(bargiri[[#This Row],[مبلغ ناخالص]]-(bargiri[[#This Row],[نرخ استهلاک]]*bargiri[[#This Row],[مقدار]])<0,0,bargiri[[#This Row],[مبلغ ناخالص]]-(bargiri[[#This Row],[نرخ استهلاک]]*bargiri[[#This Row],[مقدار]])) -> 1247968600
A14: 78 | B14: 1405/02/20 | C14: پ/92-1404-5 | D14: عراق اربیل | E14: 20230 | F14: 123481 | G14: 2498020630 | H14: 249802063 | I14: 2747822693 | J14: =bargiri[[#This Row],[مقدار]]*INDEX(invoice[پیش دریافت به ازای هر کیلوگرم],MATCH(bargiri[[#This Row],[شماره سند مبنا]],invoice[شماره پیش فاکتور],0)) -> 1272467000 | K14: =bargiri[[#This Row],[مبلغ خالص]]-bargiri[[#This Row],[میزان استهلاک پیش دریافتی]] -> 1475355693 | N14: =IF(bargiri[[#This Row],[مبلغ واریزی]]<>"",bargiri[[#This Row],[مانده مبلغ]]-bargiri[[#This Row],[مبلغ واریزی]],bargiri[[#This Row],[مانده مبلغ]]) -> 1475355693 | P14: =VLOOKUP(bargiri[[#This Row],[شماره سند مبنا]],invoice[[شماره پیش فاکتور]:[پیش دریافت به ازای هر کیلوگرم]],14,0) -> 62900 | Q14: =IF(bargiri[[#This Row],[مبلغ ناخالص]]-(bargiri[[#This Row],[نرخ استهلاک]]*bargiri[[#This Row],[مقدار]])<0,0,bargiri[[#This Row],[مبلغ ناخالص]]-(bargiri[[#This Row],[نرخ استهلاک]]*bargiri[[#This Row],[مقدار]])) -> 1225553630
A15: 977 | B15: 1405/02/02 | C15: پ/92-1404 | D15: عراق اربیل | E15: 122750 | F15: 128980 | J15: =bargiri[[#This Row],[مقدار]]*INDEX(invoice[پیش دریافت به ازای هر کیلوگرم],MATCH(bargiri[[#This Row],[شماره سند مبنا]],invoice[شماره پیش فاکتور],0)) -> 8.5750652e+09 | K15: =bargiri[[#This Row],[مبلغ خالص]]-bargiri[[#This Row],[میزان استهلاک پیش دریافتی]] -> -8.5750652e+09 | N15: =IF(bargiri[[#This Row],[مبلغ واریزی]]<>"",bargiri[[#This Row],[مانده مبلغ]]-bargiri[[#This Row],[مبلغ واریزی]],bargiri[[#This Row],[مانده مبلغ]]) -> -8.5750652e+09 | P15: =VLOOKUP(bargiri[[#This Row],[شماره سند مبنا]],invoice[[شماره پیش فاکتور]:[پیش دریافت به ازای هر کیلوگرم]],14,0) -> 69857.965 | Q15: =IF(bargiri[[#This Row],[مبلغ ناخالص]]-(bargiri[[#This Row],[نرخ استهلاک]]*bargiri[[#This Row],[مقدار]])<0,0,bargiri[[#This Row],[مبلغ ناخالص]]-(bargiri[[#This Row],[نرخ استهلاک]]*bargiri[[#This Row],[مقدار]])) -> 0
A16: 77 | B16: 1405/02/19 | C16: پ/92-1404-5 | D16: عراق اربیل | E16: 21110 | F16: 123481 | G16: 2606683910 | H16: 260668391 | I16: 2867352301 | J16: =bargiri[[#This Row],[مقدار]]*INDEX(invoice[پیش دریافت به ازای هر کیلوگرم],MATCH(bargiri[[#This Row],[شماره سند مبنا]],invoice[شماره پیش فاکتور],0)) -> 1327819000 | K16: =bargiri[[#This Row],[مبلغ خالص]]-bargiri[[#This Row],[میزان استهلاک پیش دریافتی]] -> 1539533301 | N16: =IF(bargiri[[#This Row],[مبلغ واریزی]]<>"",bargiri[[#This Row],[مانده مبلغ]]-bargiri[[#This Row],[مبلغ واریزی]],bargiri[[#This Row],[مانده مبلغ]]) -> 1539533301 | P16: =VLOOKUP(bargiri[[#This Row],[شماره سند مبنا]],invoice[[شماره پیش فاکتور]:[پیش دریافت به ازای هر کیلوگرم]],14,0) -> 62900 | Q16: =IF(bargiri[[#This Row],[مبلغ ناخالص]]-(bargiri[[#This Row],[نرخ استهلاک]]*bargiri[[#This Row],[مقدار]])<0,0,bargiri[[#This Row],[مبلغ ناخالص]]-(bargiri[[#This Row],[نرخ استهلاک]]*bargiri[[#This Row],[مقدار]])) -> 1278864910
A17: 76 | B17: 1405/02/19 | C17: پ/92-1404-5 | D17: عراق اربیل | E17: 21030 | F17: 123481 | G17: 2596805430 | H17: 259680543 | I17: 2856485973 | J17: =bargiri[[#This Row],[مقدار]]*INDEX(invoice[پیش دریافت به ازای هر کیلوگرم],MATCH(bargiri[[#This Row],[شماره سند مبنا]],invoice[شماره پیش فاکتور],0)) -> 1322787000 | K17: =bargiri[[#This Row],[مبلغ خالص]]-bargiri[[#This Row],[میزان استهلاک پیش دریافتی]] -> 1533698973 | N17: =IF(bargiri[[#This Row],[مبلغ واریزی]]<>"",bargiri[[#This Row],[مانده مبلغ]]-bargiri[[#This Row],[مبلغ واریزی]],bargiri[[#This Row],[مانده مبلغ]]) -> 1533698973 | P17: =VLOOKUP(bargiri[[#This Row],[شماره سند مبنا]],invoice[[شماره پیش فاکتور]:[پیش دریافت به ازای هر کیلوگرم]],14,0) -> 62900 | Q17: =IF(bargiri[[#This Row],[مبلغ ناخالص]]-(bargiri[[#This Row],[نرخ استهلاک]]*bargiri[[#This Row],[مقدار]])<0,0,bargiri[[#This Row],[مبلغ ناخالص]]-(bargiri[[#This Row],[نرخ استهلاک]]*bargiri[[#This Row],[مقدار]])) -> 1274018430
A18: 75 | B18: 1405/02/18 | C18: پ/92-1404-5 | D18: عراق اربیل | E18: 20960 | F18: 123481 | G18: 2588161760 | H18: 258816176 | I18: 2846977936 | J18: =bargiri[[#This Row],[مقدار]]*INDEX(invoice[پیش دریافت به ازای هر کیلوگرم],MATCH(bargiri[[#This Row],[شماره سند مبنا]],invoice[شماره پیش فاکتور],0)) -> 1318384000 | K18: =bargiri[[#This Row],[مبلغ خالص]]-bargiri[[#This Row],[میزان استهلاک پیش دریافتی]] -> 1528593936 | N18: =IF(bargiri[[#This Row],[مبلغ واریزی]]<>"",bargiri[[#This Row],[مانده مبلغ]]-bargiri[[#This Row],[مبلغ واریزی]],bargiri[[#This Row],[مانده مبلغ]]) -> 1528593936 | P18: =VLOOKUP(bargiri[[#This Row],[شماره سند مبنا]],invoice[[شماره پیش فاکتور]:[پیش دریافت به ازای هر کیلوگرم]],14,0) -> 62900 | Q18: =IF(bargiri[[#This Row],[مبلغ ناخالص]]-(bargiri[[#This Row],[نرخ استهلاک]]*bargiri[[#This Row],[مقدار]])<0,0,bargiri[[#This Row],[مبلغ ناخالص]]-(bargiri[[#This Row],[نرخ استهلاک]]*bargiri[[#This Row],[مقدار]])) -> 1269777760
A19: 74 | B19: 1405/02/18 | C19: پ/92-1404-5 | D19: عراق اربیل | E19: 21080 | F19: 123481 | G19: 2602979480 | H19: 260297948 | I19: 2863277428 | J19: =bargiri[[#This Row],[مقدار]]*INDEX(invoice[پیش دریافت به ازای هر کیلوگرم],MATCH(bargiri[[#This Row],[شماره سند مبنا]],invoice[شماره پیش فاکتور],0)) -> 1325932000 | K19: =bargiri[[#This Row],[مبلغ خالص]]-bargiri[[#This Row],[میزان استهلاک پیش دریافتی]] -> 1537345428 | N19: =IF(bargiri[[#This Row],[مبلغ واریزی]]<>"",bargiri[[#This Row],[مانده مبلغ]]-bargiri[[#This Row],[مبلغ واریزی]],bargiri[[#This Row],[مانده مبلغ]]) -> 1537345428 | P19: =VLOOKUP(bargiri[[#This Row],[شماره سند مبنا]],invoice[[شماره پیش فاکتور]:[پیش دریافت به ازای هر کیلوگرم]],14,0) -> 62900 | Q19: =IF(bargiri[[#This Row],[مبلغ ناخالص]]-(bargiri[[#This Row],[نرخ استهلاک]]*bargiri[[#This Row],[مقدار]])<0,0,bargiri[[#This Row],[مبلغ ناخالص]]-(bargiri[[#This Row],[نرخ استهلاک]]*bargiri[[#This Row],[مقدار]])) -> 1277047480
A20: 73 | B20: 1405/02/18 | C20: پ/92-1404-5 | D20: عراق اربیل | E20: 20940 | F20: 123481 | G20: 2585692140 | H20: 258569214 | I20: 2844261354 | J20: =bargiri[[#This Row],[مقدار]]*INDEX(invoice[پیش دریافت به ازای هر کیلوگرم],MATCH(bargiri[[#This Row],[شماره سند مبنا]],invoice[شماره پیش فاکتور],0)) -> 1317126000 | K20: =bargiri[[#This Row],[مبلغ خالص]]-bargiri[[#This Row],[میزان استهلاک پیش دریافتی]] -> 1527135354 | N20: =IF(bargiri[[#This Row],[مبلغ واریزی]]<>"",bargiri[[#This Row],[مانده مبلغ]]-bargiri[[#This Row],[مبلغ واریزی]],bargiri[[#This Row],[مانده مبلغ]]) -> 1527135354 | P20: =VLOOKUP(bargiri[[#This Row],[شماره سند مبنا]],invoice[[شماره پیش فاکتور]:[پیش دریافت به ازای هر کیلوگرم]],14,0) -> 62900 | Q20: =IF(bargiri[[#This Row],[مبلغ ناخالص]]-(bargiri[[#This Row],[نرخ استهلاک]]*bargiri[[#This Row],[مقدار]])<0,0,bargiri[[#This Row],[مبلغ ناخالص]]-(bargiri[[#This Row],[نرخ استهلاک]]*bargiri[[#This Row],[مقدار]])) -> 1268566140
A21: 72 | B21: 1405/02/18 | C21: پ/92-1404-5 | D21: عراق اربیل | E21: 21100 | F21: 123481 | G21: 2605449100 | H21: 260544910 | I21: 2865994010 | J21: =bargiri[[#This Row],[مقدار]]*INDEX(invoice[پیش دریافت به ازای هر کیلوگرم],MATCH(bargiri[[#This Row],[شماره سند مبنا]],invoice[شماره پیش فاکتور],0)) -> 1327190000 | K21: =bargiri[[#This Row],[مبلغ خالص]]-bargiri[[#This Row],[میزان استهلاک پیش دریافتی]] -> 1538804010 | N21: =IF(bargiri[[#This Row],[مبلغ واریزی]]<>"",bargiri[[#This Row],[مانده مبلغ]]-bargiri[[#This Row],[مبلغ واریزی]],bargiri[[#This Row],[مانده مبلغ]]) -> 1538804010 | P21: =VLOOKUP(bargiri[[#This Row],[شماره سند مبنا]],invoice[[شماره پیش فاکتور]:[پیش دریافت به ازای هر کیلوگرم]],14,0) -> 62900 | Q21: =IF(bargiri[[#This Row],[مبلغ ناخالص]]-(bargiri[[#This Row],[نرخ استهلاک]]*bargiri[[#This Row],[مقدار]])<0,0,bargiri[[#This Row],[مبلغ ناخالص]]-(bargiri[[#This Row],[نرخ استهلاک]]*bargiri[[#This Row],[مقدار]])) -> 1278259100
A22: 71 | B22: 1405/02/18 | C22: پ/92-1404-5 | D22: عراق اربیل | E22: 21210 | F22: 123481 | G22: 2619032010 | H22: 261903201 | I22: 2880935211 | J22: =bargiri[[#This Row],[مقدار]]*INDEX(invoice[پیش دریافت به ازای هر کیلوگرم],MATCH(bargiri[[#This Row],[شماره سند مبنا]],invoice[شماره پیش فاکتور],0)) -> 1334109000 | K22: =bargiri[[#This Row],[مبلغ خالص]]-bargiri[[#This Row],[میزان استهلاک پیش دریافتی]] -> 1546826211 | N22: =IF(bargiri[[#This Row],[مبلغ واریزی]]<>"",bargiri[[#This Row],[مانده مبلغ]]-bargiri[[#This Row],[مبلغ واریزی]],bargiri[[#This Row],[مانده مبلغ]]) -> 1546826211 | P22: =VLOOKUP(bargiri[[#This Row],[شماره سند مبنا]],invoice[[شماره پیش فاکتور]:[پیش دریافت به ازای هر کیلوگرم]],14,0) -> 62900 | Q22: =IF(bargiri[[#This Row],[مبلغ ناخالص]]-(bargiri[[#This Row],[نرخ استهلاک]]*bargiri[[#This Row],[مقدار]])<0,0,bargiri[[#This Row],[مبلغ ناخالص]]-(bargiri[[#This Row],[نرخ استهلاک]]*bargiri[[#This Row],[مقدار]])) -> 1284923010
A23: 70 | B23: 1405/02/14 | C23: پ/92-1404-5 | D23: عراق اربیل | E23: 21010 | F23: 123481 | G23: 2594335810 | H23: 259433581 | I23: 2853769391 | J23: =bargiri[[#This Row],[مقدار]]*INDEX(invoice[پیش دریافت به ازای هر کیلوگرم],MATCH(bargiri[[#This Row],[شماره سند مبنا]],invoice[شماره پیش فاکتور],0)) -> 1321529000 | K23: =bargiri[[#This Row],[مبلغ خالص]]-bargiri[[#This Row],[میزان استهلاک پیش دریافتی]] -> 1532240391 | N23: =IF(bargiri[[#This Row],[مبلغ واریزی]]<>"",bargiri[[#This Row],[مانده مبلغ]]-bargiri[[#This Row],[مبلغ واریزی]],bargiri[[#This Row],[مانده مبلغ]]) -> 1532240391 | P23: =VLOOKUP(bargiri[[#This Row],[شماره سند مبنا]],invoice[[شماره پیش فاکتور]:[پیش دریافت به ازای هر کیلوگرم]],14,0) -> 62900 | Q23: =IF(bargiri[[#This Row],[مبلغ ناخالص]]-(bargiri[[#This Row],[نرخ استهلاک]]*bargiri[[#This Row],[مقدار]])<0,0,bargiri[[#This Row],[مبلغ ناخالص]]-(bargiri[[#This Row],[نرخ استهلاک]]*bargiri[[#This Row],[مقدار]])) -> 1272806810
A24: 69 | B24: 1405/02/14 | C24: پ/92-1404-5 | D24: عراق اربیل | E24: 20680 | F24: 123481 | G24: 2553587080 | H24: 255358708 | I24: 2808945788 | J24: =bargiri[[#This Row],[مقدار]]*INDEX(invoice[پیش دریافت به ازای هر کیلوگرم],MATCH(bargiri[[#This Row],[شماره سند مبنا]],invoice[شماره پیش فاکتور],0)) -> 1300772000 | K24: =bargiri[[#This Row],[مبلغ خالص]]-bargiri[[#This Row],[میزان استهلاک پیش دریافتی]] -> 1508173788 | N24: =IF(bargiri[[#This Row],[مبلغ واریزی]]<>"",bargiri[[#This Row],[مانده مبلغ]]-bargiri[[#This Row],[مبلغ واریزی]],bargiri[[#This Row],[مانده مبلغ]]) -> 1508173788 | P24: =VLOOKUP(bargiri[[#This Row],[شماره سند مبنا]],invoice[[شماره پیش فاکتور]:[پیش دریافت به ازای هر کیلوگرم]],14,0) -> 62900 | Q24: =IF(bargiri[[#This Row],[مبلغ ناخالص]]-(bargiri[[#This Row],[نرخ استهلاک]]*bargiri[[#This Row],[مقدار]])<0,0,bargiri[[#This Row],[مبلغ ناخالص]]-(bargiri[[#This Row],[نرخ استهلاک]]*bargiri[[#This Row],[مقدار]])) -> 1252815080
A25: 68 | B25: 1405/02/14 | C25: پ/92-1404-5 | D25: عراق اربیل | E25: 21040 | F25: 123481 | G25: 2598040240 | H25: 259804024 | I25: 2857844264 | J25: =bargiri[[#This Row],[مقدار]]*INDEX(invoice[پیش دریافت به ازای هر کیلوگرم],MATCH(bargiri[[#This Row],[شماره سند مبنا]],invoice[شماره پیش فاکتور],0)) -> 1323416000 | K25: =bargiri[[#This Row],[مبلغ خالص]]-bargiri[[#This Row],[میزان استهلاک پیش دریافتی]] -> 1534428264 | N25: =IF(bargiri[[#This Row],[مبلغ واریزی]]<>"",bargiri[[#This Row],[مانده مبلغ]]-bargiri[[#This Row],[مبلغ واریزی]],bargiri[[#This Row],[مانده مبلغ]]) -> 1534428264 | P25: =VLOOKUP(bargiri[[#This Row],[شماره سند مبنا]],invoice[[شماره پیش فاکتور]:[پیش دریافت به ازای هر کیلوگرم]],14,0) -> 62900 | Q25: =IF(bargiri[[#This Row],[مبلغ ناخالص]]-(bargiri[[#This Row],[نرخ استهلاک]]*bargiri[[#This Row],[مقدار]])<0,0,bargiri[[#This Row],[مبلغ ناخالص]]-(bargiri[[#This Row],[نرخ استهلاک]]*bargiri[[#This Row],[مقدار]])) -> 1274624240
A26: 67 | B26: 1405/02/13 | C26: پ/92-1404-5 | D26: عراق اربیل | E26: 21000 | F26: 123481 | G26: 2593101000 | H26: 259310100 | I26: 2852411100 | J26: =bargiri[[#This Row],[مقدار]]*INDEX(invoice[پیش دریافت به ازای هر کیلوگرم],MATCH(bargiri[[#This Row],[شماره سند مبنا]],invoice[شماره پیش فاکتور],0)) -> 1320900000 | K26: =bargiri[[#This Row],[مبلغ خالص]]-bargiri[[#This Row],[میزان استهلاک پیش دریافتی]] -> 1531511100 | N26: =IF(bargiri[[#This Row],[مبلغ واریزی]]<>"",bargiri[[#This Row],[مانده مبلغ]]-bargiri[[#This Row],[مبلغ واریزی]],bargiri[[#This Row],[مانده مبلغ]]) -> 1531511100 | P26: =VLOOKUP(bargiri[[#This Row],[شماره سند مبنا]],invoice[[شماره پیش فاکتور]:[پیش دریافت به ازای هر کیلوگرم]],14,0) -> 62900 | Q26: =IF(bargiri[[#This Row],[مبلغ ناخالص]]-(bargiri[[#This Row],[نرخ استهلاک]]*bargiri[[#This Row],[مقدار]])<0,0,bargiri[[#This Row],[مبلغ ناخالص]]-(bargiri[[#This Row],[نرخ استهلاک]]*bargiri[[#This Row],[مقدار]])) -> 1272201000
A27: 66 | B27: 1405/02/09 | C27: پ/92-1404-5 | D27: عراق اربیل | E27: 20660 | F27: 123481 | G27: 2551117460 | H27: 255111746 | I27: 2806229206 | J27: =bargiri[[#This Row],[مقدار]]*INDEX(invoice[پیش دریافت به ازای هر کیلوگرم],MATCH(bargiri[[#This Row],[شماره سند مبنا]],invoice[شماره پیش فاکتور],0)) -> 1299514000 | K27: =bargiri[[#This Row],[مبلغ خالص]]-bargiri[[#This Row],[میزان استهلاک پیش دریافتی]] -> 1506715206 | N27: =IF(bargiri[[#This Row],[مبلغ واریزی]]<>"",bargiri[[#This Row],[مانده مبلغ]]-bargiri[[#This Row],[مبلغ واریزی]],bargiri[[#This Row],[مانده مبلغ]]) -> 1506715206 | P27: =VLOOKUP(bargiri[[#This Row],[شماره سند مبنا]],invoice[[شماره پیش فاکتور]:[پیش دریافت به ازای هر کیلوگرم]],14,0) -> 62900 | Q27: =IF(bargiri[[#This Row],[مبلغ ناخالص]]-(bargiri[[#This Row],[نرخ استهلاک]]*bargiri[[#This Row],[مقدار]])<0,0,bargiri[[#This Row],[مبلغ ناخالص]]-(bargiri[[#This Row],[نرخ استهلاک]]*bargiri[[#This Row],[مقدار]])) -> 1251603460
... A49: 43 | B49: 1405/02/15 | C49: پ/75-1404 | D49: پارس اکسیر البرز شمالی | E49: 20400 | F49: 105000 | G49: 2142000000 | H49: 214200000 | I49: 2356200000 | J49: =bargiri[[#This Row],[مقدار]]*INDEX(invoice[پیش دریافت به ازای هر کیلوگرم],MATCH(bargiri[[#This Row],[شماره سند مبنا]],invoice[شماره پیش فاکتور],0)) -> 1071000000 | K49: =bargiri[[#This Row],[مبلغ خالص]]-bargiri[[#This Row],[میزان استهلاک پیش دریافتی]] -> 1285200000 | N49: =IF(bargiri[[#This Row],[مبلغ واریزی]]<>"",bargiri[[#This Row],[مانده مبلغ]]-bargiri[[#This Row],[مبلغ واریزی]],bargiri[[#This Row],[مانده مبلغ]]) -> 1285200000 | P49: =VLOOKUP(bargiri[[#This Row],[شماره سند مبنا]],invoice[[شماره پیش فاکتور]:[پیش دریافت به ازای هر کیلوگرم]],14,0) -> 52500 | Q49: =IF(bargiri[[#This Row],[مبلغ ناخالص]]-(bargiri[[#This Row],[نرخ استهلاک]]*bargiri[[#This Row],[مقدار]])<0,0,bargiri[[#This Row],[مبلغ ناخالص]]-(bargiri[[#This Row],[نرخ استهلاک]]*bargiri[[#This Row],[مقدار]])) -> 1071000000
A50: 42 | B50: 1405/02/15 | C50: پ/67-1403 | D50: تعاونی ماهان گاز | E50: 1440 | F50: 89000 | G50: 128160000 | H50: 12816000 | I50: 140976000 | J50: =bargiri[[#This Row],[مقدار]]*INDEX(invoice[پیش دریافت به ازای هر کیلوگرم],MATCH(bargiri[[#This Row],[شماره سند مبنا]],invoice[شماره پیش فاکتور],0)) -> 140976000 | K50: =bargiri[[#This Row],[مبلغ خالص]]-bargiri[[#This Row],[میزان استهلاک پیش دریافتی]] -> 0 | L50: 0 | M50: 0 | N50: =IF(bargiri[[#This Row],[مبلغ واریزی]]<>"",bargiri[[#This Row],[مانده مبلغ]]-bargiri[[#This Row],[مبلغ واریزی]],bargiri[[#This Row],[مانده مبلغ]]) -> 0 | O50: 0 | P50: =VLOOKUP(bargiri[[#This Row],[شماره سند مبنا]],invoice[[شماره پیش فاکتور]:[پیش دریافت به ازای هر کیلوگرم]],14,0) -> 97900 | Q50: =IF(bargiri[[#This Row],[مبلغ ناخالص]]-(bargiri[[#This Row],[نرخ استهلاک]]*bargiri[[#This Row],[مقدار]])<0,0,bargiri[[#This Row],[مبلغ ناخالص]]-(bargiri[[#This Row],[نرخ استهلاک]]*bargiri[[#This Row],[مقدار]])) -> 0
A51: 42 | B51: 1405/02/15 | C51: پ/126-1404 | D51: تعاونی ماهان گاز | E51: 10350 | F51: 120000 | G51: 1242000000 | H51: 124200000 | I51: 1366200000 | J51: =bargiri[[#This Row],[مقدار]]*INDEX(invoice[پیش دریافت به ازای هر کیلوگرم],MATCH(bargiri[[#This Row],[شماره سند مبنا]],invoice[شماره پیش فاکتور],0)) -> 683100000 | K51: =bargiri[[#This Row],[مبلغ خالص]]-bargiri[[#This Row],[میزان استهلاک پیش دریافتی]] -> 683100000 | L51: 0 | M51: 0 | N51: =IF(bargiri[[#This Row],[مبلغ واریزی]]<>"",bargiri[[#This Row],[مانده مبلغ]]-bargiri[[#This Row],[مبلغ واریزی]],bargiri[[#This Row],[مانده مبلغ]]) -> 683100000 | O51: 0 | P51: =VLOOKUP(bargiri[[#This Row],[شماره سند مبنا]],invoice[[شماره پیش فاکتور]:[پیش دریافت به ازای هر کیلوگرم]],14,0) -> 66000 | Q51: =IF(bargiri[[#This Row],[مبلغ ناخالص]]-(bargiri[[#This Row],[نرخ استهلاک]]*bargiri[[#This Row],[مقدار]])<0,0,bargiri[[#This Row],[مبلغ ناخالص]]-(bargiri[[#This Row],[نرخ استهلاک]]*bargiri[[#This Row],[مقدار]])) -> 558900000
A52: 41 | B52: 1405/02/14 | C52: الحاقیه پ/53-1403 | D52: طوس قزوین | E52: 11055 | F52: 142000 | G52: 1569810000 | H52: 156981000 | I52: 1726791000 | J52: =bargiri[[#This Row],[مقدار]]*INDEX(invoice[پیش دریافت به ازای هر کیلوگرم],MATCH(bargiri[[#This Row],[شماره سند مبنا]],invoice[شماره پیش فاکتور],0)) -> 259018650 | K52: =bargiri[[#This Row],[مبلغ خالص]]-bargiri[[#This Row],[میزان استهلاک پیش دریافتی]] -> 1467772350 | N52: =IF(bargiri[[#This Row],[مبلغ واریزی]]<>"",bargiri[[#This Row],[مانده مبلغ]]-bargiri[[#This Row],[مبلغ واریزی]],bargiri[[#This Row],[مانده مبلغ]]) -> 1467772350 | P52: =VLOOKUP(bargiri[[#This Row],[شماره سند مبنا]],invoice[[شماره پیش فاکتور]:[پیش دریافت به ازای هر کیلوگرم]],14,0) -> 23430 | Q52: =IF(bargiri[[#This Row],[مبلغ ناخالص]]-(bargiri[[#This Row],[نرخ استهلاک]]*bargiri[[#This Row],[مقدار]])<0,0,bargiri[[#This Row],[مبلغ ناخالص]]-(bargiri[[#This Row],[نرخ استهلاک]]*bargiri[[#This Row],[مقدار]])) -> 1310791350
A53: 41 | B53: 1405/02/14 | C53: پ/32-1404 | D53: طوس قزوین | E53: 8785 | F53: 116500 | G53: 1023452500 | H53: 102345250 | I53: 1125797750 | J53: =bargiri[[#This Row],[مقدار]]*INDEX(invoice[پیش دریافت به ازای هر کیلوگرم],MATCH(bargiri[[#This Row],[شماره سند مبنا]],invoice[شماره پیش فاکتور],0)) -> 1.6886966e+08 | K53: =bargiri[[#This Row],[مبلغ خالص]]-bargiri[[#This Row],[میزان استهلاک پیش دریافتی]] -> 9.5692809e+08 | L53: 0 | M53: 0 | N53: =IF(bargiri[[#This Row],[مبلغ واریزی]]<>"",bargiri[[#This Row],[مانده مبلغ]]-bargiri[[#This Row],[مبلغ واریزی]],bargiri[[#This Row],[مانده مبلغ]]) -> 9.5692809e+08 | O53: 0 | P53: =VLOOKUP(bargiri[[#This Row],[شماره سند مبنا]],invoice[[شماره پیش فاکتور]:[پیش دریافت به ازای هر کیلوگرم]],14,0) -> 19222.5 | Q53: =IF(bargiri[[#This Row],[مبلغ ناخالص]]-(bargiri[[#This Row],[نرخ استهلاک]]*bargiri[[#This Row],[مقدار]])<0,0,bargiri[[#This Row],[مبلغ ناخالص]]-(bargiri[[#This Row],[نرخ استهلاک]]*bargiri[[#This Row],[مقدار]])) -> 8.5458284e+08
A54: 40 | B54: 1405/02/13 | C54: الحاقیه پ/52-1403 | D54: تولید گازهای طبی و صنعتی مددکاران اصفهان | E54: 6940 | F54: 142000 | G54: 985480000 | H54: 98548000 | I54: 1084028000 | J54: =bargiri[[#This Row],[مقدار]]*INDEX(invoice[پیش دریافت به ازای هر کیلوگرم],MATCH(bargiri[[#This Row],[شماره سند مبنا]],invoice[شماره پیش فاکتور],0)) -> 2.2775867e+08 | K54: =bargiri[[#This Row],[مبلغ خالص]]-bargiri[[#This Row],[میزان استهلاک پیش دریافتی]] -> 8.5626933e+08 | N54: =IF(bargiri[[#This Row],[مبلغ واریزی]]<>"",bargiri[[#This Row],[مانده مبلغ]]-bargiri[[#This Row],[مبلغ واریزی]],bargiri[[#This Row],[مانده مبلغ]]) -> 8.5626933e+08 | P54: =VLOOKUP(bargiri[[#This Row],[شماره سند مبنا]],invoice[[شماره پیش فاکتور]:[پیش دریافت به ازای هر کیلوگرم]],14,0) -> 32818.252 | Q54: =IF(bargiri[[#This Row],[مبلغ ناخالص]]-(bargiri[[#This Row],[نرخ استهلاک]]*bargiri[[#This Row],[مقدار]])<0,0,bargiri[[#This Row],[مبلغ ناخالص]]-(bargiri[[#This Row],[نرخ استهلاک]]*bargiri[[#This Row],[مقدار]])) -> 7.5772133e+08
A55: 39 | B55: 1405/02/13 | C55: الحاقیه پ/53-1403 | D55: طوس قزوین | E55: 17740 | F55: 142000 | G55: 2519080000 | H55: 251908000 | I55: 2770988000 | J55: =bargiri[[#This Row],[مقدار]]*INDEX(invoice[پیش دریافت به ازای هر کیلوگرم],MATCH(bargiri[[#This Row],[شماره سند مبنا]],invoice[شماره پیش فاکتور],0)) -> 415648200 | K55: =bargiri[[#This Row],[مبلغ خالص]]-bargiri[[#This Row],[میزان استهلاک پیش دریافتی]] -> 2355339800 | N55: =IF(bargiri[[#This Row],[مبلغ واریزی]]<>"",bargiri[[#This Row],[مانده مبلغ]]-bargiri[[#This Row],[مبلغ واریزی]],bargiri[[#This Row],[مانده مبلغ]]) -> 2355339800 | P55: =VLOOKUP(bargiri[[#This Row],[شماره سند مبنا]],invoice[[شماره پیش فاکتور]:[پیش دریافت به ازای هر کیلوگرم]],14,0) -> 23430 | Q55: =IF(bargiri[[#This Row],[مبلغ ناخالص]]-(bargiri[[#This Row],[نرخ استهلاک]]*bargiri[[#This Row],[مقدار]])<0,0,bargiri[[#This Row],[مبلغ ناخالص]]-(bargiri[[#This Row],[نرخ استهلاک]]*bargiri[[#This Row],[مقدار]])) -> 2103431800
A56: 38 | B56: 1405/02/13 | C56: پ/105-1404 | D56: اکسیژن ارومیه گاز | E56: 22100 | F56: 167500 | G56: 3701750000 | H56: 370175000 | I56: 4071925000 | J56: =bargiri[[#This Row],[مقدار]]*INDEX(invoice[پیش دریافت به ازای هر کیلوگرم],MATCH(bargiri[[#This Row],[شماره سند مبنا]],invoice[شماره پیش فاکتور],0)) -> 4071925000 | K56: =bargiri[[#This Row],[مبلغ خالص]]-bargiri[[#This Row],[میزان استهلاک پیش دریافتی]] -> 0 | N56: =IF(bargiri[[#This Row],[مبلغ واریزی]]<>"",bargiri[[#This Row],[مانده مبلغ]]-bargiri[[#This Row],[مبلغ واریزی]],bargiri[[#This Row],[مانده مبلغ]]) -> 0 | P56: =VLOOKUP(bargiri[[#This Row],[شماره سند مبنا]],invoice[[شماره پیش فاکتور]:[پیش دریافت به ازای هر کیلوگرم]],14,0) -> 184250 | Q56: =IF(bargiri[[#This Row],[مبلغ ناخالص]]-(bargiri[[#This Row],[نرخ استهلاک]]*bargiri[[#This Row],[مقدار]])<0,0,bargiri[[#This Row],[مبلغ ناخالص]]-(bargiri[[#This Row],[نرخ استهلاک]]*bargiri[[#This Row],[مقدار]])) -> 0
A57: 37 | B57: 1405/02/13 | C57: پ/76-1404 | D57: شرکت گروه صنعتی پاژ گاز خراسان | E57: 19940 | F57: 105000 | G57: 2093700000 | H57: 209370000 | I57: 2303070000 | J57: =bargiri[[#This Row],[مقدار]]*INDEX(invoice[پیش دریافت به ازای هر کیلوگرم],MATCH(bargiri[[#This Row],[شماره سند مبنا]],invoice[شماره پیش فاکتور],0)) -> 1046850000 | K57: =bargiri[[#This Row],[مبلغ خالص]]-bargiri[[#This Row],[میزان استهلاک پیش دریافتی]] -> 1256220000 | N57: =IF(bargiri[[#This Row],[مبلغ واریزی]]<>"",bargiri[[#This Row],[مانده مبلغ]]-bargiri[[#This Row],[مبلغ واریزی]],bargiri[[#This Row],[مانده مبلغ]]) -> 1256220000 | P57: =VLOOKUP(bargiri[[#This Row],[شماره سند مبنا]],invoice[[شماره پیش فاکتور]:[پیش دریافت به ازای هر کیلوگرم]],14,0) -> 52500 | Q57: =IF(bargiri[[#This Row],[مبلغ ناخالص]]-(bargiri[[#This Row],[نرخ استهلاک]]*bargiri[[#This Row],[مقدار]])<0,0,bargiri[[#This Row],[مبلغ ناخالص]]-(bargiri[[#This Row],[نرخ استهلاک]]*bargiri[[#This Row],[مقدار]])) -> 1046850000
A58: 36 | B58: 1405/02/12 | C58: الحاقیه پ/53-1403 | D58: طوس قزوین | E58: 19820 | F58: 142000 | G58: 2814440000 | H58: 281444000 | I58: 3095884000 | J58: =bargiri[[#This Row],[مقدار]]*INDEX(invoice[پیش دریافت به ازای هر کیلوگرم],MATCH(bargiri[[#This Row],[شماره سند مبنا]],invoice[شماره پیش فاکتور],0)) -> 464382600 | K58: =bargiri[[#This Row],[مبلغ خالص]]-bargiri[[#This Row],[میزان استهلاک پیش دریافتی]] -> 2631501400 | N58: =IF(bargiri[[#This Row],[مبلغ واریزی]]<>"",bargiri[[#This Row],[مانده مبلغ]]-bargiri[[#This Row],[مبلغ واریزی]],bargiri[[#This Row],[مانده مبلغ]]) -> 2631501400 | P58: =VLOOKUP(bargiri[[#This Row],[شماره سند مبنا]],invoice[[شماره پیش فاکتور]:[پیش دریافت به ازای هر کیلوگرم]],14,0) -> 23430 | Q58: =IF(bargiri[[#This Row],[مبلغ ناخالص]]-(bargiri[[#This Row],[نرخ استهلاک]]*bargiri[[#This Row],[مقدار]])<0,0,bargiri[[#This Row],[مبلغ ناخالص]]-(bargiri[[#This Row],[نرخ استهلاک]]*bargiri[[#This Row],[مقدار]])) -> 2350057400
