Workbook

Sheet پیش فاکتور
K2: تاریخ:1403/08/06
K3: شماره:
K4: پیوست:
F6: به نام خدا
F7: پیش فاکتور فروش
A11: با سلام
A12: جناب مهندس
A13: احتراما بدینوسیله پیشنهاد مالی اسپلیت پروژه شما را به اطلاع می رساند.
A14: آدرس پروژه:
A15: شماره تماس:
C17: ردیف | D17: کد محصول | E17: شرح کالا | H17: واحد | I17: مقدار | J17: قیمت واحد(ریال) | K17: قیمت کل(ریال)
C18: 1 | D18: scp30 | E18: =VLOOKUP(D18,'دیتا اولیه'!A:B,2,0) -> #N/A | H18: دستگاه | I18: 1 | J18: =VLOOKUP(D18,'دیتا اولیه'!A:D,4,0) -> #N/A | K18: =I18*J18 -> #N/A
C19: 2 | D19: shct19 | E19: =VLOOKUP(D19,'دیتا اولیه'!A:B,2,0) -> #N/A | H19: دستگاه | J19: =VLOOKUP(D19,'دیتا اولیه'!A:D,4,0) -> #N/A
C20: 3 | E20: =VLOOKUP(D20,'دیتا اولیه'!A:B,2,0) -> #N/A | H20: دستگاه
C21: جمع کل:
C24: اعتبار این پیش فاکتور 72 ساعت می باشد.
A27: Ø زمان تحویل دستگاه ها فوری میباشد.
A28: Ø محل تحویل درب انبار کارخانه می باشد.
A29: Ø نحوه پرداخت به صورت 70 درصد پیش پرداخت الباقی قبل از تحویل دستگاه می باشد.
A30: Ø دستگاه دارای 5 سال گارانتی کمپرسور و 18 ماه سایر قطعات الکترونیکی می باشد.
A31: Ø در صورت عقد قرارداد مبلغ 10% مالیات بر ارزش افزوده به مبلغ کل اضافه می گردد.
A32: Ø تمامی کسورات قانونی اعم از ارزش افزوده و غیره به عهده خریدار محترم می باشد.

Sheet دیتا اولیه
A1: کد | B1: شرح کالا | C1: قیمت واحد | D1: قیمت جدید | E1: افزایش قیمت
A2: visshct19 | B2: اسپیلت دیواری T1.On/Off.Heat&Cool (9000 btu).برند ویسمن | C2: 1205000000 | D2: =SUM(C2*E2)+C2 -> 1205000000
A3: visshct112 | B3: اسپیلت دیواری T1.On/Off.Heat&Cool (12000 btu).برند ویسمن | C3: 1300000000 | D3: =SUM(C3*E3)+C3 -> 1300000000
A4: visshct118 | B4: اسپیلت دیواری T1.On/Off.Heat&Cool (18000 btu).برند ویسمن | C4: 1890000000 | D4: =SUM(C4*E4)+C4 -> 1890000000
A5: visshct124 | B5: اسپیلت دیواری T1.On/Off.Heat&Cool (24000 btu).برند ویسمن | C5: 2255000000 | D5: =SUM(C5*E5)+C5 -> 2255000000
A6: visshct130 | B6: اسپیلت دیواری T1.On/Off.Heat&Cool (30000 btu).برند ویسمن | C6: 2850000000 | D6: =SUM(C6*E6)+C6 -> 2850000000
A7: visshct312 | B7: اسپیلت دیواری T3.On/Off.Heat&Cool (12000 btu).برند ویسمن | C7: 1355000000 | D7: =SUM(C7*E7)+C7 -> 1355000000
A8: visshct318 | B8: اسپیلت دیواری T3.On/Off.Heat&Cool (18000 btu).برند ویسمن | C8: 1950000000 | D8: =SUM(C8*E8)+C8 -> 1950000000
A9: visshct324 | B9: اسپیلت دیواری T3.On/Off.Heat&Cool (24000 btu).برند ویسمن | C9: 2360000000 | D9: =SUM(C9*E9)+C9 -> 2360000000
A10: visshct330 | B10: اسپیلت دیواری T3.On/Off.Heat&Cool (30000 btu).برند ویسمن | C10: 3150000000 | D10: =SUM(C10*E10)+C10 -> 3150000000
A11: visshct336 | B11: اسپیلت دیواری T3.On/Off.Heat&Cool (36000 btu).برند ویسمن | C11: 3830000000 | D11: =SUM(C11*E11)+C11 -> 3830000000
A12: visshcit19 | B12: اسپیلت دیواری T1.Inverter.Heat&Cool (9000 btu).برند ویسمن | C12: 1310000000 | D12: =SUM(C12*E12)+C12 -> 1310000000
A13: visshcit112 | B13: اسپیلت دیواری T1.Inverter.Heat&Cool (12000 btu).برند ویسمن | C13: 1385000000 | D13: =SUM(C13*E13)+C13 -> 1385000000
... A26: vissphc18 | B26: کولر گازی پرتابل Portabl.Heat&Cool (18000 btu). برند ویسمن | C26: 0 | D26: =SUM(C26*E26)+C26 -> 0
